Workbook

Sheet 入所系
B1: 事業所番号 | C1: サービス種類 | D1: 障害者支援施設 | E1: サービス事業所名 | F1: 郵便番号 | G1: 所在地 | H1: 電話番号 | I1: FAX番号 | J1: 法人(設置者)名 | K1: 休止中 | L1: 定員数
A2: 1 | B2: 3210700062 | C2: 施設入所支援 | D2: 障害者支援施設 | E2: 桑の木園 | F2: 6970123 | G2: 島根県浜田市金城町七条ハ５５９－２ | H2: 0855-42-0091 | I2: 0855-42-1951 | J2: 社会福祉法人 いわみ福祉会 | L2: 32
A3: 2 | B3: 3210400127 | C3: 施設入所支援 | D3: 障害者支援施設 | E3: 障害者支援施設出雲サンホーム | F3: 6990822 | G3: 島根県出雲市神西沖町１３１３ | H3: 0853-43-3200 | I3: 0853-43-2030 | J3: 社会福祉法人 恵寿会 | L3: 60
A4: 3 | B4: 3210400135 | C4: 施設入所支援 | D4: 障害者支援施設 | E4: 美野園 | F4: 6910073 | G4: 島根県出雲市美野町１６９４－２ | H4: 0853-67-0500 | I4: 0853-67-0565 | J4: 社会福祉法人 若草福祉会 | L4: 40
A5: 4 | B5: 3210400192 | C5: 施設入所支援 | D5: 障害者支援施設 | E5: 障害者支援施設ふたば | F5: 6990822 | G5: 島根県出雲市神西沖町２４７６－１ | H5: 0853-43-2461 | I5: 0853-43-1751 | J5: 社会福祉法人 親和会 | L5: 30
A6: 5 | B6: 3210400200 | C6: 施設入所支援 | D6: 障害者支援施設 | E6: 障害者支援施設わかば | F6: 6990822 | G6: 島根県出雲市神西沖町２４７６番地１ | H6: 0853-43-2461 | I6: 0853-43-1751 | J6: 社会福祉法人 親和会 | L6: 30
A7: 6 | B7: 3210400242 | C7: 施設入所支援 | D7: 障害者支援施設 | E7: 障害者支援施設 光風園 | F7: 6990816 | G7: 島根県出雲市湖陵町大池２４０－１ | H7: 0853-43-2101 | I7: 0853-43-2119 | J7: 社会福祉法人 島根県社会福祉事業団 | L7: 68
A8: 7 | B8: 3211600022 | C8: 施設入所支援 | D8: 障害者支援施設 | E8: 障害者支援施設太陽の里 | F8: 6990622 | G8: 島根県出雲市斐川町名島９０ | H8: 0853-72-9125 | I8: 0853-72-9122 | J8: 社会福祉法人 喜和会 | L8: 30
A9: 8 | B9: 3210800086 | C9: 施設入所支援 | D9: 障害者支援施設 | E9: 障害者支援施設希望の里 | F9: 6980041 | G9: 島根県益田市高津三丁目２３－１ | H9: 0856-24-2223 | I9: 0856-24-2512 | J9: 社会福祉法人 希望の里福祉会 | L9: 40
A10: 9 | B10: 3210800110 | C10: 施設入所支援 | D10: 障害者支援施設 | E10: 障がい者支援施設ラポール宝生苑 | F10: 6980001 | G10: 島根県益田市久城町５３１番地 | H10: 0856-32-0022 | I10: 0856-23-4253 | J10: 社会福祉法人 梅寿会 | L10: 30
A11: 10 | B11: 3210500066 | C11: 施設入所支援 | D11: 障害者支援施設 | E11: 障害者支援施設 清風園 | F11: 6940013 | G11: 島根県大田市川合町吉永１０２５ | H11: 0854-82-5300 | I11: 0854-82-5301 | J11: 社会福祉法人 島根県社会福祉事業団 | L11: 80
A12: 11 | B12: 3210600080 | C12: 施設入所支援 | D12: 障害者支援施設 | E12: 島根療護園 | F12: 6950001 | G12: 島根県江津市渡津町１９２６ | H12: 0855-52-2442 | I12: 0855-52-0344 | J12: 社会福祉法人 島根整肢学園 | L12: 40
A13: 12 | B13: 3211400142 | C13: 施設入所支援 | D13: 障害者支援施設 | E13: 障害者支援施設 山楽園 | F13: 6902705 | G13: 島根県雲南市掛合町松笠２１５４番地１ | H13: 0854-62-1500 | I13: 0854-62-1501 | J13: 社会福祉法人 仁寿会 | L13: 57
... A18: 17 | B18: 3212200095 | C18: 施設入所支援 | D18: 障害者支援施設 | E18: 障がい者支援施設仁万の里 | F18: 6850104 | G18: 島根県隠岐郡隠岐の島町都万２５８２－１ | H18: 08512-6-2289 | I18: 08512-6-2686 | J18: 社会福祉法人 博愛 | L18: 50

Sheet 居宅系
B1: 事業所番号 | C1: サービス種類 | D1: サービス事業所名 | E1: 郵便番号 | F1: 所在地 | G1: 電話番号 | H1: FAX番号 | I1: 法人(設置者)名 | J1: 休止中
A2: 1 | B2: 3210700021 | C2: 居宅介護 | D2: スマイル・ヘルパーステーション | E2: 6970052 | F2: 島根県浜田市港町２９４－１１ | G2: 0855-23-5596 | H2: 0855-23-5586 | I2: 社会医療法人 清和会
A3: 2 | B3: 3210700021 | C3: 重度訪問介護 | D3: スマイル・ヘルパーステーション | E3: 6970052 | F3: 島根県浜田市港町２９４－１１ | G3: 0855-23-5596 | H3: 0855-23-5586 | I3: 社会医療法人 清和会
A4: 3 | B4: 3210700146 | C4: 居宅介護 | D4: サンキ・ウエルビィ介護センター浜田 | E4: 6970006 | F4: 島根県浜田市下府町８２１－７ | G4: 0855-28-0377 | H4: 0855-28-0378 | I4: サンキ・ウエルビィ株式会社
A5: 4 | B5: 3210700146 | C5: 重度訪問介護 | D5: サンキ・ウエルビィ介護センター浜田 | E5: 6970006 | F5: 島根県浜田市下府町８２１－７ | G5: 0855-28-0377 | H5: 0855-28-0378 | I5: サンキ・ウエルビィ株式会社
A6: 5 | B6: 3210700146 | C6: 同行援護 | D6: サンキ・ウエルビィ介護センター浜田 | E6: 6970006 | F6: 島根県浜田市下府町８２１－７ | G6: 0855-28-0377 | H6: 0855-28-0378 | I6: サンキ・ウエルビィ株式会社
A7: 6 | B7: 3210700153 | C7: 居宅介護 | D7: 浜田市社会福祉協議会 指定居宅介護事業所 | E7: 6970016 | F7: 島根県浜田市野原町８５９－１ | G7: 0855-22-0094 | H7: 0855-22-6930 | I7: 社会福祉法人 浜田市社会福祉協議会
A8: 7 | B8: 3210700153 | C8: 同行援護 | D8: 浜田市社会福祉協議会 指定居宅介護事業所 | E8: 6970016 | F8: 島根県浜田市野原町８５９－１ | G8: 0855-22-0094 | H8: 0855-22-6930 | I8: 社会福祉法人 浜田市社会福祉協議会
A9: 8 | B9: 3210700161 | C9: 居宅介護 | D9: 弥栄ヘルパー | E9: 6971122 | F9: 島根県浜田市弥栄町木都賀イ５３９－１ | G9: 0855-24-1899 | H9: 0855-48-2220 | I9: 社会福祉法人 弥栄福祉会
A10: 9 | B10: 3210700161 | C10: 同行援護 | D10: 弥栄ヘルパー | E10: 6971122 | F10: 島根県浜田市弥栄町木都賀イ５３９－１ | G10: 0855-24-1899 | H10: 0855-48-2220 | I10: 社会福祉法人 弥栄福祉会
A11: 10 | B11: 3210700211 | C11: 居宅介護 | D11: 有限会社 三晃 | E11: 6970006 | F11: 島根県浜田市下府町１５７９－２ | G11: 0855-24-8582 | H11: 0855-24-8583 | I11: 有限会社 三晃
A12: 11 | B12: 3210700211 | C12: 重度訪問介護 | D12: 有限会社 三晃 | E12: 6970006 | F12: 島根県浜田市下府町１５７９－２ | G12: 0855-24-8582 | H12: 0855-24-8583 | I12: 有限会社 三晃
A13: 12 | B13: 3210700211 | C13: 行動援護 | D13: 有限会社 三晃 | E13: 6970006 | F13: 島根県浜田市下府町１５７９－２ | G13: 0855-24-8582 | H13: 0855-24-8583 | I13: 有限会社 三晃
... A37: 36 | B37: 3210400176 | C37: 居宅介護 | D37: 花水木 | E37: 6910003 | F37: 島根県出雲市灘分町７８６－１ | G37: 0853-63-5031 | H37: 0853-63-4627 | I37: 社会福祉法人ひらた福祉会
A38: 37 | B38: 3210400176 | C38: 重度訪問介護 | D38: 花水木 | E38: 6910003 | F38: 島根県出雲市灘分町７８６－１ | G38: 0853-63-5031 | H38: 0853-63-4627 | I38: 社会福祉法人ひらた福祉会 | J38: 休止中
A39: 38 | B39: 3210400176 | C39: 行動援護 | D39: 花水木 | E39: 6910003 | F39: 島根県出雲市灘分町７８６－１ | G39: 0853-63-5031 | H39: 0853-63-4627 | I39: 社会福祉法人ひらた福祉会 | J39: 休止中
A40: 39 | B40: 3210400176 | C40: 同行援護 | D40: 花水木 | E40: 6910003 | F40: 島根県出雲市灘分町７８６－１ | G40: 0853-63-5031 | H40: 0853-63-4627 | I40: 社会福祉法人ひらた福祉会 | J40: 休止中
A41: 40 | B41: 3210400218 | C41: 居宅介護 | D41: 特別養護老人ホーム清流園 指定障害福祉サービス事業所 | E41: 6930011 | F41: 島根県出雲市大津町３５２９ | G41: 0853-22-8709 | H41: 0853-22-7267 | I41: 社会福祉法人 静和会
A42: 41 | B42: 3210400218 | C42: 重度訪問介護 | D42: 特別養護老人ホーム清流園 指定障害福祉サービス事業所 | E42: 6930011 | F42: 島根県出雲市大津町３５２９ | G42: 0853-22-8709 | H42: 0853-22-7267 | I42: 社会福祉法人 静和会
A43: 42 | B43: 3210400218 | C43: 同行援護 | D43: 特別養護老人ホーム清流園 指定障害福祉サービス事業所 | E43: 6930011 | F43: 島根県出雲市大津町３５２９ | G43: 0853-22-8709 | H43: 0853-22-7267 | I43: 社会福祉法人 静和会
A44: 43 | B44: 3210400267 | C44: 居宅介護 | D44: ＣＳいずも訪問介護事業所 | E44: 6930015 | F44: 島根県出雲市大津朝倉３丁目１０－３ | G44: 0853-31-4165 | H44: 0853-31-4166 | I44: 特定非営利活動法人 コミュニティサポートいずも
A45: 44 | B45: 3210400267 | C45: 重度訪問介護 | D45: ＣＳいずも訪問介護事業所 | E45: 6930015 | F45: 島根県出雲市大津朝倉３丁目１０－３ | G45: 0853-31-4165 | H45: 0853-31-4166 | I45: 特定非営利活動法人 コミュニティサポートいずも
A46: 45 | B46: 3210400275 | C46: 居宅介護 | D46: ＮＰＯ法人 たすけあい平田 | E46: 6910012 | F46: 島根県出雲市西代町１０３２－４ | G46: 0853-62-0257 | H46: 0853-62-0258 | I46: 特定非営利活動法人 たすけあい平田
A47: 46 | B47: 3210400275 | C47: 同行援護 | D47: ＮＰＯ法人 たすけあい平田 | E47: 6910012 | F47: 島根県出雲市西代町１０３２－４ | G47: 0853-62-0257 | H47: 0853-62-0258 | I47: 特定非営利活動法人 たすけあい平田
A48: 47 | B48: 3210400283 | C48: 居宅介護 | D48: 有限会社 えるだー | E48: 6930008 | F48: 島根県出雲市駅南町３丁目１２－１ | G48: 0853-24-9688 | H48: 0853-24-9754 | I48: 有限会社 えるだー
A49: 48 | B49: 3210400291 | C49: 居宅介護 | D49: 有限会社 ケアサービス出雲 | E49: 6930021 | F49: 島根県出雲市塩冶町９８０－３ | G49: 0853-21-0936 | H49: 0853-23-0197 | I49: 有限会社 ケアサービス出雲
A50: 49 | B50: 3210400291 | C50: 重度訪問介護 | D50: 有限会社 ケアサービス出雲 | E50: 6930021 | F50: 島根県出雲市塩冶町９８０－３ | G50: 0853-21-0936 | H50: 0853-23-0197 | I50: 有限会社 ケアサービス出雲
A51: 50 | B51: 3210400309 | C51: 居宅介護 | D51: ふれあいサービスごうばら訪問介護事業所 | E51: 6910001 | F51: 島根県出雲市平田町１８１６－１５ | G51: 0853-62-9901 | H51: 0853-62-9908 | I51: 有限会社 ごうばら
A52: 51 | B52: 3210400309 | C52: 重度訪問介護 | D52: ふれあいサービスごうばら訪問介護事業所 | E52: 6910011 | F52: 島根県出雲市国富町１２０９ | G52: 0853-62-9901 | H52: 0853-62-9908 | I52: 有限会社 ごうばら
... A69: 68 | B69: 3210400796 | C69: 居宅介護 | D69: ヘルパーステーション すずらん | E69: 6930024 | F69: 島根県出雲市塩冶神前６－１－８ | G69: 0853-24-7717 | H69: 0853-30-0538 | I69: コニファー株式会社
A70: 69 | B70: 3210400796 | C70: 重度訪問介護 | D70: ヘルパーステーション すずらん | E70: 6930024 | F70: 島根県出雲市塩冶神前６－１－８ | G70: 0853-24-7717 | H70: 0853-30-0538 | I70: コニファー株式会社 | J70: 休止中
A71: 70 | B71: 3210400978 | C71: 居宅介護 | D71: 社会福祉法人 ＪＡいずも福祉会 みどりの郷大社 | E71: 6990722 | F71: 島根県出雲市大社町北荒木４８３ | G71: 0853-53-1333 | H71: 0853-53-6133 | I71: 社会福祉法人 ＪＡいずも福祉会
A72: 71 | B72: 3210401034 | C72: 居宅介護 | D72: ニチイケアセンター斐川 | E72: 6990631 | F72: 島根県出雲市斐川町直江４９１４番地７ 小澤ビル２Ｆ１棟２階東号室 | G72: 0852-27-9200 | H72: 0852-55-4433 | I72: 株式会社 ニチイ学館
A73: 72 | B73: 3210401158 | C73: 居宅介護 | D73: ヘルパーステーション花鈴 | E73: 6910073 | F73: 島根県出雲市美野町５０４番地 | G73: 0853-67-0222 | H73: 0853-67-9181 | I73: 有限会社 伊野本陣
A74: 73 | B74: 3210401158 | C74: 重度訪問介護 | D74: ヘルパーステーション花鈴 | E74: 6910073 | F74: 島根県出雲市美野町５０４番地 | G74: 0853-67-0222 | H74: 0853-67-9181 | I74: 有限会社 伊野本陣
A75: 74 | B75: 3210401174 | C75: 居宅介護 | D75: ライラック訪問介護事業所 | E75: 6930062 | F75: 島根県出雲市中野町７５７－３ | G75: 0853-24-7570 | H75: 0853-24-7885 | I75: 株式会社 ライラック
A76: 75 | B76: 3210401208 | C76: 居宅介護 | D76: けあビジョンホーム出雲訪問介護 | E76: 6990502 | F76: 島根県出雲市斐川町荘原２３２０番地１ | G76: 0853-73-7111 | H76: 0853-73-7110 | I76: 株式会社ビジュアルビジョン | J76: 休止中
A77: 76 | B77: 3210401240 | C77: 居宅介護 | D77: クレド訪問介護ステーション | E77: 6930002 | F77: 島根県出雲市今市町北本町１－１－３セントラルビル２階 | G77: 0853-25-7234 | H77: 0853-25-7108 | I77: 株式会社セントラルビル
A78: 77 | B78: 3210401240 | C78: 重度訪問介護 | D78: クレド訪問介護ステーション | E78: 6930002 | F78: 島根県出雲市今市町北本町１－１－３セントラルビル２階 | G78: 0853-25-7234 | H78: 0853-25-7108 | I78: 株式会社セントラルビル
A79: 78 | B79: 3210401257 | C79: 居宅介護 | D79: ヘルパーステーションパーパス | E79: 6930068 | F79: 島根県出雲市姫原2-3-13かねつきマンション１０２ | G79: 0853-25-7835 | H79: 0853-25-7836 | I79: 株式会社パーパス
A80: 79 | B80: 3210401257 | C80: 重度訪問介護 | D80: ヘルパーステーションパーパス | E80: 6930068 | F80: 島根県出雲市姫原2-3-13かねつきマンション１０２ | G80: 0853-25-7835 | H80: 0853-25-7836 | I80: 株式会社パーパス
A81: 80 | B81: 3210401356 | C81: 居宅介護 | D81: ケアステーションにこる | E81: 6930004 | F81: 島根県出雲市渡橋町100 | G81: 0853-27-9196 | I81: 合同会社にこる
A82: 81 | B82: 3210401406 | C82: 居宅介護 | D82: ヘルパーステーションにじいろ出雲 | E82: 6930051 | F82: 島根県出雲市小山町574‐8 第6吾郷ビル266号室 | G82: 050-8895-4819 | I82: 株式会社YKT Innovation
A83: 82 | B83: 3210401406 | C83: 重度訪問介護 | D83: ヘルパーステーションにじいろ出雲 | E83: 6930051 | F83: 島根県出雲市小山町574‐8 第6吾郷ビル266号室 | G83: 050-8895-4819 | I83: 株式会社YKT Innovation
A84: 83 | B84: 3211600014 | C84: 居宅介護 | D84: ひかわ生協ヘルパーステーション あおぞら | E84: 6990631 | F84: 島根県出雲市斐川町美南１５０５－１ | G84: 0853-73-3555 | H84: 0853-72-7534 | I84: ひかわ医療生活協同組合
A85: 84 | B85: 3211600014 | C85: 重度訪問介護 | D85: ひかわ生協ヘルパーステーション あおぞら | E85: 6990631 | F85: 島根県出雲市斐川町美南１５０５－１ | G85: 0853-73-3555 | H85: 0853-72-7534 | I85: ひかわ医療生活協同組合 | J85: 休止中
A86: 85 | B86: 3210800029 | C86: 居宅介護 | D86: 美都町ホームヘルパーステーション | E86: 6980203 | F86: 島根県益田市美都町都茂１８７１－９ | G86: 0856-52-3200 | H86: 0856-52-3201 | I86: 社会福祉法人 益田市社会福祉協議会
A87: 86 | B87: 3210800029 | C87: 重度訪問介護 | D87: 美都町ホームヘルパーステーション | E87: 6980203 | F87: 島根県益田市美都町都茂１８７１－９ | G87: 0856-52-3200 | H87: 0856-52-3201 | I87: 社会福祉法人 益田市社会福祉協議会
A88: 87 | B88: 3210800029 | C88: 行動援護 | D88: 美都町ホームヘルパーステーション | E88: 6980203 | F88: 島根県益田市美都町都茂１８７１－９ | G88: 0856-52-3200 | H88: 0856-52-3201 | I88: 社会福祉法人 益田市社会福祉協議会
A89: 88 | B89: 3210800037 | C89: 居宅介護 | D89: 益田市社会福祉協議会指定居宅介護事業所 | E89: 6980036 | F89: 島根県益田市須子町３－１ | G89: 0856-22-7256 | H89: 0856-23-4177 | I89: 社会福祉法人 益田市社会福祉協議会
A90: 89 | B90: 3210800037 | C90: 重度訪問介護 | D90: 益田市社会福祉協議会指定居宅介護事業所 | E90: 6980036 | F90: 島根県益田市須子町３－１ | G90: 0856-22-7256 | H90: 0856-23-4177 | I90: 社会福祉法人 益田市社会福祉協議会
A91: 90 | B91: 3210800078 | C91: 居宅介護 | D91: 地域生活支援センターポケットプラザ | E91: 6980003 | F91: 島根県益田市乙吉町イ１１０－１ | G91: 0856-31-8221 | H91: 0856-23-6651 | I91: 社会福祉法人 希望の里福祉会
A92: 91 | B92: 3210800078 | C92: 重度訪問介護 | D92: 地域生活支援センターポケットプラザ | E92: 6980003 | F92: 島根県益田市乙吉町イ１１０－１ | G92: 0856-31-8221 | H92: 0856-23-6651 | I92: 社会福祉法人 希望の里福祉会
A93: 92 | B93: 3210800078 | C93: 同行援護 | D93: 地域生活支援センター ポケットプラザ | E93: 6980003 | F93: 島根県益田市乙吉町イ１１０－１ | G93: 0856-31-8221 | H93: 0856-23-6651 | I93: 社会福祉法人 希望の里福祉会
A94: 93 | B94: 3210800235 | C94: 居宅介護 | D94: 益田ヘルパーステーション さくらんぼ | E94: 6980024 | F94: 島根県益田市駅前町３－１９ | G94: 0856-23-3408 | H94: 0856-23-3408 | I94: 益田市訪問看護・介護ステーション 株式会社さくらんぼ
A95: 94 | B95: 3210800235 | C95: 重度訪問介護 | D95: 益田ヘルパーステーション さくらんぼ | E95: 6980024 | F95: 島根県益田市駅前町３－１９ | G95: 0856-23-3408 | H95: 0856-23-3408 | I95: 益田市訪問看護・介護ステーション 株式会社さくらんぼ
A96: 95 | B96: 3210800235 | C96: 同行援護 | D96: 益田ヘルパーステーション さくらんぼ | E96: 6980024 | F96: 島根県益田市駅前町３－１９ | G96: 0856-23-3408 | H96: 0856-23-3408 | I96: 益田市訪問看護・介護ステーション 株式会社さくらんぼ
A97: 96 | B97: 3210800318 | C97: 居宅介護 | D97: 障がい者ホームヘルプ事業 ますだハイツ | E97: 6980041 | F97: 島根県益田市高津四丁目６－４０ | G97: 0856-22-2023 | H97: 0856-22-2024 | I97: 社会福祉法人 梅寿会
... A109: 108 | B109: 3210200188 | C109: 重度訪問介護 | D109: ヘルパーステーションくるみ | E109: 6920014 | F109: 島根県安来市飯島町１２０５番地１ | G109: 0854-23-8230 | H109: 0854-23-8231 | I109: サインポスト合同会社
A110: 109 | B110: 3210200196 | C110: 居宅介護 | D110: とも・らいふ訪問介護 | E110: 6920011 | F110: 島根県安来市飯島町293番地25 | G110: 0854-23-0014 | I110: とも・life合同会社
A111: 110 | B111: 3210600031 | C111: 居宅介護 | D111: 青山ヘルパーステーション | E111: 6950024 | F111: 島根県江津市二宮町神主１９６４番地３１ | G111: 0855-54-3140 | H111: 0855-52-7220 | I111: 社会福祉法人 いわみ福祉会
A112: 111 | B112: 3210600031 | C112: 重度訪問介護 | D112: 青山ヘルパーステーション | E112: 6950024 | F112: 島根県江津市二宮町神主１９６４番地３１ | G112: 0855-54-3140 | H112: 0855-52-7220 | I112: 社会福祉法人 いわみ福祉会
A113: 112 | B113: 3210600049 | C113: 居宅介護 | D113: 白寿園 | E113: 6950011 | F113: 島根県江津市江津町１１１０ | G113: 0855-52-0006 | H113: 0855-52-0207 | I113: 社会福祉法人 恩賜財団済生会支部島根県済生会
A114: 113 | B114: 3210600049 | C114: 重度訪問介護 | D114: 白寿園 | E114: 6950011 | F114: 島根県江津市江津町１１１０ | G114: 0855-52-0006 | H114: 0855-52-0207 | I114: 社会福祉法人 恩賜財団済生会支部島根県済生会
A115: 114 | B115: 3210600056 | C115: 居宅介護 | D115: ヘルパーステーション 合歓の郷 | E115: 6992841 | F115: 島根県江津市後地町８２１ | G115: 0855-55-3131 | H115: 0855-55-3535 | I115: 社会福祉法人 花の村
A116: 115 | B116: 3210600056 | C116: 重度訪問介護 | D116: ヘルパーステーション 合歓の郷 | E116: 6992841 | F116: 島根県江津市後地町８２１ | G116: 0855-55-3131 | H116: 0855-55-3535 | I116: 社会福祉法人 花の村
A117: 116 | B117: 3210600064 | C117: 居宅介護 | D117: 訪問介護センターさくらえ | E117: 6994225 | F117: 島根県江津市桜江町小田１３８－１ | G117: 0855-92-1441 | H117: 0855-92-1440 | I117: 社会福祉法人 桜江福祉会
A118: 117 | B118: 3210600064 | C118: 重度訪問介護 | D118: 訪問介護センターさくらえ | E118: 6994225 | F118: 島根県江津市桜江町小田１３８－１ | G118: 0855-92-1441 | H118: 0855-92-1440 | I118: 社会福祉法人 桜江福祉会
A119: 118 | B119: 3210600130 | C119: 居宅介護 | D119: よろこぼう屋ヘルパーズ | E119: 6950017 | F119: 島根県江津市和木町１１７３番地３ | G119: 0855-52-0817 | H119: 0855-52-0388 | I119: 有限会社 よろこぼう屋
A120: 119 | B120: 3210600130 | C120: 重度訪問介護 | D120: よろこぼう屋ヘルパーズ | E120: 6950017 | F120: 島根県江津市和木町１１７３番地３ | G120: 0855-52-0817 | H120: 0855-52-0388 | I120: 有限会社 よろこぼう屋
A121: 120 | B121: 3210600130 | C121: 同行援護 | D121: よろこぼう屋ヘルパーズ | E121: 6950017 | F121: 島根県江津市和木町１１７３番地３ | G121: 0855-52-0817 | H121: 0855-52-0388 | I121: 有限会社 よろこぼう屋
A122: 121 | B122: 3210600270 | C122: 居宅介護 | D122: 訪問介護事業所すだれ | E122: 6993161 | F122: 島根県江津市波子町イ１２５５－２３０ | G122: 0855-54-9200 | I122: 梅田屋合同会社
A123: 122 | B123: 3210600270 | C123: 重度訪問介護 | D123: 訪問介護事業所すだれ | E123: 6993161 | F123: 島根県江津市波子町イ１２５５－２３０ | G123: 0855-54-9200 | I123: 梅田屋合同会社
A124: 123 | B124: 3210600296 | C124: 居宅介護 | D124: 訪問介護ステーションよさみ | E124: 6950016 | F124: 島根県江津市嘉久志町1503-2 | G124: 0855-54-9000 | H124: 0855-52-0038 | I124: 株式会社東光グループ
A125: 124 | B125: 3210600296 | C125: 重度訪問介護 | D125: 訪問介護ステーションよさみ | E125: 6950016 | F125: 島根県江津市嘉久志町1503-2 | G125: 0855-54-9000 | H125: 0855-52-0038 | I125: 株式会社東光グループ
A126: 125 | B126: 3211400043 | C126: 居宅介護 | D126: ニチイケアセンターあかがわ | E126: 6991232 | F126: 島根県雲南市大東町仁和寺１９１８－７ | G126: 0854-43-8576 | H126: 0854-43-8577 | I126: 株式会社 ニチイ学館
A127: 126 | B127: 3211400043 | C127: 同行援護 | D127: ニチイケアセンターあかがわ | E127: 6991232 | F127: 島根県雲南市大東町仁和寺１９１８－７ | G127: 0854-43-8576 | H127: 0854-43-8577 | I127: 株式会社 ニチイ学館
A128: 127 | B128: 3211400050 | C128: 居宅介護 | D128: ヘルパーステーションかも | E128: 6991105 | F128: 島根県雲南市加茂町宇治３２８ | G128: 0854-49-8098 | H128: 0854-49-9426 | I128: 社会福祉法人 かも福祉会
A129: 128 | B129: 3211400084 | C129: 居宅介護 | D129: きすき居宅介護センターひまわり | E129: 6991323 | F129: 島根県雲南市木次町東日登３５１－５ | G129: 0854-42-1635 | H129: 0854-42-1635 | I129: 社会福祉法人 雲南ひまわり福祉会
A130: 129 | B130: 3211400084 | C130: 行動援護 | D130: きすき居宅介護センターひまわり | E130: 6991323 | F130: 島根県雲南市木次町東日登３５１－５ | G130: 0854-42-1635 | H130: 0854-42-1635 | I130: 社会福祉法人 雲南ひまわり福祉会
A131: 130 | B131: 3211400118 | C131: 居宅介護 | D131: 訪問介護事業所かけや | E131: 6902701 | F131: 島根県雲南市掛合町掛合８５３－１ | G131: 0854-62-9050 | H131: 0854-62-9051 | I131: 社会福祉法人 雲南市社会福祉協議会
A132: 131 | B132: 3211400126 | C132: 居宅介護 | D132: 訪問介護事業所みとや | E132: 6902404 | F132: 島根県雲南市三刀屋町三刀屋１２１２－３ | G132: 0854-45-5533 | H132: 0854-45-2211 | I132: 社会福祉法人 雲南市社会福祉協議会
A133: 132 | B133: 3211400126 | C133: 同行援護 | D133: 訪問介護事業所みとや | E133: 6902404 | F133: 島根県雲南市三刀屋町三刀屋１２１２－３ | G133: 0854-45-5533 | H133: 0854-45-2211 | I133: 社会福祉法人 雲南市社会福祉協議会
A134: 133 | B134: 3211400134 | C134: 居宅介護 | D134: 訪問介護事業所おおぎ | E134: 6991251 | F134: 島根県雲南市大東町大東１０３８ | G134: 0854-43-9100 | H134: 0854-43-9218 | I134: 社会福祉法人 雲南市社会福祉協議会
A135: 134 | B135: 3211400134 | C135: 同行援護 | D135: 訪問介護事業所おおぎ | E135: 6991251 | F135: 島根県雲南市大東町大東１０３８ | G135: 0854-43-9100 | H135: 0854-43-9218 | I135: 社会福祉法人 雲南市社会福祉協議会
... A168: 167 | B168: 3212230035 | C168: 居宅介護 | D168: ふれあい五箇訪問介護事業所 | E168: 6850301 | F168: 島根県隠岐郡隠岐の島町北方２７８－２ | G168: 08512-5-3541 | H168: 08512-5-3542 | I168: 社会福祉法人 ふれあい五箇

Sheet 日中系
B1: 事業所番号 | C1: サービス種類 | D1: 障害者支援施設 | E1: サービス事業所名 | F1: 郵便番号 | G1: 所在地 | H1: 電話番号 | I1: FAX番号 | J1: 法人(設置者)名 | K1: 休止中 | L1: 定員数
A2: 1 | B2: 3210700062 | C2: 生活介護 | D2: 障害者支援施設 | E2: 桑の木園 | F2: 6970123 | G2: 島根県浜田市金城町七条ハ５５９－２ | H2: 0855-42-0091 | I2: 0855-42-1951 | J2: 社会福祉法人 いわみ福祉会 | L2: 40
A3: 2 | B3: 3210700096 | C3: 生活介護 | D3: 障害者支援施設でない | E3: 多機能事業所ワークくわの木熱田事業所 | F3: 6970062 | G3: 島根県浜田市熱田町４９３－３ | H3: 0855-27-0101 | I3: 0855-27-0291 | J3: 社会福祉法人 いわみ福祉会 | L3: 25
A4: 3 | B4: 3210700096 | C4: 就労移行支援 | D4: 障害者支援施設でない | E4: 多機能事業所ワークくわの木熱田事業所 | F4: 6970062 | G4: 島根県浜田市熱田町４９３－３ | H4: 0855-27-0101 | I4: 0855-27-0291 | J4: 社会福祉法人 いわみ福祉会 | L4: 10
A5: 4 | B5: 3210700096 | C5: 就労定着支援 | E5: 多機能事業所 ワークくわの木熱田事業所 | F5: 6970062 | G5: 島根県浜田市熱田町４９３－３ | H5: 0855-27-0101 | I5: 0855-27-0291 | J5: 社会福祉法人 いわみ福祉会
A6: 5 | B6: 3210700096 | C6: 就労選択支援 | E6: 多機能事業所ワークくわの木熱田事業所 | F6: 6970062 | G6: 島根県浜田市熱田町４９３－３ | H6: 0855-27-0101 | I6: 0855-27-0291 | J6: 社会福祉法人 いわみ福祉会 | L6: 10
A7: 6 | B7: 3210700104 | C7: 生活介護 | D7: 障害者支援施設でない | E7: 生活介護ぴゅあ殿町 | F7: 6970027 | G7: 島根県浜田市殿町２１－１ | H7: 0855-22-8085 | I7: 0855-23-4740 | J7: 社会福祉法人 ぴゅあ | L7: 20
A8: 7 | B8: 3210700229 | C8: 就労継続支援(Ｂ型) | D8: 障害者支援施設でない | E8: 就労継続支援B型事業所マルシェくわの木 | F8: 6970123 | G8: 島根県浜田市金城町七条イ６７５－８ | H8: 0855-42-1543 | I8: 0855-42-1543 | J8: 社会福祉法人 いわみ福祉会 | L8: 40
A9: 8 | B9: 3210700237 | C9: 生活介護 | D9: 障害者支援施設でない | E9: 多機能型事業所やさか風の里 | F9: 6971122 | G9: 島根県浜田市弥栄町木都賀イ５２２番地２ | H9: 0855-48-3263 | I9: 0855-48-3264 | J9: ＮＰＯ法人やさか風の里 | L9: 10
A10: 9 | B10: 3210700237 | C10: 就労継続支援(Ｂ型) | D10: 障害者支援施設でない | E10: 多機能型事業所やさか風の里 | F10: 6971122 | G10: 島根県浜田市弥栄町木都賀イ５２２番地２ | H10: 0855-48-3263 | I10: 0855-48-3264 | J10: ＮＰＯ法人やさか風の里 | L10: 10
A11: 10 | B11: 3210700252 | C11: 就労継続支援(Ｂ型) | D11: 障害者支援施設でない | E11: 就労継続支援B型事業所 ワークくわの木神楽事業所 | F11: 6970121 | G11: 島根県浜田市金城町下来原１５４１－８ | H11: 0855-42-0039 | I11: 0855-42-0076 | J11: 社会福祉法人いわみ福祉会 | L11: 35
A12: 11 | B12: 3210700278 | C12: 自立訓練(生活訓練) | D12: 障害者支援施設でない | E12: アクティブ工房 | F12: 6970052 | G12: 島根県浜田市港町２８４－８ | H12: 0855-23-7913 | I12: 0855-24-0766 | J12: 社会福祉法人 清圭会 | L12: 6
A13: 12 | B13: 3210700278 | C13: 就労継続支援(Ｂ型) | D13: 障害者支援施設でない | E13: アクティブ工房 | F13: 6970052 | G13: 島根県浜田市港町２８４－８ | H13: 0855-23-7913 | I13: 0855-24-0766 | J13: 社会福祉法人 清圭会 | L13: 14
A14: 13 | B14: 3210700286 | C14: 生活介護 | D14: 障害者支援施設でない | E14: 生活介護事業所「浜っ子」 | F14: 6970027 | G14: 島根県浜田市殿町８３－１２２ | H14: 0855-22-2824 | I14: 0855-22-2824 | J14: 特定非営利活動法人 浜っ子作業所 | L14: 20
A15: 14 | B15: 3210700302 | C15: 就労継続支援(Ａ型) | D15: 障害者支援施設でない | E15: 就労継続支援Ａ型・Ｂ型事業所「しおかぜ」 | F15: 6970052 | G15: 島根県浜田市港町２７７ | H15: 0855-28-7630 | I15: 0855-28-7631 | J15: 社会医療法人 清和会 | L15: 10
A16: 15 | B16: 3210700302 | C16: 就労継続支援(Ｂ型) | D16: 障害者支援施設でない | E16: 就労継続支援Ａ型・Ｂ型事業所「しおかぜ」 | F16: 6970052 | G16: 島根県浜田市港町２７７ | H16: 0855-28-7630 | I16: 0855-28-7631 | J16: 社会医療法人 清和会 | L16: 30
A17: 16 | B17: 3210700302 | C17: 就労選択支援 | E17: 就労継続支援Ａ型・Ｂ型事業所「しおかぜ」 | F17: 6970052 | G17: 島根県浜田市港町２７７ | H17: 0855-28-7630 | I17: 0855-28-7631 | J17: 社会医療法人 清和会 | L17: 10
A18: 17 | B18: 3210700310 | C18: 生活介護 | D18: 障害者支援施設でない | E18: 生活介護ぴゅあ松原 | F18: 6970021 | G18: 島根県浜田市松原町２７７番地９ | H18: 0855-23-8190 | I18: 0855-23-8190 | J18: 社会福祉法人 ぴゅあ | L18: 20
A19: 18 | B19: 3210700369 | C19: 就労継続支援(Ａ型) | D19: 障害者支援施設でない | E19: 就労継続支援事業所いなほの郷 | F19: 6970006 | G19: 島根県浜田市下府町１８８番地１ | H19: 0855-24-8511 | I19: 0855-25-5164 | J19: 特定非営利活動法人浜田自立支援センターウェルチャーム | L19: 20
A20: 19 | B20: 3210700369 | C20: 就労継続支援(Ｂ型) | D20: 障害者支援施設でない | E20: 就労継続支援事業所いなほの郷 | F20: 6970006 | G20: 島根県浜田市下府町１８８番地１ | H20: 0855-24-8511 | I20: 0855-25-5164 | J20: 特定非営利活動法人浜田自立支援センターウェルチャーム | L20: 20
A21: 20 | B21: 3210700385 | C21: 就労継続支援(Ａ型) | D21: 障害者支援施設でない | E21: ココロパークくわの木 | F21: 6970303 | G21: 島根県浜田市金城町久佐イ１３９０－８ | H21: 0855-42-2222 | I21: 0855-42-2223 | J21: 社会福祉法人いわみ福祉会 | L21: 10
A22: 21 | B22: 3210700401 | C22: 生活介護 | D22: 障害者支援施設でない | E22: まりん | F22: 6970062 | G22: 島根県浜田市熱田町７１６番地３ | H22: 0855-27-0767 | I22: 0855-28-7540 | J22: 特定非営利活動法人 海 | L22: 10
A23: 22 | B23: 3210700419 | C23: 就労継続支援(Ａ型) | D23: 障害者支援施設でない | E23: 就労継続支援Ａ型・Ｂ型事業所「はまかぜ」 | F23: 6970052 | G23: 島根県浜田市港町３２－１ | H23: 0855-28-7630 | I23: 0855-28-7631 | J23: 社会医療法人清和会 | L23: 10
A24: 23 | B24: 3210700419 | C24: 就労継続支援(Ｂ型) | D24: 障害者支援施設でない | E24: 就労継続支援Ａ型・Ｂ型事業所「はまかぜ」 | F24: 6970052 | G24: 島根県浜田市港町３２－１ | H24: 0855-28-7630 | I24: 0855-28-7631 | J24: 社会医療法人清和会 | L24: 10
A25: 24 | B25: 3210700435 | C25: 生活介護 | D25: 障害者支援施設でない | E25: 石州きずな事業所 | F25: 6993212 | G25: 島根県浜田市三隅町向野田５３３－１０ | H25: 0855-32-2311 | I25: 0855-32-2311 | J25: 特定非営利活動法人 石州きずなの里 | L25: 15
A26: 25 | B26: 3210700468 | C26: 生活介護 | D26: 障害者支援施設でない | E26: 共生型デイサービスお天氣いいね | F26: 6970062 | G26: 島根県浜田市熱田町１１２９番地１ | H26: 0855-27-4966 | I26: 0855-25-5266 | J26: ＮＰＯ法人あったかいいねっと | L26: 15
A27: 26 | B27: 3210700567 | C27: 生活介護 | D27: 障害者支援施設でない | E27: 生活介護事業所 ＭＹ ＳＴＹＬＥ | F27: 6970027 | G27: 島根県浜田市殿町７５番地８ | H27: 0855-25-6401 | I27: 0855-25-6402 | J27: 合同会社 ＭＹ ＣＯＬＯＲ | L27: 20
A28: 27 | B28: 3210700583 | C28: 生活介護 | D28: 障害者支援施設でない | E28: 生活介護事業所 ひかりの里 | F28: 6971321 | G28: 島根県浜田市周布町イ４０番地１ | H28: 0855-25-6050 | I28: 0855-25-6051 | J28: ＮＰＯ法人やさか風の里 | L28: 20
A29: 28 | B29: 3210700609 | C29: 就労継続支援(Ｂ型) | D29: 障害者支援施設でない | E29: らぼはーと | F29: 6970033 | G29: 島根県浜田市朝日町1518 グランディ朝日2F | H29: 0855-25-5555 | J29: 株式会社Ｆｒｏｍハート | L29: 10
A30: 29 | B30: 3210700617 | C30: 自立訓練(生活訓練) | D30: 障害者支援施設でない | E30: 自立訓練事業所「Ｓ・ＩＰＳ」 | F30: 6970052 | G30: 島根県浜田市港町277 | H30: 0855-28-7630 | I30: 0855-28-7631 | J30: 社会医療法人 清和会 | L30: 20
A31: 30 | B31: 3210700617 | C31: 就労定着支援 | E31: 自立訓練事業所「Ｓ・ＩＰＳ」 | F31: 6970052 | G31: 島根県浜田市港町277 | H31: 0855-28-7630 | I31: 0855-28-7631 | J31: 社会医療法人 清和会
A32: 31 | B32: 3210700625 | C32: 就労継続支援(Ｂ型) | D32: 障害者支援施設でない | E32: もももＢはまだ | F32: 6970003 | G32: 島根県浜田市国分町２７９－８ | H32: 0855-23-4611 | I32: 0855-23-4611 | J32: 特定非営利活動法人フォルツァプローバ | L32: 20
A33: 32 | B33: 3210400127 | C33: 生活介護 | D33: 障害者支援施設 | E33: 障害者支援施設出雲サンホーム | F33: 6990822 | G33: 島根県出雲市神西沖町１３１３ | H33: 0853-43-3200 | I33: 0853-43-2030 | J33: 社会福祉法人 恵寿会 | L33: 60
A34: 33 | B34: 3210400135 | C34: 生活介護 | D34: 障害者支援施設 | E34: 美野園 | F34: 6910073 | G34: 島根県出雲市美野町１６９４－２ | H34: 0853-67-0500 | I34: 0853-67-0565 | J34: 社会福祉法人 若草福祉会 | L34: 45
A35: 34 | B35: 3210400135 | C35: 自立訓練(生活訓練) | D35: 障害者支援施設 | E35: 美野園 | F35: 6910073 | G35: 島根県出雲市美野町１６９４－２ | H35: 0853-67-0500 | I35: 0853-67-0565 | J35: 社会福祉法人 若草福祉会 | K35: 休止中 | L35: 6
A36: 35 | B36: 3210400135 | C36: 就労継続支援(Ｂ型) | D36: 障害者支援施設 | E36: 美野園 | F36: 6910073 | G36: 島根県出雲市美野町１６９４－２ | H36: 0853-67-0500 | I36: 0853-67-0565 | J36: 社会福祉法人 若草福祉会 | L36: 10
A37: 36 | B37: 3210400168 | C37: 就労継続支援(Ｂ型) | D37: 障害者支援施設でない | E37: 障がい者就労支援事業所 エルパティオ三葉園 | F37: 6910065 | G37: 島根県出雲市東郷町１７５番地４ | H37: 0853-62-0061 | I37: 0853-62-0063 | J37: 社会福祉法人ひらた福祉会 | L37: 40
A38: 37 | B38: 3210400168 | C38: 就労定着支援 | E38: 障がい者就労支援事業所 エルパティオ三葉園 | F38: 6910065 | G38: 島根県出雲市東郷町１７５番地４ | H38: 0853-62-0061 | I38: 0853-62-0063 | J38: 社会福祉法人ひらた福祉会
A39: 38 | B39: 3210400184 | C39: 就労継続支援(Ｂ型) | D39: 障害者支援施設でない | E39: 障がい者自立支援事業所ぽんぽん船 | F39: 6990902 | G39: 島根県出雲市多伎町多岐８９２－７ | H39: 0853-86-7022 | I39: 0853-86-7023 | J39: 特定非営利活動法人ぽんぽん船 | L39: 20
A40: 39 | B40: 3210400192 | C40: 生活介護 | D40: 障害者支援施設 | E40: 障害者支援施設ふたば | F40: 6990822 | G40: 島根県出雲市神西沖町２４７６－１ | H40: 0853-43-2461 | I40: 0853-43-1751 | J40: 社会福祉法人 親和会 | L40: 55
A41: 40 | B41: 3210400192 | C41: 就労継続支援(Ｂ型) | D41: 障害者支援施設 | E41: 障害者支援施設ふたば | F41: 6990822 | G41: 島根県出雲市神西沖町２４７６－１ | H41: 0853-43-2461 | I41: 0853-43-1751 | J41: 社会福祉法人 親和会 | L41: 40
A42: 41 | B42: 3210400200 | C42: 生活介護 | D42: 障害者支援施設 | E42: 障害者支援施設わかば | F42: 6990822 | G42: 島根県出雲市神西沖町２４７６番地１ | H42: 0853-43-2461 | I42: 0853-43-1751 | J42: 社会福祉法人 親和会 | L42: 50
A43: 42 | B43: 3210400226 | C43: 生活介護 | D43: 障害者支援施設でない | E43: ハートピア出雲デイセンター | F43: 6930014 | G43: 島根県出雲市武志町６９３－４ | H43: 0853-23-2121 | I43: 0853-23-2723 | J43: 社会福祉法人 創文会 | L43: 20
A44: 43 | B44: 3210400242 | C44: 生活介護 | D44: 障害者支援施設 | E44: 障害者支援施設 光風園 | F44: 6990816 | G44: 島根県出雲市湖陵町大池２４０－１ | H44: 0853-43-2101 | I44: 0853-43-2119 | J44: 社会福祉法人 島根県社会福祉事業団 | L44: 67
A45: 44 | B45: 3210400325 | C45: 就労継続支援(Ｂ型) | D45: 障害者支援施設でない | E45: 飾彩房 | F45: 6910001 | G45: 島根県出雲市灘分町２４４５－１ | H45: 0853-62-5875 | J45: 有限会社 佐香 | L45: 20
A46: 45 | B46: 3210400333 | C46: 生活介護 | D46: 障害者支援施設でない | E46: 出雲サンホーム 地域福祉サービスセンターソレイユ | F46: 6990822 | G46: 島根県出雲市神西沖町１３１５ | H46: 0853-43-7575 | I46: 0853-43-7577 | J46: 社会福祉法人 恵寿会 | L46: 20
A47: 46 | B47: 3210400333 | C47: 自立訓練(機能訓練) | D47: 障害者支援施設でない | E47: 出雲サンホーム 地域福祉サービスセンターソレイユ | F47: 6990822 | G47: 島根県出雲市神西沖町１３１５ | H47: 0853-43-7575 | I47: 0853-43-7577 | J47: 社会福祉法人 恵寿会 | K47: 休止中 | L47: 6
A48: 47 | B48: 3210400366 | C48: 就労継続支援(Ｂ型) | D48: 障害者支援施設でない | E48: 就労継続支援事業所 ぽてとはうす | F48: 6930065 | G48: 島根県出雲市平野町１１８３ | H48: 0853-23-0477 | I48: 0853-25-8897 | J48: 社会福祉法人 ＪＡいずも福祉会 | L48: 20
A49: 48 | B49: 3210400390 | C49: 就労継続支援(Ｂ型) | D49: 障害者支援施設でない | E49: 就労支援事業所あそび | F49: 6930014 | G49: 島根県出雲市武志町６９３番地１ | H49: 0853-25-0130 | I49: 0853-25-3401 | J49: 社会福祉法人 ふあっと | L49: 20
A50: 49 | B50: 3210400390 | C50: 就労定着支援 | E50: 就労支援事業所あそび | F50: 6930014 | G50: 島根県出雲市武志町６９３番地１ | H50: 0853-25-0130 | I50: 0853-25-3401 | J50: 社会福祉法人 ふあっと
A51: 50 | B51: 3210400440 | C51: 就労継続支援(Ａ型) | D51: 障害者支援施設でない | E51: 就労支援事業所豆の樹 | F51: 6930012 | G51: 島根県出雲市大津新崎町2丁目4番地1 | H51: 0853-31-7800 | I51: 0853-23-1226 | J51: 株式会社ＩＳＭ | L51: 20
A52: 51 | B52: 3210400457 | C52: 就労移行支援 | D52: 障害者支援施設でない | E52: ワークセンターフロンティー | F52: 6930065 | G52: 島根県出雲市平野町１１７４ | H52: 0853-23-2121 | I52: 0853-23-2723 | J52: 社会福祉法人創文会 | L52: 8
A53: 52 | B53: 3210400457 | C53: 就労継続支援(Ｂ型) | D53: 障害者支援施設でない | E53: ワークセンターフロンティー | F53: 6930065 | G53: 島根県出雲市平野町１１７４ | H53: 0853-23-2121 | I53: 0853-23-2723 | J53: 社会福祉法人創文会 | L53: 12
A54: 53 | B54: 3210400457 | C54: 就労定着支援 | E54: ワークセンター フロンティー | F54: 6930065 | G54: 島根県出雲市平野町１１７４番地 | H54: 0853-25-7080 | I54: 0853-25-2080 | J54: 社会福祉法人創文会
A55: 54 | B55: 3210400465 | C55: 就労継続支援(Ｂ型) | D55: 障害者支援施設でない | E55: なかよし | F55: 6990701 | G55: 島根県出雲市大社町杵築東５７９ | H55: 0853-53-6160 | I55: 0853-53-6160 | J55: 特定非営利活動法人なかよし | L55: 20
A56: 55 | B56: 3210400481 | C56: 就労継続支援(Ｂ型) | D56: 障害者支援施設でない | E56: ワークケアみずうみ | F56: 6990813 | G56: 島根県出雲市湖陵町三部１３５２番地 | H56: 0853-43-3690 | I56: 0853-43-3690 | J56: 特定非営利活動法人 みずうみ | L56: 20
A57: 56 | B57: 3210400507 | C57: 就労継続支援(Ｂ型) | D57: 障害者支援施設でない | E57: やまびこ園 | F57: 6930522 | G57: 島根県出雲市佐田町八幡原２６２番地 | H57: 0853-85-8005 | I57: 0853-85-8005 | J57: 特定非営利活動法人 スサノオの風 | L57: 10
A58: 57 | B58: 3210400572 | C58: 就労継続支援(Ｂ型) | D58: 障害者支援施設でない | E58: 就労支援事業所サン出雲 | F58: 6930014 | G58: 島根県出雲市武志町693-1 | H58: 0853-23-1931 | I58: 0853-23-1931 | J58: 社会福祉法人 ふあっと | L58: 20
A59: 58 | B59: 3210400580 | C59: 生活介護 | D59: 障害者支援施設でない | E59: 生活介護事業所プレーゲ | F59: 6910003 | G59: 島根県出雲市灘分町６１３番地 | H59: 0853-63-7260 | I59: 0853-63-7262 | J59: 社会福祉法人ひらた福祉会 | L59: 20
A60: 59 | B60: 3210400614 | C60: 就労継続支援(Ｂ型) | D60: 障害者支援施設でない | E60: わんぱく大使館 | F60: 6910031 | G60: 島根県出雲市東福町１５６番地１ | H60: 0853-62-4872 | I60: 0853-62-4872 | J60: 特定非営利活動法人サポートセンターどりーむ | L60: 20
A61: 60 | B61: 3210400622 | C61: 就労継続支援(Ａ型) | D61: 障害者支援施設でない | E61: 就労支援事業所花はな | F61: 6990505 | G61: 島根県出雲市斐川町上庄原１２５５番地１ | H61: 0853-31-4510 | I61: 0853-72-4708 | J61: 株式会社フラワー | L61: 10
A62: 61 | B62: 3210400663 | C62: 就労継続支援(Ｂ型) | D62: 障害者支援施設でない | E62: 斐川あしたの丘 | F62: 6990631 | G62: 島根県出雲市斐川町直江町３９０９－１ | H62: 0853-73-7224 | I62: 0853-72-5024 | J62: 社会福祉法人斐川あしたの丘福祉会 | L62: 20
A63: 62 | B63: 3210400671 | C63: 就労継続支援(Ｂ型) | D63: 障害者支援施設でない | E63: つわぶきネット | F63: 6930037 | G63: 島根県出雲市西新町１丁目２４５３－５ | H63: 0853-31-4548 | I63: 0853-31-4549 | J63: 特定非営利活動法人 障がい者就労支援ネットワークつわぶき | L63: 20
A64: 63 | B64: 3210400689 | C64: 就労継続支援(Ｂ型) | D64: 障害者支援施設でない | E64: 就労支援事業所 すばる | F64: 6930005 | G64: 島根県出雲市天神町８６９ | H64: 0853-77-4386 | I64: 0853-77-4336 | J64: 特定非営利活動法人 ＩＺＵＭＯ自立支援センター | L64: 20
A65: 64 | B65: 3210400705 | C65: 就労継続支援(Ｂ型) | D65: 障害者支援施設でない | E65: ワークケアはつらつ | F65: 6990813 | G65: 島根県出雲市湖陵町三部６１５－５ | H65: 0853-31-4056 | I65: 0853-31-4145 | J65: 特定非営利活動法人河南はつらつセンター | L65: 20
A66: 65 | B66: 3210400788 | C66: 就労継続支援(Ｂ型) | D66: 障害者支援施設でない | E66: 就労支援事業所 だんだん | F66: 6930051 | G66: 島根県出雲市小山町３６１－２ | H66: 0853-21-9779 | I66: 0853-21-9780 | J66: 医療法人エスポアール出雲クリニック | L66: 20
... A72: 71 | B72: 3210400853 | C72: 就労継続支援(Ｂ型) | D72: 障害者支援施設でない | E72: あすてっぷ | F72: 6930005 | G72: 島根県出雲市天神町２番地 浜山ソーホー１－Ｇ | H72: 0853-31-9017 | I72: 0853-31-9018 | J72: 株式会社 ａ．ｓｔｅｐ | L72: 20
A73: 72 | B73: 3210401026 | C73: 就労継続支援(Ｂ型) | D73: 障害者支援施設でない | E73: 就労継続支援Ｂ型 みんなのデザイン | F73: 6930033 | G73: 島根県出雲市知井宮町８２６番地７ | H73: 0853-25-7127 | J73: 合同会社Ｒｏｂｓｅ | L73: 20
A74: 73 | B74: 3210401042 | C74: 就労継続支援(Ｂ型) | D74: 障害者支援施設でない | E74: いずもえん 原分事業所 | F74: 6930041 | G74: 島根県出雲市西園町２４９ | H74: 0853-25-8485 | I74: 0853-25-8485 | J74: 株式会社 いずもえん | L74: 20
A75: 74 | B75: 3210401083 | C75: 就労継続支援(Ｂ型) | D75: 障害者支援施設でない | E75: 就労支援事業所 アトリエール | F75: 6930012 | G75: 島根県出雲市大津新崎町４－４６ | H75: 09041041184 | J75: 株式会社 アンフ | L75: 20
A76: 75 | B76: 3210401091 | C76: 生活介護 | D76: 障害者支援施設でない | E76: ＣＳいずも 大社事業所 | F76: 6990732 | G76: 島根県出雲市大社町入南８０－１ | H76: 0853-53-8066 | I76: 0853-53-8078 | J76: 特定非営利活動法人コミュニティサポートいずも | K76: 休止中 | L76: 5
A77: 76 | B77: 3210401109 | C77: 就労継続支援(Ｂ型) | D77: 障害者支援施設でない | E77: 虹の工房まるべりー | F77: 6990501 | G77: 島根県出雲市斐川町学頭１６２５－４ | H77: 0853-72-7200 | I77: 0853-72-7201 | J77: 社会福祉法人 桑友 | L77: 40
A78: 77 | B78: 3210401117 | C78: 就労継続支援(Ｂ型) | D78: 障害者支援施設でない | E78: 就労継続支援Ｂ型事業所 カルミア | F78: 6930008 | G78: 島根県出雲市駅南町３丁目１４番地８ | H78: 0853-22-6239 | I78: 0853-25-0020 | J78: プライム有限会社 | L78: 20
A79: 78 | B79: 3210401133 | C79: 就労継続支援(Ａ型) | D79: 障害者支援施設でない | E79: 就労継続支援事業所 ミライカ | F79: 6930045 | G79: 島根県出雲市東園町５４０番地１ ＣＲＯＣＣＨＩＯ ２Ｇ | H79: 0853-25-8330 | I79: 0853-31-4487 | J79: 株式会社 結水織 | K79: 休止中 | L79: 10
A80: 79 | B80: 3210401133 | C80: 就労継続支援(Ｂ型) | D80: 障害者支援施設でない | E80: 就労継続支援事業所 ミライカ | F80: 6930045 | G80: 島根県出雲市東園町５４０番地１ ＣＲＯＣＣＨＩＯ ２Ｇ | H80: 0853-25-8330 | I80: 0853-31-4487 | J80: 株式会社 結水織 | L80: 20
A81: 80 | B81: 3210401141 | C81: 就労継続支援(Ｂ型) | D81: 障害者支援施設でない | E81: ワークステーション トーチ | F81: 6930044 | G81: 島根県出雲市荒茅町９３８ | H81: 0853-77-2689 | I81: 0853-77-5893 | J81: 合同会社Ｔｏｒｃｈ | L81: 20
A82: 81 | B82: 3210401166 | C82: 就労継続支援(Ａ型) | D82: 障害者支援施設でない | E82: やしまラボ | F82: 6930006 | G82: 島根県出雲市白枝町７９９－７ | H82: 0853-27-9229 | I82: 0853-27-9296 | J82: ＮＰＯ法人スプリングクラウド | K82: 休止中 | L82: 10
A83: 82 | B83: 3210401166 | C83: 就労継続支援(Ｂ型) | D83: 障害者支援施設でない | E83: やしまラボ | F83: 6930006 | G83: 島根県出雲市白枝町７９９－７ | H83: 0853-27-9229 | I83: 0853-27-9296 | J83: ＮＰＯ法人スプリングクラウド | K83: 休止中 | L83: 10
A84: 83 | B84: 3210401182 | C84: 就労継続支援(Ｂ型) | D84: 障害者支援施設でない | E84: ＤＡＹＳ | F84: 6930014 | G84: 島根県出雲市西林木町８５４ | H84: 0853-23-2305 | I84: 0853-31-7000 | J84: 合同会社ＬＥＦＴＹ | L84: 20
A85: 84 | B85: 3210401216 | C85: 就労継続支援(Ｂ型) | D85: 障害者支援施設でない | E85: 就労支援事業所 らいとあっぷ いずも | F85: 6930004 | G85: 島根県出雲市渡橋町８１５ | H85: 0852-67-2790 | I85: 0852-67-2791 | J85: 一般社団法人障害者自立支援センター | L85: 30
A86: 85 | B86: 3210401232 | C86: 就労継続支援(Ａ型) | D86: 障害者支援施設でない | E86: ｎｉｃｏｎｉｃｏ弁当 | F86: 6930004 | G86: 島根県出雲市渡橋町１１９８番地 | H86: 0853-25-8242 | I86: 0853-25-8243 | J86: 合同会社ｔａｎａｋａ ｃｏｍｐａｎｙ | L86: 20
A87: 86 | B87: 3210401265 | C87: 就労継続支援(Ｂ型) | D87: 障害者支援施設でない | E87: パレット | F87: 6930005 | G87: 島根県出雲市天神町５１６番地３ | H87: 0853-31-9278 | I87: 0853-31-9279 | J87: トリンク株式会社 | L87: 20
A88: 87 | B88: 3210401273 | C88: 就労継続支援(Ａ型) | D88: 障害者支援施設でない | E88: 薄紅 | F88: 6910001 | G88: 島根県出雲市平田町字中ノ島２９４４番地２０ | H88: 0853314690 | I88: 0853314691 | J88: 合同会社薄紅 | L88: 20
A89: 88 | B89: 3210401281 | C89: 就労継続支援(Ｂ型) | D89: 障害者支援施設でない | E89: スタンドＵＰ | F89: 6990732 | G89: 島根県出雲市大社町入南41 | H89: 0853-27-9577 | I89: 0853-25-9129 | J89: ご縁かめたか株式会社 | L89: 20
A90: 89 | B90: 3210401299 | C90: 就労継続支援(Ｂ型) | D90: 障害者支援施設でない | E90: 就労継続支援Ｂ型事業所 そらいろ | F90: 6910001 | G90: 島根県出雲市平田町1891番地13 | H90: 0853-62-9901 | I90: 0853-62-9908 | J90: 有限会社ごうばら | L90: 20
A91: 90 | B91: 3210401323 | C91: 就労継続支援(Ｂ型) | D91: 障害者支援施設でない | E91: 就労継続支援B型事業所 ラヴィアンローズ | F91: 6930001 | G91: 島根県出雲市今市町1394番地 | H91: 080-9297-789 | J91: 株式会社 ラヴィアンローズ | L91: 20
A92: 91 | B92: 3210401331 | C92: 就労継続支援(Ｂ型) | D92: 障害者支援施設でない | E92: グリーンファーム出雲 | F92: 6930028 | G92: 島根県出雲市塩冶善行町14-1 | H92: 0853-25-9021 | J92: グリーンライフ株式会社 | L92: 20
A93: 92 | B93: 3210401349 | C93: 就労継続支援(Ａ型) | D93: 障害者支援施設でない | E93: ゆうとぴあ | F93: 6930024 | G93: 島根県出雲市塩冶神前6丁目5-10 | H93: 0853-31-5697 | J93: 株式会社ゆうとぴあ | L93: 20
A94: 93 | B94: 3210401364 | C94: 就労継続支援(Ｂ型) | D94: 障害者支援施設でない | E94: フィリア | F94: 6910003 | G94: 島根県出雲市灘分町532－1 | H94: 0853624782 | J94: 社会福祉法人 やまゆり | L94: 20
A95: 94 | B95: 3210401372 | C95: 就労継続支援(Ｂ型) | D95: 障害者支援施設でない | E95: 就労継続支援B型 はるなつ | F95: 6990721 | G95: 島根県出雲市大社町修理免８４－５ | H95: 0853-31-7588 | I95: 0853-31-7589 | J95: 一般社団法人みんなの暮らしHarNatu | L95: 20
A96: 95 | B96: 3210401380 | C96: 就労継続支援(Ｂ型) | D96: 障害者支援施設でない | E96: ワークセンターきずな | F96: 6930012 | G96: 島根県出雲市大津新崎町１－４６－２ 栄光ビル１階 | H96: 0853318171 | J96: 合同会社 結縁 | L96: 20
A97: 96 | B97: 3210401398 | C97: 就労継続支援(Ｂ型) | D97: 障害者支援施設でない | E97: 就労継続支援B型事業所 出雲お結び | F97: 6930021 | G97: 島根県出雲市塩冶町２６７－１ | H97: 0853279320 | J97: 一般社団法人 みらい創造公社 | L97: 20
A98: 97 | B98: 3210401414 | C98: 生活介護 | D98: 障害者支援施設でない | E98: 斐川あしたの丘 | F98: 6990631 | G98: 島根県出雲市斐川町直江3909-1 | H98: 0853-73-7224 | J98: 社会福祉法人斐川あしたの丘福祉会 | L98: 20
A99: 98 | B99: 3210401430 | C99: 就労継続支援(Ｂ型) | D99: 障害者支援施設でない | E99: コミュニティワークたぐる | F99: 6930035 | G99: 島根県出雲市芦渡町1834番地 | H99: 0853-77-2227 | J99: 合同会社たぐる | L99: 20
A100: 99 | B100: 3210401455 | C100: 就労継続支援(Ｂ型) | D100: 障害者支援施設でない | E100: マノアハウス | F100: 6990902 | G100: 島根県出雲市多伎町多岐43-2 | H100: 0853-77-2619 | J100: 株式会社 オリエンタルリリー | L100: 20
A101: 100 | B101: 3211600022 | C101: 生活介護 | D101: 障害者支援施設 | E101: 障害者支援施設太陽の里 | F101: 6990622 | G101: 島根県出雲市斐川町名島９０ | H101: 0853-72-9125 | I101: 0853-72-9122 | J101: 社会福祉法人 喜和会 | L101: 40
A102: 101 | B102: 3211600022 | C102: 就労継続支援(Ｂ型) | D102: 障害者支援施設 | E102: 障害者支援施設太陽の里 | F102: 6990622 | G102: 島根県出雲市斐川町名島９０ | H102: 0853-72-9125 | I102: 0853-72-9122 | J102: 社会福祉法人 喜和会 | L102: 40
A103: 102 | B103: 3211600055 | C103: 宿泊型自立訓練 | E103: ＷＡＮＡ ＪＡＰＡＮ | F103: 6990051 | G103: 島根県出雲市斐川町大字学頭１６２５－４ | H103: 0853-72-7200 | I103: 0853-72-7201 | J103: 社会福祉法人 桑友
A104: 103 | B104: 3211600055 | C104: 自立訓練(生活訓練) | D104: 障害者支援施設でない | E104: ＷＡＮＡ ＪＡＰＡＮ | F104: 6990051 | G104: 島根県出雲市斐川町大字学頭１６２５－４ | H104: 0853-72-7200 | I104: 0853-72-7201 | J104: 社会福祉法人 桑友 | L104: 20
A105: 104 | B105: 3211600063 | C105: 就労継続支援(Ｂ型) | D105: 障害者支援施設でない | E105: まるべりー出雲 | F105: 6990501 | G105: 島根県出雲市斐川町大字学頭１６５２－３ | H105: 0853-72-0118 | I105: 0853-72-3772 | J105: 社会福祉法人 桑友 | L105: 30
...

Sheet 短期入所
B1: 事業所番号 | C1: サービス種類 | D1: サービス事業所名 | E1: 郵便番号 | F1: 所在地 | G1: 電話番号 | H1: FAX番号 | I1: 法人(設置者)名 | J1: 休止中 | K1: 定員数
A2: 1 | B2: 3210700054 | C2: 短期入所 | D2: 短期入所事業所「港夢」 | E2: 6970052 | F2: 島根県浜田市港町２８５－１ | G2: 0855-28-7311 | H2: 0855-23-5510 | I2: 社会医療法人 清和会 | K2: 4
A3: 2 | B3: 3210700062 | C3: 短期入所 | D3: 桑の木園 | E3: 6970123 | F3: 島根県浜田市金城町七条ハ５５９－２ | G3: 0855-42-0091 | H3: 0855-42-1951 | I3: 社会福祉法人 いわみ福祉会 | K3: 1
A4: 3 | B4: 3210700070 | C4: 短期入所 | D4: こくぶ学園 | E4: 6970005 | F4: 島根県浜田市上府町イ２５８９ | G4: 0855-28-0145 | H4: 0855-28-1765 | I4: 社会福祉法人 いわみ福祉会 | K4: 1
A5: 4 | B5: 3210700328 | C5: 短期入所 | D5: ぴゅあショート | E5: 6971331 | F5: 島根県浜田市内村町７９４番地１ | G5: 0855-27-0099 | H5: 0855-27-0099 | I5: 社会福祉法人 ぴゅあ | K5: 3
A6: 5 | B6: 3210700591 | C6: 短期入所 | D6: 短期入所 みやちゃん家 | E6: 6970023 | F6: 島根県浜田市長沢町３２１－１ | G6: 090-1354-832 | H6: 0855-25-8388 | I6: 合同会社 笑FULL | K6: 1
A7: 6 | B7: 3210700633 | C7: 短期入所 | D7: 短期入所 Interval Base | E7: 6970031 | F7: 島根県浜田市紺屋町７０番地１ | G7: 080-8243-4622 | I7: 一般社団法人 INTERVAL | K7: 5
A8: 7 | B8: 3210400127 | C8: 短期入所 | D8: 出雲サンホーム 短期入所事業 | E8: 6990822 | F8: 島根県出雲市神西沖町１３１３ | G8: 0853-43-3200 | H8: 0853-43-2030 | I8: 社会福祉法人 恵寿会 | K8: 8
A9: 8 | B9: 3210400135 | C9: 短期入所 | D9: 障害者支援施設 美野園 | E9: 6910073 | F9: 島根県出雲市美野町１６９４－２ | G9: 0853-67-0500 | H9: 0853-67-0565 | I9: 社会福祉法人 若草福祉会 | K9: 4
A10: 9 | B10: 3210400192 | C10: 短期入所 | D10: 障害者支援施設ふたば | E10: 6990822 | F10: 島根県出雲市神西沖町２４７６－１ | G10: 0853-43-2461 | H10: 0853-43-1751 | I10: 社会福祉法人 親和会 | K10: 3
A11: 10 | B11: 3210400200 | C11: 短期入所 | D11: 障害者支援施設わかば | E11: 6990822 | F11: 島根県出雲市神西沖町２４７６－１ | G11: 0853-43-2461 | H11: 0853-43-1751 | I11: 社会福祉法人 親和会 | K11: 1
A12: 11 | B12: 3210400242 | C12: 短期入所 | D12: 障害者支援施設 光風園 | E12: 6990816 | F12: 島根県出雲市湖陵町大池２４０－１ | G12: 0853-43-2101 | H12: 0853-43-2119 | I12: 社会福祉法人 島根県社会福祉事業団 | K12: 4
A13: 12 | B13: 3210400259 | C13: 短期入所 | D13: 出雲市立総合医療センター | E13: 6910003 | F13: 島根県出雲市灘分町６１３ | G13: 0853-63-5111 | H13: 0853-63-4228 | I13: 出雲市 | K13: 1
A14: 13 | B14: 3210400358 | C14: 短期入所 | D14: 障がい児入所施設 さざなみ学園 | E14: 6990822 | F14: 島根県出雲市神西沖町２５３４－２ | G14: 0853-43-2252 | H14: 0853-43-2256 | I14: 社会福祉法人 親和会 | K14: 5
A15: 14 | B15: 3210400549 | C15: 短期入所 | D15: ＣＳいずも短期入所大社事業所 | E15: 6990732 | F15: 島根県出雲市大社町入南８０－１ | G15: 0853-53-8066 | H15: 0853-53-8078 | I15: 特定非営利活動法人コミュニティサポートいずも | K15: 3
A16: 15 | B16: 3210400564 | C16: 短期入所 | D16: ＣＳいずも短期入所知井宮事業所 | E16: 6930033 | F16: 島根県出雲市知井宮町６２７－５ | G16: 0853-25-7101 | H16: 0853-25-7078 | I16: 特定非営利活動法人コミュニティサポートいずも | K16: 3
A17: 16 | B17: 3210400960 | C17: 短期入所 | D17: 島根県立中央病院 重症心身障がい児 指定短期入所サービス事業所 | E17: 6938555 | F17: 島根県出雲市姫原４－１－１ | G17: 0853-22-5111 | H17: 0853-21-2975 | I17: 島根県立中央病院 | K17: 30
A18: 17 | B18: 3210401018 | C18: 短期入所 | D18: ＷＡＮＡ ＪＡＰＡＮ | E18: 6990502 | F18: 島根県出雲市斐川町学頭１６２５－４ | G18: 0853-72-7200 | H18: 0853-72-7201 | I18: 社会福祉法人 桑友 | K18: 10
A19: 18 | B19: 3210401224 | C19: 短期入所 | D19: はまなす | E19: 6910001 | F19: 島根県出雲市平田町９０２－２ | G19: 0853-25-8874 | H19: 0853-25-8874 | I19: 社会福祉法人 若草福祉会 | K19: 12
A20: 19 | B20: 3210401315 | C20: 短期入所 | D20: グループホームこといろ | E20: 6930021 | F20: 島根県出雲市塩冶町983-2 | G20: 0853-23-2271 | I20: 合同会社 Ｒｏｂｓｅ | K20: 1
A21: 20 | B21: 3210401422 | C21: 短期入所 | D21: 短期入所 出雲常松町 | E21: 6930057 | F21: 島根県出雲市常松町217-1 | G21: 0853-25-2181 | I21: ソーシャルインクルー株式会社 | K21: 1
A22: 21 | B22: 3211600022 | C22: 短期入所 | D22: 障害者支援施設太陽の里 | E22: 6990622 | F22: 島根県出雲市斐川町名島９０ | G22: 0853-72-9125 | H22: 0853-72-9122 | I22: 社会福祉法人 喜和会 | K22: 2
A23: 22 | B23: 3210800045 | C23: 短期入所 | D23: 益田市立特別養護老人ホーム 美寿苑 | E23: 6980203 | F23: 島根県益田市美都町都茂１８７１－９ | G23: 0856-52-3200 | H23: 0856-52-3201 | I23: 社会福祉法人 益田市社会福祉協議会 | K23: 6
A24: 23 | B24: 3210800086 | C24: 短期入所 | D24: 障害者支援施設希望の里 | E24: 6980041 | F24: 島根県益田市高津三丁目２３－１ | G24: 0856-24-2223 | H24: 0856-24-2512 | I24: 社会福祉法人 希望の里福祉会 | K24: 4
A25: 24 | B25: 3210800110 | C25: 短期入所 | D25: 障がい者支援施設ラポール宝生苑 | E25: 6980001 | F25: 島根県益田市久城町５３１番地 | G25: 0856-32-0022 | H25: 0856-23-4253 | I25: 社会福祉法人 梅寿会 | K25: 3
A26: 25 | B26: 3210800151 | C26: 短期入所 | D26: 益田市立特別養護老人ホーム もみじの里 | E26: 6981211 | F26: 島根県益田市匹見町匹見イ１２０８番地 | G26: 0856-56-7030 | H26: 0856-56-7033 | I26: 社会福祉法人 益田市社会福祉協議会 | K26: 8
A27: 26 | B27: 3210800201 | C27: 短期入所 | D27: グループホーム光ヶ丘 | E27: 6980041 | F27: 島根県益田市高津町イ２３５４－５ | G27: 0856-25-7370 | H27: 0856-25-7371 | I27: 社会医療法人 正光会 | K27: 2
A28: 27 | B28: 3210800243 | C28: 短期入所 | D28: 益田赤十字病院 | E28: 6988501 | F28: 島根県益田市乙吉町イ１０３－１ | G28: 0856-22-1480 | H28: 0856-22-3991 | I28: 益田赤十字病院 | K28: 284
A29: 28 | B29: 3210500066 | C29: 短期入所 | D29: 障害者支援施設 清風園 | E29: 6940013 | F29: 島根県大田市川合町吉永１０２５ | G29: 0854-82-5300 | H29: 0854-82-5301 | I29: 社会福祉法人 島根県社会福祉事業団 | K29: 10
A30: 29 | B30: 3210500181 | C30: 短期入所 | D30: 短期入所事業所フレンズ | E30: 6940064 | F30: 島根県大田市大田町大田口７６０－１ | G30: 0854-82-4050 | H30: 0854-82-7157 | I30: ＮＰＯ法人えんＪＯＹ | K30: 4
A31: 30 | B31: 3210500199 | C31: 短期入所 | D31: ショートステイ銀の鳩 | E31: 6940064 | F31: 島根県大田市大田町大田イ６８１－５ | G31: 0854-82-4688 | H31: 0854-82-4774 | I31: 社会福祉法人 銀の鳩 | K31: 3
A32: 31 | B32: 3210500207 | C32: 短期入所 | D32: 医療法人 恵和会 グループホーム | E32: 6940064 | F32: 島根県大田市大田町大田イ８６０－３ | G32: 0854-82-1035 | H32: 0854-82-0357 | I32: 医療法人 恵和会 | K32: 2
A33: 32 | B33: 3210200071 | C33: 短期入所 | D33: コミュニティハウス あさひ | E33: 6920011 | F33: 島根県安来市安来町９２７－２ | G33: 0854-22-3430 | H33: 0854-23-2729 | I33: 社会医療法人 昌林会 | K33: 1
... A60: 59 | B60: 3212200137 | C60: 短期入所 | D60: みんなの作業所 | E60: 6850021 | F60: 島根県隠岐郡隠岐の島町岬町中ノ津四．３０２番地 | G60: 08512-2-3865 | H60: 08512-2-1236 | I60: 社会福祉法人 博愛 | K60: 4
A61: 60 | B61: 3212200178 | C61: 短期入所 | D61: 共同生活援助事業所 きぼう | E61: 6850104 | F61: 島根県隠岐郡隠岐の島町都万2582番地１ | G61: 0851262289 | I61: 社会福祉法人 博愛 | K61: 1

Sheet 療養介護
B1: 事業所番号 | C1: サービス種類 | D1: サービス事業所名 | E1: 郵便番号 | F1: 所在地 | G1: 電話番号 | H1: FAX番号 | I1: 法人(設置者)名 | J1: 休止中 | K1: 定員数
A2: 1 | B2: 3210600114 | C2: 療養介護 | D2: 安養学園 | E2: 6950001 | F2: 島根県江津市渡津町１９２６－１０ | G2: 0855-52-2442 | H2: 0855-52-0344 | I2: 社会福祉法人 島根整肢学園 | K2: 100

Sheet 自立支援援助
B1: 事業所番号 | C1: サービス種類 | D1: サービス事業所名 | E1: 郵便番号 | F1: 所在地 | G1: 電話番号 | H1: FAX番号 | I1: 法人(設置者)名 | J1: 休止中
A2: 1 | B2: 3210700484 | C2: 自立生活援助 | D2: 相談支援事業所「陽だまり」 | E2: 6970052 | F2: 島根県浜田市港町２９２－１０、２９４－１１ | G2: 0855-22-8115 | H2: 0855-22-8120 | I2: 社会医療法人 清和会
A3: 2 | B3: 3210400986 | C3: 自立生活援助 | D3: 相談支援事業所ふあっと | E3: 6930001 | F3: 島根県出雲市今市町400-6 | G3: 0853-25-0130 | H3: 0853-25-3401 | I3: 社会福祉法人 ふあっと
A4: 3 | B4: 3210400994 | C4: 自立生活援助 | D4: 相談支援事業所Ｒｅｖｅ | E4: 6930055 | F4: 島根県出雲市八島町11-1 | G4: 0853-25-8602 | H4: 0853-25-8603 | I4: 株式会社ＲＥＴＩＣＥ | J4: 休止中
A5: 4 | B5: 3210401125 | C5: 自立生活援助 | D5: 相談支援事業所リレーション | E5: 6930068 | F5: 島根県出雲市姫原３丁目１－５ 101号室 | G5: 09071385676 | I5: 株式会社エンブリス

Sheet 共同生活援助
A1: 事業所番号 | B1: サービス種類 | C1: サービス事業所名 | D1: 郵便番号 | E1: 所在地 | F1: 電話番号 | G1: FAX番号 | H1: 法人(設置者)名 | I1: 共同生活住居名 | J1: 定員数
A2: 3220700011 | B2: 共同生活援助 | C2: サポートセンターふかふか | D2: 6970027 | E2: 島根県浜田市殿町１０３－１ | F2: 0855-23-2295 | G2: 0855-27-2295 | H2: 社会福祉法人 いわみ福祉会 | I2: サポートセンターふかふか | J2: 39
A3: 3220700011 | B3: 共同生活援助 | C3: サポートセンターふかふか | D3: 6970027 | E3: 島根県浜田市殿町１０３－１ | F3: 0855-23-2295 | G3: 0855-27-2295 | H3: 社会福祉法人 いわみ福祉会 | I3: 桑雲寮 | J3: 10
A4: 3220700011 | B4: 共同生活援助 | C4: サポートセンターふかふか | D4: 6970027 | E4: 島根県浜田市殿町１０３－１ | F4: 0855-23-2295 | G4: 0855-27-2295 | H4: 社会福祉法人 いわみ福祉会 | I4: さつきホーム | J4: 6
A5: 3220700011 | B5: 共同生活援助 | C5: サポートセンターふかふか | D5: 6970027 | E5: 島根県浜田市殿町１０３－１ | F5: 0855-23-2295 | G5: 0855-27-2295 | H5: 社会福祉法人 いわみ福祉会 | I5: なかやホーム | J5: 4
A6: 3220700011 | B6: 共同生活援助 | C6: サポートセンターふかふか | D6: 6970027 | E6: 島根県浜田市殿町１０３－１ | F6: 0855-23-2295 | G6: 0855-27-2295 | H6: 社会福祉法人 いわみ福祉会 | I6: しんがいホーム | J6: 6
A7: 3220700011 | B7: 共同生活援助 | C7: サポートセンターふかふか | D7: 6970027 | E7: 島根県浜田市殿町１０３－１ | F7: 0855-23-2295 | G7: 0855-27-2295 | H7: 社会福祉法人 いわみ福祉会 | I7: さくらホーム | J7: 7
A8: 3220700011 | B8: 共同生活援助 | C8: サポートセンターふかふか | D8: 6970027 | E8: 島根県浜田市殿町１０３－１ | F8: 0855-23-2295 | G8: 0855-27-2295 | H8: 社会福祉法人 いわみ福祉会 | I8: きぼうホーム | J8: 6
A9: 3220700029 | B9: 共同生活援助 | C9: ぴゅあほーむ | D9: 6971331 | E9: 島根県浜田市内村町７９４番地１ | F9: 0855-27-0099 | G9: 0855-27-0099 | H9: 社会福祉法人 ぴゅあ | I9: ぴゅあほーむ | J9: 5
A10: 3220700029 | B10: 共同生活援助 | C10: ぴゅあほーむ | D10: 6971331 | E10: 島根県浜田市内村町７９４番地１ | F10: 0855-27-0099 | G10: 0855-27-0099 | H10: 社会福祉法人 ぴゅあ | I10: ぴゅあほーむ | J10: 5
A11: 3220700052 | B11: 共同生活援助 | C11: 共同生活援助・共同生活介護事業所「港夢」 | D11: 6970052 | E11: 島根県浜田市港町２８５－１ | F11: 0855-28-7311 | G11: 0855-23-5510 | H11: 社会医療法人 清和会 | I11: 共同生活援助・共同生活介護事業所「港夢」 | J11: 51
A12: 3220700052 | B12: 共同生活援助 | C12: 共同生活援助・共同生活介護事業所「港夢」 | D12: 6970052 | E12: 島根県浜田市港町２８５－１ | F12: 0855-28-7311 | G12: 0855-23-5510 | H12: 社会医療法人 清和会 | I12: 港夢１号 | J12: 8
... A50: 3220400059 | B50: 共同生活援助 | C50: グループホーム光風園 | D50: 6990816 | E50: 島根県出雲市湖陵町大池２４０－１ | F50: 0853-43-2101 | G50: 0853-43-2119 | H50: 社会福祉法人 島根県社会福祉事業団 | I50: いこいの家ひかり | J50: 7
A51: 3220400075 | B51: 共同生活援助 | C51: グループホーム 彩華荘 | D51: 6910001 | E51: 島根県出雲市平田町５３４８－８ | F51: 0853-62-3304 | H51: 有限会社 佐香 | I51: グループホーム 彩華荘 | J51: 20
A52: 3220400075 | B52: 共同生活援助 | C52: グループホーム 彩華荘 | D52: 6910001 | E52: 島根県出雲市平田町５３４８－８ | F52: 0853-62-3304 | H52: 有限会社 佐香 | I52: グループホーム 彩華荘 | J52: 13
A53: 3220400075 | B53: 共同生活援助 | C53: グループホーム 彩華荘 | D53: 6910001 | E53: 島根県出雲市平田町５３４８－８ | F53: 0853-62-3304 | H53: 有限会社 佐香 | I53: グループホーム 彩風荘 | J53: 7
A54: 3220400117 | B54: 共同生活援助 | C54: ふあっとほおむ | D54: 6930033 | E54: 島根県出雲市知井宮町１２３９－１ | F54: 0853-25-0130 | G54: 0853-25-3401 | H54: 社会福祉法人 ふあっと | I54: ふあっとほおむ | J54: 4
A55: 3220400117 | B55: 共同生活援助 | C55: ふあっとほおむ | D55: 6930033 | E55: 島根県出雲市知井宮町１２３９－１ | F55: 0853-25-0130 | G55: 0853-25-3401 | H55: 社会福祉法人 ふあっと | I55: ふあっとほおむ | J55: 4
A56: 3220400133 | B56: 共同生活援助 | C56: ハートフルホームかんど | D56: 6930037 | E56: 島根県出雲市西新町二丁目２４５６－１３ | F56: 0853-24-3838 | G56: 0853-24-3830 | H56: 医療法人 かんど会 | I56: ハートフルホームかんど | J56: 20
A57: 3220400133 | B57: 共同生活援助 | C57: ハートフルホームかんど | D57: 6930037 | E57: 島根県出雲市西新町二丁目２４５６－１３ | F57: 0853-24-3838 | G57: 0853-24-3830 | H57: 医療法人 かんど会 | I57: ハートフルホームかんど | J57: 20
A58: 3220400158 | B58: 共同生活援助 | C58: 共同生活事業所 つばめ | D58: 6930012 | E58: 島根県出雲市大津新崎町２－４－１ | F58: 0853-31-7220 | G58: 0853-23-1226 | H58: 特定非営利活動法人ＩＺＵＭＯ自立支援センター | I58: 共同生活事業所 つばめ | J58: 16
A59: 3220400158 | B59: 共同生活援助 | C59: 共同生活事業所 つばめ | D59: 6930012 | E59: 島根県出雲市大津新崎町２－４－１ | F59: 0853-31-7220 | G59: 0853-23-1226 | H59: 特定非営利活動法人ＩＺＵＭＯ自立支援センター | I59: つばめ | J59: 10
A60: 3220400158 | B60: 共同生活援助 | C60: 共同生活事業所 つばめ | D60: 6930012 | E60: 島根県出雲市大津新崎町２－４－１ | F60: 0853-31-7220 | G60: 0853-23-1226 | H60: 特定非営利活動法人ＩＺＵＭＯ自立支援センター | I60: つばさ | J60: 6
A61: 3220400166 | B61: 共同生活援助 | C61: わんぱくハウス | D61: 6910031 | E61: 島根県出雲市東福町２２５－１ | F61: 0853-62-4872 | G61: 0853-62-4872 | H61: 特定非営利活動法人 サポートセンターどりーむ | I61: わんぱくハウス | J61: 6
A62: 3220400166 | B62: 共同生活援助 | C62: わんぱくハウス | D62: 6910031 | E62: 島根県出雲市東福町２２５－１ | F62: 0853-62-4872 | G62: 0853-62-4872 | H62: 特定非営利活動法人 サポートセンターどりーむ | I62: わんぱくハウス | J62: 6
A63: 3220400174 | B63: 共同生活援助 | C63: 共同生活援助事業所わくわくホーム | D63: 6910003 | E63: 島根県出雲市灘分町６７７－２ | F63: 0853-31-9500 | G63: 0853-31-9501 | H63: 社会福祉法人 ひらた福祉会 | I63: 共同生活援助事業所わくわくホーム | J63: 7
A64: 3220400174 | B64: 共同生活援助 | C64: 共同生活援助事業所わくわくホーム | D64: 6910003 | E64: 島根県出雲市灘分町６７７－２ | F64: 0853-31-9500 | G64: 0853-31-9501 | H64: 社会福祉法人 ひらた福祉会 | I64: 共同生活援助事業所わくわくホーム | J64: 7
A65: 3220400182 | B65: 共同生活援助 | C65: 共同生活援助 ウェルガーデンたんぽぽ | D65: 6930021 | E65: 島根県出雲市塩冶町１９７８－２ | F65: 0853-20-1505 | G65: 0853-20-1507 | H65: 有限会社ウェルガーデンたんぽぽ | I65: 共同生活援助 ウェルガーデンたんぽぽ | J65: 9
... A69: 3220400190 | B69: 共同生活援助 | C69: さくらトパーズ | D69: 6930023 | E69: 島根県出雲市塩冶有原町６丁目５８－１ | F69: 0853-48-9045 | G69: 0853-48-9008 | H69: 株式会社さくら | I69: さくらトパーズＢ棟 | J69: 10
A70: 3220400208 | B70: 共同生活援助 | C70: 共同生活援助事業所 ビーターベース | D70: 6930012 | E70: 島根県出雲市大津新崎町４丁目４６ | F70: 09041041184 | H70: 株式会社 アンフ | I70: 共同生活援助事業所 ビーターベース | J70: 6
A71: 3220400208 | B71: 共同生活援助 | C71: 共同生活援助事業所 ビーターベース | D71: 6930012 | E71: 島根県出雲市大津新崎町４丁目４６ | F71: 09041041184 | H71: 株式会社 アンフ | I71: 共同生活援助事業所 ビーターベース | J71: 6
A72: 3220400216 | B72: 共同生活援助 | C72: グループホームこといろ | D72: 6930021 | E72: 島根県出雲市塩冶町９８３－２ | F72: 0853-23-2271 | G72: 0853-23-2288 | H72: 合同会社Ｒｏｂｓｅ | I72: グループホームこといろ | J72: 10
A73: 3220400216 | B73: 共同生活援助 | C73: グループホームこといろ | D73: 6930021 | E73: 島根県出雲市塩冶町９８３－２ | F73: 0853-23-2271 | G73: 0853-23-2288 | H73: 合同会社Ｒｏｂｓｅ | I73: グループホームこはれ | J73: 10
A74: 3220400224 | B74: 共同生活援助 | C74: ユナイト | D74: 6930067 | E74: 島根県出雲市矢尾町274番地１ | F74: 0853-77-9377 | G74: 0853-77-4440 | H74: プライム有限会社 | I74: ユナイトＡ棟1階 | J74: 5
A75: 3220400224 | B75: 共同生活援助 | C75: ユナイト | D75: 6930067 | E75: 島根県出雲市矢尾町274番地１ | F75: 0853-77-9377 | G75: 0853-77-4440 | H75: プライム有限会社 | I75: ユナイトＡ棟2階 | J75: 5
A76: 3220400232 | B76: 共同生活援助 | C76: ソーシャルインクルーホーム出雲常松町 | D76: 6930057 | E76: 島根県出雲市常松町217-1 | F76: 0853-25-2181 | H76: ソーシャルインクルー株式会社 | I76: ソーシャルインクルーホーム出雲常松町Ⅰ | J76: 10
A77: 3220400240 | B77: 共同生活援助 | C77: グループホーム ＤＯＺＥ | D77: 6930029 | E77: 島根県出雲市築山新町１－８ | F77: 090-5267-3839 | H77: 株式会社 ＲＥＰＰＬＵＳ | I77: グループホーム ＤＯＺＥ | J77: 7
A78: 3221600012 | B78: 共同生活援助 | C78: 太陽の里 | D78: 6990622 | E78: 島根県出雲市斐川町名島９０ | F78: 0853-72-9125 | G78: 0853-72-9122 | H78: 社会福祉法人 喜和会 | I78: 太陽の里 | J78: 38
A79: 3221600012 | B79: 共同生活援助 | C79: 太陽の里 | D79: 6990622 | E79: 島根県出雲市斐川町名島９０ | F79: 0853-72-9125 | G79: 0853-72-9122 | H79: 社会福祉法人 喜和会 | I79: 湖西寮 | J79: 6
A80: 3221600012 | B80: 共同生活援助 | C80: 太陽の里 | D80: 6990622 | E80: 島根県出雲市斐川町名島９０ | F80: 0853-72-9125 | G80: 0853-72-9122 | H80: 社会福祉法人 喜和会 | I80: しんかわホーム | J80: 6
A81: 3221600012 | B81: 共同生活援助 | C81: 太陽の里 | D81: 6990622 | E81: 島根県出雲市斐川町名島９０ | F81: 0853-72-9125 | G81: 0853-72-9122 | H81: 社会福祉法人 喜和会 | I81: なじまホーム | J81: 6
A82: 3221600012 | B82: 共同生活援助 | C82: 太陽の里 | D82: 6990622 | E82: 島根県出雲市斐川町名島９０ | F82: 0853-72-9125 | G82: 0853-72-9122 | H82: 社会福祉法人 喜和会 | I82: なじまホームⅡ | J82: 6
A83: 3221600012 | B83: 共同生活援助 | C83: 太陽の里 | D83: 6990622 | E83: 島根県出雲市斐川町名島９０ | F83: 0853-72-9125 | G83: 0853-72-9122 | H83: 社会福祉法人 喜和会 | I83: なじまホームⅢ | J83: 6
A84: 3221600012 | B84: 共同生活援助 | C84: 太陽の里 | D84: 6990622 | E84: 島根県出雲市斐川町名島９０ | F84: 0853-72-9125 | G84: 0853-72-9122 | H84: 社会福祉法人 喜和会 | I84: おひさま | J84: 8
A85: 3221600038 | B85: 共同生活援助 | C85: 桑友グループホーム | D85: 6990501 | E85: 島根県出雲市斐川町大字学頭１６２５－４ | F85: 0853-72-7200 | G85: 0853-72-7201 | H85: 社会福祉法人 桑友 | I85: 桑友グループホーム | J85: 28
A86: 3221600038 | B86: 共同生活援助 | C86: 桑友グループホーム | D86: 6990501 | E86: 島根県出雲市斐川町大字学頭１６２５－４ | F86: 0853-72-7200 | G86: 0853-72-7201 | H86: 社会福祉法人 桑友 | I86: ライブハウス | J86: 7
A87: 3221600038 | B87: 共同生活援助 | C87: 桑友グループホーム | D87: 6990501 | E87: 島根県出雲市斐川町大字学頭１６２５－４ | F87: 0853-72-7200 | G87: 0853-72-7201 | H87: 社会福祉法人 桑友 | I87: ハイツマルベリー１ | J87: 3
A88: 3221600038 | B88: 共同生活援助 | C88: 桑友グループホーム | D88: 6990501 | E88: 島根県出雲市斐川町大字学頭１６２５－４ | F88: 0853-72-7200 | G88: 0853-72-7201 | H88: 社会福祉法人 桑友 | I88: ハイツマルベリー２ | J88: 3
A89: 3221600038 | B89: 共同生活援助 | C89: 桑友グループホーム | D89: 6990501 | E89: 島根県出雲市斐川町大字学頭１６２５－４ | F89: 0853-72-7200 | G89: 0853-72-7201 | H89: 社会福祉法人 桑友 | I89: ハイツマルベリー３ | J89: 3
... A109: 3220800076 | B109: 共同生活援助 | C109: グループホーム 松の実 | D109: 6980041 | E109: 島根県益田市高津４丁目２４番４号 | F109: 0856-24-1673 | G109: 0856-24-1673 | H109: 社会医療法人 正光会 | I109: グループホーム 松の実 | J109: 14
A110: 3220800084 | B110: 共同生活援助 | C110: グループホーム風の丘 | D110: 6980041 | E110: 島根県益田市高津三丁目イ２５１８－７７ | F110: 0856-31-1378 | H110: 社会医療法人正光会 | I110: グループホーム風の丘 | J110: 10
A111: 3220800084 | B111: 共同生活援助 | C111: グループホーム風の丘 | D111: 6980041 | E111: 島根県益田市高津三丁目イ２５１８－７７ | F111: 0856-31-1378 | H111: 社会医療法人正光会 | I111: グループホーム風の丘 | J111: 10
A112: 3220800092 | B112: 共同生活援助 | C112: ボクの家 | D112: 6980041 | E112: 島根県益田市高津４丁目６－１４ | F112: 08080678541 | G112: 0856-22-2496 | H112: マターナル株式会社 | I112: ボクの家 | J112: 5
A113: 3220800092 | B113: 共同生活援助 | C113: ボクの家 | D113: 6980041 | E113: 島根県益田市高津４丁目６－１４ | F113: 08080678541 | G113: 0856-22-2496 | H113: マターナル株式会社 | I113: ボクの家 | J113: 5
A114: 3220800092 | B114: 共同生活援助 | C114: ボクの家 | D114: 6980041 | E114: 島根県益田市高津４丁目６－１４ | F114: 08080678541 | G114: 0856-22-2496 | H114: マターナル株式会社 | I114: わたしんち | J114: 10
A115: 3220800100 | B115: 共同生活援助 | C115: ばすけっと益田事業所 | D115: 6980007 | E115: 島根県益田市昭和町1-36 | F115: 0856-25-7022 | H115: 社会福祉法人 E・G・F | I115: ばすけっと益田事業所 | J115: 14
A116: 3220800100 | B116: 共同生活援助 | C116: ばすけっと益田事業所 | D116: 6980007 | E116: 島根県益田市昭和町1-36 | F116: 0856-25-7022 | H116: 社会福祉法人 E・G・F | I116: グループホーム絆 | J116: 7
A117: 3220800100 | B117: 共同生活援助 | C117: ばすけっと益田事業所 | D117: 6980007 | E117: 島根県益田市昭和町1-36 | F117: 0856-25-7022 | H117: 社会福祉法人 E・G・F | I117: グループホーム要 | J117: 7
A118: 3220800118 | B118: 共同生活援助 | C118: グループホームふぁみりえ | D118: 6980023 | E118: 島根県益田市常盤町２－７ | F118: 0856-32-1110 | G118: 0856-32-1120 | H118: 株式会社Ｆｒｏｍハート | I118: グループホームふぁみりえ | J118: 7
A119: 3220800118 | B119: 共同生活援助 | C119: グループホームふぁみりえ | D119: 6980023 | E119: 島根県益田市常盤町２－７ | F119: 0856-32-1110 | G119: 0856-32-1120 | H119: 株式会社Ｆｒｏｍハート | I119: グループホームふぁみりえ | J119: 7
A120: 3220800126 | B120: 共同生活援助 | C120: ペット共生型障がい者グループホーム わおん益田 | D120: 6980041 | E120: 島根県益田市高津町5丁目33番地10 | F120: 08028940417 | H120: HAWPOK合同会社 | I120: ペット共生型障がい者グループホームわおん益田 | J120: 5
A121: 3220800126 | B121: 共同生活援助 | C121: ペット共生型障がい者グループホーム わおん益田 | D121: 6980041 | E121: 島根県益田市高津町5丁目33番地10 | F121: 08028940417 | H121: HAWPOK合同会社 | I121: ペット共生型障がい者グループホーム わおん益田 | J121: 5
A122: 3220500015 | B122: 共同生活援助 | C122: グループホーム清風園 | D122: 6940013 | E122: 島根県大田市川合町吉永１０２５ | F122: 0854-82-5300 | G122: 0854-82-5301 | H122: 社会福祉法人 島根県社会福祉事業団 | I122: グループホーム清風園 | J122: 14
A123: 3220500015 | B123: 共同生活援助 | C123: グループホーム清風園 | D123: 6940013 | E123: 島根県大田市川合町吉永１０２５ | F123: 0854-82-5300 | G123: 0854-82-5301 | H123: 社会福祉法人 島根県社会福祉事業団 | I123: すみれ寮 | J123: 7
A124: 3220500015 | B124: 共同生活援助 | C124: グループホーム清風園 | D124: 6940013 | E124: 島根県大田市川合町吉永１０２５ | F124: 0854-82-5300 | G124: 0854-82-5301 | H124: 社会福祉法人 島根県社会福祉事業団 | I124: れんげ寮 | J124: 7
A125: 3220500031 | B125: 共同生活援助 | C125: タートルホーム | D125: 6940041 | E125: 島根県大田市長久町長久ロ２６７－６ | F125: 0854-82-3077 | G125: 0854-82-3951 | H125: 社会福祉法人 亀の子 | I125: タートルホーム | J125: 19
A126: 3220500031 | B126: 共同生活援助 | C126: タートルホーム | D126: 6940041 | E126: 島根県大田市長久町長久ロ２６７－６ | F126: 0854-82-3077 | G126: 0854-82-3951 | H126: 社会福祉法人 亀の子 | I126: タートルホーム | J126: 10
A127: 3220500031 | B127: 共同生活援助 | C127: タートルホーム | D127: 6940041 | E127: 島根県大田市長久町長久ロ２６７－６ | F127: 0854-82-3077 | G127: 0854-82-3951 | H127: 社会福祉法人 亀の子 | I127: コーポ亀の子Ⅱ | J127: 5
A128: 3220500031 | B128: 共同生活援助 | C128: タートルホーム | D128: 6940041 | E128: 島根県大田市長久町長久ロ２６７－６ | F128: 0854-82-3077 | G128: 0854-82-3951 | H128: 社会福祉法人 亀の子 | I128: コーポ亀の子Ⅲ | J128: 4
A129: 3220500056 | B129: 共同生活援助 | C129: 医療法人 恵和会 グループホーム | D129: 6940064 | E129: 島根県大田市大田町大田イ８６０－３ | F129: 0854-82-1035 | G129: 0854-82-0357 | H129: 医療法人 恵和会 | I129: 医療法人 恵和会 グループホーム | J129: 17
A130: 3220500056 | B130: 共同生活援助 | C130: 医療法人 恵和会 グループホーム | D130: 6940064 | E130: 島根県大田市大田町大田イ８６０－３ | F130: 0854-82-1035 | G130: 0854-82-0357 | H130: 医療法人 恵和会 | I130: グループホーム やない | J130: 7
A131: 3220500056 | B131: 共同生活援助 | C131: 医療法人 恵和会 グループホーム | D131: 6940064 | E131: 島根県大田市大田町大田イ８６０－３ | F131: 0854-82-1035 | G131: 0854-82-0357 | H131: 医療法人 恵和会 | I131: グループホームコア・みらい | J131: 10
A132: 3220500064 | B132: 共同生活援助 | C132: グループホーム昇陽会 | D132: 6940021 | E132: 島根県大田市久利町行恒５２６番地３ | F132: 0854-82-5960 | G132: 0854-82-5158 | H132: 社会福祉法人昇陽会 | I132: グループホーム昇陽会 | J132: 15
A133: 3220500064 | B133: 共同生活援助 | C133: グループホーム昇陽会 | D133: 6940021 | E133: 島根県大田市久利町行恒５２６番地３ | F133: 0854-82-5960 | G133: 0854-82-5158 | H133: 社会福祉法人昇陽会 | I133: グループホームすぎな寮 | J133: 10
... A167: 3221400017 | B167: 共同生活援助 | C167: きすきひまわりの家 | D167: 6991323 | E167: 島根県雲南市木次町東日登３５６番地１６ | F167: 0854-42-2335 | G167: 0854-42-2335 | H167: 社会福祉法人 雲南ひまわり福祉会 | I167: きすきたんぽぽの家 | J167: 6
A168: 3221400025 | B168: 共同生活援助 | C168: グループホームヴィラかすみ | D168: 6902706 | E168: 島根県雲南市掛合町多根４９０ | F168: 0854-62-0863 | H168: 社会福祉法人 仁寿会 | I168: グループホームヴィラかすみ | J168: 14
A169: 3221400025 | B169: 共同生活援助 | C169: グループホームヴィラかすみ | D169: 6902706 | E169: 島根県雲南市掛合町多根４９０ | F169: 0854-62-0863 | H169: 社会福祉法人 仁寿会 | I169: グループホームヴィラかすみ | J169: 6
A170: 3221400033 | B170: 共同生活援助 | C170: グループホーム レインボーハイツ | D170: 6902405 | E170: 島根県雲南市三刀屋町古城４５番地６ | F170: 0854-45-0770 | G170: 0854-45-0773 | H170: 社会福祉法人 雲南広域福祉会 | I170: グループホーム レインボーハイツ | J170: 26
A171: 3221400033 | B171: 共同生活援助 | C171: グループホーム レインボーハイツ | D171: 6902405 | E171: 島根県雲南市三刀屋町古城４５番地６ | F171: 0854-45-0770 | G171: 0854-45-0773 | H171: 社会福祉法人 雲南広域福祉会 | I171: グループホームいいしハイツ | J171: 5
A172: 3221400033 | B172: 共同生活援助 | C172: グループホーム レインボーハイツ | D172: 6902405 | E172: 島根県雲南市三刀屋町古城４５番地６ | F172: 0854-45-0770 | G172: 0854-45-0773 | H172: 社会福祉法人 雲南広域福祉会 | I172: グループホームレインボーハイツ | J172: 10
A173: 3221400033 | B173: 共同生活援助 | C173: グループホーム レインボーハイツ | D173: 6902405 | E173: 島根県雲南市三刀屋町古城４５番地６ | F173: 0854-45-0770 | G173: 0854-45-0773 | H173: 社会福祉法人 雲南広域福祉会 | I173: グループホームこじょうハイツ | J173: 6
A174: 3221400033 | B174: 共同生活援助 | C174: グループホーム レインボーハイツ | D174: 6902405 | E174: 島根県雲南市三刀屋町古城４５番地６ | F174: 0854-45-0770 | G174: 0854-45-0773 | H174: 社会福祉法人 雲南広域福祉会 | I174: グループホームはるひハイツ | J174: 5
A175: 3221400041 | B175: 共同生活援助 | C175: 共同生活援助事業所グループホーム山楽園 | D175: 6902705 | E175: 島根県雲南市掛合町松笠２１５４番地１ | F175: 0854-62-1500 | G175: 0854-62-1501 | H175: 社会福祉法人 仁寿会 | I175: 共同生活援助事業所グループホーム山楽園 | J175: 28
A176: 3221400041 | B176: 共同生活援助 | C176: 共同生活援助事業所グループホーム山楽園 | D176: 6902705 | E176: 島根県雲南市掛合町松笠２１５４番地１ | F176: 0854-62-1500 | G176: 0854-62-1501 | H176: 社会福祉法人 仁寿会 | I176: グループホーム銀杏 | J176: 8
A177: 3221400041 | B177: 共同生活援助 | C177: 共同生活援助事業所グループホーム山楽園 | D177: 6902705 | E177: 島根県雲南市掛合町松笠２１５４番地１ | F177: 0854-62-1500 | G177: 0854-62-1501 | H177: 社会福祉法人 仁寿会 | I177: グループホーム山楽園 | J177: 20
A178: 3221400058 | B178: 共同生活援助 | C178: 障害者グループホーム 風車の舎 | D178: 6991251 | E178: 島根県雲南市大東町大東１３１９－１４ | F178: 0854-43-3129 | G178: 0854-43-9505 | H178: 社会福祉法人 あおぞら福祉会 | I178: 障害者グループホーム 風車の舎 | J178: 5
A179: 3221400058 | B179: 共同生活援助 | C179: 障害者グループホーム 風車の舎 | D179: 6991251 | E179: 島根県雲南市大東町大東１３１９－１４ | F179: 0854-43-3129 | G179: 0854-43-9505 | H179: 社会福祉法人 あおぞら福祉会 | I179: 障害者グループホーム 風車の舎 | J179: 5
A180: 3221300001 | B180: 共同生活援助 | C180: グループホーム「稲穂」 | D180: 6991831 | E180: 島根県仁多郡奥出雲町中村３１０番地１ | F180: 0854-52-1073 | G180: 0854-52-1073 | H180: ＮＰＯ法人ふきのとう | I180: グループホーム「稲穂」 | J180: 6
A181: 3221300001 | B181: 共同生活援助 | C181: グループホーム「稲穂」 | D181: 6991831 | E181: 島根県仁多郡奥出雲町中村３１０番地１ | F181: 0854-52-1073 | G181: 0854-52-1073 | H181: ＮＰＯ法人ふきのとう | I181: グループホーム「稲穂」 | J181: 6
... A227: 3222200028 | B227: 共同生活援助 | C227: 共同生活援助事業所 きぼう | D227: 6850104 | E227: 島根県隠岐郡隠岐の島町都万２５８２－１ | F227: 08512-6-2289 | G227: 08512-6-2686 | H227: 社会福祉法人 博愛 | I227: みさき | J227: 6
A228: 3222230033 | B228: 共同生活援助 | C228: みんなの作業所 | D228: 6850021 | E228: 島根県隠岐郡隠岐の島町岬町中ノ津四３０２ | F228: 08512-2-3865 | H228: 社会福祉法人 博愛 | I228: みんなの作業所 | J228: 22
A229: 3222230033 | B229: 共同生活援助 | C229: みんなの作業所 | D229: 6850021 | E229: 島根県隠岐郡隠岐の島町岬町中ノ津四３０２ | F229: 08512-2-3865 | H229: 社会福祉法人 博愛 | I229: ゆめ | J229: 5
A230: 3222230033 | B230: 共同生活援助 | C230: みんなの作業所 | D230: 6850021 | E230: 島根県隠岐郡隠岐の島町岬町中ノ津四３０２ | F230: 08512-2-3865 | H230: 社会福祉法人 博愛 | I230: ライム | J230: 7
A231: 3222230033 | B231: 共同生活援助 | C231: みんなの作業所 | D231: 6850021 | E231: 島根県隠岐郡隠岐の島町岬町中ノ津四３０２ | F231: 08512-2-3865 | H231: 社会福祉法人 博愛 | I231: きらら | J231: 5
A232: 3222230033 | B232: 共同生活援助 | C232: みんなの作業所 | D232: 6850021 | E232: 島根県隠岐郡隠岐の島町岬町中ノ津四３０２ | F232: 08512-2-3865 | H232: 社会福祉法人 博愛 | I232: つばさ | J232: 5

Sheet 相談
B1: 事業所番号 | C1: サービス種類 | D1: サービス事業所名 | E1: 郵便番号 | F1: 所在地 | G1: 電話番号 | H1: FAX番号 | I1: 法人(設置者)名 | J1: 休止中
A2: 1 | B2: 3230700019 | C2: 計画相談支援 | D2: 相談支援事業所「陽だまり」 | E2: 6970052 | F2: 島根県浜田市港町２８５－１ | G2: 0855-22-8115 | H2: 0855-22-8120 | I2: 社会医療法人 清和会
A3: 2 | B3: 3230700019 | C3: 地域移行支援 | D3: 相談支援事業所「陽だまり」 | E3: 6970052 | F3: 島根県浜田市港町２９２－１０ | G3: 0855-22-8115 | H3: 0855-22-8120 | I3: 社会医療法人 清和会
A4: 3 | B4: 3230700019 | C4: 地域定着支援 | D4: 相談支援事業所「陽だまり」 | E4: 6970052 | F4: 島根県浜田市港町２９２－１０ | G4: 0855-22-8115 | H4: 0855-22-8120 | I4: 社会医療法人 清和会
A5: 4 | B5: 3230700027 | C5: 計画相談支援 | D5: 地域生活支援センターらいふ | E5: 6970027 | F5: 島根県浜田市殿町１０３－１ | G5: 0855-22-0908 | H5: 0855-28-7310 | I5: 社会福祉法人 いわみ福祉会
A6: 5 | B6: 3230700027 | C6: 地域移行支援 | D6: 地域生活支援センターらいふ | E6: 6970027 | F6: 島根県浜田市殿町１０３－１ | G6: 0855-22-0908 | H6: 0855-28-7310 | I6: 社会福祉法人 いわみ福祉会
A7: 6 | B7: 3230700027 | C7: 地域定着支援 | D7: 地域生活支援センターらいふ | E7: 6970027 | F7: 島根県浜田市殿町１０３－１ | G7: 0855-22-0908 | H7: 0855-28-7310 | I7: 社会福祉法人 いわみ福祉会
A8: 7 | B8: 3230700035 | C8: 計画相談支援 | D8: 相談支援事業所ぴゅあサポート | E8: 6970027 | F8: 島根県浜田市殿町２１－１ | G8: 0855-22-8085 | H8: 0855-23-4740 | I8: 社会福祉法人 ぴゅあ
A9: 8 | B9: 3230700043 | C9: 計画相談支援 | D9: 相談支援事業所あかり | E9: 6970062 | F9: 島根県浜田市熱田町７１６番地３４ | G9: 0855-27-0767 | H9: 0855-28-7540 | I9: 特定非営利活動法人海
A10: 9 | B10: 3230700068 | C10: 計画相談支援 | D10: 指定特定相談支援事業所 結い | E10: 6970052 | F10: 島根県浜田市港町２８４－８ | G10: 0855-28-7580 | H10: 0855-28-7581 | I10: 社会福祉法人 清圭会
A11: 10 | B11: 3230700076 | C11: 計画相談支援 | D11: 相談支援事業所 Ｌｕｃｅ | E11: 6970004 | F11: 島根県浜田市久代町１６５６－７６ | G11: 0855-25-5125 | H11: 0855-25-5125 | I11: 一般社団法人 Ｃｏｐａｉｎ
A12: 11 | B12: 3230700100 | C12: 計画相談支援 | D12: 相談支援事業所 ＭＹ ＰＬＡＮ | E12: 6971331 | F12: 島根県浜田市内村町３８８番地１６ | G12: 09071342339 | I12: 合同会社 ＭＹ ＣＯＬＯＲ
A13: 12 | B13: 3230700118 | C13: 計画相談支援 | D13: 相談支援事業所 くろーばー | E13: 6970021 | F13: 島根県浜田市松原町３１８番地１ | G13: 0855-25-5544 | H13: 0855-25-5567 | I13: 有限会社 江木商事
A14: 13 | B14: 3230700126 | C14: 計画相談支援 | D14: 雨のち晴れ | E14: 6970062 | F14: 島根県浜田市熱田町１１２９番地１ | G14: 0855-27-4966 | H14: 0855-25-5266 | I14: ＮＰＯ法人 あったかいいねっと
A15: 14 | B15: 3230700134 | C15: 計画相談支援 | D15: 相談支援事業所 りべる | E15: 6970034 | F15: 島根県浜田市相生町1399-9 | G15: 0855-25-8008 | H15: 0855-25-8420 | I15: 株式会社Ｆｒｏｍハート
A16: 15 | B16: 3230700142 | C16: 計画相談支援 | D16: サポート相談室玄季な夢來 | E16: 6970034 | F16: 島根県浜田市相生町４２２２番地３ | G16: 0855-28-7654 | H16: 0855-28-7644 | I16: 有限会社 髙村
A17: 16 | B17: 3230400016 | C17: 計画相談支援 | D17: ケアプラン やわらぎ | E17: 6930033 | F17: 島根県出雲市知井宮町１１９２－９ | G17: 0853-21-4820 | H17: 0853-21-7280 | I17: 株式会社 ケアステーションやわらぎ
A18: 17 | B18: 3230400024 | C18: 計画相談支援 | D18: 相談支援事業所ハートピア出雲 | E18: 6930014 | F18: 島根県出雲市武志町６９３－４ | G18: 0853-23-2720 | H18: 0853-23-2721 | I18: 社会福祉法人 創文会
A19: 18 | B19: 3230400024 | C19: 地域移行支援 | D19: 相談支援事業所ハートピア出雲 | E19: 6930014 | F19: 島根県出雲市武志町６９３－４ | G19: 0853-23-2720 | H19: 0853-23-2721 | I19: 社会福祉法人 創文会
A20: 19 | B20: 3230400024 | C20: 地域定着支援 | D20: 相談支援事業所ハートピア出雲 | E20: 6930014 | F20: 島根県出雲市武志町６９３－４ | G20: 0853-23-2720 | H20: 0853-23-2721 | I20: 社会福祉法人 創文会
A21: 20 | B21: 3230400040 | C21: 計画相談支援 | D21: 相談支援事業所 かのん | E21: 6990822 | F21: 島根県出雲市神西沖町２４７６－１ | G21: 0853-25-8811 | H21: 0853-43-1751 | I21: 社会福祉法人 親和会
A22: 21 | B22: 3230400040 | C22: 地域移行支援 | D22: 相談支援事業所 かのん | E22: 6990822 | F22: 島根県出雲市神西沖町２４７６－１ | G22: 0853-25-8811 | H22: 0853-43-1751 | I22: 社会福祉法人 親和会
A23: 22 | B23: 3230400040 | C23: 地域定着支援 | D23: 相談支援事業所 かのん | E23: 6990822 | F23: 島根県出雲市神西沖町２４７６－１ | G23: 0853-25-8811 | H23: 0853-43-1751 | I23: 社会福祉法人 親和会
A24: 23 | B24: 3230400057 | C24: 計画相談支援 | D24: 障がい児入所施設さざなみ学園 | E24: 6990822 | F24: 島根県出雲市神西沖町２５３４－２ | G24: 0853-43-2252 | H24: 0853-43-2256 | I24: 社会福祉法人 親和会
... A53: 52 | B53: 3230400271 | C53: 計画相談支援 | D53: 相談支援事業所 わんぱく | E53: 6910031 | F53: 島根県出雲市東福町１５６番地１ | G53: 0853-62-4872 | H53: 0853-62-4872 | I53: 特定非営利活動法人サポートセンターどりーむ
A54: 53 | B54: 3230400297 | C54: 計画相談支援 | D54: 相談支援事業所 りこっと | E54: 6930004 | F54: 島根県出雲市渡橋町１１９８ くすのきテナントＡ | G54: 0853-23-2288 | H54: 0853-21-7222 | I54: 合同会社 Ｒｏｂｓｅ | J54: 休止中
A55: 54 | B55: 3230400305 | C55: 計画相談支援 | D55: 相談支援事業所 麦の家 | E55: 6990501 | F55: 島根県出雲市斐川町学頭１５１０－２ | G55: 0853-72-5110 | H55: 0853-72-5192 | I55: 社会福祉法人 金太郎の家
A56: 55 | B56: 3230400321 | C56: 計画相談支援 | D56: 特定相談支援事業所 ぽてとはうす | E56: 6930065 | F56: 島根県出雲市平野町１１８３ | G56: 0853-23-0477 | H56: 0853-25-8897 | I56: 社会福祉法人 ＪＡいずも福祉会
A57: 56 | B57: 3230400339 | C57: 計画相談支援 | D57: 相談支援事業所 ビリエット | E57: 6910001 | F57: 島根県出雲市平田町２１９４－５ | G57: 0853-77-5147 | H57: 0853-77-6506 | I57: 一般社団法人ビリエット
A58: 57 | B58: 3230400339 | C58: 地域移行支援 | D58: 相談支援事業所 ビリエット | E58: 6910001 | F58: 島根県出雲市平田町２１９４－５ | G58: 0853-77-5147 | H58: 0853-77-6506 | I58: 一般社団法人ビリエット
A59: 58 | B59: 3230400339 | C59: 地域定着支援 | D59: 相談支援事業所 ビリエット | E59: 6910001 | F59: 島根県出雲市平田町２１９４－５ | G59: 0853-77-5147 | H59: 0853-77-6506 | I59: 一般社団法人ビリエット
A60: 59 | B60: 3230400347 | C60: 計画相談支援 | D60: いんくるネットいずも | E60: 6930213 | F60: 島根県出雲市朝山町２１１ | G60: 0853-77-6212 | H60: 0853-77-5325 | I60: 一般社団法人インクルージョンしまね
A61: 60 | B61: 3230400347 | C61: 地域移行支援 | D61: いんくるネット | E61: 6930213 | F61: 島根県出雲市朝山町２１１ | G61: 0853-77-6212 | H61: 0853-77-5325 | I61: 一般社団法人インクルージョンしまね
A62: 61 | B62: 3230400354 | C62: 計画相談支援 | D62: 相談支援事業所 リレーション | E62: 6930063 | F62: 島根県出雲市大塚町８６９－１ プラントＡ－１ | G62: 0853-25-7353 | H62: 0853-25-7533 | I62: 株式会社 エンブリス
A63: 62 | B63: 3230400354 | C63: 地域移行支援 | D63: 相談支援事業所リレーション | E63: 6930063 | F63: 島根県出雲市大塚町８６９－１ プラントＡ－１ | G63: 0853-25-7353 | H63: 0853-25-7533 | I63: 株式会社 エンブリス
A64: 63 | B64: 3230400354 | C64: 地域定着支援 | D64: 相談支援事業所リレーション | E64: 6930063 | F64: 島根県出雲市大塚町８６９－１ プラントＡ－１ | G64: 0853-25-7353 | H64: 0853-25-7533 | I64: 株式会社 エンブリス
A65: 64 | B65: 3230400362 | C65: 計画相談支援 | D65: あいか相談支援事業所 | E65: 6930041 | F65: 島根県出雲市西園町３９１３－１ | G65: 0853-27-9229 | H65: 0853-27-9269 | I65: 株式会社いずもえん
A66: 65 | B66: 3230400362 | C66: 地域移行支援 | D66: あいか相談支援事業所 | E66: 6930041 | F66: 島根県出雲市西園町３９１３－１ | G66: 0853-27-9229 | H66: 0853-27-9269 | I66: 株式会社いずもえん
A67: 66 | B67: 3230400362 | C67: 地域定着支援 | D67: あいか相談支援事業所 | E67: 6930041 | F67: 島根県出雲市西園町３９１３－１ | G67: 0853-27-9229 | H67: 0853-27-9269 | I67: 株式会社いずもえん
A68: 67 | B68: 3230400370 | C68: 計画相談支援 | D68: クオーレ | E68: 6990813 | F68: 島根県出雲市湖陵町三部６１５番地５ | G68: 0853-31-4055 | H68: 0853-31-4145 | I68: 特定非営利活動法人 河南はつらつセンター | J68: 休止中
A69: 68 | B69: 3230400370 | C69: 地域移行支援 | D69: クオーレ | E69: 6990813 | F69: 島根県出雲市湖陵町三部６１５番地５ | G69: 0853-31-4056 | H69: 0853-31-4145 | I69: 特定非営利活動法人 河南はつらつセンター
A70: 69 | B70: 3230400370 | C70: 地域定着支援 | D70: クオーレ | E70: 6990813 | F70: 島根県出雲市湖陵町三部６１５番地５ | G70: 0853-31-4056 | H70: 0853-31-4145 | I70: 特定非営利活動法人 河南はつらつセンター
A71: 70 | B71: 3230400388 | C71: 計画相談支援 | D71: 特定相談支援事業所つなぐ | E71: 6930024 | F71: 島根県出雲市塩冶神前2－6－12コーポミスティ２０１ | G71: 0853-77-9543 | H71: 0853-77-9841 | I71: 合同会社ツナグ
A72: 71 | B72: 3230400388 | C72: 地域移行支援 | D72: 特定相談支援事業所つなぐ | E72: 6930024 | F72: 島根県出雲市塩冶神前2－6－12コーポミスティ２０１ | G72: 0853-77-9543 | H72: 0853-77-9841 | I72: 合同会社ツナグ
A73: 72 | B73: 3230400388 | C73: 地域定着支援 | D73: 特定相談支援事業所つなぐ | E73: 6930024 | F73: 島根県出雲市塩冶神前2－6－12コーポミスティ２０１ | G73: 0853-77-9543 | H73: 0853-77-9841 | I73: 合同会社ツナグ
A74: 73 | B74: 3230400404 | C74: 計画相談支援 | D74: 相談支援事業所ミライカ | E74: 6930045 | F74: 島根県出雲市東園町540番地1 CROCCHIO G2 | G74: 0853-25-8330 | H74: 0853-31-4487 | I74: 株式会社結水織
A75: 74 | B75: 3230400404 | C75: 地域移行支援 | D75: 相談支援事業所ミライカ | E75: 6930045 | F75: 島根県出雲市東園町540番地1 CROCCHIO G2 | G75: 0853-25-8330 | H75: 0853-31-4487 | I75: 株式会社結水織
A76: 75 | B76: 3230400412 | C76: 計画相談支援 | D76: 相談支援事業所りこっと | E76: 6930021 | F76: 島根県出雲市塩冶町983-4 | G76: 0853-77-5966 | I76: 合同会社 Ｒｏｂｓｅ
A77: 76 | B77: 3230400412 | C77: 地域移行支援 | D77: 相談支援事業所りこっと | E77: 6930021 | F77: 島根県出雲市塩冶町983-4 | G77: 0853-77-5966 | I77: 合同会社 Ｒｏｂｓｅ
A78: 77 | B78: 3230400412 | C78: 地域定着支援 | D78: 相談支援事業所りこっと | E78: 6930021 | F78: 島根県出雲市塩冶町983-4 | G78: 0853-77-5966 | I78: 合同会社 Ｒｏｂｓｅ
A79: 78 | B79: 3230400420 | C79: 計画相談支援 | D79: へいあん堂 | E79: 6930005 | F79: 島根県出雲市天神町883-1三光ビル８号 | G79: 0853-25-8495 | I79: 合同会社桃李
A80: 79 | B80: 3230400420 | C80: 地域移行支援 | D80: へいあん堂 | E80: 6930005 | F80: 島根県出雲市天神町883-1三光ビル８号 | G80: 0853-25-8495 | I80: 合同会社桃李
A81: 80 | B81: 3230400420 | C81: 地域定着支援 | D81: へいあん堂 | E81: 6930005 | F81: 島根県出雲市天神町883-1三光ビル８号 | G81: 0853-25-8495 | I81: 合同会社桃李
A82: 81 | B82: 3230400438 | C82: 計画相談支援 | D82: 相談支援事業所フィリア | E82: 6930522 | F82: 島根県出雲市佐田町一窪田1961-5 | G82: 0853-62-4782 | I82: 社会福祉法人 やまゆり
A83: 82 | B83: 3230400446 | C83: 計画相談支援 | D83: 相談支援事業所PICO | E83: 6990505 | F83: 島根県出雲市斐川町上庄原1823-2 | G83: 090-3464-2874 | I83: 合同会社たね
A84: 83 | B84: 3230400446 | C84: 地域移行支援 | D84: 相談支援事業所PICO | E84: 6990505 | F84: 島根県出雲市斐川町上庄原1823-2 | G84: 090-6841-6484 | I84: 合同会社たね
A85: 84 | B85: 3231600010 | C85: 計画相談支援 | D85: そうゆう相談センター | E85: 6990501 | F85: 島根県出雲市斐川町学頭１６２５－６ | G85: 0853-72-7085 | I85: 社会福祉法人 桑友
A86: 85 | B86: 3231600010 | C86: 地域移行支援 | D86: そうゆう相談センター | E86: 6990501 | F86: 島根県出雲市斐川町学頭１６２５－６ | G86: 0853-72-7085 | I86: 社会福祉法人 桑友
A87: 86 | B87: 3231600010 | C87: 地域定着支援 | D87: そうゆう相談センター | E87: 6990501 | F87: 島根県出雲市斐川町学頭１６２５－６ | G87: 0853-72-7085 | I87: 社会福祉法人 桑友
A88: 87 | B88: 3231600028 | C88: 計画相談支援 | D88: 太陽の里 | E88: 6990622 | F88: 島根県出雲市斐川町名島９０番地 | G88: 0853-72-9125 | H88: 0853-72-9122 | I88: 社会福祉法人 喜和会
A89: 88 | B89: 3231600028 | C89: 地域移行支援 | D89: 太陽の里 | E89: 6990622 | F89: 島根県出雲市斐川町名島９０番地 | G89: 0853-72-9125 | H89: 0853-72-9122 | I89: 社会福祉法人 喜和会
A90: 89 | B90: 3231600028 | C90: 地域定着支援 | D90: 太陽の里 | E90: 6990622 | F90: 島根県出雲市斐川町名島９０番地 | G90: 0853-72-9125 | H90: 0853-72-9122 | I90: 社会福祉法人 喜和会
A91: 90 | B91: 3230800017 | C91: 計画相談支援 | D91: 相談支援事業所 ポケットプラザ | E91: 6980003 | F91: 島根県益田市乙吉町イ１１０－１ | G91: 0856-31-8221 | H91: 0856-23-6651 | I91: 社会福祉法人 希望の里福祉会
A92: 91 | B92: 3230800017 | C92: 地域移行支援 | D92: 相談支援事業所 ポケットプラザ | E92: 6980003 | F92: 島根県益田市乙吉町イ１１０－１ | G92: 0856-31-8221 | H92: 0856-23-6651 | I92: 社会福祉法人 希望の里福祉会
A93: 92 | B93: 3230800017 | C93: 地域定着支援 | D93: 相談支援事業所 ポケットプラザ | E93: 6980003 | F93: 島根県益田市乙吉町イ１１０－１ | G93: 0856-31-8221 | H93: 0856-23-6651 | I93: 社会福祉法人 希望の里福祉会
A94: 93 | B94: 3230800025 | C94: 計画相談支援 | D94: 相談支援事業所ほっと | E94: 6995132 | F94: 島根県益田市横田町２０８７－１ | G94: 0856-31-5100 | H94: 0856-31-5102 | I94: 社会福祉法人はぴねす福祉会
A95: 94 | B95: 3230800025 | C95: 地域移行支援 | D95: 相談支援事業所ほっと | E95: 6995132 | F95: 島根県益田市横田町２０８７－１ | G95: 0856-31-5100 | H95: 0856-31-5102 | I95: 社会福祉法人はぴねす福祉会
A96: 95 | B96: 3230800025 | C96: 地域定着支援 | D96: 相談支援事業所ほっと | E96: 6995132 | F96: 島根県益田市横田町２０８７－１ | G96: 0856-31-5100 | H96: 0856-31-5102 | I96: 社会福祉法人はぴねす福祉会
A97: 96 | B97: 3230800041 | C97: 計画相談支援 | D97: ラポール宝生苑 | E97: 6980001 | F97: 島根県益田市久城町５３１ | G97: 0856-32-0022 | H97: 0856-23-4253 | I97: 社会福祉法人 梅寿会
A98: 97 | B98: 3230800041 | C98: 地域移行支援 | D98: ラポール宝生苑 | E98: 6980001 | F98: 島根県益田市久城町５３１ | G98: 0856-32-0022 | H98: 0856-23-4253 | I98: 社会福祉法人 梅寿会
A99: 98 | B99: 3230800041 | C99: 地域定着支援 | D99: ラポール宝生苑 | E99: 6980001 | F99: 島根県益田市久城町５３１ | G99: 0856-32-0022 | H99: 0856-23-4253 | I99: 社会福祉法人 梅寿会
... A144: 143 | B144: 3231300025 | C144: 地域定着支援 | D144: サポートセンターけやき | E144: 6991511 | F144: 島根県仁多郡奥出雲町三成２０８－２ | G144: 0854-54-2351 | H144: 0854-54-2352 | I144: 社会福祉法人仁多福祉会
A145: 144 | B145: 3231500020 | C145: 計画相談支援 | D145: 飯南町社会福祉協議会 障がい者相談支援事業所 | E145: 6903401 | F145: 島根県飯石郡飯南町野萱１８３１－２ | G145: 0854-76-2611 | H145: 0854-76-3580 | I145: 社会福祉法人 飯南町社会福祉協議会 | J145: 休止中
A146: 145 | B146: 3231500038 | C146: 計画相談支援 | D146: 相談支援事業所あゆみ | E146: 6903207 | F146: 島根県飯石郡飯南町頓原１０７０ | G146: 0854-72-9374 | H146: 0854-72-9377 | I146: 株式会社 あゆみ
A147: 146 | B147: 3231500038 | C147: 地域移行支援 | D147: 相談支援事業所 あゆみ | E147: 6903207 | F147: 島根県飯石郡飯南町頓原１０７０ | G147: 0854-72-9374 | H147: 0854-72-9377 | I147: 株式会社 あゆみ
A148: 147 | B148: 3231500038 | C148: 地域定着支援 | D148: 相談支援事業所 あゆみ | E148: 6903207 | F148: 島根県飯石郡飯南町頓原１０７０ | G148: 0854-72-9374 | H148: 0854-72-9377 | I148: 株式会社 あゆみ
A149: 148 | B149: 3231800057 | C149: 計画相談支援 | D149: サポートセンターおおち | E149: 6994621 | F149: 島根県邑智郡美郷町粕渕１１７－１ | G149: 0855-77-0041 | H149: 0855-77-0411 | I149: 社会福祉法人 わかば会
A150: 149 | B150: 3231800057 | C150: 地域移行支援 | D150: サポートセンターおおち | E150: 6994621 | F150: 島根県邑智郡美郷町粕渕１１７－１ | G150: 0855-75-8013 | I150: 社会福祉法人 わかば会
A151: 150 | B151: 3231800057 | C151: 地域定着支援 | D151: サポートセンターおおち | E151: 6994621 | F151: 島根県邑智郡美郷町粕渕１１７－１ | G151: 0855-75-8013 | H151: 0855-75-8014 | I151: 社会福祉法人 わかば会
A152: 151 | B152: 3231800024 | C152: 計画相談支援 | D152: ハートフルみずほ | E152: 6960222 | F152: 島根県邑智郡邑南町下田所３３４ | G152: 0855-83-1944 | H152: 0855-83-1944 | I152: 社会福祉法人おおなん福祉会
A153: 152 | B153: 3231800024 | C153: 地域移行支援 | D153: ハートフルみずほ | E153: 6960222 | F153: 島根県邑智郡邑南町下田所３３４ | G153: 0855-83-1944 | H153: 0855-83-1944 | I153: 社会福祉法人おおなん福祉会
A154: 153 | B154: 3231800024 | C154: 地域定着支援 | D154: ハートフルみずほ | E154: 6960222 | F154: 島根県邑智郡邑南町下田所３３４ | G154: 0855-83-1944 | H154: 0855-83-1944 | I154: 社会福祉法人おおなん福祉会
A155: 154 | B155: 3231800032 | C155: 計画相談支援 | D155: 相談支援事業所 緑風園 | E155: 6960102 | F155: 島根県邑智郡邑南町中野２３８４ | G155: 0855-95-0363 | H155: 0855-95-0147 | I155: 社会福祉法人 島根県社会福祉事業団
A156: 155 | B156: 3231800040 | C156: 計画相談支援 | D156: サポートステーションおりーぶ | E156: 6960102 | F156: 島根県邑智郡邑南町島根県邑南町中野３５９４番地２１ | G156: 0855-95-2383 | H156: 0855-95-2383 | I156: 社会福祉法人邑智福祉振興会
A157: 156 | B157: 3232100044 | C157: 計画相談支援 | D157: 津和野町社会福祉協議会 | E157: 6995221 | F157: 島根県鹿足郡津和野町日原１４ | G157: 0856-74-1617 | H157: 0856-74-1621 | I157: 社会福祉法人 津和野町社会福祉協議会
A158: 157 | B158: 3232100044 | C158: 地域移行支援 | D158: 津和野相談支援事業所 | E158: 6995221 | F158: 島根県鹿足郡津和野町日原１４ | G158: 0856-74-1617 | H158: 0856-74-1621 | I158: 社会福祉法人 津和野町社会福祉協議会
A159: 158 | B159: 3232100044 | C159: 地域定着支援 | D159: 津和野相談支援事業所 | E159: 6995221 | F159: 島根県鹿足郡津和野町日原１４ | G159: 0856-74-1617 | H159: 0856-74-1621 | I159: 社会福祉法人 津和野町社会福祉協議会
A160: 159 | B160: 3232100051 | C160: 計画相談支援 | D160: 相談支援事業所 くすのき | E160: 6995216 | F160: 島根県鹿足郡津和野町池村１９９７－１ | G160: 0856-74-2070 | H160: 0856-74-2071 | I160: 社会福祉法人 つわの清流会
A161: 160 | B161: 3232100010 | C161: 計画相談支援 | D161: よしかの里相談事業所パレット | E161: 6995513 | F161: 島根県鹿足郡吉賀町島根県吉賀町六日市２６３番地２ | G161: 0856-77-1552 | H161: 0856-77-1553 | I161: 特定非営利活動法人地域活動支援センターよしかの里
A162: 161 | B162: 3232100028 | C162: 計画相談支援 | D162: 吉賀町地域包括支援センター | E162: 6995513 | F162: 島根県鹿足郡吉賀町六日市５８０番地４ | G162: 0856-77-3123 | H162: 0856-77-3124 | I162: 社会福祉法人吉賀町社会福祉協議会
... A168: 167 | B168: 3232200018 | C168: 地域定着支援 | D168: 海士町障害者相談支援センター | E168: 6840403 | F168: 島根県隠岐郡海士町大字海士１４９０ | G168: 08514-2-1823 | H168: 08514-2-0208 | I168: 海士町
A169: 168 | B169: 3232200091 | C169: 計画相談支援 | D169: 障害者相談支援センター ウェーブ | E169: 6840403 | F169: 島根県隠岐郡海士町大字海士1485番地 | G169: 08514-2-1502 | I169: 社会福祉法人 海士町社会福祉協議会
A170: 169 | B170: 3232200034 | C170: 計画相談支援 | D170: 西ノ島町障害者相談支援センター | E170: 6840211 | F170: 島根県隠岐郡西ノ島町浦郷５３４ | G170: 08514-6-0103 | H170: 08514-6-0683 | I170: 西ノ島町
A171: 170 | B171: 3232200034 | C171: 地域移行支援 | D171: 西ノ島町障害者相談支援センター | E171: 6840211 | F171: 島根県隠岐郡西ノ島町浦郷５３４ | G171: 08514-6-0103 | H171: 08514-6-0683 | I171: 西ノ島町
A172: 171 | B172: 3232200034 | C172: 地域定着支援 | D172: 西ノ島町障害者相談支援センター | E172: 6840211 | F172: 島根県隠岐郡西ノ島町浦郷５３４ | G172: 08514-6-0103 | H172: 08514-6-0683 | I172: 西ノ島町
A173: 172 | B173: 3232200042 | C173: 計画相談支援 | D173: 相談支援事業所シオン | E173: 6840302 | F173: 島根県隠岐郡西ノ島町大字別府２０５－８ | G173: 08514-7-8250 | H173: 08514-7-8250 | I173: 社会福祉法人シオンの園
A174: 173 | B174: 3232200042 | C174: 地域移行支援 | D174: 相談支援事業所シオン | E174: 6840302 | F174: 島根県隠岐郡西ノ島町大字別府２０５－８ | G174: 08514-7-8250 | H174: 08514-7-8250 | I174: 社会福祉法人シオンの園
A175: 174 | B175: 3232200042 | C175: 地域定着支援 | D175: 相談支援事業所シオン | E175: 6840302 | F175: 島根県隠岐郡西ノ島町大字別府２０５－８ | G175: 08514-7-8250 | H175: 08514-7-8250 | I175: 社会福祉法人シオンの園
A176: 175 | B176: 3232200026 | C176: 計画相談支援 | D176: 太陽 | E176: 6850021 | F176: 島根県隠岐郡隠岐の島町岬町中の津の四３０９－１ | G176: 08512-2-5699 | H176: 08512-2-3757 | I176: 社会福祉法人わかば
A177: 176 | B177: 3232200026 | C177: 地域移行支援 | D177: 太陽 | E177: 6850021 | F177: 島根県隠岐郡隠岐の島町岬町中の津の四３０９－１ | G177: 08512-2-5699 | H177: 08512-2-3757 | I177: 社会福祉法人わかば
...

Sheet 集計（サービス単位）
C1: 事業所数集計（サービス単位） | D1: （R8.8.1現在） | H1: 合計 | I1: =D18+I18 -> 702
C2: ＜支援施設＞ | H2: ＜短期入所＞
C3: 施設入所支援 | D3: =COUNTIF(入所系!$C$2:$C$18,"施設入所支援") -> 17 | H3: 短期入所 | I3: =COUNTIF(短期入所!$C$2:$C$61,"短期入所") -> 60
C4: ＜居宅系＞ | H4: ＜療養介護＞
C5: 居宅介護 | D5: =COUNTIF(居宅系!$C$2:$C$168,"居宅介護") -> 85 | H5: 療養介護 | I5: =COUNTIF(療養介護!$C$2:$C$6,"療養介護") -> 1
C6: 重度訪問介護 | D6: =COUNTIF(居宅系!$C$2:$C$168,"重度訪問介護") -> 53 | H6: ＜自立生活援助＞
C7: 同行援護 | D7: =COUNTIF(居宅系!$C$2:$C$168,"同行援護") -> 22 | H7: 自立生活援助 | I7: =COUNTIF(自立支援援助!$C$2:$C$5,"自立生活援助") -> 4
C8: 行動援護 | D8: =COUNTIF(居宅系!$C$2:$C$168,"行動援護") -> 7 | H8: ＜グループホーム＞
C9: ＜日中系＞ | H9: 共同生活援助(グループホーム) | I9: {=SUMPRODUCT(1/COUNTIF(共同生活援助!$A$2:$A$232,共同生活援助!$A$2:$A$232))} -> 62
C10: 生活介護 | D10: =COUNTIF(日中系!$C$2:$C$214,"生活介護") -> 59 | H10: ＜相談＞
C11: 自立訓練(生活訓練) | D11: =COUNTIF(日中系!$C$2:$C$214,"自立訓練(生活訓練)") -> 10 | E11: 宿泊型 | F11: =COUNTIF(日中系!$C$2:$C$214,"宿泊型自立訓練") -> 2 | H11: 計画相談支援 | I11: =COUNTIF(相談!$C$2:$C$181,"計画相談支援") -> 89
C12: 自立訓練(機能訓練) | D12: =COUNTIF(日中系!$C$2:$C$214,"自立訓練(機能訓練)") -> 2 | H12: 地域移行支援 | I12: =COUNTIF(相談!$C$2:$C$181,"地域移行支援") -> 47
C13: 就労選択支援 | D13: =COUNTIF(日中系!$C$2:$C$214,"就労選択支援") -> 3 | H13: 地域定着支援 | I13: =COUNTIF(相談!$C$2:$C$181,"地域定着支援") -> 44
C14: 就労移行支援 | D14: =COUNTIF(日中系!$C$2:$C$214,"就労移行支援") -> 4
C15: 就労継続支援A型 | D15: =COUNTIF(日中系!$C$2:$C$214,"就労継続支援(Ａ型)") -> 21
C16: 就労継続支援B型 | D16: =COUNTIF(日中系!$C$2:$C$214,"就労継続支援(Ｂ型)") -> 106
C17: 就労定着支援 | D17: =COUNTIF(日中系!$C$2:$C$214,"就労定着支援") -> 6
D18: =SUM(D3:D17) -> 395 | I18: =SUM(I3:I17) -> 307
