Workbook

Sheet 入所系
B1: 事業所番号 | C1: サービス種類 | D1: 障害者支援施設 | E1: サービス事業所名 | F1: 郵便番号 | G1: 所在地 | H1: 電話番号 | I1: FAX番号 | J1: 法人(設置者)名 | K1: 休止中 | L1: 定員数
A2: 1 | B2: 3210700062 | C2: 施設入所支援 | D2: 障害者支援施設 | E2: 桑の木園 | F2: 6970123 | G2: 島根県浜田市金城町七条ハ５５９－２ | H2: 0855-42-0091 | I2: 0855-42-1951 | J2: 社会福祉法人 いわみ福祉会 | L2: 32
A3: 2 | B3: 3210400127 | C3: 施設入所支援 | D3: 障害者支援施設 | E3: 障害者支援施設出雲サンホーム | F3: 6990822 | G3: 島根県出雲市神西沖町１３１３ | H3: 0853-43-3200 | I3: 0853-43-2030 | J3: 社会福祉法人 恵寿会 | L3: 60
A4: 3 | B4: 3210400135 | C4: 施設入所支援 | D4: 障害者支援施設 | E4: 美野園 | F4: 6910073 | G4: 島根県出雲市美野町１６９４－２ | H4: 0853-67-0500 | I4: 0853-67-0565 | J4: 社会福祉法人 若草福祉会 | L4: 40
A5: 4 | B5: 3210400192 | C5: 施設入所支援 | D5: 障害者支援施設 | E5: 障害者支援施設ふたば | F5: 6990822 | G5: 島根県出雲市神西沖町２４７６－１ | H5: 0853-43-2461 | I5: 0853-43-1751 | J5: 社会福祉法人 親和会 | L5: 30
A6: 5 | B6: 3210400200 | C6: 施設入所支援 | D6: 障害者支援施設 | E6: 障害者支援施設わかば | F6: 6990822 | G6: 島根県出雲市神西沖町２４７６番地１ | H6: 0853-43-2461 | I6: 0853-43-1751 | J6: 社会福祉法人 親和会 | L6: 30
A7: 6 | B7: 3210400242 | C7: 施設入所支援 | D7: 障害者支援施設 | E7: 障害者支援施設 光風園 | F7: 6990816 | G7: 島根県出雲市湖陵町大池２４０－１ | H7: 0853-43-2101 | I7: 0853-43-2119 | J7: 社会福祉法人 島根県社会福祉事業団 | L7: 68
A8: 7 | B8: 3211600022 | C8: 施設入所支援 | D8: 障害者支援施設 | E8: 障害者支援施設太陽の里 | F8: 6990622 | G8: 島根県出雲市斐川町名島９０ | H8: 0853-72-9125 | I8: 0853-72-9122 | J8: 社会福祉法人 喜和会 | L8: 30
A9: 8 | B9: 3210800086 | C9: 施設入所支援 | D9: 障害者支援施設 | E9: 障害者支援施設希望の里 | F9: 6980041 | G9: 島根県益田市高津三丁目２３－１ | H9: 0856-24-2223 | I9: 0856-24-2512 | J9: 社会福祉法人 希望の里福祉会 | L9: 40
A10: 9 | B10: 3210800110 | C10: 施設入所支援 | D10: 障害者支援施設 | E10: 障がい者支援施設ラポール宝生苑 | F10: 6980001 | G10: 島根県益田市久城町５３１番地 | H10: 0856-32-0022 | I10: 0856-23-4253 | J10: 社会福祉法人 梅寿会 | L10: 30
A11: 10 | B11: 3210500066 | C11: 施設入所支援 | D11: 障害者支援施設 | E11: 障害者支援施設 清風園 | F11: 6940013 | G11: 島根県大田市川合町吉永１０２５ | H11: 0854-82-5300 | I11: 0854-82-5301 | J11: 社会福祉法人 島根県社会福祉事業団 | L11: 80
A12: 11 | B12: 3210600080 | C12: 施設入所支援 | D12: 障害者支援施設 | E12: 島根療護園 | F12: 6950001 | G12: 島根県江津市渡津町１９２６ | H12: 0855-52-2442 | I12: 0855-52-0344 | J12: 社会福祉法人 島根整肢学園 | L12: 40
A13: 12 | B13: 3211400142 | C13: 施設入所支援 | D13: 障害者支援施設 | E13: 障害者支援施設 山楽園 | F13: 6902705 | G13: 島根県雲南市掛合町松笠２１５４番地１ | H13: 0854-62-1500 | I13: 0854-62-1501 | J13: 社会福祉法人 仁寿会 | L13: 57
... A18: 17 | B18: 3212200095 | C18: 施設入所支援 | D18: 障害者支援施設 | E18: 障がい者支援施設仁万の里 | F18: 6850104 | G18: 島根県隠岐郡隠岐の島町都万２５８２－１ | H18: 08512-6-2289 | I18: 08512-6-2686 | J18: 社会福祉法人 博愛 | L18: 50

Sheet 居宅系
B1: 事業所番号 | C1: サービス種類 | D1: サービス事業所名 | E1: 郵便番号 | F1: 所在地 | G1: 電話番号 | H1: FAX番号 | I1: 法人(設置者)名 | J1: 休止中
A2: 1 | B2: 3210700021 | C2: 居宅介護 | D2: スマイル・ヘルパーステーション | E2: 6970052 | F2: 島根県浜田市港町２９４－１１ | G2: 0855-23-5596 | H2: 0855-23-5586 | I2: 社会医療法人 清和会
A3: 2 | B3: 3210700021 | C3: 重度訪問介護 | D3: スマイル・ヘルパーステーション | E3: 6970052 | F3: 島根県浜田市港町２９４－１１ | G3: 0855-23-5596 | H3: 0855-23-5586 | I3: 社会医療法人 清和会
A4: 3 | B4: 3210700146 | C4: 居宅介護 | D4: サンキ・ウエルビィ介護センター浜田 | E4: 6970006 | F4: 島根県浜田市下府町８２１－７ | G4: 0855-28-0377 | H4: 0855-28-0378 | I4: サンキ・ウエルビィ株式会社
A5: 4 | B5: 3210700146 | C5: 重度訪問介護 | D5: サンキ・ウエルビィ介護センター浜田 | E5: 6970006 | F5: 島根県浜田市下府町８２１－７ | G5: 0855-28-0377 | H5: 0855-28-0378 | I5: サンキ・ウエルビィ株式会社
A6: 5 | B6: 3210700146 | C6: 同行援護 | D6: サンキ・ウエルビィ介護センター浜田 | E6: 6970006 | F6: 島根県浜田市下府町８２１－７ | G6: 0855-28-0377 | H6: 0855-28-0378 | I6: サンキ・ウエルビィ株式会社
A7: 6 | B7: 3210700153 | C7: 居宅介護 | D7: 浜田市社会福祉協議会 指定居宅介護事業所 | E7: 6970016 | F7: 島根県浜田市野原町８５９－１ | G7: 0855-22-0094 | H7: 0855-22-6930 | I7: 社会福祉法人 浜田市社会福祉協議会
A8: 7 | B8: 3210700153 | C8: 同行援護 | D8: 浜田市社会福祉協議会 指定居宅介護事業所 | E8: 6970016 | F8: 島根県浜田市野原町８５９－１ | G8: 0855-22-0094 | H8: 0855-22-6930 | I8: 社会福祉法人 浜田市社会福祉協議会
A9: 8 | B9: 3210700161 | C9: 居宅介護 | D9: 弥栄ヘルパー | E9: 6971122 | F9: 島根県浜田市弥栄町木都賀イ５３９－１ | G9: 0855-24-1899 | H9: 0855-48-2220 | I9: 社会福祉法人 弥栄福祉会
A10: 9 | B10: 3210700161 | C10: 同行援護 | D10: 弥栄ヘルパー | E10: 6971122 | F10: 島根県浜田市弥栄町木都賀イ５３９－１ | G10: 0855-24-1899 | H10: 0855-48-2220 | I10: 社会福祉法人 弥栄福祉会
A11: 10 | B11: 3210700211 | C11: 居宅介護 | D11: 有限会社 三晃 | E11: 6970006 | F11: 島根県浜田市下府町１５７９－２ | G11: 0855-24-8582 | H11: 0855-24-8583 | I11: 有限会社 三晃
A12: 11 | B12: 3210700211 | C12: 重度訪問介護 | D12: 有限会社 三晃 | E12: 6970006 | F12: 島根県浜田市下府町１５７９－２ | G12: 0855-24-8582 | H12: 0855-24-8583 | I12: 有限会社 三晃
A13: 12 | B13: 3210700211 | C13: 行動援護 | D13: 有限会社 三晃 | E13: 6970006 | F13: 島根県浜田市下府町１５７９－２ | G13: 0855-24-8582 | H13: 0855-24-8583 | I13: 有限会社 三晃
... A37: 36 | B37: 3210400176 | C37: 居宅介護 | D37: 花水木 | E37: 6910003 | F37: 島根県出雲市灘分町７８６－１ | G37: 0853-63-5031 | H37: 0853-63-4627 | I37: 社会福祉法人ひらた福祉会
A38: 37 | B38: 3210400176 | C38: 重度訪問介護 | D38: 花水木 | E38: 6910003 | F38: 島根県出雲市灘分町７８６－１ | G38: 0853-63-5031 | H38: 0853-63-4627 | I38: 社会福祉法人ひらた福祉会 | J38: 休止中
A39: 38 | B39: 3210400176 | C39: 行動援護 | D39: 花水木 | E39: 6910003 | F39: 島根県出雲市灘分町７８６－１ | G39: 0853-63-5031 | H39: 0853-63-4627 | I39: 社会福祉法人ひらた福祉会 | J39: 休止中
A40: 39 | B40: 3210400176 | C40: 同行援護 | D40: 花水木 | E40: 6910003 | F40: 島根県出雲市灘分町７８６－１ | G40: 0853-63-5031 | H40: 0853-63-4627 | I40: 社会福祉法人ひらた福祉会 | J40: 休止中
A41: 40 | B41: 3210400218 | C41: 居宅介護 | D41: 特別養護老人ホーム清流園 指定障害福祉サービス事業所 | E41: 6930011 | F41: 島根県出雲市大津町３５２９ | G41: 0853-22-8709 | H41: 0853-22-7267 | I41: 社会福祉法人 静和会
A42: 41 | B42: 3210400218 | C42: 重度訪問介護 | D42: 特別養護老人ホーム清流園 指定障害福祉サービス事業所 | E42: 6930011 | F42: 島根県出雲市大津町３５２９ | G42: 0853-22-8709 | H42: 0853-22-7267 | I42: 社会福祉法人 静和会
A43: 42 | B43: 3210400218 | C43: 同行援護 | D43: 特別養護老人ホーム清流園 指定障害福祉サービス事業所 | E43: 6930011 | F43: 島根県出雲市大津町３５２９ | G43: 0853-22-8709 | H43: 0853-22-7267 | I43: 社会福祉法人 静和会
A44: 43 | B44: 3210400267 | C44: 居宅介護 | D44: ＣＳいずも訪問介護事業所 | E44: 6930015 | F44: 島根県出雲市大津朝倉３丁目１０－３ | G44: 0853-31-4165 | H44: 0853-31-4166 | I44: 特定非営利活動法人 コミュニティサポートいずも
A45: 44 | B45: 3210400267 | C45: 重度訪問介護 | D45: ＣＳいずも訪問介護事業所 | E45: 6930015 | F45: 島根県出雲市大津朝倉３丁目１０－３ | G45: 0853-31-4165 | H45: 0853-31-4166 | I45: 特定非営利活動法人 コミュニティサポートいずも
A46: 45 | B46: 3210400275 | C46: 居宅介護 | D46: ＮＰＯ法人 たすけあい平田 | E46: 6910012 | F46: 島根県出雲市西代町１０３２－４ | G46: 0853-62-0257 | H46: 0853-62-0258 | I46: 特定非営利活動法人 たすけあい平田
A47: 46 | B47: 3210400275 | C47: 同行援護 | D47: ＮＰＯ法人 たすけあい平田 | E47: 6910012 | F47: 島根県出雲市西代町１０３２－４ | G47: 0853-62-0257 | H47: 0853-62-0258 | I47: 特定非営利活動法人 たすけあい平田
A48: 47 | B48: 3210400283 | C48: 居宅介護 | D48: 有限会社 えるだー | E48: 6930008 | F48: 島根県出雲市駅南町３丁目１２－１ | G48: 0853-24-9688 | H48: 0853-24-9754 | I48: 有限会社 えるだー
A49: 48 | B49: 3210400291 | C49: 居宅介護 | D49: 有限会社 ケアサービス出雲 | E49: 6930021 | F49: 島根県出雲市塩冶町９８０－３ | G49: 0853-21-0936 | H49: 0853-23-0197 | I49: 有限会社 ケアサービス出雲
A50: 49 | B50: 3210400291 | C50: 重度訪問介護 | D50: 有限会社 ケアサービス出雲 | E50: 6930021 | F50: 島根県出雲市塩冶町９８０－３ | G50: 0853-21-0936 | H50: 0853-23-0197 | I50: 有限会社 ケアサービス出雲
A51: 50 | B51: 3210400309 | C51: 居宅介護 | D51: ふれあいサービスごうばら訪問介護事業所 | E51: 6910001 | F51: 島根県出雲市平田町１８１６－１５ | G51: 0853-62-9901 | H51: 0853-62-9908 | I51: 有限会社 ごうばら
A52: 51 | B52: 3210400309 | C52: 重度訪問介護 | D52: ふれあいサービスごうばら訪問介護事業所 | E52: 6910011 | F52: 島根県出雲市国富町１２０９ | G52: 0853-62-9901 | H52: 0853-62-9908 | I52: 有限会社 ごうばら
... A69: 68 | B69: 3210400796 | C69: 居宅介護 | D69: ヘルパーステーション すずらん | E69: 6930024 | F69: 島根県出雲市塩冶神前６－１－８ | G69: 0853-24-7717 | H69: 0853-30-0538 | I69: コニファー株式会社
A70: 69 | B70: 3210400796 | C70: 重度訪問介護 | D70: ヘルパーステーション すずらん | E70: 6930024 | F70: 島根県出雲市塩冶神前６－１－８ | G70: 0853-24-7717 | H70: 0853-30-0538 | I70: コニファー株式会社 | J70: 休止中
A71: 70 | B71: 3210400978 | C71: 居宅介護 | D71: 社会福祉法人 ＪＡいずも福祉会 みどりの郷大社 | E71: 6990722 | F71: 島根県出雲市大社町北荒木４８３ | G71: 0853-53-1333 | H71: 0853-53-6133 | I71: 社会福祉法人 ＪＡいずも福祉会
A72: 71 | B72: 3210401034 | C72: 居宅介護 | D72: ニチイケアセンター斐川 | E72: 6990631 | F72: 島根県出雲市斐川町直江４９１４番地７ 小澤ビル２Ｆ１棟２階東号室 | G72: 0852-27-9200 | H72: 0852-55-4433 | I72: 株式会社 ニチイ学館
A73: 72 | B73: 3210401158 | C73: 居宅介護 | D73: ヘルパーステーション花鈴 | E73: 6910073 | F73: 島根県出雲市美野町５０４番地 | G73: 0853-67-0222 | H73: 0853-67-9181 | I73: 有限会社 伊野本陣
A74: 73 | B74: 3210401158 | C74: 重度訪問介護 | D74: ヘルパーステーション花鈴 | E74: 6910073 | F74: 島根県出雲市美野町５０４番地 | G74: 0853-67-0222 | H74: 0853-67-9181 | I74: 有限会社 伊野本陣
A75: 74 | B75: 3210401174 | C75: 居宅介護 | D75: ライラック訪問介護事業所 | E75: 6930062 | F75: 島根県出雲市中野町７５７－３ | G75: 0853-24-7570 | H75: 0853-24-7885 | I75: 株式会社 ライラック
A76: 75 | B76: 3210401208 | C76: 居宅介護 | D76: けあビジョンホーム出雲訪問介護 | E76: 6990502 | F76: 島根県出雲市斐川町荘原２３２０番地１ | G76: 0853-73-7111 | H76: 0853-73-7110 | I76: 株式会社ビジュアルビジョン | J76: 休止中
A77: 76 | B77: 3210401240 | C77: 居宅介護 | D77: クレド訪問介護ステーション | E77: 6930002 | F77: 島根県出雲市今市町北本町１－１－３セントラルビル２階 | G77: 0853-25-7234 | H77: 0853-25-7108 | I77: 株式会社セントラルビル
A78: 77 | B78: 3210401240 | C78: 重度訪問介護 | D78: クレド訪問介護ステーション | E78: 6930002 | F78: 島根県出雲市今市町北本町１－１－３セントラルビル２階 | G78: 0853-25-7234 | H78: 0853-25-7108 | I78: 株式会社セントラルビル
A79: 78 | B79: 3210401257 | C79: 居宅介護 | D79: ヘルパーステーションパーパス | E79: 6930068 | F79: 島根県出雲市姫原2-3-13かねつきマンション１０２ | G79: 0853-25-7835 | H79: 0853-25-7836 | I79: 株式会社パーパス
...

Sheet 日中系
B1: 事業所番号 | C1: サービス種類 | D1: 障害者支援施設 | E1: サービス事業所名 | F1: 郵便番号 | G1: 所在地 | H1: 電話番号 | I1: FAX番号 | J1: 法人(設置者)名 | K1: 休止中 | L1: 定員数
A2: 1 | B2: 3210700062 | C2: 生活介護 | D2: 障害者支援施設 | E2: 桑の木園 | F2: 6970123 | G2: 島根県浜田市金城町七条ハ５５９－２ | H2: 0855-42-0091 | I2: 0855-42-1951 | J2: 社会福祉法人 いわみ福祉会 | L2: 40
A3: 2 | B3: 3210700096 | C3: 生活介護 | D3: 障害者支援施設でない | E3: 多機能事業所ワークくわの木熱田事業所 | F3: 6970062 | G3: 島根県浜田市熱田町４９３－３ | H3: 0855-27-0101 | I3: 0855-27-0291 | J3: 社会福祉法人 いわみ福祉会 | L3: 25
A4: 3 | B4: 3210700096 | C4: 就労移行支援 | D4: 障害者支援施設でない | E4: 多機能事業所ワークくわの木熱田事業所 | F4: 6970062 | G4: 島根県浜田市熱田町４９３－３ | H4: 0855-27-0101 | I4: 0855-27-0291 | J4: 社会福祉法人 いわみ福祉会 | L4: 10
A5: 4 | B5: 3210700096 | C5: 就労定着支援 | E5: 多機能事業所 ワークくわの木熱田事業所 | F5: 6970062 | G5: 島根県浜田市熱田町４９３－３ | H5: 0855-27-0101 | I5: 0855-27-0291 | J5: 社会福祉法人 いわみ福祉会
A6: 5 | B6: 3210700096 | C6: 就労選択支援 | E6: 多機能事業所ワークくわの木熱田事業所 | F6: 6970062 | G6: 島根県浜田市熱田町４９３－３ | H6: 0855-27-0101 | I6: 0855-27-0291 | J6: 社会福祉法人 いわみ福祉会 | L6: 10
A7: 6 | B7: 3210700104 | C7: 生活介護 | D7: 障害者支援施設でない | E7: 生活介護ぴゅあ殿町 | F7: 6970027 | G7: 島根県浜田市殿町２１－１ | H7: 0855-22-8085 | I7: 0855-23-4740 | J7: 社会福祉法人 ぴゅあ | L7: 20
A8: 7 | B8: 3210700229 | C8: 就労継続支援(Ｂ型) | D8: 障害者支援施設でない | E8: 就労継続支援B型事業所マルシェくわの木 | F8: 6970123 | G8: 島根県浜田市金城町七条イ６７５－８ | H8: 0855-42-1543 | I8: 0855-42-1543 | J8: 社会福祉法人 いわみ福祉会 | L8: 40
A9: 8 | B9: 3210700237 | C9: 生活介護 | D9: 障害者支援施設でない | E9: 多機能型事業所やさか風の里 | F9: 6971122 | G9: 島根県浜田市弥栄町木都賀イ５２２番地２ | H9: 0855-48-3263 | I9: 0855-48-3264 | J9: ＮＰＯ法人やさか風の里 | L9: 10
A10: 9 | B10: 3210700237 | C10: 就労継続支援(Ｂ型) | D10: 障害者支援施設でない | E10: 多機能型事業所やさか風の里 | F10: 6971122 | G10: 島根県浜田市弥栄町木都賀イ５２２番地２ | H10: 0855-48-3263 | I10: 0855-48-3264 | J10: ＮＰＯ法人やさか風の里 | L10: 10
A11: 10 | B11: 3210700252 | C11: 就労継続支援(Ｂ型) | D11: 障害者支援施設でない | E11: 就労継続支援B型事業所 ワークくわの木神楽事業所 | F11: 6970121 | G11: 島根県浜田市金城町下来原１５４１－８ | H11: 0855-42-0039 | I11: 0855-42-0076 | J11: 社会福祉法人いわみ福祉会 | L11: 35
A12: 11 | B12: 3210700278 | C12: 自立訓練(生活訓練) | D12: 障害者支援施設でない | E12: アクティブ工房 | F12: 6970052 | G12: 島根県浜田市港町２８４－８ | H12: 0855-23-7913 | I12: 0855-24-0766 | J12: 社会福祉法人 清圭会 | L12: 6
A13: 12 | B13: 3210700278 | C13: 就労継続支援(Ｂ型) | D13: 障害者支援施設でない | E13: アクティブ工房 | F13: 6970052 | G13: 島根県浜田市港町２８４－８ | H13: 0855-23-7913 | I13: 0855-24-0766 | J13: 社会福祉法人 清圭会 | L13: 14
A14: 13 | B14: 3210700286 | C14: 生活介護 | D14: 障害者支援施設でない | E14: 生活介護事業所「浜っ子」 | F14: 6970027 | G14: 島根県浜田市殿町８３－１２２ | H14: 0855-22-2824 | I14: 0855-22-2824 | J14: 特定非営利活動法人 浜っ子作業所 | L14: 20
A15: 14 | B15: 3210700302 | C15: 就労継続支援(Ａ型) | D15: 障害者支援施設でない | E15: 就労継続支援Ａ型・Ｂ型事業所「しおかぜ」 | F15: 6970052 | G15: 島根県浜田市港町２７７ | H15: 0855-28-7630 | I15: 0855-28-7631 | J15: 社会医療法人 清和会 | L15: 10
A16: 15 | B16: 3210700302 | C16: 就労継続支援(Ｂ型) | D16: 障害者支援施設でない | E16: 就労継続支援Ａ型・Ｂ型事業所「しおかぜ」 | F16: 6970052 | G16: 島根県浜田市港町２７７ | H16: 0855-28-7630 | I16: 0855-28-7631 | J16: 社会医療法人 清和会 | L16: 30
A17: 16 | B17: 3210700302 | C17: 就労選択支援 | E17: 就労継続支援Ａ型・Ｂ型事業所「しおかぜ」 | F17: 6970052 | G17: 島根県浜田市港町２７７ | H17: 0855-28-7630 | I17: 0855-28-7631 | J17: 社会医療法人 清和会 | L17: 10
A18: 17 | B18: 3210700310 | C18: 生活介護 | D18: 障害者支援施設でない | E18: 生活介護ぴゅあ松原 | F18: 6970021 | G18: 島根県浜田市松原町２７７番地９ | H18: 0855-23-8190 | I18: 0855-23-8190 | J18: 社会福祉法人 ぴゅあ | L18: 20
A19: 18 | B19: 3210700369 | C19: 就労継続支援(Ａ型) | D19: 障害者支援施設でない | E19: 就労継続支援事業所いなほの郷 | F19: 6970006 | G19: 島根県浜田市下府町１８８番地１ | H19: 0855-24-8511 | I19: 0855-25-5164 | J19: 特定非営利活動法人浜田自立支援センターウェルチャーム | L19: 20
A20: 19 | B20: 3210700369 | C20: 就労継続支援(Ｂ型) | D20: 障害者支援施設でない | E20: 就労継続支援事業所いなほの郷 | F20: 6970006 | G20: 島根県浜田市下府町１８８番地１ | H20: 0855-24-8511 | I20: 0855-25-5164 | J20: 特定非営利活動法人浜田自立支援センターウェルチャーム | L20: 20
A21: 20 | B21: 3210700385 | C21: 就労継続支援(Ａ型) | D21: 障害者支援施設でない | E21: ココロパークくわの木 | F21: 6970303 | G21: 島根県浜田市金城町久佐イ１３９０－８ | H21: 0855-42-2222 | I21: 0855-42-2223 | J21: 社会福祉法人いわみ福祉会 | L21: 10
A22: 21 | B22: 3210700401 | C22: 生活介護 | D22: 障害者支援施設でない | E22: まりん | F22: 6970062 | G22: 島根県浜田市熱田町７１６番地３ | H22: 0855-27-0767 | I22: 0855-28-7540 | J22: 特定非営利活動法人 海 | L22: 10
A23: 22 | B23: 3210700419 | C23: 就労継続支援(Ａ型) | D23: 障害者支援施設でない | E23: 就労継続支援Ａ型・Ｂ型事業所「はまかぜ」 | F23: 6970052 | G23: 島根県浜田市港町３２－１ | H23: 0855-28-7630 | I23: 0855-28-7631 | J23: 社会医療法人清和会 | L23: 10
A24: 23 | B24: 3210700419 | C24: 就労継続支援(Ｂ型) | D24: 障害者支援施設でない | E24: 就労継続支援Ａ型・Ｂ型事業所「はまかぜ」 | F24: 6970052 | G24: 島根県浜田市港町３２－１ | H24: 0855-28-7630 | I24: 0855-28-7631 | J24: 社会医療法人清和会 | L24: 10
A25: 24 | B25: 3210700435 | C25: 生活介護 | D25: 障害者支援施設でない | E25: 石州きずな事業所 | F25: 6993212 | G25: 島根県浜田市三隅町向野田５３３－１０ | H25: 0855-32-2311 | I25: 0855-32-2311 | J25: 特定非営利活動法人 石州きずなの里 | L25: 15
A26: 25 | B26: 3210700468 | C26: 生活介護 | D26: 障害者支援施設でない | E26: 共生型デイサービスお天氣いいね | F26: 6970062 | G26: 島根県浜田市熱田町１１２９番地１ | H26: 0855-27-4966 | I26: 0855-25-5266 | J26: ＮＰＯ法人あったかいいねっと | L26: 15
A27: 26 | B27: 3210700567 | C27: 生活介護 | D27: 障害者支援施設でない | E27: 生活介護事業所 ＭＹ ＳＴＹＬＥ | F27: 6970027 | G27: 島根県浜田市殿町７５番地８ | H27: 0855-25-6401 | I27: 0855-25-6402 | J27: 合同会社 ＭＹ ＣＯＬＯＲ | L27: 20
A28: 27 | B28: 3210700583 | C28: 生活介護 | D28: 障害者支援施設でない | E28: 生活介護事業所 ひかりの里 | F28: 6971321 | G28: 島根県浜田市周布町イ４０番地１ | H28: 0855-25-6050 | I28: 0855-25-6051 | J28: ＮＰＯ法人やさか風の里 | L28: 20
A29: 28 | B29: 3210700609 | C29: 就労継続支援(Ｂ型) | D29: 障害者支援施設でない | E29: らぼはーと | F29: 6970033 | G29: 島根県浜田市朝日町1518 グランディ朝日2F | H29: 0855-25-5555 | J29: 株式会社Ｆｒｏｍハート | L29: 10
A30: 29 | B30: 3210700617 | C30: 自立訓練(生活訓練) | D30: 障害者支援施設でない | E30: 自立訓練事業所「Ｓ・ＩＰＳ」 | F30: 6970052 | G30: 島根県浜田市港町277 | H30: 0855-28-7630 | I30: 0855-28-7631 | J30: 社会医療法人 清和会 | L30: 20
A31: 30 | B31: 3210700617 | C31: 就労定着支援 | E31: 自立訓練事業所「Ｓ・ＩＰＳ」 | F31: 6970052 | G31: 島根県浜田市港町277 | H31: 0855-28-7630 | I31: 0855-28-7631 | J31: 社会医療法人 清和会
A32: 31 | B32: 3210700625 | C32: 就労継続支援(Ｂ型) | D32: 障害者支援施設でない | E32: もももＢはまだ | F32: 6970003 | G32: 島根県浜田市国分町２７９－８ | H32: 0855-23-4611 | I32: 0855-23-4611 | J32: 特定非営利活動法人フォルツァプローバ | L32: 20
A33: 32 | B33: 3210400127 | C33: 生活介護 | D33: 障害者支援施設 | E33: 障害者支援施設出雲サンホーム | F33: 6990822 | G33: 島根県出雲市神西沖町１３１３ | H33: 0853-43-3200 | I33: 0853-43-2030 | J33: 社会福祉法人 恵寿会 | L33: 60
A34: 33 | B34: 3210400135 | C34: 生活介護 | D34: 障害者支援施設 | E34: 美野園 | F34: 6910073 | G34: 島根県出雲市美野町１６９４－２ | H34: 0853-67-0500 | I34: 0853-67-0565 | J34: 社会福祉法人 若草福祉会 | L34: 45
A35: 34 | B35: 3210400135 | C35: 自立訓練(生活訓練) | D35: 障害者支援施設 | E35: 美野園 | F35: 6910073 | G35: 島根県出雲市美野町１６９４－２ | H35: 0853-67-0500 | I35: 0853-67-0565 | J35: 社会福祉法人 若草福祉会 | K35: 休止中 | L35: 6
A36: 35 | B36: 3210400135 | C36: 就労継続支援(Ｂ型) | D36: 障害者支援施設 | E36: 美野園 | F36: 6910073 | G36: 島根県出雲市美野町１６９４－２ | H36: 0853-67-0500 | I36: 0853-67-0565 | J36: 社会福祉法人 若草福祉会 | L36: 10
A37: 36 | B37: 3210400168 | C37: 就労継続支援(Ｂ型) | D37: 障害者支援施設でない | E37: 障がい者就労支援事業所 エルパティオ三葉園 | F37: 6910065 | G37: 島根県出雲市東郷町１７５番地４ | H37: 0853-62-0061 | I37: 0853-62-0063 | J37: 社会福祉法人ひらた福祉会 | L37: 40
A38: 37 | B38: 3210400168 | C38: 就労定着支援 | E38: 障がい者就労支援事業所 エルパティオ三葉園 | F38: 6910065 | G38: 島根県出雲市東郷町１７５番地４ | H38: 0853-62-0061 | I38: 0853-62-0063 | J38: 社会福祉法人ひらた福祉会
A39: 38 | B39: 3210400184 | C39: 就労継続支援(Ｂ型) | D39: 障害者支援施設でない | E39: 障がい者自立支援事業所ぽんぽん船 | F39: 6990902 | G39: 島根県出雲市多伎町多岐８９２－７ | H39: 0853-86-7022 | I39: 0853-86-7023 | J39: 特定非営利活動法人ぽんぽん船 | L39: 20
A40: 39 | B40: 3210400192 | C40: 生活介護 | D40: 障害者支援施設 | E40: 障害者支援施設ふたば | F40: 6990822 | G40: 島根県出雲市神西沖町２４７６－１ | H40: 0853-43-2461 | I40: 0853-43-1751 | J40: 社会福祉法人 親和会 | L40: 55
...

Sheet 短期入所
B1: 事業所番号 | C1: サービス種類 | D1: サービス事業所名 | E1: 郵便番号 | F1: 所在地 | G1: 電話番号 | H1: FAX番号 | I1: 法人(設置者)名 | J1: 休止中 | K1: 定員数
A2: 1 | B2: 3210700054 | C2: 短期入所 | D2: 短期入所事業所「港夢」 | E2: 6970052 | F2: 島根県浜田市港町２８５－１ | G2: 0855-28-7311 | H2: 0855-23-5510 | I2: 社会医療法人 清和会 | K2: 4
A3: 2 | B3: 3210700062 | C3: 短期入所 | D3: 桑の木園 | E3: 6970123 | F3: 島根県浜田市金城町七条ハ５５９－２ | G3: 0855-42-0091 | H3: 0855-42-1951 | I3: 社会福祉法人 いわみ福祉会 | K3: 1
A4: 3 | B4: 3210700070 | C4: 短期入所 | D4: こくぶ学園 | E4: 6970005 | F4: 島根県浜田市上府町イ２５８９ | G4: 0855-28-0145 | H4: 0855-28-1765 | I4: 社会福祉法人 いわみ福祉会 | K4: 1
A5: 4 | B5: 3210700328 | C5: 短期入所 | D5: ぴゅあショート | E5: 6971331 | F5: 島根県浜田市内村町７９４番地１ | G5: 0855-27-0099 | H5: 0855-27-0099 | I5: 社会福祉法人 ぴゅあ | K5: 3
A6: 5 | B6: 3210700591 | C6: 短期入所 | D6: 短期入所 みやちゃん家 | E6: 6970023 | F6: 島根県浜田市長沢町３２１－１ | G6: 090-1354-832 | H6: 0855-25-8388 | I6: 合同会社 笑FULL | K6: 1
A7: 6 | B7: 3210700633 | C7: 短期入所 | D7: 短期入所 Interval Base | E7: 6970031 | F7: 島根県浜田市紺屋町７０番地１ | G7: 080-8243-4622 | I7: 一般社団法人 INTERVAL | K7: 5
A8: 7 | B8: 3210400127 | C8: 短期入所 | D8: 出雲サンホーム 短期入所事業 | E8: 6990822 | F8: 島根県出雲市神西沖町１３１３ | G8: 0853-43-3200 | H8: 0853-43-2030 | I8: 社会福祉法人 恵寿会 | K8: 8
A9: 8 | B9: 3210400135 | C9: 短期入所 | D9: 障害者支援施設 美野園 | E9: 6910073 | F9: 島根県出雲市美野町１６９４－２ | G9: 0853-67-0500 | H9: 0853-67-0565 | I9: 社会福祉法人 若草福祉会 | K9: 4
A10: 9 | B10: 3210400192 | C10: 短期入所 | D10: 障害者支援施設ふたば | E10: 6990822 | F10: 島根県出雲市神西沖町２４７６－１ | G10: 0853-43-2461 | H10: 0853-43-1751 | I10: 社会福祉法人 親和会 | K10: 3
A11: 10 | B11: 3210400200 | C11: 短期入所 | D11: 障害者支援施設わかば | E11: 6990822 | F11: 島根県出雲市神西沖町２４７６－１ | G11: 0853-43-2461 | H11: 0853-43-1751 | I11: 社会福祉法人 親和会 | K11: 1
A12: 11 | B12: 3210400242 | C12: 短期入所 | D12: 障害者支援施設 光風園 | E12: 6990816 | F12: 島根県出雲市湖陵町大池２４０－１ | G12: 0853-43-2101 | H12: 0853-43-2119 | I12: 社会福祉法人 島根県社会福祉事業団 | K12: 4
A13: 12 | B13: 3210400259 | C13: 短期入所 | D13: 出雲市立総合医療センター | E13: 6910003 | F13: 島根県出雲市灘分町６１３ | G13: 0853-63-5111 | H13: 0853-63-4228 | I13: 出雲市 | K13: 1
A14: 13 | B14: 3210400358 | C14: 短期入所 | D14: 障がい児入所施設 さざなみ学園 | E14: 6990822 | F14: 島根県出雲市神西沖町２５３４－２ | G14: 0853-43-2252 | H14: 0853-43-2256 | I14: 社会福祉法人 親和会 | K14: 5
A15: 14 | B15: 3210400549 | C15: 短期入所 | D15: ＣＳいずも短期入所大社事業所 | E15: 6990732 | F15: 島根県出雲市大社町入南８０－１ | G15: 0853-53-8066 | H15: 0853-53-8078 | I15: 特定非営利活動法人コミュニティサポートいずも | K15: 3
A16: 15 | B16: 3210400564 | C16: 短期入所 | D16: ＣＳいずも短期入所知井宮事業所 | E16: 6930033 | F16: 島根県出雲市知井宮町６２７－５ | G16: 0853-25-7101 | H16: 0853-25-7078 | I16: 特定非営利活動法人コミュニティサポートいずも | K16: 3
A17: 16 | B17: 3210400960 | C17: 短期入所 | D17: 島根県立中央病院 重症心身障がい児 指定短期入所サービス事業所 | E17: 6938555 | F17: 島根県出雲市姫原４－１－１ | G17: 0853-22-5111 | H17: 0853-21-2975 | I17: 島根県立中央病院 | K17: 30
A18: 17 | B18: 3210401018 | C18: 短期入所 | D18: ＷＡＮＡ ＪＡＰＡＮ | E18: 6990502 | F18: 島根県出雲市斐川町学頭１６２５－４ | G18: 0853-72-7200 | H18: 0853-72-7201 | I18: 社会福祉法人 桑友 | K18: 10
A19: 18 | B19: 3210401224 | C19: 短期入所 | D19: はまなす | E19: 6910001 | F19: 島根県出雲市平田町９０２－２ | G19: 0853-25-8874 | H19: 0853-25-8874 | I19: 社会福祉法人 若草福祉会 | K19: 12
A20: 19 | B20: 3210401315 | C20: 短期入所 | D20: グループホームこといろ | E20: 6930021 | F20: 島根県出雲市塩冶町983-2 | G20: 0853-23-2271 | I20: 合同会社 Ｒｏｂｓｅ | K20: 1
A21: 20 | B21: 3210401422 | C21: 短期入所 | D21: 短期入所 出雲常松町 | E21: 6930057 | F21: 島根県出雲市常松町217-1 | G21: 0853-25-2181 | I21: ソーシャルインクルー株式会社 | K21: 1
A22: 21 | B22: 3211600022 | C22: 短期入所 | D22: 障害者支援施設太陽の里 | E22: 6990622 | F22: 島根県出雲市斐川町名島９０ | G22: 0853-72-9125 | H22: 0853-72-9122 | I22: 社会福祉法人 喜和会 | K22: 2
A23: 22 | B23: 3210800045 | C23: 短期入所 | D23: 益田市立特別養護老人ホーム 美寿苑 | E23: 6980203 | F23: 島根県益田市美都町都茂１８７１－９ | G23: 0856-52-3200 | H23: 0856-52-3201 | I23: 社会福祉法人 益田市社会福祉協議会 | K23: 6
A24: 23 | B24: 3210800086 | C24: 短期入所 | D24: 障害者支援施設希望の里 | E24: 6980041 | F24: 島根県益田市高津三丁目２３－１ | G24: 0856-24-2223 | H24: 0856-24-2512 | I24: 社会福祉法人 希望の里福祉会 | K24: 4
A25: 24 | B25: 3210800110 | C25: 短期入所 | D25: 障がい者支援施設ラポール宝生苑 | E25: 6980001 | F25: 島根県益田市久城町５３１番地 | G25: 0856-32-0022 | H25: 0856-23-4253 | I25: 社会福祉法人 梅寿会 | K25: 3
A26: 25 | B26: 3210800151 | C26: 短期入所 | D26: 益田市立特別養護老人ホーム もみじの里 | E26: 6981211 | F26: 島根県益田市匹見町匹見イ１２０８番地 | G26: 0856-56-7030 | H26: 0856-56-7033 | I26: 社会福祉法人 益田市社会福祉協議会 | K26: 8
A27: 26 | B27: 3210800201 | C27: 短期入所 | D27: グループホーム光ヶ丘 | E27: 6980041 | F27: 島根県益田市高津町イ２３５４－５ | G27: 0856-25-7370 | H27: 0856-25-7371 | I27: 社会医療法人 正光会 | K27: 2
A28: 27 | B28: 3210800243 | C28: 短期入所 | D28: 益田赤十字病院 | E28: 6988501 | F28: 島根県益田市乙吉町イ１０３－１ | G28: 0856-22-1480 | H28: 0856-22-3991 | I28: 益田赤十字病院 | K28: 284
A29: 28 | B29: 3210500066 | C29: 短期入所 | D29: 障害者支援施設 清風園 | E29: 6940013 | F29: 島根県大田市川合町吉永１０２５ | G29: 0854-82-5300 | H29: 0854-82-5301 | I29: 社会福祉法人 島根県社会福祉事業団 | K29: 10
A30: 29 | B30: 3210500181 | C30: 短期入所 | D30: 短期入所事業所フレンズ | E30: 6940064 | F30: 島根県大田市大田町大田口７６０－１ | G30: 0854-82-4050 | H30: 0854-82-7157 | I30: ＮＰＯ法人えんＪＯＹ | K30: 4
A31: 30 | B31: 3210500199 | C31: 短期入所 | D31: ショートステイ銀の鳩 | E31: 6940064 | F31: 島根県大田市大田町大田イ６８１－５ | G31: 0854-82-4688 | H31: 0854-82-4774 | I31: 社会福祉法人 銀の鳩 | K31: 3
A32: 31 | B32: 3210500207 | C32: 短期入所 | D32: 医療法人 恵和会 グループホーム | E32: 6940064 | F32: 島根県大田市大田町大田イ８６０－３ | G32: 0854-82-1035 | H32: 0854-82-0357 | I32: 医療法人 恵和会 | K32: 2
A33: 32 | B33: 3210200071 | C33: 短期入所 | D33: コミュニティハウス あさひ | E33: 6920011 | F33: 島根県安来市安来町９２７－２ | G33: 0854-22-3430 | H33: 0854-23-2729 | I33: 社会医療法人 昌林会 | K33: 1
... A60: 59 | B60: 3212200137 | C60: 短期入所 | D60: みんなの作業所 | E60: 6850021 | F60: 島根県隠岐郡隠岐の島町岬町中ノ津四．３０２番地 | G60: 08512-2-3865 | H60: 08512-2-1236 | I60: 社会福祉法人 博愛 | K60: 4
A61: 60 | B61: 3212200178 | C61: 短期入所 | D61: 共同生活援助事業所 きぼう | E61: 6850104 | F61: 島根県隠岐郡隠岐の島町都万2582番地１ | G61: 0851262289 | I61: 社会福祉法人 博愛 | K61: 1

Sheet 療養介護
B1: 事業所番号 | C1: サービス種類 | D1: サービス事業所名 | E1: 郵便番号 | F1: 所在地 | G1: 電話番号 | H1: FAX番号 | I1: 法人(設置者)名 | J1: 休止中 | K1: 定員数
A2: 1 | B2: 3210600114 | C2: 療養介護 | D2: 安養学園 | E2: 6950001 | F2: 島根県江津市渡津町１９２６－１０ | G2: 0855-52-2442 | H2: 0855-52-0344 | I2: 社会福祉法人 島根整肢学園 | K2: 100

Sheet 自立支援援助
B1: 事業所番号 | C1: サービス種類 | D1: サービス事業所名 | E1: 郵便番号 | F1: 所在地 | G1: 電話番号 | H1: FAX番号 | I1: 法人(設置者)名 | J1: 休止中
A2: 1 | B2: 3210700484 | C2: 自立生活援助 | D2: 相談支援事業所「陽だまり」 | E2: 6970052 | F2: 島根県浜田市港町２９２－１０、２９４－１１ | G2: 0855-22-8115 | H2: 0855-22-8120 | I2: 社会医療法人 清和会
A3: 2 | B3: 3210400986 | C3: 自立生活援助 | D3: 相談支援事業所ふあっと | E3: 6930001 | F3: 島根県出雲市今市町400-6 | G3: 0853-25-0130 | H3: 0853-25-3401 | I3: 社会福祉法人 ふあっと
A4: 3 | B4: 3210400994 | C4: 自立生活援助 | D4: 相談支援事業所Ｒｅｖｅ | E4: 6930055 | F4: 島根県出雲市八島町11-1 | G4: 0853-25-8602 | H4: 0853-25-8603 | I4: 株式会社ＲＥＴＩＣＥ | J4: 休止中
A5: 4 | B5: 3210401125 | C5: 自立生活援助 | D5: 相談支援事業所リレーション | E5: 6930068 | F5: 島根県出雲市姫原３丁目１－５ 101号室 | G5: 09071385676 | I5: 株式会社エンブリス

Sheet 共同生活援助
A1: 事業所番号 | B1: サービス種類 | C1: サービス事業所名 | D1: 郵便番号 | E1: 所在地 | F1: 電話番号 | G1: FAX番号 | H1: 法人(設置者)名 | I1: 共同生活住居名 | J1: 定員数
A2: 3220700011 | B2: 共同生活援助 | C2: サポートセンターふかふか | D2: 6970027 | E2: 島根県浜田市殿町１０３－１ | F2: 0855-23-2295 | G2: 0855-27-2295 | H2: 社会福祉法人 いわみ福祉会 | I2: サポートセンターふかふか | J2: 39
A3: 3220700011 | B3: 共同生活援助 | C3: サポートセンターふかふか | D3: 6970027 | E3: 島根県浜田市殿町１０３－１ | F3: 0855-23-2295 | G3: 0855-27-2295 | H3: 社会福祉法人 いわみ福祉会 | I3: 桑雲寮 | J3: 10
A4: 3220700011 | B4: 共同生活援助 | C4: サポートセンターふかふか | D4: 6970027 | E4: 島根県浜田市殿町１０３－１ | F4: 0855-23-2295 | G4: 0855-27-2295 | H4: 社会福祉法人 いわみ福祉会 | I4: さつきホーム | J4: 6
A5: 3220700011 | B5: 共同生活援助 | C5: サポートセンターふかふか | D5: 6970027 | E5: 島根県浜田市殿町１０３－１ | F5: 0855-23-2295 | G5: 0855-27-2295 | H5: 社会福祉法人 いわみ福祉会 | I5: なかやホーム | J5: 4
A6: 3220700011 | B6: 共同生活援助 | C6: サポートセンターふかふか | D6: 6970027 | E6: 島根県浜田市殿町１０３－１ | F6: 0855-23-2295 | G6: 0855-27-2295 | H6: 社会福祉法人 いわみ福祉会 | I6: しんがいホーム | J6: 6
A7: 3220700011 | B7: 共同生活援助 | C7: サポートセンターふかふか | D7: 6970027 | E7: 島根県浜田市殿町１０３－１ | F7: 0855-23-2295 | G7: 0855-27-2295 | H7: 社会福祉法人 いわみ福祉会 | I7: さくらホーム | J7: 7
A8: 3220700011 | B8: 共同生活援助 | C8: サポートセンターふかふか | D8: 6970027 | E8: 島根県浜田市殿町１０３－１ | F8: 0855-23-2295 | G8: 0855-27-2295 | H8: 社会福祉法人 いわみ福祉会 | I8: きぼうホーム | J8: 6
A9: 3220700029 | B9: 共同生活援助 | C9: ぴゅあほーむ | D9: 6971331 | E9: 島根県浜田市内村町７９４番地１ | F9: 0855-27-0099 | G9: 0855-27-0099 | H9: 社会福祉法人 ぴゅあ | I9: ぴゅあほーむ | J9: 5
A10: 3220700029 | B10: 共同生活援助 | C10: ぴゅあほーむ | D10: 6971331 | E10: 島根県浜田市内村町７９４番地１ | F10: 0855-27-0099 | G10: 0855-27-0099 | H10: 社会福祉法人 ぴゅあ | I10: ぴゅあほーむ | J10: 5
A11: 3220700052 | B11: 共同生活援助 | C11: 共同生活援助・共同生活介護事業所「港夢」 | D11: 6970052 | E11: 島根県浜田市港町２８５－１ | F11: 0855-28-7311 | G11: 0855-23-5510 | H11: 社会医療法人 清和会 | I11: 共同生活援助・共同生活介護事業所「港夢」 | J11: 51
A12: 3220700052 | B12: 共同生活援助 | C12: 共同生活援助・共同生活介護事業所「港夢」 | D12: 6970052 | E12: 島根県浜田市港町２８５－１ | F12: 0855-28-7311 | G12: 0855-23-5510 | H12: 社会医療法人 清和会 | I12: 港夢１号 | J12: 8
... A50: 3220400059 | B50: 共同生活援助 | C50: グループホーム光風園 | D50: 6990816 | E50: 島根県出雲市湖陵町大池２４０－１ | F50: 0853-43-2101 | G50: 0853-43-2119 | H50: 社会福祉法人 島根県社会福祉事業団 | I50: いこいの家ひかり | J50: 7
A51: 3220400075 | B51: 共同生活援助 | C51: グループホーム 彩華荘 | D51: 6910001 | E51: 島根県出雲市平田町５３４８－８ | F51: 0853-62-3304 | H51: 有限会社 佐香 | I51: グループホーム 彩華荘 | J51: 20
A52: 3220400075 | B52: 共同生活援助 | C52: グループホーム 彩華荘 | D52: 6910001 | E52: 島根県出雲市平田町５３４８－８ | F52: 0853-62-3304 | H52: 有限会社 佐香 | I52: グループホーム 彩華荘 | J52: 13
A53: 3220400075 | B53: 共同生活援助 | C53: グループホーム 彩華荘 | D53: 6910001 | E53: 島根県出雲市平田町５３４８－８ | F53: 0853-62-3304 | H53: 有限会社 佐香 | I53: グループホーム 彩風荘 | J53: 7
A54: 3220400117 | B54: 共同生活援助 | C54: ふあっとほおむ | D54: 6930033 | E54: 島根県出雲市知井宮町１２３９－１ | F54: 0853-25-0130 | G54: 0853-25-3401 | H54: 社会福祉法人 ふあっと | I54: ふあっとほおむ | J54: 4
A55: 3220400117 | B55: 共同生活援助 | C55: ふあっとほおむ | D55: 6930033 | E55: 島根県出雲市知井宮町１２３９－１ | F55: 0853-25-0130 | G55: 0853-25-3401 | H55: 社会福祉法人 ふあっと | I55: ふあっとほおむ | J55: 4
A56: 3220400133 | B56: 共同生活援助 | C56: ハートフルホームかんど | D56: 6930037 | E56: 島根県出雲市西新町二丁目２４５６－１３ | F56: 0853-24-3838 | G56: 0853-24-3830 | H56: 医療法人 かんど会 | I56: ハートフルホームかんど | J56: 20
A57: 3220400133 | B57: 共同生活援助 | C57: ハートフルホームかんど | D57: 6930037 | E57: 島根県出雲市西新町二丁目２４５６－１３ | F57: 0853-24-3838 | G57: 0853-24-3830 | H57: 医療法人 かんど会 | I57: ハートフルホームかんど | J57: 20
A58: 3220400158 | B58: 共同生活援助 | C58: 共同生活事業所 つばめ | D58: 6930012 | E58: 島根県出雲市大津新崎町２－４－１ | F58: 0853-31-7220 | G58: 0853-23-1226 | H58: 特定非営利活動法人ＩＺＵＭＯ自立支援センター | I58: 共同生活事業所 つばめ | J58: 16
A59: 3220400158 | B59: 共同生活援助 | C59: 共同生活事業所 つばめ | D59: 6930012 | E59: 島根県出雲市大津新崎町２－４－１ | F59: 0853-31-7220 | G59: 0853-23-1226 | H59: 特定非営利活動法人ＩＺＵＭＯ自立支援センター | I59: つばめ | J59: 10
A60: 3220400158 | B60: 共同生活援助 | C60: 共同生活事業所 つばめ | D60: 6930012 | E60: 島根県出雲市大津新崎町２－４－１ | F60: 0853-31-7220 | G60: 0853-23-1226 | H60: 特定非営利活動法人ＩＺＵＭＯ自立支援センター | I60: つばさ | J60: 6
A61: 3220400166 | B61: 共同生活援助 | C61: わんぱくハウス | D61: 6910031 | E61: 島根県出雲市東福町２２５－１ | F61: 0853-62-4872 | G61: 0853-62-4872 | H61: 特定非営利活動法人 サポートセンターどりーむ | I61: わんぱくハウス | J61: 6
A62: 3220400166 | B62: 共同生活援助 | C62: わんぱくハウス | D62: 6910031 | E62: 島根県出雲市東福町２２５－１ | F62: 0853-62-4872 | G62: 0853-62-4872 | H62: 特定非営利活動法人 サポートセンターどりーむ | I62: わんぱくハウス | J62: 6
A63: 3220400174 | B63: 共同生活援助 | C63: 共同生活援助事業所わくわくホーム | D63: 6910003 | E63: 島根県出雲市灘分町６７７－２ | F63: 0853-31-9500 | G63: 0853-31-9501 | H63: 社会福祉法人 ひらた福祉会 | I63: 共同生活援助事業所わくわくホーム | J63: 7
A64: 3220400174 | B64: 共同生活援助 | C64: 共同生活援助事業所わくわくホーム | D64: 6910003 | E64: 島根県出雲市灘分町６７７－２ | F64: 0853-31-9500 | G64: 0853-31-9501 | H64: 社会福祉法人 ひらた福祉会 | I64: 共同生活援助事業所わくわくホーム | J64: 7
A65: 3220400182 | B65: 共同生活援助 | C65: 共同生活援助 ウェルガーデンたんぽぽ | D65: 6930021 | E65: 島根県出雲市塩冶町１９７８－２ | F65: 0853-20-1505 | G65: 0853-20-1507 | H65: 有限会社ウェルガーデンたんぽぽ | I65: 共同生活援助 ウェルガーデンたんぽぽ | J65: 9
... A69: 3220400190 | B69: 共同生活援助 | C69: さくらトパーズ | D69: 6930023 | E69: 島根県出雲市塩冶有原町６丁目５８－１ | F69: 0853-48-9045 | G69: 0853-48-9008 | H69: 株式会社さくら | I69: さくらトパーズＢ棟 | J69: 10
A70: 3220400208 | B70: 共同生活援助 | C70: 共同生活援助事業所 ビーターベース | D70: 6930012 | E70: 島根県出雲市大津新崎町４丁目４６ | F70: 09041041184 | H70: 株式会社 アンフ | I70: 共同生活援助事業所 ビーターベース | J70: 6
A71: 3220400208 | B71: 共同生活援助 | C71: 共同生活援助事業所 ビーターベース | D71: 6930012 | E71: 島根県出雲市大津新崎町４丁目４６ | F71: 09041041184 | H71: 株式会社 アンフ | I71: 共同生活援助事業所 ビーターベース | J71: 6
A72: 3220400216 | B72: 共同生活援助 | C72: グループホームこといろ | D72: 6930021 | E72: 島根県出雲市塩冶町９８３－２ | F72: 0853-23-2271 | G72: 0853-23-2288 | H72: 合同会社Ｒｏｂｓｅ | I72: グループホームこといろ | J72: 10
A73: 3220400216 | B73: 共同生活援助 | C73: グループホームこといろ | D73: 6930021 | E73: 島根県出雲市塩冶町９８３－２ | F73: 0853-23-2271 | G73: 0853-23-2288 | H73: 合同会社Ｒｏｂｓｅ | I73: グループホームこはれ | J73: 10
A74: 3220400224 | B74: 共同生活援助 | C74: ユナイト | D74: 6930067 | E74: 島根県出雲市矢尾町274番地１ | F74: 0853-77-9377 | G74: 0853-77-4440 | H74: プライム有限会社 | I74: ユナイトＡ棟1階 | J74: 5
A75: 3220400224 | B75: 共同生活援助 | C75: ユナイト | D75: 6930067 | E75: 島根県出雲市矢尾町274番地１ | F75: 0853-77-9377 | G75: 0853-77-4440 | H75: プライム有限会社 | I75: ユナイトＡ棟2階 | J75: 5
A76: 3220400232 | B76: 共同生活援助 | C76: ソーシャルインクルーホーム出雲常松町 | D76: 6930057 | E76: 島根県出雲市常松町217-1 | F76: 0853-25-2181 | H76: ソーシャルインクルー株式会社 | I76: ソーシャルインクルーホーム出雲常松町Ⅰ | J76: 10
A77: 3220400240 | B77: 共同生活援助 | C77: グループホーム ＤＯＺＥ | D77: 6930029 | E77: 島根県出雲市築山新町１－８ | F77: 090-5267-3839 | H77: 株式会社 ＲＥＰＰＬＵＳ | I77: グループホーム ＤＯＺＥ | J77: 7
A78: 3221600012 | B78: 共同生活援助 | C78: 太陽の里 | D78: 6990622 | E78: 島根県出雲市斐川町名島９０ | F78: 0853-72-9125 | G78: 0853-72-9122 | H78: 社会福祉法人 喜和会 | I78: 太陽の里 | J78: 38
A79: 3221600012 | B79: 共同生活援助 | C79: 太陽の里 | D79: 6990622 | E79: 島根県出雲市斐川町名島９０ | F79: 0853-72-9125 | G79: 0853-72-9122 | H79: 社会福祉法人 喜和会 | I79: 湖西寮 | J79: 6
A80: 3221600012 | B80: 共同生活援助 | C80: 太陽の里 | D80: 6990622 | E80: 島根県出雲市斐川町名島９０ | F80: 0853-72-9125 | G80: 0853-72-9122 | H80: 社会福祉法人 喜和会 | I80: しんかわホーム | J80: 6
...

Sheet 相談
B1: 事業所番号 | C1: サービス種類 | D1: サービス事業所名 | E1: 郵便番号 | F1: 所在地 | G1: 電話番号 | H1: FAX番号 | I1: 法人(設置者)名 | J1: 休止中
A2: 1 | B2: 3230700019 | C2: 計画相談支援 | D2: 相談支援事業所「陽だまり」 | E2: 6970052 | F2: 島根県浜田市港町２８５－１ | G2: 0855-22-8115 | H2: 0855-22-8120 | I2: 社会医療法人 清和会
A3: 2 | B3: 3230700019 | C3: 地域移行支援 | D3: 相談支援事業所「陽だまり」 | E3: 6970052 | F3: 島根県浜田市港町２９２－１０ | G3: 0855-22-8115 | H3: 0855-22-8120 | I3: 社会医療法人 清和会
A4: 3 | B4: 3230700019 | C4: 地域定着支援 | D4: 相談支援事業所「陽だまり」 | E4: 6970052 | F4: 島根県浜田市港町２９２－１０ | G4: 0855-22-8115 | H4: 0855-22-8120 | I4: 社会医療法人 清和会
A5: 4 | B5: 3230700027 | C5: 計画相談支援 | D5: 地域生活支援センターらいふ | E5: 6970027 | F5: 島根県浜田市殿町１０３－１ | G5: 0855-22-0908 | H5: 0855-28-7310 | I5: 社会福祉法人 いわみ福祉会
A6: 5 | B6: 3230700027 | C6: 地域移行支援 | D6: 地域生活支援センターらいふ | E6: 6970027 | F6: 島根県浜田市殿町１０３－１ | G6: 0855-22-0908 | H6: 0855-28-7310 | I6: 社会福祉法人 いわみ福祉会
A7: 6 | B7: 3230700027 | C7: 地域定着支援 | D7: 地域生活支援センターらいふ | E7: 6970027 | F7: 島根県浜田市殿町１０３－１ | G7: 0855-22-0908 | H7: 0855-28-7310 | I7: 社会福祉法人 いわみ福祉会
A8: 7 | B8: 3230700035 | C8: 計画相談支援 | D8: 相談支援事業所ぴゅあサポート | E8: 6970027 | F8: 島根県浜田市殿町２１－１ | G8: 0855-22-8085 | H8: 0855-23-4740 | I8: 社会福祉法人 ぴゅあ
A9: 8 | B9: 3230700043 | C9: 計画相談支援 | D9: 相談支援事業所あかり | E9: 6970062 | F9: 島根県浜田市熱田町７１６番地３４ | G9: 0855-27-0767 | H9: 0855-28-7540 | I9: 特定非営利活動法人海
A10: 9 | B10: 3230700068 | C10: 計画相談支援 | D10: 指定特定相談支援事業所 結い | E10: 6970052 | F10: 島根県浜田市港町２８４－８ | G10: 0855-28-7580 | H10: 0855-28-7581 | I10: 社会福祉法人 清圭会
A11: 10 | B11: 3230700076 | C11: 計画相談支援 | D11: 相談支援事業所 Ｌｕｃｅ | E11: 6970004 | F11: 島根県浜田市久代町１６５６－７６ | G11: 0855-25-5125 | H11: 0855-25-5125 | I11: 一般社団法人 Ｃｏｐａｉｎ
A12: 11 | B12: 3230700100 | C12: 計画相談支援 | D12: 相談支援事業所 ＭＹ ＰＬＡＮ | E12: 6971331 | F12: 島根県浜田市内村町３８８番地１６ | G12: 09071342339 | I12: 合同会社 ＭＹ ＣＯＬＯＲ
A13: 12 | B13: 3230700118 | C13: 計画相談支援 | D13: 相談支援事業所 くろーばー | E13: 6970021 | F13: 島根県浜田市松原町３１８番地１ | G13: 0855-25-5544 | H13: 0855-25-5567 | I13: 有限会社 江木商事
A14: 13 | B14: 3230700126 | C14: 計画相談支援 | D14: 雨のち晴れ | E14: 6970062 | F14: 島根県浜田市熱田町１１２９番地１ | G14: 0855-27-4966 | H14: 0855-25-5266 | I14: ＮＰＯ法人 あったかいいねっと
A15: 14 | B15: 3230700134 | C15: 計画相談支援 | D15: 相談支援事業所 りべる | E15: 6970034 | F15: 島根県浜田市相生町1399-9 | G15: 0855-25-8008 | H15: 0855-25-8420 | I15: 株式会社Ｆｒｏｍハート
A16: 15 | B16: 3230700142 | C16: 計画相談支援 | D16: サポート相談室玄季な夢來 | E16: 6970034 | F16: 島根県浜田市相生町４２２２番地３ | G16: 0855-28-7654 | H16: 0855-28-7644 | I16: 有限会社 髙村
A17: 16 | B17: 3230400016 | C17: 計画相談支援 | D17: ケアプラン やわらぎ | E17: 6930033 | F17: 島根県出雲市知井宮町１１９２－９ | G17: 0853-21-4820 | H17: 0853-21-7280 | I17: 株式会社 ケアステーションやわらぎ
A18: 17 | B18: 3230400024 | C18: 計画相談支援 | D18: 相談支援事業所ハートピア出雲 | E18: 6930014 | F18: 島根県出雲市武志町６９３－４ | G18: 0853-23-2720 | H18: 0853-23-2721 | I18: 社会福祉法人 創文会
A19: 18 | B19: 3230400024 | C19: 地域移行支援 | D19: 相談支援事業所ハートピア出雲 | E19: 6930014 | F19: 島根県出雲市武志町６９３－４ | G19: 0853-23-2720 | H19: 0853-23-2721 | I19: 社会福祉法人 創文会
A20: 19 | B20: 3230400024 | C20: 地域定着支援 | D20: 相談支援事業所ハートピア出雲 | E20: 6930014 | F20: 島根県出雲市武志町６９３－４ | G20: 0853-23-2720 | H20: 0853-23-2721 | I20: 社会福祉法人 創文会
A21: 20 | B21: 3230400040 | C21: 計画相談支援 | D21: 相談支援事業所 かのん | E21: 6990822 | F21: 島根県出雲市神西沖町２４７６－１ | G21: 0853-25-8811 | H21: 0853-43-1751 | I21: 社会福祉法人 親和会
A22: 21 | B22: 3230400040 | C22: 地域移行支援 | D22: 相談支援事業所 かのん | E22: 6990822 | F22: 島根県出雲市神西沖町２４７６－１ | G22: 0853-25-8811 | H22: 0853-43-1751 | I22: 社会福祉法人 親和会
A23: 22 | B23: 3230400040 | C23: 地域定着支援 | D23: 相談支援事業所 かのん | E23: 6990822 | F23: 島根県出雲市神西沖町２４７６－１ | G23: 0853-25-8811 | H23: 0853-43-1751 | I23: 社会福祉法人 親和会
A24: 23 | B24: 3230400057 | C24: 計画相談支援 | D24: 障がい児入所施設さざなみ学園 | E24: 6990822 | F24: 島根県出雲市神西沖町２５３４－２ | G24: 0853-43-2252 | H24: 0853-43-2256 | I24: 社会福祉法人 親和会
... A53: 52 | B53: 3230400271 | C53: 計画相談支援 | D53: 相談支援事業所 わんぱく | E53: 6910031 | F53: 島根県出雲市東福町１５６番地１ | G53: 0853-62-4872 | H53: 0853-62-4872 | I53: 特定非営利活動法人サポートセンターどりーむ
A54: 53 | B54: 3230400297 | C54: 計画相談支援 | D54: 相談支援事業所 りこっと | E54: 6930004 | F54: 島根県出雲市渡橋町１１９８ くすのきテナントＡ | G54: 0853-23-2288 | H54: 0853-21-7222 | I54: 合同会社 Ｒｏｂｓｅ | J54: 休止中
A55: 54 | B55: 3230400305 | C55: 計画相談支援 | D55: 相談支援事業所 麦の家 | E55: 6990501 | F55: 島根県出雲市斐川町学頭１５１０－２ | G55: 0853-72-5110 | H55: 0853-72-5192 | I55: 社会福祉法人 金太郎の家
A56: 55 | B56: 3230400321 | C56: 計画相談支援 | D56: 特定相談支援事業所 ぽてとはうす | E56: 6930065 | F56: 島根県出雲市平野町１１８３ | G56: 0853-23-0477 | H56: 0853-25-8897 | I56: 社会福祉法人 ＪＡいずも福祉会
A57: 56 | B57: 3230400339 | C57: 計画相談支援 | D57: 相談支援事業所 ビリエット | E57: 6910001 | F57: 島根県出雲市平田町２１９４－５ | G57: 0853-77-5147 | H57: 0853-77-6506 | I57: 一般社団法人ビリエット
A58: 57 | B58: 3230400339 | C58: 地域移行支援 | D58: 相談支援事業所 ビリエット | E58: 6910001 | F58: 島根県出雲市平田町２１９４－５ | G58: 0853-77-5147 | H58: 0853-77-6506 | I58: 一般社団法人ビリエット
A59: 58 | B59: 3230400339 | C59: 地域定着支援 | D59: 相談支援事業所 ビリエット | E59: 6910001 | F59: 島根県出雲市平田町２１９４－５ | G59: 0853-77-5147 | H59: 0853-77-6506 | I59: 一般社団法人ビリエット
A60: 59 | B60: 3230400347 | C60: 計画相談支援 | D60: いんくるネットいずも | E60: 6930213 | F60: 島根県出雲市朝山町２１１ | G60: 0853-77-6212 | H60: 0853-77-5325 | I60: 一般社団法人インクルージョンしまね
A61: 60 | B61: 3230400347 | C61: 地域移行支援 | D61: いんくるネット | E61: 6930213 | F61: 島根県出雲市朝山町２１１ | G61: 0853-77-6212 | H61: 0853-77-5325 | I61: 一般社団法人インクルージョンしまね
A62: 61 | B62: 3230400354 | C62: 計画相談支援 | D62: 相談支援事業所 リレーション | E62: 6930063 | F62: 島根県出雲市大塚町８６９－１ プラントＡ－１ | G62: 0853-25-7353 | H62: 0853-25-7533 | I62: 株式会社 エンブリス
A63: 62 | B63: 3230400354 | C63: 地域移行支援 | D63: 相談支援事業所リレーション | E63: 6930063 | F63: 島根県出雲市大塚町８６９－１ プラントＡ－１ | G63: 0853-25-7353 | H63: 0853-25-7533 | I63: 株式会社 エンブリス
A64: 63 | B64: 3230400354 | C64: 地域定着支援 | D64: 相談支援事業所リレーション | E64: 6930063 | F64: 島根県出雲市大塚町８６９－１ プラントＡ－１ | G64: 0853-25-7353 | H64: 0853-25-7533 | I64: 株式会社 エンブリス
A65: 64 | B65: 3230400362 | C65: 計画相談支援 | D65: あいか相談支援事業所 | E65: 6930041 | F65: 島根県出雲市西園町３９１３－１ | G65: 0853-27-9229 | H65: 0853-27-9269 | I65: 株式会社いずもえん
A66: 65 | B66: 3230400362 | C66: 地域移行支援 | D66: あいか相談支援事業所 | E66: 6930041 | F66: 島根県出雲市西園町３９１３－１ | G66: 0853-27-9229 | H66: 0853-27-9269 | I66: 株式会社いずもえん
A67: 66 | B67: 3230400362 | C67: 地域定着支援 | D67: あいか相談支援事業所 | E67: 6930041 | F67: 島根県出雲市西園町３９１３－１ | G67: 0853-27-9229 | H67: 0853-27-9269 | I67: 株式会社いずもえん
A68: 67 | B68: 3230400370 | C68: 計画相談支援 | D68: クオーレ | E68: 6990813 | F68: 島根県出雲市湖陵町三部６１５番地５ | G68: 0853-31-4055 | H68: 0853-31-4145 | I68: 特定非営利活動法人 河南はつらつセンター | J68: 休止中
...

Sheet 集計（サービス単位）
C1: 事業所数集計（サービス単位） | D1: （R8.8.1現在） | H1: 合計 | I1: =D18+I18 -> 702
C2: ＜支援施設＞ | H2: ＜短期入所＞
C3: 施設入所支援 | D3: =COUNTIF(入所系!$C$2:$C$18,"施設入所支援") -> 17 | H3: 短期入所 | I3: =COUNTIF(短期入所!$C$2:$C$61,"短期入所") -> 60
C4: ＜居宅系＞ | H4: ＜療養介護＞
C5: 居宅介護 | D5: =COUNTIF(居宅系!$C$2:$C$168,"居宅介護") -> 85 | H5: 療養介護 | I5: =COUNTIF(療養介護!$C$2:$C$6,"療養介護") -> 1
C6: 重度訪問介護 | D6: =COUNTIF(居宅系!$C$2:$C$168,"重度訪問介護") -> 53 | H6: ＜自立生活援助＞
C7: 同行援護 | D7: =COUNTIF(居宅系!$C$2:$C$168,"同行援護") -> 22 | H7: 自立生活援助 | I7: =COUNTIF(自立支援援助!$C$2:$C$5,"自立生活援助") -> 4
C8: 行動援護 | D8: =COUNTIF(居宅系!$C$2:$C$168,"行動援護") -> 7 | H8: ＜グループホーム＞
C9: ＜日中系＞ | H9: 共同生活援助(グループホーム) | I9: {=SUMPRODUCT(1/COUNTIF(共同生活援助!$A$2:$A$232,共同生活援助!$A$2:$A$232))} -> 62
C10: 生活介護 | D10: =COUNTIF(日中系!$C$2:$C$214,"生活介護") -> 59 | H10: ＜相談＞
C11: 自立訓練(生活訓練) | D11: =COUNTIF(日中系!$C$2:$C$214,"自立訓練(生活訓練)") -> 10 | E11: 宿泊型 | F11: =COUNTIF(日中系!$C$2:$C$214,"宿泊型自立訓練") -> 2 | H11: 計画相談支援 | I11: =COUNTIF(相談!$C$2:$C$181,"計画相談支援") -> 89
C12: 自立訓練(機能訓練) | D12: =COUNTIF(日中系!$C$2:$C$214,"自立訓練(機能訓練)") -> 2 | H12: 地域移行支援 | I12: =COUNTIF(相談!$C$2:$C$181,"地域移行支援") -> 47
C13: 就労選択支援 | D13: =COUNTIF(日中系!$C$2:$C$214,"就労選択支援") -> 3 | H13: 地域定着支援 | I13: =COUNTIF(相談!$C$2:$C$181,"地域定着支援") -> 44
C14: 就労移行支援 | D14: =COUNTIF(日中系!$C$2:$C$214,"就労移行支援") -> 4
C15: 就労継続支援A型 | D15: =COUNTIF(日中系!$C$2:$C$214,"就労継続支援(Ａ型)") -> 21
C16: 就労継続支援B型 | D16: =COUNTIF(日中系!$C$2:$C$214,"就労継続支援(Ｂ型)") -> 106
C17: 就労定着支援 | D17: =COUNTIF(日中系!$C$2:$C$214,"就労定着支援") -> 6
D18: =SUM(D3:D17) -> 395 | I18: =SUM(I3:I17) -> 307
