Workbook
Name 夏季休暇: 定義!$D:$D
Name 祝日: 定義!$A:$A
Name 年末年始: 定義!$G:$G

Sheet 定義
A1: 祝日 | D1: 夏季休暇 | G1: 年末年始 | K1: 休日名 | L1: 休日 | M1: 対象期間
A2: 43407 | B2: 文化の日 | D2: 45516 | E2: 夏季休暇 | G2: 祝日のため除去 | H2: 年末年始 | J2: =休日取得状況表!$B$4 -> 0 | K2: {=IFERROR(INDEX($B:$B,MATCH($J2,祝日,),),"")&IFERROR(INDEX($E:$E,MATCH($J2,夏季休暇,),),"")&IFERROR(INDEX($H:$H,MATCH($J2,年末年始,),),"")} | L2: =IF(OR(TEXT(J2,"aaa")="土",TEXT(J2,"aaa")="日",K2<>""),1,0) -> 1 | M2: =IF(OR(AND(休日取得状況表!$D$4<J2,J2<休日取得状況表!$B$5),AND(休日取得状況表!$D$5<J2,J2<休日取得状況表!$B$6),AND(休日取得状況表!$D$6<J2,J2<休日取得状況表!$B$7)),"✕",L2) -> 1
A3: 43427 | B3: 勤労感謝の日 | D3: 45517 | E3: 夏季休暇 | G3: 45293 | H3: 年末年始 | J3: =IF(J2>=MAX(休日取得状況表!$D$4:$D$7),"",J2+1) | K3: {=IFERROR(INDEX($B:$B,MATCH($J3,祝日,),),"")&IFERROR(INDEX($E:$E,MATCH($J3,夏季休暇,),),"")&IFERROR(INDEX($H:$H,MATCH($J3,年末年始,),),"")} | L3: =IF(OR(TEXT(J3,"aaa")="土",TEXT(J3,"aaa")="日",K3<>""),1,0) -> 0 | M3: =IF(OR(AND(休日取得状況表!$D$4<J3,J3<休日取得状況表!$B$5),AND(休日取得状況表!$D$5<J3,J3<休日取得状況表!$B$6),AND(休日取得状況表!$D$6<J3,J3<休日取得状況表!$B$7)),"✕",L3) -> 0
A4: 43457 | B4: 天皇誕生日 | D4: 45518 | E4: 夏季休暇 | G4: 45294 | H4: 年末年始 | J4: =IF(J3>=MAX(休日取得状況表!$D$4:$D$7),"",J3+1) | K4: {=IFERROR(INDEX($B:$B,MATCH($J4,祝日,),),"")&IFERROR(INDEX($E:$E,MATCH($J4,夏季休暇,),),"")&IFERROR(INDEX($H:$H,MATCH($J4,年末年始,),),"")} | L4: =IF(OR(TEXT(J4,"aaa")="土",TEXT(J4,"aaa")="日",K4<>""),1,0) -> 0 | M4: =IF(OR(AND(休日取得状況表!$D$4<J4,J4<休日取得状況表!$B$5),AND(休日取得状況表!$D$5<J4,J4<休日取得状況表!$B$6),AND(休日取得状況表!$D$6<J4,J4<休日取得状況表!$B$7)),"✕",L4) -> 0
A5: 43458 | B5: 振替休日 | D5: 45881 | E5: 夏季休暇 | G5: 45655 | H5: 年末年始 | J5: =IF(J4>=MAX(休日取得状況表!$D$4:$D$7),"",J4+1) | K5: {=IFERROR(INDEX($B:$B,MATCH($J5,祝日,),),"")&IFERROR(INDEX($E:$E,MATCH($J5,夏季休暇,),),"")&IFERROR(INDEX($H:$H,MATCH($J5,年末年始,),),"")} | L5: =IF(OR(TEXT(J5,"aaa")="土",TEXT(J5,"aaa")="日",K5<>""),1,0) -> 0 | M5: =IF(OR(AND(休日取得状況表!$D$4<J5,J5<休日取得状況表!$B$5),AND(休日取得状況表!$D$5<J5,J5<休日取得状況表!$B$6),AND(休日取得状況表!$D$6<J5,J5<休日取得状況表!$B$7)),"✕",L5) -> 0
A6: 43466 | B6: 元日 | D6: 45882 | E6: 夏季休暇 | G6: 45656 | H6: 年末年始 | J6: =IF(J5>=MAX(休日取得状況表!$D$4:$D$7),"",J5+1) | K6: {=IFERROR(INDEX($B:$B,MATCH($J6,祝日,),),"")&IFERROR(INDEX($E:$E,MATCH($J6,夏季休暇,),),"")&IFERROR(INDEX($H:$H,MATCH($J6,年末年始,),),"")} | L6: =IF(OR(TEXT(J6,"aaa")="土",TEXT(J6,"aaa")="日",K6<>""),1,0) -> 0 | M6: =IF(OR(AND(休日取得状況表!$D$4<J6,J6<休日取得状況表!$B$5),AND(休日取得状況表!$D$5<J6,J6<休日取得状況表!$B$6),AND(休日取得状況表!$D$6<J6,J6<休日取得状況表!$B$7)),"✕",L6) -> 0
A7: 43479 | B7: 成人の日 | D7: 45883 | E7: 夏季休暇 | G7: 45657 | H7: 年末年始 | J7: =IF(J6>=MAX(休日取得状況表!$D$4:$D$7),"",J6+1) | K7: {=IFERROR(INDEX($B:$B,MATCH($J7,祝日,),),"")&IFERROR(INDEX($E:$E,MATCH($J7,夏季休暇,),),"")&IFERROR(INDEX($H:$H,MATCH($J7,年末年始,),),"")} | L7: =IF(OR(TEXT(J7,"aaa")="土",TEXT(J7,"aaa")="日",K7<>""),1,0) -> 0 | M7: =IF(OR(AND(休日取得状況表!$D$4<J7,J7<休日取得状況表!$B$5),AND(休日取得状況表!$D$5<J7,J7<休日取得状況表!$B$6),AND(休日取得状況表!$D$6<J7,J7<休日取得状況表!$B$7)),"✕",L7) -> 0
A8: 43507 | B8: 建国記念の日 | D8: 46246 | E8: 夏季休暇 | G8: 祝日のため除去 | H8: 年末年始 | J8: =IF(J7>=MAX(休日取得状況表!$D$4:$D$7),"",J7+1) | K8: {=IFERROR(INDEX($B:$B,MATCH($J8,祝日,),),"")&IFERROR(INDEX($E:$E,MATCH($J8,夏季休暇,),),"")&IFERROR(INDEX($H:$H,MATCH($J8,年末年始,),),"")} | L8: =IF(OR(TEXT(J8,"aaa")="土",TEXT(J8,"aaa")="日",K8<>""),1,0) -> 0 | M8: =IF(OR(AND(休日取得状況表!$D$4<J8,J8<休日取得状況表!$B$5),AND(休日取得状況表!$D$5<J8,J8<休日取得状況表!$B$6),AND(休日取得状況表!$D$6<J8,J8<休日取得状況表!$B$7)),"✕",L8) -> 0
A9: 43545 | B9: 春分の日 | D9: 46247 | E9: 夏季休暇 | G9: 45659 | H9: 年末年始 | J9: =IF(J8>=MAX(休日取得状況表!$D$4:$D$7),"",J8+1) | K9: {=IFERROR(INDEX($B:$B,MATCH($J9,祝日,),),"")&IFERROR(INDEX($E:$E,MATCH($J9,夏季休暇,),),"")&IFERROR(INDEX($H:$H,MATCH($J9,年末年始,),),"")} | L9: =IF(OR(TEXT(J9,"aaa")="土",TEXT(J9,"aaa")="日",K9<>""),1,0) -> 0 | M9: =IF(OR(AND(休日取得状況表!$D$4<J9,J9<休日取得状況表!$B$5),AND(休日取得状況表!$D$5<J9,J9<休日取得状況表!$B$6),AND(休日取得状況表!$D$6<J9,J9<休日取得状況表!$B$7)),"✕",L9) -> 0
A10: 43584 | B10: 昭和の日 | D10: 46248 | E10: 夏季休暇 | G10: 45660 | H10: 年末年始 | J10: =IF(J9>=MAX(休日取得状況表!$D$4:$D$7),"",J9+1) | K10: {=IFERROR(INDEX($B:$B,MATCH($J10,祝日,),),"")&IFERROR(INDEX($E:$E,MATCH($J10,夏季休暇,),),"")&IFERROR(INDEX($H:$H,MATCH($J10,年末年始,),),"")} | L10: =IF(OR(TEXT(J10,"aaa")="土",TEXT(J10,"aaa")="日",K10<>""),1,0) -> 0 | M10: =IF(OR(AND(休日取得状況表!$D$4<J10,J10<休日取得状況表!$B$5),AND(休日取得状況表!$D$5<J10,J10<休日取得状況表!$B$6),AND(休日取得状況表!$D$6<J10,J10<休日取得状況表!$B$7)),"✕",L10) -> 0
A11: 43585 | B11: 国民の休日 | D11: 46611 | E11: 夏季休暇 | G11: 46020 | H11: 年末年始 | J11: =IF(J10>=MAX(休日取得状況表!$D$4:$D$7),"",J10+1) | K11: {=IFERROR(INDEX($B:$B,MATCH($J11,祝日,),),"")&IFERROR(INDEX($E:$E,MATCH($J11,夏季休暇,),),"")&IFERROR(INDEX($H:$H,MATCH($J11,年末年始,),),"")} | L11: =IF(OR(TEXT(J11,"aaa")="土",TEXT(J11,"aaa")="日",K11<>""),1,0) -> 0 | M11: =IF(OR(AND(休日取得状況表!$D$4<J11,J11<休日取得状況表!$B$5),AND(休日取得状況表!$D$5<J11,J11<休日取得状況表!$B$6),AND(休日取得状況表!$D$6<J11,J11<休日取得状況表!$B$7)),"✕",L11) -> 0
A12: 43586 | B12: 天皇の即位の日 | D12: 46612 | E12: 夏季休暇 | G12: 46021 | H12: 年末年始 | J12: =IF(J11>=MAX(休日取得状況表!$D$4:$D$7),"",J11+1) | K12: {=IFERROR(INDEX($B:$B,MATCH($J12,祝日,),),"")&IFERROR(INDEX($E:$E,MATCH($J12,夏季休暇,),),"")&IFERROR(INDEX($H:$H,MATCH($J12,年末年始,),),"")} | L12: =IF(OR(TEXT(J12,"aaa")="土",TEXT(J12,"aaa")="日",K12<>""),1,0) -> 0 | M12: =IF(OR(AND(休日取得状況表!$D$4<J12,J12<休日取得状況表!$B$5),AND(休日取得状況表!$D$5<J12,J12<休日取得状況表!$B$6),AND(休日取得状況表!$D$6<J12,J12<休日取得状況表!$B$7)),"✕",L12) -> 0
A13: 43587 | B13: 国民の休日 | D13: 46615 | E13: 夏季休暇 | G13: 46022 | H13: 年末年始 | J13: =IF(J12>=MAX(休日取得状況表!$D$4:$D$7),"",J12+1) | K13: {=IFERROR(INDEX($B:$B,MATCH($J13,祝日,),),"")&IFERROR(INDEX($E:$E,MATCH($J13,夏季休暇,),),"")&IFERROR(INDEX($H:$H,MATCH($J13,年末年始,),),"")} | L13: =IF(OR(TEXT(J13,"aaa")="土",TEXT(J13,"aaa")="日",K13<>""),1,0) -> 0 | M13: =IF(OR(AND(休日取得状況表!$D$4<J13,J13<休日取得状況表!$B$5),AND(休日取得状況表!$D$5<J13,J13<休日取得状況表!$B$6),AND(休日取得状況表!$D$6<J13,J13<休日取得状況表!$B$7)),"✕",L13) -> 0
A14: 43588 | B14: 憲法記念日 | D14: 46979 | E14: 夏季休暇 | G14: 祝日のため除去 | H14: 年末年始 | J14: =IF(J13>=MAX(休日取得状況表!$D$4:$D$7),"",J13+1) | K14: {=IFERROR(INDEX($B:$B,MATCH($J14,祝日,),),"")&IFERROR(INDEX($E:$E,MATCH($J14,夏季休暇,),),"")&IFERROR(INDEX($H:$H,MATCH($J14,年末年始,),),"")} | L14: =IF(OR(TEXT(J14,"aaa")="土",TEXT(J14,"aaa")="日",K14<>""),1,0) -> 0 | M14: =IF(OR(AND(休日取得状況表!$D$4<J14,J14<休日取得状況表!$B$5),AND(休日取得状況表!$D$5<J14,J14<休日取得状況表!$B$6),AND(休日取得状況表!$D$6<J14,J14<休日取得状況表!$B$7)),"✕",L14) -> 0
A15: 43589 | B15: みどりの日 | D15: 46980 | E15: 夏季休暇 | G15: 46024 | H15: 年末年始 | J15: =IF(J14>=MAX(休日取得状況表!$D$4:$D$7),"",J14+1) | K15: {=IFERROR(INDEX($B:$B,MATCH($J15,祝日,),),"")&IFERROR(INDEX($E:$E,MATCH($J15,夏季休暇,),),"")&IFERROR(INDEX($H:$H,MATCH($J15,年末年始,),),"")} | L15: =IF(OR(TEXT(J15,"aaa")="土",TEXT(J15,"aaa")="日",K15<>""),1,0) -> 0 | M15: =IF(OR(AND(休日取得状況表!$D$4<J15,J15<休日取得状況表!$B$5),AND(休日取得状況表!$D$5<J15,J15<休日取得状況表!$B$6),AND(休日取得状況表!$D$6<J15,J15<休日取得状況表!$B$7)),"✕",L15) -> 0
A16: 43590 | B16: こどもの日 | D16: 46981 | E16: 夏季休暇 | G16: 46025 | H16: 年末年始 | J16: =IF(J15>=MAX(休日取得状況表!$D$4:$D$7),"",J15+1) | K16: {=IFERROR(INDEX($B:$B,MATCH($J16,祝日,),),"")&IFERROR(INDEX($E:$E,MATCH($J16,夏季休暇,),),"")&IFERROR(INDEX($H:$H,MATCH($J16,年末年始,),),"")} | L16: =IF(OR(TEXT(J16,"aaa")="土",TEXT(J16,"aaa")="日",K16<>""),1,0) -> 0 | M16: =IF(OR(AND(休日取得状況表!$D$4<J16,J16<休日取得状況表!$B$5),AND(休日取得状況表!$D$5<J16,J16<休日取得状況表!$B$6),AND(休日取得状況表!$D$6<J16,J16<休日取得状況表!$B$7)),"✕",L16) -> 0
A17: 43591 | B17: 振替休日 | D17: 47343 | E17: 夏季休暇 | G17: 46385 | H17: 年末年始 | J17: =IF(J16>=MAX(休日取得状況表!$D$4:$D$7),"",J16+1) | K17: {=IFERROR(INDEX($B:$B,MATCH($J17,祝日,),),"")&IFERROR(INDEX($E:$E,MATCH($J17,夏季休暇,),),"")&IFERROR(INDEX($H:$H,MATCH($J17,年末年始,),),"")} | L17: =IF(OR(TEXT(J17,"aaa")="土",TEXT(J17,"aaa")="日",K17<>""),1,0) -> 0 | M17: =IF(OR(AND(休日取得状況表!$D$4<J17,J17<休日取得状況表!$B$5),AND(休日取得状況表!$D$5<J17,J17<休日取得状況表!$B$6),AND(休日取得状況表!$D$6<J17,J17<休日取得状況表!$B$7)),"✕",L17) -> 0
A18: 43661 | B18: 海の日 | D18: 47344 | E18: 夏季休暇 | G18: 46386 | H18: 年末年始 | J18: =IF(J17>=MAX(休日取得状況表!$D$4:$D$7),"",J17+1) | K18: {=IFERROR(INDEX($B:$B,MATCH($J18,祝日,),),"")&IFERROR(INDEX($E:$E,MATCH($J18,夏季休暇,),),"")&IFERROR(INDEX($H:$H,MATCH($J18,年末年始,),),"")} | L18: =IF(OR(TEXT(J18,"aaa")="土",TEXT(J18,"aaa")="日",K18<>""),1,0) -> 0 | M18: =IF(OR(AND(休日取得状況表!$D$4<J18,J18<休日取得状況表!$B$5),AND(休日取得状況表!$D$5<J18,J18<休日取得状況表!$B$6),AND(休日取得状況表!$D$6<J18,J18<休日取得状況表!$B$7)),"✕",L18) -> 0
A19: 43688 | B19: 山の日 | D19: 47345 | E19: 夏季休暇 | G19: 46387 | H19: 年末年始 | J19: =IF(J18>=MAX(休日取得状況表!$D$4:$D$7),"",J18+1) | K19: {=IFERROR(INDEX($B:$B,MATCH($J19,祝日,),),"")&IFERROR(INDEX($E:$E,MATCH($J19,夏季休暇,),),"")&IFERROR(INDEX($H:$H,MATCH($J19,年末年始,),),"")} | L19: =IF(OR(TEXT(J19,"aaa")="土",TEXT(J19,"aaa")="日",K19<>""),1,0) -> 0 | M19: =IF(OR(AND(休日取得状況表!$D$4<J19,J19<休日取得状況表!$B$5),AND(休日取得状況表!$D$5<J19,J19<休日取得状況表!$B$6),AND(休日取得状況表!$D$6<J19,J19<休日取得状況表!$B$7)),"✕",L19) -> 0
A20: 43689 | B20: 振替休日 | D20: 47707 | E20: 夏季休暇 | G20: 祝日のため除去 | H20: 年末年始 | J20: =IF(J19>=MAX(休日取得状況表!$D$4:$D$7),"",J19+1) | K20: {=IFERROR(INDEX($B:$B,MATCH($J20,祝日,),),"")&IFERROR(INDEX($E:$E,MATCH($J20,夏季休暇,),),"")&IFERROR(INDEX($H:$H,MATCH($J20,年末年始,),),"")} | L20: =IF(OR(TEXT(J20,"aaa")="土",TEXT(J20,"aaa")="日",K20<>""),1,0) -> 0 | M20: =IF(OR(AND(休日取得状況表!$D$4<J20,J20<休日取得状況表!$B$5),AND(休日取得状況表!$D$5<J20,J20<休日取得状況表!$B$6),AND(休日取得状況表!$D$6<J20,J20<休日取得状況表!$B$7)),"✕",L20) -> 0
A21: 43724 | B21: 敬老の日 | D21: 47708 | E21: 夏季休暇 | G21: 46389 | H21: 年末年始 | J21: =IF(J20>=MAX(休日取得状況表!$D$4:$D$7),"",J20+1) | K21: {=IFERROR(INDEX($B:$B,MATCH($J21,祝日,),),"")&IFERROR(INDEX($E:$E,MATCH($J21,夏季休暇,),),"")&IFERROR(INDEX($H:$H,MATCH($J21,年末年始,),),"")} | L21: =IF(OR(TEXT(J21,"aaa")="土",TEXT(J21,"aaa")="日",K21<>""),1,0) -> 0 | M21: =IF(OR(AND(休日取得状況表!$D$4<J21,J21<休日取得状況表!$B$5),AND(休日取得状況表!$D$5<J21,J21<休日取得状況表!$B$6),AND(休日取得状況表!$D$6<J21,J21<休日取得状況表!$B$7)),"✕",L21) -> 0
A22: 43731 | B22: 秋分の日 | D22: 47709 | E22: 夏季休暇 | G22: 46390 | H22: 年末年始 | J22: =IF(J21>=MAX(休日取得状況表!$D$4:$D$7),"",J21+1) | K22: {=IFERROR(INDEX($B:$B,MATCH($J22,祝日,),),"")&IFERROR(INDEX($E:$E,MATCH($J22,夏季休暇,),),"")&IFERROR(INDEX($H:$H,MATCH($J22,年末年始,),),"")} | L22: =IF(OR(TEXT(J22,"aaa")="土",TEXT(J22,"aaa")="日",K22<>""),1,0) -> 0 | M22: =IF(OR(AND(休日取得状況表!$D$4<J22,J22<休日取得状況表!$B$5),AND(休日取得状況表!$D$5<J22,J22<休日取得状況表!$B$6),AND(休日取得状況表!$D$6<J22,J22<休日取得状況表!$B$7)),"✕",L22) -> 0
A23: 43752 | B23: 体育の日 | G23: 46750 | H23: 年末年始 | J23: =IF(J22>=MAX(休日取得状況表!$D$4:$D$7),"",J22+1) | K23: {=IFERROR(INDEX($B:$B,MATCH($J23,祝日,),),"")&IFERROR(INDEX($E:$E,MATCH($J23,夏季休暇,),),"")&IFERROR(INDEX($H:$H,MATCH($J23,年末年始,),),"")} | L23: =IF(OR(TEXT(J23,"aaa")="土",TEXT(J23,"aaa")="日",K23<>""),1,0) -> 0 | M23: =IF(OR(AND(休日取得状況表!$D$4<J23,J23<休日取得状況表!$B$5),AND(休日取得状況表!$D$5<J23,J23<休日取得状況表!$B$6),AND(休日取得状況表!$D$6<J23,J23<休日取得状況表!$B$7)),"✕",L23) -> 0
A24: 43760 | B24: 即位礼正殿の儀 | G24: 46751 | H24: 年末年始 | J24: =IF(J23>=MAX(休日取得状況表!$D$4:$D$7),"",J23+1) | K24: {=IFERROR(INDEX($B:$B,MATCH($J24,祝日,),),"")&IFERROR(INDEX($E:$E,MATCH($J24,夏季休暇,),),"")&IFERROR(INDEX($H:$H,MATCH($J24,年末年始,),),"")} | L24: =IF(OR(TEXT(J24,"aaa")="土",TEXT(J24,"aaa")="日",K24<>""),1,0) -> 0 | M24: =IF(OR(AND(休日取得状況表!$D$4<J24,J24<休日取得状況表!$B$5),AND(休日取得状況表!$D$5<J24,J24<休日取得状況表!$B$6),AND(休日取得状況表!$D$6<J24,J24<休日取得状況表!$B$7)),"✕",L24) -> 0
A25: 43772 | B25: 文化の日 | G25: 46752 | H25: 年末年始 | J25: =IF(J24>=MAX(休日取得状況表!$D$4:$D$7),"",J24+1) | K25: {=IFERROR(INDEX($B:$B,MATCH($J25,祝日,),),"")&IFERROR(INDEX($E:$E,MATCH($J25,夏季休暇,),),"")&IFERROR(INDEX($H:$H,MATCH($J25,年末年始,),),"")} | L25: =IF(OR(TEXT(J25,"aaa")="土",TEXT(J25,"aaa")="日",K25<>""),1,0) -> 0 | M25: =IF(OR(AND(休日取得状況表!$D$4<J25,J25<休日取得状況表!$B$5),AND(休日取得状況表!$D$5<J25,J25<休日取得状況表!$B$6),AND(休日取得状況表!$D$6<J25,J25<休日取得状況表!$B$7)),"✕",L25) -> 0
A26: 43773 | B26: 振替休日 | G26: 祝日のため除去 | H26: 年末年始 | J26: =IF(J25>=MAX(休日取得状況表!$D$4:$D$7),"",J25+1) | K26: {=IFERROR(INDEX($B:$B,MATCH($J26,祝日,),),"")&IFERROR(INDEX($E:$E,MATCH($J26,夏季休暇,),),"")&IFERROR(INDEX($H:$H,MATCH($J26,年末年始,),),"")} | L26: =IF(OR(TEXT(J26,"aaa")="土",TEXT(J26,"aaa")="日",K26<>""),1,0) -> 0 | M26: =IF(OR(AND(休日取得状況表!$D$4<J26,J26<休日取得状況表!$B$5),AND(休日取得状況表!$D$5<J26,J26<休日取得状況表!$B$6),AND(休日取得状況表!$D$6<J26,J26<休日取得状況表!$B$7)),"✕",L26) -> 0
A27: 43792 | B27: 勤労感謝の日 | G27: 46754 | H27: 年末年始 | J27: =IF(J26>=MAX(休日取得状況表!$D$4:$D$7),"",J26+1) | K27: {=IFERROR(INDEX($B:$B,MATCH($J27,祝日,),),"")&IFERROR(INDEX($E:$E,MATCH($J27,夏季休暇,),),"")&IFERROR(INDEX($H:$H,MATCH($J27,年末年始,),),"")} | L27: =IF(OR(TEXT(J27,"aaa")="土",TEXT(J27,"aaa")="日",K27<>""),1,0) -> 0 | M27: =IF(OR(AND(休日取得状況表!$D$4<J27,J27<休日取得状況表!$B$5),AND(休日取得状況表!$D$5<J27,J27<休日取得状況表!$B$6),AND(休日取得状況表!$D$6<J27,J27<休日取得状況表!$B$7)),"✕",L27) -> 0
G28: 46755 | H28: 年末年始 | J28: =IF(J27>=MAX(休日取得状況表!$D$4:$D$7),"",J27+1) | K28: {=IFERROR(INDEX($B:$B,MATCH($J28,祝日,),),"")&IFERROR(INDEX($E:$E,MATCH($J28,夏季休暇,),),"")&IFERROR(INDEX($H:$H,MATCH($J28,年末年始,),),"")} | L28: =IF(OR(TEXT(J28,"aaa")="土",TEXT(J28,"aaa")="日",K28<>""),1,0) -> 0 | M28: =IF(OR(AND(休日取得状況表!$D$4<J28,J28<休日取得状況表!$B$5),AND(休日取得状況表!$D$5<J28,J28<休日取得状況表!$B$6),AND(休日取得状況表!$D$6<J28,J28<休日取得状況表!$B$7)),"✕",L28) -> 0
A29: 43831 | B29: 元日 | G29: 47116 | H29: 年末年始 | J29: =IF(J28>=MAX(休日取得状況表!$D$4:$D$7),"",J28+1) | K29: {=IFERROR(INDEX($B:$B,MATCH($J29,祝日,),),"")&IFERROR(INDEX($E:$E,MATCH($J29,夏季休暇,),),"")&IFERROR(INDEX($H:$H,MATCH($J29,年末年始,),),"")} | L29: =IF(OR(TEXT(J29,"aaa")="土",TEXT(J29,"aaa")="日",K29<>""),1,0) -> 0 | M29: =IF(OR(AND(休日取得状況表!$D$4<J29,J29<休日取得状況表!$B$5),AND(休日取得状況表!$D$5<J29,J29<休日取得状況表!$B$6),AND(休日取得状況表!$D$6<J29,J29<休日取得状況表!$B$7)),"✕",L29) -> 0
A30: 43843 | B30: 成人の日 | G30: 47117 | H30: 年末年始 | J30: =IF(J29>=MAX(休日取得状況表!$D$4:$D$7),"",J29+1) | K30: {=IFERROR(INDEX($B:$B,MATCH($J30,祝日,),),"")&IFERROR(INDEX($E:$E,MATCH($J30,夏季休暇,),),"")&IFERROR(INDEX($H:$H,MATCH($J30,年末年始,),),"")} | L30: =IF(OR(TEXT(J30,"aaa")="土",TEXT(J30,"aaa")="日",K30<>""),1,0) -> 0 | M30: =IF(OR(AND(休日取得状況表!$D$4<J30,J30<休日取得状況表!$B$5),AND(休日取得状況表!$D$5<J30,J30<休日取得状況表!$B$6),AND(休日取得状況表!$D$6<J30,J30<休日取得状況表!$B$7)),"✕",L30) -> 0
A31: 43872 | B31: 建国記念の日 | G31: 47118 | H31: 年末年始 | J31: =IF(J30>=MAX(休日取得状況表!$D$4:$D$7),"",J30+1) | K31: {=IFERROR(INDEX($B:$B,MATCH($J31,祝日,),),"")&IFERROR(INDEX($E:$E,MATCH($J31,夏季休暇,),),"")&IFERROR(INDEX($H:$H,MATCH($J31,年末年始,),),"")} | L31: =IF(OR(TEXT(J31,"aaa")="土",TEXT(J31,"aaa")="日",K31<>""),1,0) -> 0 | M31: =IF(OR(AND(休日取得状況表!$D$4<J31,J31<休日取得状況表!$B$5),AND(休日取得状況表!$D$5<J31,J31<休日取得状況表!$B$6),AND(休日取得状況表!$D$6<J31,J31<休日取得状況表!$B$7)),"✕",L31) -> 0
A32: 43884 | B32: 天皇誕生日 | G32: 祝日のため除去 | H32: 年末年始 | J32: =IF(J31>=MAX(休日取得状況表!$D$4:$D$7),"",J31+1) | K32: {=IFERROR(INDEX($B:$B,MATCH($J32,祝日,),),"")&IFERROR(INDEX($E:$E,MATCH($J32,夏季休暇,),),"")&IFERROR(INDEX($H:$H,MATCH($J32,年末年始,),),"")} | L32: =IF(OR(TEXT(J32,"aaa")="土",TEXT(J32,"aaa")="日",K32<>""),1,0) -> 0 | M32: =IF(OR(AND(休日取得状況表!$D$4<J32,J32<休日取得状況表!$B$5),AND(休日取得状況表!$D$5<J32,J32<休日取得状況表!$B$6),AND(休日取得状況表!$D$6<J32,J32<休日取得状況表!$B$7)),"✕",L32) -> 0
A33: 43885 | B33: 振替休日 | G33: 47120 | H33: 年末年始 | J33: =IF(J32>=MAX(休日取得状況表!$D$4:$D$7),"",J32+1) | K33: {=IFERROR(INDEX($B:$B,MATCH($J33,祝日,),),"")&IFERROR(INDEX($E:$E,MATCH($J33,夏季休暇,),),"")&IFERROR(INDEX($H:$H,MATCH($J33,年末年始,),),"")} | L33: =IF(OR(TEXT(J33,"aaa")="土",TEXT(J33,"aaa")="日",K33<>""),1,0) -> 0 | M33: =IF(OR(AND(休日取得状況表!$D$4<J33,J33<休日取得状況表!$B$5),AND(休日取得状況表!$D$5<J33,J33<休日取得状況表!$B$6),AND(休日取得状況表!$D$6<J33,J33<休日取得状況表!$B$7)),"✕",L33) -> 0
A34: 43910 | B34: 春分の日 | G34: 47121 | H34: 年末年始 | J34: =IF(J33>=MAX(休日取得状況表!$D$4:$D$7),"",J33+1) | K34: {=IFERROR(INDEX($B:$B,MATCH($J34,祝日,),),"")&IFERROR(INDEX($E:$E,MATCH($J34,夏季休暇,),),"")&IFERROR(INDEX($H:$H,MATCH($J34,年末年始,),),"")} | L34: =IF(OR(TEXT(J34,"aaa")="土",TEXT(J34,"aaa")="日",K34<>""),1,0) -> 0 | M34: =IF(OR(AND(休日取得状況表!$D$4<J34,J34<休日取得状況表!$B$5),AND(休日取得状況表!$D$5<J34,J34<休日取得状況表!$B$6),AND(休日取得状況表!$D$6<J34,J34<休日取得状況表!$B$7)),"✕",L34) -> 0
A35: 43950 | B35: 昭和の日 | G35: 47481 | H35: 年末年始 | J35: =IF(J34>=MAX(休日取得状況表!$D$4:$D$7),"",J34+1) | K35: {=IFERROR(INDEX($B:$B,MATCH($J35,祝日,),),"")&IFERROR(INDEX($E:$E,MATCH($J35,夏季休暇,),),"")&IFERROR(INDEX($H:$H,MATCH($J35,年末年始,),),"")} | L35: =IF(OR(TEXT(J35,"aaa")="土",TEXT(J35,"aaa")="日",K35<>""),1,0) -> 0 | M35: =IF(OR(AND(休日取得状況表!$D$4<J35,J35<休日取得状況表!$B$5),AND(休日取得状況表!$D$5<J35,J35<休日取得状況表!$B$6),AND(休日取得状況表!$D$6<J35,J35<休日取得状況表!$B$7)),"✕",L35) -> 0
A36: 43954 | B36: 憲法記念日 | G36: 47482 | H36: 年末年始 | J36: =IF(J35>=MAX(休日取得状況表!$D$4:$D$7),"",J35+1) | K36: {=IFERROR(INDEX($B:$B,MATCH($J36,祝日,),),"")&IFERROR(INDEX($E:$E,MATCH($J36,夏季休暇,),),"")&IFERROR(INDEX($H:$H,MATCH($J36,年末年始,),),"")} | L36: =IF(OR(TEXT(J36,"aaa")="土",TEXT(J36,"aaa")="日",K36<>""),1,0) -> 0 | M36: =IF(OR(AND(休日取得状況表!$D$4<J36,J36<休日取得状況表!$B$5),AND(休日取得状況表!$D$5<J36,J36<休日取得状況表!$B$6),AND(休日取得状況表!$D$6<J36,J36<休日取得状況表!$B$7)),"✕",L36) -> 0
A37: 43955 | B37: みどりの日 | G37: 47483 | H37: 年末年始 | J37: =IF(J36>=MAX(休日取得状況表!$D$4:$D$7),"",J36+1) | K37: {=IFERROR(INDEX($B:$B,MATCH($J37,祝日,),),"")&IFERROR(INDEX($E:$E,MATCH($J37,夏季休暇,),),"")&IFERROR(INDEX($H:$H,MATCH($J37,年末年始,),),"")} | L37: =IF(OR(TEXT(J37,"aaa")="土",TEXT(J37,"aaa")="日",K37<>""),1,0) -> 0 | M37: =IF(OR(AND(休日取得状況表!$D$4<J37,J37<休日取得状況表!$B$5),AND(休日取得状況表!$D$5<J37,J37<休日取得状況表!$B$6),AND(休日取得状況表!$D$6<J37,J37<休日取得状況表!$B$7)),"✕",L37) -> 0
A38: 43956 | B38: こどもの日 | G38: 祝日のため除去 | H38: 年末年始 | J38: =IF(J37>=MAX(休日取得状況表!$D$4:$D$7),"",J37+1) | K38: {=IFERROR(INDEX($B:$B,MATCH($J38,祝日,),),"")&IFERROR(INDEX($E:$E,MATCH($J38,夏季休暇,),),"")&IFERROR(INDEX($H:$H,MATCH($J38,年末年始,),),"")} | L38: =IF(OR(TEXT(J38,"aaa")="土",TEXT(J38,"aaa")="日",K38<>""),1,0) -> 0 | M38: =IF(OR(AND(休日取得状況表!$D$4<J38,J38<休日取得状況表!$B$5),AND(休日取得状況表!$D$5<J38,J38<休日取得状況表!$B$6),AND(休日取得状況表!$D$6<J38,J38<休日取得状況表!$B$7)),"✕",L38) -> 0
A39: 43957 | B39: 振替休日 | G39: 47485 | H39: 年末年始 | J39: =IF(J38>=MAX(休日取得状況表!$D$4:$D$7),"",J38+1) | K39: {=IFERROR(INDEX($B:$B,MATCH($J39,祝日,),),"")&IFERROR(INDEX($E:$E,MATCH($J39,夏季休暇,),),"")&IFERROR(INDEX($H:$H,MATCH($J39,年末年始,),),"")} | L39: =IF(OR(TEXT(J39,"aaa")="土",TEXT(J39,"aaa")="日",K39<>""),1,0) -> 0 | M39: =IF(OR(AND(休日取得状況表!$D$4<J39,J39<休日取得状況表!$B$5),AND(休日取得状況表!$D$5<J39,J39<休日取得状況表!$B$6),AND(休日取得状況表!$D$6<J39,J39<休日取得状況表!$B$7)),"✕",L39) -> 0
A40: 44035 | B40: 海の日 | G40: 47486 | H40: 年末年始 | J40: =IF(J39>=MAX(休日取得状況表!$D$4:$D$7),"",J39+1) | K40: {=IFERROR(INDEX($B:$B,MATCH($J40,祝日,),),"")&IFERROR(INDEX($E:$E,MATCH($J40,夏季休暇,),),"")&IFERROR(INDEX($H:$H,MATCH($J40,年末年始,),),"")} | L40: =IF(OR(TEXT(J40,"aaa")="土",TEXT(J40,"aaa")="日",K40<>""),1,0) -> 0 | M40: =IF(OR(AND(休日取得状況表!$D$4<J40,J40<休日取得状況表!$B$5),AND(休日取得状況表!$D$5<J40,J40<休日取得状況表!$B$6),AND(休日取得状況表!$D$6<J40,J40<休日取得状況表!$B$7)),"✕",L40) -> 0
...

Sheet 休日取得状況表
A1: 休日取得状況表（交替制） | J1: （様式４）
A2: 工事名
A3: 工期 | C3: ～ | F3: ※1休日日数･･･祝日、年末年始、夏期休暇を含む
A4: 対象期間 | C4: ～ | F4: （工場製作のみの期間、工事全体を一時中止している期間は対象に含まない））
A5: 対象期間② | E5: =IF(B5="","",IF(B5<D4,"期間の入力を確認してください。",""))
A6: 対象期間③ | C6: ～ | E6: =IF(B6="","",IF(B6<D5,"期間の入力を確認してください。",""))
A7: 対象期間④ | C7: ～ | E7: =IF(B7="","",IF(B7<D6,"期間の入力を確認してください。",""))
A9: 所属企業名 | C9: 氏 名 | E9: 従事期間 | H9: 休日日数 ※1 | I9: 休日取得日数 | J9: 判定
F10: ～ | H10: =SUMIF(定義!$J:$J,">="&休日取得状況表!E10,定義!$M:$M)-SUMIF(定義!$J:$J,">"&G10,定義!$M:$M) -> 0 | J10: =IF(H10=0,"",IF(I10>=H10,"達成","未達成"))
F11: ～ | H11: =SUMIF(定義!$J:$J,">="&休日取得状況表!E11,定義!$M:$M)-SUMIF(定義!$J:$J,">"&G11,定義!$M:$M) -> 0 | J11: =IF(H11=0,"",IF(I11>=H11,"達成","未達成"))
F12: ～ | H12: =SUMIF(定義!$J:$J,">="&休日取得状況表!E12,定義!$M:$M)-SUMIF(定義!$J:$J,">"&G12,定義!$M:$M) -> 0 | J12: =IF(H12=0,"",IF(I12>=H12,"達成","未達成"))
F13: ～ | H13: =SUMIF(定義!$J:$J,">="&休日取得状況表!E13,定義!$M:$M)-SUMIF(定義!$J:$J,">"&G13,定義!$M:$M) -> 0 | J13: =IF(H13=0,"",IF(I13>=H13,"達成","未達成"))
F14: ～ | H14: =SUMIF(定義!$J:$J,">="&休日取得状況表!E14,定義!$M:$M)-SUMIF(定義!$J:$J,">"&G14,定義!$M:$M) -> 0 | J14: =IF(H14=0,"",IF(I14>=H14,"達成","未達成"))
F15: ～ | H15: =SUMIF(定義!$J:$J,">="&休日取得状況表!E15,定義!$M:$M)-SUMIF(定義!$J:$J,">"&G15,定義!$M:$M) -> 0 | J15: =IF(H15=0,"",IF(I15>=H15,"達成","未達成"))
F16: ～ | H16: =SUMIF(定義!$J:$J,">="&休日取得状況表!E16,定義!$M:$M)-SUMIF(定義!$J:$J,">"&G16,定義!$M:$M) -> 0 | J16: =IF(H16=0,"",IF(I16>=H16,"達成","未達成"))
F17: ～ | H17: =SUMIF(定義!$J:$J,">="&休日取得状況表!E17,定義!$M:$M)-SUMIF(定義!$J:$J,">"&G17,定義!$M:$M) -> 0 | J17: =IF(H17=0,"",IF(I17>=H17,"達成","未達成"))
F18: ～ | H18: =SUMIF(定義!$J:$J,">="&休日取得状況表!E18,定義!$M:$M)-SUMIF(定義!$J:$J,">"&G18,定義!$M:$M) -> 0 | J18: =IF(H18=0,"",IF(I18>=H18,"達成","未達成"))
F19: ～ | H19: =SUMIF(定義!$J:$J,">="&休日取得状況表!E19,定義!$M:$M)-SUMIF(定義!$J:$J,">"&G19,定義!$M:$M) -> 0 | J19: =IF(H19=0,"",IF(I19>=H19,"達成","未達成"))
F20: ～ | H20: =SUMIF(定義!$J:$J,">="&休日取得状況表!E20,定義!$M:$M)-SUMIF(定義!$J:$J,">"&G20,定義!$M:$M) -> 0 | J20: =IF(H20=0,"",IF(I20>=H20,"達成","未達成"))
F21: ～ | H21: =SUMIF(定義!$J:$J,">="&休日取得状況表!E21,定義!$M:$M)-SUMIF(定義!$J:$J,">"&G21,定義!$M:$M) -> 0 | J21: =IF(H21=0,"",IF(I21>=H21,"達成","未達成"))
... F30: ～ | H30: =SUMIF(定義!$J:$J,">="&休日取得状況表!E30,定義!$M:$M)-SUMIF(定義!$J:$J,">"&G30,定義!$M:$M) -> 0 | J30: =IF(H30=0,"",IF(I30>=H30,"達成","未達成"))
G32: 判定結果（実績）： | I32: =IF(COUNTIF($J$10:$J$31,"未達成")>0,"未達成","週休２日達成") -> 週休２日達成

Sheet 定義 (記入例)
A1: 祝日 | D1: 夏季休暇 | G1: 年末年始 | K1: 休日名 | L1: 休日 | M1: 対象期間
A2: 43407 | B2: 文化の日 | D2: 45516 | E2: 夏季休暇 | G2: 祝日のため除去 | H2: 年末年始 | J2: ='休日取得状況表 (記入例)'!$B$4 -> 45810 | K2: {=IFERROR(INDEX($B:$B,MATCH($J2,祝日,),),"")&IFERROR(INDEX($E:$E,MATCH($J2,夏季休暇,),),"")&IFERROR(INDEX($H:$H,MATCH($J2,年末年始,),),"")} | L2: =IF(OR(TEXT(J2,"aaa")="土",TEXT(J2,"aaa")="日",K2<>""),1,0) -> 0 | M2: =IF(OR(AND('休日取得状況表 (記入例)'!$D$4<J2,J2<'休日取得状況表 (記入例)'!$B$5),AND('休日取得状況表 (記入例)'!$D$5<J2,J2<'休日取得状況表 (記入例)'!$B$6),AND('休日取得状況表 (記入例)'!$D$6<J2,J2<'休日取得状況表 (記入例)'!$B$7)),"✕",L2) -> 0
A3: 43427 | B3: 勤労感謝の日 | D3: 45517 | E3: 夏季休暇 | G3: 45293 | H3: 年末年始 | J3: =IF(J2>=MAX('休日取得状況表 (記入例)'!$D$4:$D$7),"",J2+1) -> 45811 | K3: {=IFERROR(INDEX($B:$B,MATCH($J3,祝日,),),"")&IFERROR(INDEX($E:$E,MATCH($J3,夏季休暇,),),"")&IFERROR(INDEX($H:$H,MATCH($J3,年末年始,),),"")} | L3: =IF(OR(TEXT(J3,"aaa")="土",TEXT(J3,"aaa")="日",K3<>""),1,0) -> 0 | M3: =IF(OR(AND('休日取得状況表 (記入例)'!$D$4<J3,J3<'休日取得状況表 (記入例)'!$B$5),AND('休日取得状況表 (記入例)'!$D$5<J3,J3<'休日取得状況表 (記入例)'!$B$6),AND('休日取得状況表 (記入例)'!$D$6<J3,J3<'休日取得状況表 (記入例)'!$B$7)),"✕",L3) -> 0
A4: 43457 | B4: 天皇誕生日 | D4: 45518 | E4: 夏季休暇 | G4: 45294 | H4: 年末年始 | J4: =IF(J3>=MAX('休日取得状況表 (記入例)'!$D$4:$D$7),"",J3+1) -> 45812 | K4: {=IFERROR(INDEX($B:$B,MATCH($J4,祝日,),),"")&IFERROR(INDEX($E:$E,MATCH($J4,夏季休暇,),),"")&IFERROR(INDEX($H:$H,MATCH($J4,年末年始,),),"")} | L4: =IF(OR(TEXT(J4,"aaa")="土",TEXT(J4,"aaa")="日",K4<>""),1,0) -> 0 | M4: =IF(OR(AND('休日取得状況表 (記入例)'!$D$4<J4,J4<'休日取得状況表 (記入例)'!$B$5),AND('休日取得状況表 (記入例)'!$D$5<J4,J4<'休日取得状況表 (記入例)'!$B$6),AND('休日取得状況表 (記入例)'!$D$6<J4,J4<'休日取得状況表 (記入例)'!$B$7)),"✕",L4) -> 0
A5: 43458 | B5: 振替休日 | D5: 45881 | E5: 夏季休暇 | G5: 45655 | H5: 年末年始 | J5: =IF(J4>=MAX('休日取得状況表 (記入例)'!$D$4:$D$7),"",J4+1) -> 45813 | K5: {=IFERROR(INDEX($B:$B,MATCH($J5,祝日,),),"")&IFERROR(INDEX($E:$E,MATCH($J5,夏季休暇,),),"")&IFERROR(INDEX($H:$H,MATCH($J5,年末年始,),),"")} | L5: =IF(OR(TEXT(J5,"aaa")="土",TEXT(J5,"aaa")="日",K5<>""),1,0) -> 0 | M5: =IF(OR(AND('休日取得状況表 (記入例)'!$D$4<J5,J5<'休日取得状況表 (記入例)'!$B$5),AND('休日取得状況表 (記入例)'!$D$5<J5,J5<'休日取得状況表 (記入例)'!$B$6),AND('休日取得状況表 (記入例)'!$D$6<J5,J5<'休日取得状況表 (記入例)'!$B$7)),"✕",L5) -> 0
A6: 43466 | B6: 元日 | D6: 45882 | E6: 夏季休暇 | G6: 45656 | H6: 年末年始 | J6: =IF(J5>=MAX('休日取得状況表 (記入例)'!$D$4:$D$7),"",J5+1) -> 45814 | K6: {=IFERROR(INDEX($B:$B,MATCH($J6,祝日,),),"")&IFERROR(INDEX($E:$E,MATCH($J6,夏季休暇,),),"")&IFERROR(INDEX($H:$H,MATCH($J6,年末年始,),),"")} | L6: =IF(OR(TEXT(J6,"aaa")="土",TEXT(J6,"aaa")="日",K6<>""),1,0) -> 0 | M6: =IF(OR(AND('休日取得状況表 (記入例)'!$D$4<J6,J6<'休日取得状況表 (記入例)'!$B$5),AND('休日取得状況表 (記入例)'!$D$5<J6,J6<'休日取得状況表 (記入例)'!$B$6),AND('休日取得状況表 (記入例)'!$D$6<J6,J6<'休日取得状況表 (記入例)'!$B$7)),"✕",L6) -> 0
A7: 43479 | B7: 成人の日 | D7: 45883 | E7: 夏季休暇 | G7: 45657 | H7: 年末年始 | J7: =IF(J6>=MAX('休日取得状況表 (記入例)'!$D$4:$D$7),"",J6+1) -> 45815 | K7: {=IFERROR(INDEX($B:$B,MATCH($J7,祝日,),),"")&IFERROR(INDEX($E:$E,MATCH($J7,夏季休暇,),),"")&IFERROR(INDEX($H:$H,MATCH($J7,年末年始,),),"")} | L7: =IF(OR(TEXT(J7,"aaa")="土",TEXT(J7,"aaa")="日",K7<>""),1,0) -> 1 | M7: =IF(OR(AND('休日取得状況表 (記入例)'!$D$4<J7,J7<'休日取得状況表 (記入例)'!$B$5),AND('休日取得状況表 (記入例)'!$D$5<J7,J7<'休日取得状況表 (記入例)'!$B$6),AND('休日取得状況表 (記入例)'!$D$6<J7,J7<'休日取得状況表 (記入例)'!$B$7)),"✕",L7) -> 1
A8: 43507 | B8: 建国記念の日 | D8: 46246 | E8: 夏季休暇 | G8: 祝日のため除去 | H8: 年末年始 | J8: =IF(J7>=MAX('休日取得状況表 (記入例)'!$D$4:$D$7),"",J7+1) -> 45816 | K8: {=IFERROR(INDEX($B:$B,MATCH($J8,祝日,),),"")&IFERROR(INDEX($E:$E,MATCH($J8,夏季休暇,),),"")&IFERROR(INDEX($H:$H,MATCH($J8,年末年始,),),"")} | L8: =IF(OR(TEXT(J8,"aaa")="土",TEXT(J8,"aaa")="日",K8<>""),1,0) -> 1 | M8: =IF(OR(AND('休日取得状況表 (記入例)'!$D$4<J8,J8<'休日取得状況表 (記入例)'!$B$5),AND('休日取得状況表 (記入例)'!$D$5<J8,J8<'休日取得状況表 (記入例)'!$B$6),AND('休日取得状況表 (記入例)'!$D$6<J8,J8<'休日取得状況表 (記入例)'!$B$7)),"✕",L8) -> 1
A9: 43545 | B9: 春分の日 | D9: 46247 | E9: 夏季休暇 | G9: 45659 | H9: 年末年始 | J9: =IF(J8>=MAX('休日取得状況表 (記入例)'!$D$4:$D$7),"",J8+1) -> 45817 | K9: {=IFERROR(INDEX($B:$B,MATCH($J9,祝日,),),"")&IFERROR(INDEX($E:$E,MATCH($J9,夏季休暇,),),"")&IFERROR(INDEX($H:$H,MATCH($J9,年末年始,),),"")} | L9: =IF(OR(TEXT(J9,"aaa")="土",TEXT(J9,"aaa")="日",K9<>""),1,0) -> 0 | M9: =IF(OR(AND('休日取得状況表 (記入例)'!$D$4<J9,J9<'休日取得状況表 (記入例)'!$B$5),AND('休日取得状況表 (記入例)'!$D$5<J9,J9<'休日取得状況表 (記入例)'!$B$6),AND('休日取得状況表 (記入例)'!$D$6<J9,J9<'休日取得状況表 (記入例)'!$B$7)),"✕",L9) -> 0
A10: 43584 | B10: 昭和の日 | D10: 46248 | E10: 夏季休暇 | G10: 45660 | H10: 年末年始 | J10: =IF(J9>=MAX('休日取得状況表 (記入例)'!$D$4:$D$7),"",J9+1) -> 45818 | K10: {=IFERROR(INDEX($B:$B,MATCH($J10,祝日,),),"")&IFERROR(INDEX($E:$E,MATCH($J10,夏季休暇,),),"")&IFERROR(INDEX($H:$H,MATCH($J10,年末年始,),),"")} | L10: =IF(OR(TEXT(J10,"aaa")="土",TEXT(J10,"aaa")="日",K10<>""),1,0) -> 0 | M10: =IF(OR(AND('休日取得状況表 (記入例)'!$D$4<J10,J10<'休日取得状況表 (記入例)'!$B$5),AND('休日取得状況表 (記入例)'!$D$5<J10,J10<'休日取得状況表 (記入例)'!$B$6),AND('休日取得状況表 (記入例)'!$D$6<J10,J10<'休日取得状況表 (記入例)'!$B$7)),"✕",L10) -> 0
A11: 43585 | B11: 国民の休日 | D11: 46611 | E11: 夏季休暇 | G11: 46020 | H11: 年末年始 | J11: =IF(J10>=MAX('休日取得状況表 (記入例)'!$D$4:$D$7),"",J10+1) -> 45819 | K11: {=IFERROR(INDEX($B:$B,MATCH($J11,祝日,),),"")&IFERROR(INDEX($E:$E,MATCH($J11,夏季休暇,),),"")&IFERROR(INDEX($H:$H,MATCH($J11,年末年始,),),"")} | L11: =IF(OR(TEXT(J11,"aaa")="土",TEXT(J11,"aaa")="日",K11<>""),1,0) -> 0 | M11: =IF(OR(AND('休日取得状況表 (記入例)'!$D$4<J11,J11<'休日取得状況表 (記入例)'!$B$5),AND('休日取得状況表 (記入例)'!$D$5<J11,J11<'休日取得状況表 (記入例)'!$B$6),AND('休日取得状況表 (記入例)'!$D$6<J11,J11<'休日取得状況表 (記入例)'!$B$7)),"✕",L11) -> 0
A12: 43586 | B12: 天皇の即位の日 | D12: 46612 | E12: 夏季休暇 | G12: 46021 | H12: 年末年始 | J12: =IF(J11>=MAX('休日取得状況表 (記入例)'!$D$4:$D$7),"",J11+1) -> 45820 | K12: {=IFERROR(INDEX($B:$B,MATCH($J12,祝日,),),"")&IFERROR(INDEX($E:$E,MATCH($J12,夏季休暇,),),"")&IFERROR(INDEX($H:$H,MATCH($J12,年末年始,),),"")} | L12: =IF(OR(TEXT(J12,"aaa")="土",TEXT(J12,"aaa")="日",K12<>""),1,0) -> 0 | M12: =IF(OR(AND('休日取得状況表 (記入例)'!$D$4<J12,J12<'休日取得状況表 (記入例)'!$B$5),AND('休日取得状況表 (記入例)'!$D$5<J12,J12<'休日取得状況表 (記入例)'!$B$6),AND('休日取得状況表 (記入例)'!$D$6<J12,J12<'休日取得状況表 (記入例)'!$B$7)),"✕",L12) -> 0
A13: 43587 | B13: 国民の休日 | D13: 46615 | E13: 夏季休暇 | G13: 46022 | H13: 年末年始 | J13: =IF(J12>=MAX('休日取得状況表 (記入例)'!$D$4:$D$7),"",J12+1) -> 45821 | K13: {=IFERROR(INDEX($B:$B,MATCH($J13,祝日,),),"")&IFERROR(INDEX($E:$E,MATCH($J13,夏季休暇,),),"")&IFERROR(INDEX($H:$H,MATCH($J13,年末年始,),),"")} | L13: =IF(OR(TEXT(J13,"aaa")="土",TEXT(J13,"aaa")="日",K13<>""),1,0) -> 0 | M13: =IF(OR(AND('休日取得状況表 (記入例)'!$D$4<J13,J13<'休日取得状況表 (記入例)'!$B$5),AND('休日取得状況表 (記入例)'!$D$5<J13,J13<'休日取得状況表 (記入例)'!$B$6),AND('休日取得状況表 (記入例)'!$D$6<J13,J13<'休日取得状況表 (記入例)'!$B$7)),"✕",L13) -> 0
A14: 43588 | B14: 憲法記念日 | D14: 46979 | E14: 夏季休暇 | G14: 祝日のため除去 | H14: 年末年始 | J14: =IF(J13>=MAX('休日取得状況表 (記入例)'!$D$4:$D$7),"",J13+1) -> 45822 | K14: {=IFERROR(INDEX($B:$B,MATCH($J14,祝日,),),"")&IFERROR(INDEX($E:$E,MATCH($J14,夏季休暇,),),"")&IFERROR(INDEX($H:$H,MATCH($J14,年末年始,),),"")} | L14: =IF(OR(TEXT(J14,"aaa")="土",TEXT(J14,"aaa")="日",K14<>""),1,0) -> 1 | M14: =IF(OR(AND('休日取得状況表 (記入例)'!$D$4<J14,J14<'休日取得状況表 (記入例)'!$B$5),AND('休日取得状況表 (記入例)'!$D$5<J14,J14<'休日取得状況表 (記入例)'!$B$6),AND('休日取得状況表 (記入例)'!$D$6<J14,J14<'休日取得状況表 (記入例)'!$B$7)),"✕",L14) -> 1
A15: 43589 | B15: みどりの日 | D15: 46980 | E15: 夏季休暇 | G15: 46024 | H15: 年末年始 | J15: =IF(J14>=MAX('休日取得状況表 (記入例)'!$D$4:$D$7),"",J14+1) -> 45823 | K15: {=IFERROR(INDEX($B:$B,MATCH($J15,祝日,),),"")&IFERROR(INDEX($E:$E,MATCH($J15,夏季休暇,),),"")&IFERROR(INDEX($H:$H,MATCH($J15,年末年始,),),"")} | L15: =IF(OR(TEXT(J15,"aaa")="土",TEXT(J15,"aaa")="日",K15<>""),1,0) -> 1 | M15: =IF(OR(AND('休日取得状況表 (記入例)'!$D$4<J15,J15<'休日取得状況表 (記入例)'!$B$5),AND('休日取得状況表 (記入例)'!$D$5<J15,J15<'休日取得状況表 (記入例)'!$B$6),AND('休日取得状況表 (記入例)'!$D$6<J15,J15<'休日取得状況表 (記入例)'!$B$7)),"✕",L15) -> 1
A16: 43590 | B16: こどもの日 | D16: 46981 | E16: 夏季休暇 | G16: 46025 | H16: 年末年始 | J16: =IF(J15>=MAX('休日取得状況表 (記入例)'!$D$4:$D$7),"",J15+1) -> 45824 | K16: {=IFERROR(INDEX($B:$B,MATCH($J16,祝日,),),"")&IFERROR(INDEX($E:$E,MATCH($J16,夏季休暇,),),"")&IFERROR(INDEX($H:$H,MATCH($J16,年末年始,),),"")} | L16: =IF(OR(TEXT(J16,"aaa")="土",TEXT(J16,"aaa")="日",K16<>""),1,0) -> 0 | M16: =IF(OR(AND('休日取得状況表 (記入例)'!$D$4<J16,J16<'休日取得状況表 (記入例)'!$B$5),AND('休日取得状況表 (記入例)'!$D$5<J16,J16<'休日取得状況表 (記入例)'!$B$6),AND('休日取得状況表 (記入例)'!$D$6<J16,J16<'休日取得状況表 (記入例)'!$B$7)),"✕",L16) -> 0
A17: 43591 | B17: 振替休日 | D17: 47343 | E17: 夏季休暇 | G17: 46385 | H17: 年末年始 | J17: =IF(J16>=MAX('休日取得状況表 (記入例)'!$D$4:$D$7),"",J16+1) -> 45825 | K17: {=IFERROR(INDEX($B:$B,MATCH($J17,祝日,),),"")&IFERROR(INDEX($E:$E,MATCH($J17,夏季休暇,),),"")&IFERROR(INDEX($H:$H,MATCH($J17,年末年始,),),"")} | L17: =IF(OR(TEXT(J17,"aaa")="土",TEXT(J17,"aaa")="日",K17<>""),1,0) -> 0 | M17: =IF(OR(AND('休日取得状況表 (記入例)'!$D$4<J17,J17<'休日取得状況表 (記入例)'!$B$5),AND('休日取得状況表 (記入例)'!$D$5<J17,J17<'休日取得状況表 (記入例)'!$B$6),AND('休日取得状況表 (記入例)'!$D$6<J17,J17<'休日取得状況表 (記入例)'!$B$7)),"✕",L17) -> 0
A18: 43661 | B18: 海の日 | D18: 47344 | E18: 夏季休暇 | G18: 46386 | H18: 年末年始 | J18: =IF(J17>=MAX('休日取得状況表 (記入例)'!$D$4:$D$7),"",J17+1) -> 45826 | K18: {=IFERROR(INDEX($B:$B,MATCH($J18,祝日,),),"")&IFERROR(INDEX($E:$E,MATCH($J18,夏季休暇,),),"")&IFERROR(INDEX($H:$H,MATCH($J18,年末年始,),),"")} | L18: =IF(OR(TEXT(J18,"aaa")="土",TEXT(J18,"aaa")="日",K18<>""),1,0) -> 0 | M18: =IF(OR(AND('休日取得状況表 (記入例)'!$D$4<J18,J18<'休日取得状況表 (記入例)'!$B$5),AND('休日取得状況表 (記入例)'!$D$5<J18,J18<'休日取得状況表 (記入例)'!$B$6),AND('休日取得状況表 (記入例)'!$D$6<J18,J18<'休日取得状況表 (記入例)'!$B$7)),"✕",L18) -> 0
A19: 43688 | B19: 山の日 | D19: 47345 | E19: 夏季休暇 | G19: 46387 | H19: 年末年始 | J19: =IF(J18>=MAX('休日取得状況表 (記入例)'!$D$4:$D$7),"",J18+1) -> 45827 | K19: {=IFERROR(INDEX($B:$B,MATCH($J19,祝日,),),"")&IFERROR(INDEX($E:$E,MATCH($J19,夏季休暇,),),"")&IFERROR(INDEX($H:$H,MATCH($J19,年末年始,),),"")} | L19: =IF(OR(TEXT(J19,"aaa")="土",TEXT(J19,"aaa")="日",K19<>""),1,0) -> 0 | M19: =IF(OR(AND('休日取得状況表 (記入例)'!$D$4<J19,J19<'休日取得状況表 (記入例)'!$B$5),AND('休日取得状況表 (記入例)'!$D$5<J19,J19<'休日取得状況表 (記入例)'!$B$6),AND('休日取得状況表 (記入例)'!$D$6<J19,J19<'休日取得状況表 (記入例)'!$B$7)),"✕",L19) -> 0
A20: 43689 | B20: 振替休日 | D20: 47707 | E20: 夏季休暇 | G20: 祝日のため除去 | H20: 年末年始 | J20: =IF(J19>=MAX('休日取得状況表 (記入例)'!$D$4:$D$7),"",J19+1) -> 45828 | K20: {=IFERROR(INDEX($B:$B,MATCH($J20,祝日,),),"")&IFERROR(INDEX($E:$E,MATCH($J20,夏季休暇,),),"")&IFERROR(INDEX($H:$H,MATCH($J20,年末年始,),),"")} | L20: =IF(OR(TEXT(J20,"aaa")="土",TEXT(J20,"aaa")="日",K20<>""),1,0) -> 0 | M20: =IF(OR(AND('休日取得状況表 (記入例)'!$D$4<J20,J20<'休日取得状況表 (記入例)'!$B$5),AND('休日取得状況表 (記入例)'!$D$5<J20,J20<'休日取得状況表 (記入例)'!$B$6),AND('休日取得状況表 (記入例)'!$D$6<J20,J20<'休日取得状況表 (記入例)'!$B$7)),"✕",L20) -> 0
A21: 43724 | B21: 敬老の日 | D21: 47708 | E21: 夏季休暇 | G21: 46389 | H21: 年末年始 | J21: =IF(J20>=MAX('休日取得状況表 (記入例)'!$D$4:$D$7),"",J20+1) -> 45829 | K21: {=IFERROR(INDEX($B:$B,MATCH($J21,祝日,),),"")&IFERROR(INDEX($E:$E,MATCH($J21,夏季休暇,),),"")&IFERROR(INDEX($H:$H,MATCH($J21,年末年始,),),"")} | L21: =IF(OR(TEXT(J21,"aaa")="土",TEXT(J21,"aaa")="日",K21<>""),1,0) -> 1 | M21: =IF(OR(AND('休日取得状況表 (記入例)'!$D$4<J21,J21<'休日取得状況表 (記入例)'!$B$5),AND('休日取得状況表 (記入例)'!$D$5<J21,J21<'休日取得状況表 (記入例)'!$B$6),AND('休日取得状況表 (記入例)'!$D$6<J21,J21<'休日取得状況表 (記入例)'!$B$7)),"✕",L21) -> 1
A22: 43731 | B22: 秋分の日 | D22: 47709 | E22: 夏季休暇 | G22: 46390 | H22: 年末年始 | J22: =IF(J21>=MAX('休日取得状況表 (記入例)'!$D$4:$D$7),"",J21+1) -> 45830 | K22: {=IFERROR(INDEX($B:$B,MATCH($J22,祝日,),),"")&IFERROR(INDEX($E:$E,MATCH($J22,夏季休暇,),),"")&IFERROR(INDEX($H:$H,MATCH($J22,年末年始,),),"")} | L22: =IF(OR(TEXT(J22,"aaa")="土",TEXT(J22,"aaa")="日",K22<>""),1,0) -> 1 | M22: =IF(OR(AND('休日取得状況表 (記入例)'!$D$4<J22,J22<'休日取得状況表 (記入例)'!$B$5),AND('休日取得状況表 (記入例)'!$D$5<J22,J22<'休日取得状況表 (記入例)'!$B$6),AND('休日取得状況表 (記入例)'!$D$6<J22,J22<'休日取得状況表 (記入例)'!$B$7)),"✕",L22) -> 1
A23: 43752 | B23: 体育の日 | G23: 46750 | H23: 年末年始 | J23: =IF(J22>=MAX('休日取得状況表 (記入例)'!$D$4:$D$7),"",J22+1) -> 45831 | K23: {=IFERROR(INDEX($B:$B,MATCH($J23,祝日,),),"")&IFERROR(INDEX($E:$E,MATCH($J23,夏季休暇,),),"")&IFERROR(INDEX($H:$H,MATCH($J23,年末年始,),),"")} | L23: =IF(OR(TEXT(J23,"aaa")="土",TEXT(J23,"aaa")="日",K23<>""),1,0) -> 0 | M23: =IF(OR(AND('休日取得状況表 (記入例)'!$D$4<J23,J23<'休日取得状況表 (記入例)'!$B$5),AND('休日取得状況表 (記入例)'!$D$5<J23,J23<'休日取得状況表 (記入例)'!$B$6),AND('休日取得状況表 (記入例)'!$D$6<J23,J23<'休日取得状況表 (記入例)'!$B$7)),"✕",L23) -> 0
A24: 43760 | B24: 即位礼正殿の儀 | G24: 46751 | H24: 年末年始 | J24: =IF(J23>=MAX('休日取得状況表 (記入例)'!$D$4:$D$7),"",J23+1) -> 45832 | K24: {=IFERROR(INDEX($B:$B,MATCH($J24,祝日,),),"")&IFERROR(INDEX($E:$E,MATCH($J24,夏季休暇,),),"")&IFERROR(INDEX($H:$H,MATCH($J24,年末年始,),),"")} | L24: =IF(OR(TEXT(J24,"aaa")="土",TEXT(J24,"aaa")="日",K24<>""),1,0) -> 0 | M24: =IF(OR(AND('休日取得状況表 (記入例)'!$D$4<J24,J24<'休日取得状況表 (記入例)'!$B$5),AND('休日取得状況表 (記入例)'!$D$5<J24,J24<'休日取得状況表 (記入例)'!$B$6),AND('休日取得状況表 (記入例)'!$D$6<J24,J24<'休日取得状況表 (記入例)'!$B$7)),"✕",L24) -> 0
A25: 43772 | B25: 文化の日 | G25: 46752 | H25: 年末年始 | J25: =IF(J24>=MAX('休日取得状況表 (記入例)'!$D$4:$D$7),"",J24+1) -> 45833 | K25: {=IFERROR(INDEX($B:$B,MATCH($J25,祝日,),),"")&IFERROR(INDEX($E:$E,MATCH($J25,夏季休暇,),),"")&IFERROR(INDEX($H:$H,MATCH($J25,年末年始,),),"")} | L25: =IF(OR(TEXT(J25,"aaa")="土",TEXT(J25,"aaa")="日",K25<>""),1,0) -> 0 | M25: =IF(OR(AND('休日取得状況表 (記入例)'!$D$4<J25,J25<'休日取得状況表 (記入例)'!$B$5),AND('休日取得状況表 (記入例)'!$D$5<J25,J25<'休日取得状況表 (記入例)'!$B$6),AND('休日取得状況表 (記入例)'!$D$6<J25,J25<'休日取得状況表 (記入例)'!$B$7)),"✕",L25) -> 0
A26: 43773 | B26: 振替休日 | G26: 祝日のため除去 | H26: 年末年始 | J26: =IF(J25>=MAX('休日取得状況表 (記入例)'!$D$4:$D$7),"",J25+1) -> 45834 | K26: {=IFERROR(INDEX($B:$B,MATCH($J26,祝日,),),"")&IFERROR(INDEX($E:$E,MATCH($J26,夏季休暇,),),"")&IFERROR(INDEX($H:$H,MATCH($J26,年末年始,),),"")} | L26: =IF(OR(TEXT(J26,"aaa")="土",TEXT(J26,"aaa")="日",K26<>""),1,0) -> 0 | M26: =IF(OR(AND('休日取得状況表 (記入例)'!$D$4<J26,J26<'休日取得状況表 (記入例)'!$B$5),AND('休日取得状況表 (記入例)'!$D$5<J26,J26<'休日取得状況表 (記入例)'!$B$6),AND('休日取得状況表 (記入例)'!$D$6<J26,J26<'休日取得状況表 (記入例)'!$B$7)),"✕",L26) -> 0
A27: 43792 | B27: 勤労感謝の日 | G27: 46754 | H27: 年末年始 | J27: =IF(J26>=MAX('休日取得状況表 (記入例)'!$D$4:$D$7),"",J26+1) -> 45835 | K27: {=IFERROR(INDEX($B:$B,MATCH($J27,祝日,),),"")&IFERROR(INDEX($E:$E,MATCH($J27,夏季休暇,),),"")&IFERROR(INDEX($H:$H,MATCH($J27,年末年始,),),"")} | L27: =IF(OR(TEXT(J27,"aaa")="土",TEXT(J27,"aaa")="日",K27<>""),1,0) -> 0 | M27: =IF(OR(AND('休日取得状況表 (記入例)'!$D$4<J27,J27<'休日取得状況表 (記入例)'!$B$5),AND('休日取得状況表 (記入例)'!$D$5<J27,J27<'休日取得状況表 (記入例)'!$B$6),AND('休日取得状況表 (記入例)'!$D$6<J27,J27<'休日取得状況表 (記入例)'!$B$7)),"✕",L27) -> 0
G28: 46755 | H28: 年末年始 | J28: =IF(J27>=MAX('休日取得状況表 (記入例)'!$D$4:$D$7),"",J27+1) -> 45836 | K28: {=IFERROR(INDEX($B:$B,MATCH($J28,祝日,),),"")&IFERROR(INDEX($E:$E,MATCH($J28,夏季休暇,),),"")&IFERROR(INDEX($H:$H,MATCH($J28,年末年始,),),"")} | L28: =IF(OR(TEXT(J28,"aaa")="土",TEXT(J28,"aaa")="日",K28<>""),1,0) -> 1 | M28: =IF(OR(AND('休日取得状況表 (記入例)'!$D$4<J28,J28<'休日取得状況表 (記入例)'!$B$5),AND('休日取得状況表 (記入例)'!$D$5<J28,J28<'休日取得状況表 (記入例)'!$B$6),AND('休日取得状況表 (記入例)'!$D$6<J28,J28<'休日取得状況表 (記入例)'!$B$7)),"✕",L28) -> 1
A29: 43831 | B29: 元日 | G29: 47116 | H29: 年末年始 | J29: =IF(J28>=MAX('休日取得状況表 (記入例)'!$D$4:$D$7),"",J28+1) -> 45837 | K29: {=IFERROR(INDEX($B:$B,MATCH($J29,祝日,),),"")&IFERROR(INDEX($E:$E,MATCH($J29,夏季休暇,),),"")&IFERROR(INDEX($H:$H,MATCH($J29,年末年始,),),"")} | L29: =IF(OR(TEXT(J29,"aaa")="土",TEXT(J29,"aaa")="日",K29<>""),1,0) -> 1 | M29: =IF(OR(AND('休日取得状況表 (記入例)'!$D$4<J29,J29<'休日取得状況表 (記入例)'!$B$5),AND('休日取得状況表 (記入例)'!$D$5<J29,J29<'休日取得状況表 (記入例)'!$B$6),AND('休日取得状況表 (記入例)'!$D$6<J29,J29<'休日取得状況表 (記入例)'!$B$7)),"✕",L29) -> 1
A30: 43843 | B30: 成人の日 | G30: 47117 | H30: 年末年始 | J30: =IF(J29>=MAX('休日取得状況表 (記入例)'!$D$4:$D$7),"",J29+1) -> 45838 | K30: {=IFERROR(INDEX($B:$B,MATCH($J30,祝日,),),"")&IFERROR(INDEX($E:$E,MATCH($J30,夏季休暇,),),"")&IFERROR(INDEX($H:$H,MATCH($J30,年末年始,),),"")} | L30: =IF(OR(TEXT(J30,"aaa")="土",TEXT(J30,"aaa")="日",K30<>""),1,0) -> 0 | M30: =IF(OR(AND('休日取得状況表 (記入例)'!$D$4<J30,J30<'休日取得状況表 (記入例)'!$B$5),AND('休日取得状況表 (記入例)'!$D$5<J30,J30<'休日取得状況表 (記入例)'!$B$6),AND('休日取得状況表 (記入例)'!$D$6<J30,J30<'休日取得状況表 (記入例)'!$B$7)),"✕",L30) -> 0
A31: 43872 | B31: 建国記念の日 | G31: 47118 | H31: 年末年始 | J31: =IF(J30>=MAX('休日取得状況表 (記入例)'!$D$4:$D$7),"",J30+1) -> 45839 | K31: {=IFERROR(INDEX($B:$B,MATCH($J31,祝日,),),"")&IFERROR(INDEX($E:$E,MATCH($J31,夏季休暇,),),"")&IFERROR(INDEX($H:$H,MATCH($J31,年末年始,),),"")} | L31: =IF(OR(TEXT(J31,"aaa")="土",TEXT(J31,"aaa")="日",K31<>""),1,0) -> 0 | M31: =IF(OR(AND('休日取得状況表 (記入例)'!$D$4<J31,J31<'休日取得状況表 (記入例)'!$B$5),AND('休日取得状況表 (記入例)'!$D$5<J31,J31<'休日取得状況表 (記入例)'!$B$6),AND('休日取得状況表 (記入例)'!$D$6<J31,J31<'休日取得状況表 (記入例)'!$B$7)),"✕",L31) -> 0
A32: 43884 | B32: 天皇誕生日 | G32: 祝日のため除去 | H32: 年末年始 | J32: =IF(J31>=MAX('休日取得状況表 (記入例)'!$D$4:$D$7),"",J31+1) -> 45840 | K32: {=IFERROR(INDEX($B:$B,MATCH($J32,祝日,),),"")&IFERROR(INDEX($E:$E,MATCH($J32,夏季休暇,),),"")&IFERROR(INDEX($H:$H,MATCH($J32,年末年始,),),"")} | L32: =IF(OR(TEXT(J32,"aaa")="土",TEXT(J32,"aaa")="日",K32<>""),1,0) -> 0 | M32: =IF(OR(AND('休日取得状況表 (記入例)'!$D$4<J32,J32<'休日取得状況表 (記入例)'!$B$5),AND('休日取得状況表 (記入例)'!$D$5<J32,J32<'休日取得状況表 (記入例)'!$B$6),AND('休日取得状況表 (記入例)'!$D$6<J32,J32<'休日取得状況表 (記入例)'!$B$7)),"✕",L32) -> 0
A33: 43885 | B33: 振替休日 | G33: 47120 | H33: 年末年始 | J33: =IF(J32>=MAX('休日取得状況表 (記入例)'!$D$4:$D$7),"",J32+1) -> 45841 | K33: {=IFERROR(INDEX($B:$B,MATCH($J33,祝日,),),"")&IFERROR(INDEX($E:$E,MATCH($J33,夏季休暇,),),"")&IFERROR(INDEX($H:$H,MATCH($J33,年末年始,),),"")} | L33: =IF(OR(TEXT(J33,"aaa")="土",TEXT(J33,"aaa")="日",K33<>""),1,0) -> 0 | M33: =IF(OR(AND('休日取得状況表 (記入例)'!$D$4<J33,J33<'休日取得状況表 (記入例)'!$B$5),AND('休日取得状況表 (記入例)'!$D$5<J33,J33<'休日取得状況表 (記入例)'!$B$6),AND('休日取得状況表 (記入例)'!$D$6<J33,J33<'休日取得状況表 (記入例)'!$B$7)),"✕",L33) -> 0
A34: 43910 | B34: 春分の日 | G34: 47121 | H34: 年末年始 | J34: =IF(J33>=MAX('休日取得状況表 (記入例)'!$D$4:$D$7),"",J33+1) -> 45842 | K34: {=IFERROR(INDEX($B:$B,MATCH($J34,祝日,),),"")&IFERROR(INDEX($E:$E,MATCH($J34,夏季休暇,),),"")&IFERROR(INDEX($H:$H,MATCH($J34,年末年始,),),"")} | L34: =IF(OR(TEXT(J34,"aaa")="土",TEXT(J34,"aaa")="日",K34<>""),1,0) -> 0 | M34: =IF(OR(AND('休日取得状況表 (記入例)'!$D$4<J34,J34<'休日取得状況表 (記入例)'!$B$5),AND('休日取得状況表 (記入例)'!$D$5<J34,J34<'休日取得状況表 (記入例)'!$B$6),AND('休日取得状況表 (記入例)'!$D$6<J34,J34<'休日取得状況表 (記入例)'!$B$7)),"✕",L34) -> 0
A35: 43950 | B35: 昭和の日 | G35: 47481 | H35: 年末年始 | J35: =IF(J34>=MAX('休日取得状況表 (記入例)'!$D$4:$D$7),"",J34+1) -> 45843 | K35: {=IFERROR(INDEX($B:$B,MATCH($J35,祝日,),),"")&IFERROR(INDEX($E:$E,MATCH($J35,夏季休暇,),),"")&IFERROR(INDEX($H:$H,MATCH($J35,年末年始,),),"")} | L35: =IF(OR(TEXT(J35,"aaa")="土",TEXT(J35,"aaa")="日",K35<>""),1,0) -> 1 | M35: =IF(OR(AND('休日取得状況表 (記入例)'!$D$4<J35,J35<'休日取得状況表 (記入例)'!$B$5),AND('休日取得状況表 (記入例)'!$D$5<J35,J35<'休日取得状況表 (記入例)'!$B$6),AND('休日取得状況表 (記入例)'!$D$6<J35,J35<'休日取得状況表 (記入例)'!$B$7)),"✕",L35) -> ✕
A36: 43954 | B36: 憲法記念日 | G36: 47482 | H36: 年末年始 | J36: =IF(J35>=MAX('休日取得状況表 (記入例)'!$D$4:$D$7),"",J35+1) -> 45844 | K36: {=IFERROR(INDEX($B:$B,MATCH($J36,祝日,),),"")&IFERROR(INDEX($E:$E,MATCH($J36,夏季休暇,),),"")&IFERROR(INDEX($H:$H,MATCH($J36,年末年始,),),"")} | L36: =IF(OR(TEXT(J36,"aaa")="土",TEXT(J36,"aaa")="日",K36<>""),1,0) -> 1 | M36: =IF(OR(AND('休日取得状況表 (記入例)'!$D$4<J36,J36<'休日取得状況表 (記入例)'!$B$5),AND('休日取得状況表 (記入例)'!$D$5<J36,J36<'休日取得状況表 (記入例)'!$B$6),AND('休日取得状況表 (記入例)'!$D$6<J36,J36<'休日取得状況表 (記入例)'!$B$7)),"✕",L36) -> ✕
A37: 43955 | B37: みどりの日 | G37: 47483 | H37: 年末年始 | J37: =IF(J36>=MAX('休日取得状況表 (記入例)'!$D$4:$D$7),"",J36+1) -> 45845 | K37: {=IFERROR(INDEX($B:$B,MATCH($J37,祝日,),),"")&IFERROR(INDEX($E:$E,MATCH($J37,夏季休暇,),),"")&IFERROR(INDEX($H:$H,MATCH($J37,年末年始,),),"")} | L37: =IF(OR(TEXT(J37,"aaa")="土",TEXT(J37,"aaa")="日",K37<>""),1,0) -> 0 | M37: =IF(OR(AND('休日取得状況表 (記入例)'!$D$4<J37,J37<'休日取得状況表 (記入例)'!$B$5),AND('休日取得状況表 (記入例)'!$D$5<J37,J37<'休日取得状況表 (記入例)'!$B$6),AND('休日取得状況表 (記入例)'!$D$6<J37,J37<'休日取得状況表 (記入例)'!$B$7)),"✕",L37) -> ✕
A38: 43956 | B38: こどもの日 | G38: 祝日のため除去 | H38: 年末年始 | J38: =IF(J37>=MAX('休日取得状況表 (記入例)'!$D$4:$D$7),"",J37+1) -> 45846 | K38: {=IFERROR(INDEX($B:$B,MATCH($J38,祝日,),),"")&IFERROR(INDEX($E:$E,MATCH($J38,夏季休暇,),),"")&IFERROR(INDEX($H:$H,MATCH($J38,年末年始,),),"")} | L38: =IF(OR(TEXT(J38,"aaa")="土",TEXT(J38,"aaa")="日",K38<>""),1,0) -> 0 | M38: =IF(OR(AND('休日取得状況表 (記入例)'!$D$4<J38,J38<'休日取得状況表 (記入例)'!$B$5),AND('休日取得状況表 (記入例)'!$D$5<J38,J38<'休日取得状況表 (記入例)'!$B$6),AND('休日取得状況表 (記入例)'!$D$6<J38,J38<'休日取得状況表 (記入例)'!$B$7)),"✕",L38) -> ✕
A39: 43957 | B39: 振替休日 | G39: 47485 | H39: 年末年始 | J39: =IF(J38>=MAX('休日取得状況表 (記入例)'!$D$4:$D$7),"",J38+1) -> 45847 | K39: {=IFERROR(INDEX($B:$B,MATCH($J39,祝日,),),"")&IFERROR(INDEX($E:$E,MATCH($J39,夏季休暇,),),"")&IFERROR(INDEX($H:$H,MATCH($J39,年末年始,),),"")} | L39: =IF(OR(TEXT(J39,"aaa")="土",TEXT(J39,"aaa")="日",K39<>""),1,0) -> 0 | M39: =IF(OR(AND('休日取得状況表 (記入例)'!$D$4<J39,J39<'休日取得状況表 (記入例)'!$B$5),AND('休日取得状況表 (記入例)'!$D$5<J39,J39<'休日取得状況表 (記入例)'!$B$6),AND('休日取得状況表 (記入例)'!$D$6<J39,J39<'休日取得状況表 (記入例)'!$B$7)),"✕",L39) -> ✕
A40: 44035 | B40: 海の日 | G40: 47486 | H40: 年末年始 | J40: =IF(J39>=MAX('休日取得状況表 (記入例)'!$D$4:$D$7),"",J39+1) -> 45848 | K40: {=IFERROR(INDEX($B:$B,MATCH($J40,祝日,),),"")&IFERROR(INDEX($E:$E,MATCH($J40,夏季休暇,),),"")&IFERROR(INDEX($H:$H,MATCH($J40,年末年始,),),"")} | L40: =IF(OR(TEXT(J40,"aaa")="土",TEXT(J40,"aaa")="日",K40<>""),1,0) -> 0 | M40: =IF(OR(AND('休日取得状況表 (記入例)'!$D$4<J40,J40<'休日取得状況表 (記入例)'!$B$5),AND('休日取得状況表 (記入例)'!$D$5<J40,J40<'休日取得状況表 (記入例)'!$B$6),AND('休日取得状況表 (記入例)'!$D$6<J40,J40<'休日取得状況表 (記入例)'!$B$7)),"✕",L40) -> ✕
...

Sheet 休日取得状況表 (記入例)
A1: 休日取得状況表（交替制） | J1: （様式４）
A2: 工事名 | B2: ○○工事
A3: 工期 | B3: 45779 | C3: ～ | D3: 46101 | F3: ※1休日日数･･･祝日、年末年始、夏期休暇を含む
A4: 対象期間 | B4: 45810 | C4: ～ | D4: 45842 | F4: （工場製作のみの期間、工事全体を一時中止している期間は対象に含まない））
A5: 対象期間② | B5: 45873 | C5: ～ | D5: 46081 | E5: =IF(B5="","",IF(B5<D4,"期間の入力を確認してください。",""))
A6: 対象期間③ | B6: 46037 | C6: ～ | E6: =IF(B6="","",IF(B6<D5,"期間の入力を確認してください。","")) -> 期間の入力を確認してください。
A7: 対象期間④ | C7: ～ | E7: =IF(B7="","",IF(B7<D6,"期間の入力を確認してください。",""))
A9: 所属企業名 | C9: 氏 名 | E9: 従事期間 | H9: 休日日数 ※1 | I9: 休日取得日数 | J9: 判定
A10: （株）○○○建設 | C10: ○○ ○○ | E10: 45824 | F10: ～ | G10: 45915 | H10: =SUMIF('定義 (記入例)'!$J:$J,">="&'休日取得状況表 (記入例)'!E10,'定義 (記入例)'!$M:$M)-SUMIF('定義 (記入例)'!$J:$J,">"&G10,'定義 (記入例)'!$M:$M) -> 21 | I10: 25 | J10: =IF(H10=0,"",IF(I10>=H10,"達成","未達成")) -> 達成 | K10: =IF(E10>G10,"期間の入力を確認してください。","")
A11: ○○○○（有） | C11: ○○ ○○ | E11: 45936 | F11: ～ | G11: 46045 | H11: =SUMIF('定義 (記入例)'!$J:$J,">="&'休日取得状況表 (記入例)'!E11,'定義 (記入例)'!$M:$M)-SUMIF('定義 (記入例)'!$J:$J,">"&G11,'定義 (記入例)'!$M:$M) -> 39 | I11: 39 | J11: =IF(H11=0,"",IF(I11>=H11,"達成","未達成")) -> 達成 | K11: =IF(E11>G11,"期間の入力を確認してください。","")
F12: ～ | H12: =SUMIF('定義 (記入例)'!$J:$J,">="&'休日取得状況表 (記入例)'!E12,'定義 (記入例)'!$M:$M)-SUMIF('定義 (記入例)'!$J:$J,">"&G12,'定義 (記入例)'!$M:$M) -> 0 | J12: =IF(H12=0,"",IF(I12>=H12,"達成","未達成")) | K12: =IF(E12>G12,"期間の入力を確認してください。","")
F13: ～ | H13: =SUMIF('定義 (記入例)'!$J:$J,">="&'休日取得状況表 (記入例)'!E13,'定義 (記入例)'!$M:$M)-SUMIF('定義 (記入例)'!$J:$J,">"&G13,'定義 (記入例)'!$M:$M) -> 0 | J13: =IF(H13=0,"",IF(I13>=H13,"達成","未達成")) | K13: =IF(E13>G13,"期間の入力を確認してください。","")
F14: ～ | H14: =SUMIF('定義 (記入例)'!$J:$J,">="&'休日取得状況表 (記入例)'!E14,'定義 (記入例)'!$M:$M)-SUMIF('定義 (記入例)'!$J:$J,">"&G14,'定義 (記入例)'!$M:$M) -> 0 | J14: =IF(H14=0,"",IF(I14>=H14,"達成","未達成")) | K14: =IF(E14>G14,"期間の入力を確認してください。","")
F15: ～ | H15: =SUMIF('定義 (記入例)'!$J:$J,">="&'休日取得状況表 (記入例)'!E15,'定義 (記入例)'!$M:$M)-SUMIF('定義 (記入例)'!$J:$J,">"&G15,'定義 (記入例)'!$M:$M) -> 0 | J15: =IF(H15=0,"",IF(I15>=H15,"達成","未達成")) | K15: =IF(E15>G15,"期間の入力を確認してください。","")
F16: ～ | H16: =SUMIF('定義 (記入例)'!$J:$J,">="&'休日取得状況表 (記入例)'!E16,'定義 (記入例)'!$M:$M)-SUMIF('定義 (記入例)'!$J:$J,">"&G16,'定義 (記入例)'!$M:$M) -> 0 | J16: =IF(H16=0,"",IF(I16>=H16,"達成","未達成")) | K16: =IF(E16>G16,"期間の入力を確認してください。","")
F17: ～ | H17: =SUMIF('定義 (記入例)'!$J:$J,">="&'休日取得状況表 (記入例)'!E17,'定義 (記入例)'!$M:$M)-SUMIF('定義 (記入例)'!$J:$J,">"&G17,'定義 (記入例)'!$M:$M) -> 0 | J17: =IF(H17=0,"",IF(I17>=H17,"達成","未達成")) | K17: =IF(E17>G17,"期間の入力を確認してください。","")
F18: ～ | H18: =SUMIF('定義 (記入例)'!$J:$J,">="&'休日取得状況表 (記入例)'!E18,'定義 (記入例)'!$M:$M)-SUMIF('定義 (記入例)'!$J:$J,">"&G18,'定義 (記入例)'!$M:$M) -> 0 | J18: =IF(H18=0,"",IF(I18>=H18,"達成","未達成")) | K18: =IF(E18>G18,"期間の入力を確認してください。","")
F19: ～ | H19: =SUMIF('定義 (記入例)'!$J:$J,">="&'休日取得状況表 (記入例)'!E19,'定義 (記入例)'!$M:$M)-SUMIF('定義 (記入例)'!$J:$J,">"&G19,'定義 (記入例)'!$M:$M) -> 0 | J19: =IF(H19=0,"",IF(I19>=H19,"達成","未達成")) | K19: =IF(E19>G19,"期間の入力を確認してください。","")
F20: ～ | H20: =SUMIF('定義 (記入例)'!$J:$J,">="&'休日取得状況表 (記入例)'!E20,'定義 (記入例)'!$M:$M)-SUMIF('定義 (記入例)'!$J:$J,">"&G20,'定義 (記入例)'!$M:$M) -> 0 | J20: =IF(H20=0,"",IF(I20>=H20,"達成","未達成")) | K20: =IF(E20>G20,"期間の入力を確認してください。","")
F21: ～ | H21: =SUMIF('定義 (記入例)'!$J:$J,">="&'休日取得状況表 (記入例)'!E21,'定義 (記入例)'!$M:$M)-SUMIF('定義 (記入例)'!$J:$J,">"&G21,'定義 (記入例)'!$M:$M) -> 0 | J21: =IF(H21=0,"",IF(I21>=H21,"達成","未達成")) | K21: =IF(E21>G21,"期間の入力を確認してください。","")
F22: ～ | H22: =SUMIF('定義 (記入例)'!$J:$J,">="&'休日取得状況表 (記入例)'!E22,'定義 (記入例)'!$M:$M)-SUMIF('定義 (記入例)'!$J:$J,">"&G22,'定義 (記入例)'!$M:$M) -> 0 | J22: =IF(H22=0,"",IF(I22>=H22,"達成","未達成")) | K22: =IF(E22>G22,"期間の入力を確認してください。","")
F23: ～ | H23: =SUMIF('定義 (記入例)'!$J:$J,">="&'休日取得状況表 (記入例)'!E23,'定義 (記入例)'!$M:$M)-SUMIF('定義 (記入例)'!$J:$J,">"&G23,'定義 (記入例)'!$M:$M) -> 0 | J23: =IF(H23=0,"",IF(I23>=H23,"達成","未達成")) | K23: =IF(E23>G23,"期間の入力を確認してください。","")
... F30: ～ | H30: =SUMIF('定義 (記入例)'!$J:$J,">="&'休日取得状況表 (記入例)'!E30,'定義 (記入例)'!$M:$M)-SUMIF('定義 (記入例)'!$J:$J,">"&G30,'定義 (記入例)'!$M:$M) -> 0 | J30: =IF(H30=0,"",IF(I30>=H30,"達成","未達成")) | K30: =IF(E30>G30,"期間の入力を確認してください。","")
G32: 判定結果（実績）： | I32: =IF(COUNTIF($J$10:$J$31,"未達成")>0,"未達成","週休２日達成") -> 週休２日達成
