Workbook
Name 夏季休暇: 定義!$D:$D
Name 祝日: 定義!$A:$A
Name 年末年始: 定義!$G:$G

Sheet 定義
A1: 祝日 | D1: 夏季休暇 | G1: 年末年始 | K1: 休日名 | L1: 休日 | M1: 対象期間
A2: 43407 | B2: 文化の日 | D2: 45516 | E2: 夏季休暇 | G2: 祝日のため除去 | H2: 年末年始 | J2: =休日取得状況表!$B$4 -> 0 | K2: {=IFERROR(INDEX($B:$B,MATCH($J2,祝日,),),"")&IFERROR(INDEX($E:$E,MATCH($J2,夏季休暇,),),"")&IFERROR(INDEX($H:$H,MATCH($J2,年末年始,),),"")} | L2: =IF(OR(TEXT(J2,"aaa")="土",TEXT(J2,"aaa")="日",K2<>""),1,0) -> 1 | M2: =IF(OR(AND(休日取得状況表!$D$4<J2,J2<休日取得状況表!$B$5),AND(休日取得状況表!$D$5<J2,J2<休日取得状況表!$B$6),AND(休日取得状況表!$D$6<J2,J2<休日取得状況表!$B$7)),"✕",L2) -> 1
A3: 43427 | B3: 勤労感謝の日 | D3: 45517 | E3: 夏季休暇 | G3: 45293 | H3: 年末年始 | J3: =IF(J2>=MAX(休日取得状況表!$D$4:$D$7),"",J2+1) | K3: {=IFERROR(INDEX($B:$B,MATCH($J3,祝日,),),"")&IFERROR(INDEX($E:$E,MATCH($J3,夏季休暇,),),"")&IFERROR(INDEX($H:$H,MATCH($J3,年末年始,),),"")} | L3: =IF(OR(TEXT(J3,"aaa")="土",TEXT(J3,"aaa")="日",K3<>""),1,0) -> 0 | M3: =IF(OR(AND(休日取得状況表!$D$4<J3,J3<休日取得状況表!$B$5),AND(休日取得状況表!$D$5<J3,J3<休日取得状況表!$B$6),AND(休日取得状況表!$D$6<J3,J3<休日取得状況表!$B$7)),"✕",L3) -> 0
A4: 43457 | B4: 天皇誕生日 | D4: 45518 | E4: 夏季休暇 | G4: 45294 | H4: 年末年始 | J4: =IF(J3>=MAX(休日取得状況表!$D$4:$D$7),"",J3+1) | K4: {=IFERROR(INDEX($B:$B,MATCH($J4,祝日,),),"")&IFERROR(INDEX($E:$E,MATCH($J4,夏季休暇,),),"")&IFERROR(INDEX($H:$H,MATCH($J4,年末年始,),),"")} | L4: =IF(OR(TEXT(J4,"aaa")="土",TEXT(J4,"aaa")="日",K4<>""),1,0) -> 0 | M4: =IF(OR(AND(休日取得状況表!$D$4<J4,J4<休日取得状況表!$B$5),AND(休日取得状況表!$D$5<J4,J4<休日取得状況表!$B$6),AND(休日取得状況表!$D$6<J4,J4<休日取得状況表!$B$7)),"✕",L4) -> 0
A5: 43458 | B5: 振替休日 | D5: 45881 | E5: 夏季休暇 | G5: 45655 | H5: 年末年始 | J5: =IF(J4>=MAX(休日取得状況表!$D$4:$D$7),"",J4+1) | K5: {=IFERROR(INDEX($B:$B,MATCH($J5,祝日,),),"")&IFERROR(INDEX($E:$E,MATCH($J5,夏季休暇,),),"")&IFERROR(INDEX($H:$H,MATCH($J5,年末年始,),),"")} | L5: =IF(OR(TEXT(J5,"aaa")="土",TEXT(J5,"aaa")="日",K5<>""),1,0) -> 0 | M5: =IF(OR(AND(休日取得状況表!$D$4<J5,J5<休日取得状況表!$B$5),AND(休日取得状況表!$D$5<J5,J5<休日取得状況表!$B$6),AND(休日取得状況表!$D$6<J5,J5<休日取得状況表!$B$7)),"✕",L5) -> 0
A6: 43466 | B6: 元日 | D6: 45882 | E6: 夏季休暇 | G6: 45656 | H6: 年末年始 | J6: =IF(J5>=MAX(休日取得状況表!$D$4:$D$7),"",J5+1) | K6: {=IFERROR(INDEX($B:$B,MATCH($J6,祝日,),),"")&IFERROR(INDEX($E:$E,MATCH($J6,夏季休暇,),),"")&IFERROR(INDEX($H:$H,MATCH($J6,年末年始,),),"")} | L6: =IF(OR(TEXT(J6,"aaa")="土",TEXT(J6,"aaa")="日",K6<>""),1,0) -> 0 | M6: =IF(OR(AND(休日取得状況表!$D$4<J6,J6<休日取得状況表!$B$5),AND(休日取得状況表!$D$5<J6,J6<休日取得状況表!$B$6),AND(休日取得状況表!$D$6<J6,J6<休日取得状況表!$B$7)),"✕",L6) -> 0
A7: 43479 | B7: 成人の日 | D7: 45883 | E7: 夏季休暇 | G7: 45657 | H7: 年末年始 | J7: =IF(J6>=MAX(休日取得状況表!$D$4:$D$7),"",J6+1) | K7: {=IFERROR(INDEX($B:$B,MATCH($J7,祝日,),),"")&IFERROR(INDEX($E:$E,MATCH($J7,夏季休暇,),),"")&IFERROR(INDEX($H:$H,MATCH($J7,年末年始,),),"")} | L7: =IF(OR(TEXT(J7,"aaa")="土",TEXT(J7,"aaa")="日",K7<>""),1,0) -> 0 | M7: =IF(OR(AND(休日取得状況表!$D$4<J7,J7<休日取得状況表!$B$5),AND(休日取得状況表!$D$5<J7,J7<休日取得状況表!$B$6),AND(休日取得状況表!$D$6<J7,J7<休日取得状況表!$B$7)),"✕",L7) -> 0
A8: 43507 | B8: 建国記念の日 | D8: 46246 | E8: 夏季休暇 | G8: 祝日のため除去 | H8: 年末年始 | J8: =IF(J7>=MAX(休日取得状況表!$D$4:$D$7),"",J7+1) | K8: {=IFERROR(INDEX($B:$B,MATCH($J8,祝日,),),"")&IFERROR(INDEX($E:$E,MATCH($J8,夏季休暇,),),"")&IFERROR(INDEX($H:$H,MATCH($J8,年末年始,),),"")} | L8: =IF(OR(TEXT(J8,"aaa")="土",TEXT(J8,"aaa")="日",K8<>""),1,0) -> 0 | M8: =IF(OR(AND(休日取得状況表!$D$4<J8,J8<休日取得状況表!$B$5),AND(休日取得状況表!$D$5<J8,J8<休日取得状況表!$B$6),AND(休日取得状況表!$D$6<J8,J8<休日取得状況表!$B$7)),"✕",L8) -> 0
A9: 43545 | B9: 春分の日 | D9: 46247 | E9: 夏季休暇 | G9: 45659 | H9: 年末年始 | J9: =IF(J8>=MAX(休日取得状況表!$D$4:$D$7),"",J8+1) | K9: {=IFERROR(INDEX($B:$B,MATCH($J9,祝日,),),"")&IFERROR(INDEX($E:$E,MATCH($J9,夏季休暇,),),"")&IFERROR(INDEX($H:$H,MATCH($J9,年末年始,),),"")} | L9: =IF(OR(TEXT(J9,"aaa")="土",TEXT(J9,"aaa")="日",K9<>""),1,0) -> 0 | M9: =IF(OR(AND(休日取得状況表!$D$4<J9,J9<休日取得状況表!$B$5),AND(休日取得状況表!$D$5<J9,J9<休日取得状況表!$B$6),AND(休日取得状況表!$D$6<J9,J9<休日取得状況表!$B$7)),"✕",L9) -> 0
A10: 43584 | B10: 昭和の日 | D10: 46248 | E10: 夏季休暇 | G10: 45660 | H10: 年末年始 | J10: =IF(J9>=MAX(休日取得状況表!$D$4:$D$7),"",J9+1) | K10: {=IFERROR(INDEX($B:$B,MATCH($J10,祝日,),),"")&IFERROR(INDEX($E:$E,MATCH($J10,夏季休暇,),),"")&IFERROR(INDEX($H:$H,MATCH($J10,年末年始,),),"")} | L10: =IF(OR(TEXT(J10,"aaa")="土",TEXT(J10,"aaa")="日",K10<>""),1,0) -> 0 | M10: =IF(OR(AND(休日取得状況表!$D$4<J10,J10<休日取得状況表!$B$5),AND(休日取得状況表!$D$5<J10,J10<休日取得状況表!$B$6),AND(休日取得状況表!$D$6<J10,J10<休日取得状況表!$B$7)),"✕",L10) -> 0
A11: 43585 | B11: 国民の休日 | D11: 46611 | E11: 夏季休暇 | G11: 46020 | H11: 年末年始 | J11: =IF(J10>=MAX(休日取得状況表!$D$4:$D$7),"",J10+1) | K11: {=IFERROR(INDEX($B:$B,MATCH($J11,祝日,),),"")&IFERROR(INDEX($E:$E,MATCH($J11,夏季休暇,),),"")&IFERROR(INDEX($H:$H,MATCH($J11,年末年始,),),"")} | L11: =IF(OR(TEXT(J11,"aaa")="土",TEXT(J11,"aaa")="日",K11<>""),1,0) -> 0 | M11: =IF(OR(AND(休日取得状況表!$D$4<J11,J11<休日取得状況表!$B$5),AND(休日取得状況表!$D$5<J11,J11<休日取得状況表!$B$6),AND(休日取得状況表!$D$6<J11,J11<休日取得状況表!$B$7)),"✕",L11) -> 0
A12: 43586 | B12: 天皇の即位の日 | D12: 46612 | E12: 夏季休暇 | G12: 46021 | H12: 年末年始 | J12: =IF(J11>=MAX(休日取得状況表!$D$4:$D$7),"",J11+1) | K12: {=IFERROR(INDEX($B:$B,MATCH($J12,祝日,),),"")&IFERROR(INDEX($E:$E,MATCH($J12,夏季休暇,),),"")&IFERROR(INDEX($H:$H,MATCH($J12,年末年始,),),"")} | L12: =IF(OR(TEXT(J12,"aaa")="土",TEXT(J12,"aaa")="日",K12<>""),1,0) -> 0 | M12: =IF(OR(AND(休日取得状況表!$D$4<J12,J12<休日取得状況表!$B$5),AND(休日取得状況表!$D$5<J12,J12<休日取得状況表!$B$6),AND(休日取得状況表!$D$6<J12,J12<休日取得状況表!$B$7)),"✕",L12) -> 0
A13: 43587 | B13: 国民の休日 | D13: 46615 | E13: 夏季休暇 | G13: 46022 | H13: 年末年始 | J13: =IF(J12>=MAX(休日取得状況表!$D$4:$D$7),"",J12+1) | K13: {=IFERROR(INDEX($B:$B,MATCH($J13,祝日,),),"")&IFERROR(INDEX($E:$E,MATCH($J13,夏季休暇,),),"")&IFERROR(INDEX($H:$H,MATCH($J13,年末年始,),),"")} | L13: =IF(OR(TEXT(J13,"aaa")="土",TEXT(J13,"aaa")="日",K13<>""),1,0) -> 0 | M13: =IF(OR(AND(休日取得状況表!$D$4<J13,J13<休日取得状況表!$B$5),AND(休日取得状況表!$D$5<J13,J13<休日取得状況表!$B$6),AND(休日取得状況表!$D$6<J13,J13<休日取得状況表!$B$7)),"✕",L13) -> 0
A14: 43588 | B14: 憲法記念日 | D14: 46979 | E14: 夏季休暇 | G14: 祝日のため除去 | H14: 年末年始 | J14: =IF(J13>=MAX(休日取得状況表!$D$4:$D$7),"",J13+1) | K14: {=IFERROR(INDEX($B:$B,MATCH($J14,祝日,),),"")&IFERROR(INDEX($E:$E,MATCH($J14,夏季休暇,),),"")&IFERROR(INDEX($H:$H,MATCH($J14,年末年始,),),"")} | L14: =IF(OR(TEXT(J14,"aaa")="土",TEXT(J14,"aaa")="日",K14<>""),1,0) -> 0 | M14: =IF(OR(AND(休日取得状況表!$D$4<J14,J14<休日取得状況表!$B$5),AND(休日取得状況表!$D$5<J14,J14<休日取得状況表!$B$6),AND(休日取得状況表!$D$6<J14,J14<休日取得状況表!$B$7)),"✕",L14) -> 0
A15: 43589 | B15: みどりの日 | D15: 46980 | E15: 夏季休暇 | G15: 46024 | H15: 年末年始 | J15: =IF(J14>=MAX(休日取得状況表!$D$4:$D$7),"",J14+1) | K15: {=IFERROR(INDEX($B:$B,MATCH($J15,祝日,),),"")&IFERROR(INDEX($E:$E,MATCH($J15,夏季休暇,),),"")&IFERROR(INDEX($H:$H,MATCH($J15,年末年始,),),"")} | L15: =IF(OR(TEXT(J15,"aaa")="土",TEXT(J15,"aaa")="日",K15<>""),1,0) -> 0 | M15: =IF(OR(AND(休日取得状況表!$D$4<J15,J15<休日取得状況表!$B$5),AND(休日取得状況表!$D$5<J15,J15<休日取得状況表!$B$6),AND(休日取得状況表!$D$6<J15,J15<休日取得状況表!$B$7)),"✕",L15) -> 0
A16: 43590 | B16: こどもの日 | D16: 46981 | E16: 夏季休暇 | G16: 46025 | H16: 年末年始 | J16: =IF(J15>=MAX(休日取得状況表!$D$4:$D$7),"",J15+1) | K16: {=IFERROR(INDEX($B:$B,MATCH($J16,祝日,),),"")&IFERROR(INDEX($E:$E,MATCH($J16,夏季休暇,),),"")&IFERROR(INDEX($H:$H,MATCH($J16,年末年始,),),"")} | L16: =IF(OR(TEXT(J16,"aaa")="土",TEXT(J16,"aaa")="日",K16<>""),1,0) -> 0 | M16: =IF(OR(AND(休日取得状況表!$D$4<J16,J16<休日取得状況表!$B$5),AND(休日取得状況表!$D$5<J16,J16<休日取得状況表!$B$6),AND(休日取得状況表!$D$6<J16,J16<休日取得状況表!$B$7)),"✕",L16) -> 0
A17: 43591 | B17: 振替休日 | D17: 47343 | E17: 夏季休暇 | G17: 46385 | H17: 年末年始 | J17: =IF(J16>=MAX(休日取得状況表!$D$4:$D$7),"",J16+1) | K17: {=IFERROR(INDEX($B:$B,MATCH($J17,祝日,),),"")&IFERROR(INDEX($E:$E,MATCH($J17,夏季休暇,),),"")&IFERROR(INDEX($H:$H,MATCH($J17,年末年始,),),"")} | L17: =IF(OR(TEXT(J17,"aaa")="土",TEXT(J17,"aaa")="日",K17<>""),1,0) -> 0 | M17: =IF(OR(AND(休日取得状況表!$D$4<J17,J17<休日取得状況表!$B$5),AND(休日取得状況表!$D$5<J17,J17<休日取得状況表!$B$6),AND(休日取得状況表!$D$6<J17,J17<休日取得状況表!$B$7)),"✕",L17) -> 0
A18: 43661 | B18: 海の日 | D18: 47344 | E18: 夏季休暇 | G18: 46386 | H18: 年末年始 | J18: =IF(J17>=MAX(休日取得状況表!$D$4:$D$7),"",J17+1) | K18: {=IFERROR(INDEX($B:$B,MATCH($J18,祝日,),),"")&IFERROR(INDEX($E:$E,MATCH($J18,夏季休暇,),),"")&IFERROR(INDEX($H:$H,MATCH($J18,年末年始,),),"")} | L18: =IF(OR(TEXT(J18,"aaa")="土",TEXT(J18,"aaa")="日",K18<>""),1,0) -> 0 | M18: =IF(OR(AND(休日取得状況表!$D$4<J18,J18<休日取得状況表!$B$5),AND(休日取得状況表!$D$5<J18,J18<休日取得状況表!$B$6),AND(休日取得状況表!$D$6<J18,J18<休日取得状況表!$B$7)),"✕",L18) -> 0
A19: 43688 | B19: 山の日 | D19: 47345 | E19: 夏季休暇 | G19: 46387 | H19: 年末年始 | J19: =IF(J18>=MAX(休日取得状況表!$D$4:$D$7),"",J18+1) | K19: {=IFERROR(INDEX($B:$B,MATCH($J19,祝日,),),"")&IFERROR(INDEX($E:$E,MATCH($J19,夏季休暇,),),"")&IFERROR(INDEX($H:$H,MATCH($J19,年末年始,),),"")} | L19: =IF(OR(TEXT(J19,"aaa")="土",TEXT(J19,"aaa")="日",K19<>""),1,0) -> 0 | M19: =IF(OR(AND(休日取得状況表!$D$4<J19,J19<休日取得状況表!$B$5),AND(休日取得状況表!$D$5<J19,J19<休日取得状況表!$B$6),AND(休日取得状況表!$D$6<J19,J19<休日取得状況表!$B$7)),"✕",L19) -> 0
A20: 43689 | B20: 振替休日 | D20: 47707 | E20: 夏季休暇 | G20: 祝日のため除去 | H20: 年末年始 | J20: =IF(J19>=MAX(休日取得状況表!$D$4:$D$7),"",J19+1) | K20: {=IFERROR(INDEX($B:$B,MATCH($J20,祝日,),),"")&IFERROR(INDEX($E:$E,MATCH($J20,夏季休暇,),),"")&IFERROR(INDEX($H:$H,MATCH($J20,年末年始,),),"")} | L20: =IF(OR(TEXT(J20,"aaa")="土",TEXT(J20,"aaa")="日",K20<>""),1,0) -> 0 | M20: =IF(OR(AND(休日取得状況表!$D$4<J20,J20<休日取得状況表!$B$5),AND(休日取得状況表!$D$5<J20,J20<休日取得状況表!$B$6),AND(休日取得状況表!$D$6<J20,J20<休日取得状況表!$B$7)),"✕",L20) -> 0
A21: 43724 | B21: 敬老の日 | D21: 47708 | E21: 夏季休暇 | G21: 46389 | H21: 年末年始 | J21: =IF(J20>=MAX(休日取得状況表!$D$4:$D$7),"",J20+1) | K21: {=IFERROR(INDEX($B:$B,MATCH($J21,祝日,),),"")&IFERROR(INDEX($E:$E,MATCH($J21,夏季休暇,),),"")&IFERROR(INDEX($H:$H,MATCH($J21,年末年始,),),"")} | L21: =IF(OR(TEXT(J21,"aaa")="土",TEXT(J21,"aaa")="日",K21<>""),1,0) -> 0 | M21: =IF(OR(AND(休日取得状況表!$D$4<J21,J21<休日取得状況表!$B$5),AND(休日取得状況表!$D$5<J21,J21<休日取得状況表!$B$6),AND(休日取得状況表!$D$6<J21,J21<休日取得状況表!$B$7)),"✕",L21) -> 0
A22: 43731 | B22: 秋分の日 | D22: 47709 | E22: 夏季休暇 | G22: 46390 | H22: 年末年始 | J22: =IF(J21>=MAX(休日取得状況表!$D$4:$D$7),"",J21+1) | K22: {=IFERROR(INDEX($B:$B,MATCH($J22,祝日,),),"")&IFERROR(INDEX($E:$E,MATCH($J22,夏季休暇,),),"")&IFERROR(INDEX($H:$H,MATCH($J22,年末年始,),),"")} | L22: =IF(OR(TEXT(J22,"aaa")="土",TEXT(J22,"aaa")="日",K22<>""),1,0) -> 0 | M22: =IF(OR(AND(休日取得状況表!$D$4<J22,J22<休日取得状況表!$B$5),AND(休日取得状況表!$D$5<J22,J22<休日取得状況表!$B$6),AND(休日取得状況表!$D$6<J22,J22<休日取得状況表!$B$7)),"✕",L22) -> 0
A23: 43752 | B23: 体育の日 | G23: 46750 | H23: 年末年始 | J23: =IF(J22>=MAX(休日取得状況表!$D$4:$D$7),"",J22+1) | K23: {=IFERROR(INDEX($B:$B,MATCH($J23,祝日,),),"")&IFERROR(INDEX($E:$E,MATCH($J23,夏季休暇,),),"")&IFERROR(INDEX($H:$H,MATCH($J23,年末年始,),),"")} | L23: =IF(OR(TEXT(J23,"aaa")="土",TEXT(J23,"aaa")="日",K23<>""),1,0) -> 0 | M23: =IF(OR(AND(休日取得状況表!$D$4<J23,J23<休日取得状況表!$B$5),AND(休日取得状況表!$D$5<J23,J23<休日取得状況表!$B$6),AND(休日取得状況表!$D$6<J23,J23<休日取得状況表!$B$7)),"✕",L23) -> 0
A24: 43760 | B24: 即位礼正殿の儀 | G24: 46751 | H24: 年末年始 | J24: =IF(J23>=MAX(休日取得状況表!$D$4:$D$7),"",J23+1) | K24: {=IFERROR(INDEX($B:$B,MATCH($J24,祝日,),),"")&IFERROR(INDEX($E:$E,MATCH($J24,夏季休暇,),),"")&IFERROR(INDEX($H:$H,MATCH($J24,年末年始,),),"")} | L24: =IF(OR(TEXT(J24,"aaa")="土",TEXT(J24,"aaa")="日",K24<>""),1,0) -> 0 | M24: =IF(OR(AND(休日取得状況表!$D$4<J24,J24<休日取得状況表!$B$5),AND(休日取得状況表!$D$5<J24,J24<休日取得状況表!$B$6),AND(休日取得状況表!$D$6<J24,J24<休日取得状況表!$B$7)),"✕",L24) -> 0
A25: 43772 | B25: 文化の日 | G25: 46752 | H25: 年末年始 | J25: =IF(J24>=MAX(休日取得状況表!$D$4:$D$7),"",J24+1) | K25: {=IFERROR(INDEX($B:$B,MATCH($J25,祝日,),),"")&IFERROR(INDEX($E:$E,MATCH($J25,夏季休暇,),),"")&IFERROR(INDEX($H:$H,MATCH($J25,年末年始,),),"")} | L25: =IF(OR(TEXT(J25,"aaa")="土",TEXT(J25,"aaa")="日",K25<>""),1,0) -> 0 | M25: =IF(OR(AND(休日取得状況表!$D$4<J25,J25<休日取得状況表!$B$5),AND(休日取得状況表!$D$5<J25,J25<休日取得状況表!$B$6),AND(休日取得状況表!$D$6<J25,J25<休日取得状況表!$B$7)),"✕",L25) -> 0
A26: 43773 | B26: 振替休日 | G26: 祝日のため除去 | H26: 年末年始 | J26: =IF(J25>=MAX(休日取得状況表!$D$4:$D$7),"",J25+1) | K26: {=IFERROR(INDEX($B:$B,MATCH($J26,祝日,),),"")&IFERROR(INDEX($E:$E,MATCH($J26,夏季休暇,),),"")&IFERROR(INDEX($H:$H,MATCH($J26,年末年始,),),"")} | L26: =IF(OR(TEXT(J26,"aaa")="土",TEXT(J26,"aaa")="日",K26<>""),1,0) -> 0 | M26: =IF(OR(AND(休日取得状況表!$D$4<J26,J26<休日取得状況表!$B$5),AND(休日取得状況表!$D$5<J26,J26<休日取得状況表!$B$6),AND(休日取得状況表!$D$6<J26,J26<休日取得状況表!$B$7)),"✕",L26) -> 0
A27: 43792 | B27: 勤労感謝の日 | G27: 46754 | H27: 年末年始 | J27: =IF(J26>=MAX(休日取得状況表!$D$4:$D$7),"",J26+1) | K27: {=IFERROR(INDEX($B:$B,MATCH($J27,祝日,),),"")&IFERROR(INDEX($E:$E,MATCH($J27,夏季休暇,),),"")&IFERROR(INDEX($H:$H,MATCH($J27,年末年始,),),"")} | L27: =IF(OR(TEXT(J27,"aaa")="土",TEXT(J27,"aaa")="日",K27<>""),1,0) -> 0 | M27: =IF(OR(AND(休日取得状況表!$D$4<J27,J27<休日取得状況表!$B$5),AND(休日取得状況表!$D$5<J27,J27<休日取得状況表!$B$6),AND(休日取得状況表!$D$6<J27,J27<休日取得状況表!$B$7)),"✕",L27) -> 0
G28: 46755 | H28: 年末年始 | J28: =IF(J27>=MAX(休日取得状況表!$D$4:$D$7),"",J27+1) | K28: {=IFERROR(INDEX($B:$B,MATCH($J28,祝日,),),"")&IFERROR(INDEX($E:$E,MATCH($J28,夏季休暇,),),"")&IFERROR(INDEX($H:$H,MATCH($J28,年末年始,),),"")} | L28: =IF(OR(TEXT(J28,"aaa")="土",TEXT(J28,"aaa")="日",K28<>""),1,0) -> 0 | M28: =IF(OR(AND(休日取得状況表!$D$4<J28,J28<休日取得状況表!$B$5),AND(休日取得状況表!$D$5<J28,J28<休日取得状況表!$B$6),AND(休日取得状況表!$D$6<J28,J28<休日取得状況表!$B$7)),"✕",L28) -> 0
A29: 43831 | B29: 元日 | G29: 47116 | H29: 年末年始 | J29: =IF(J28>=MAX(休日取得状況表!$D$4:$D$7),"",J28+1) | K29: {=IFERROR(INDEX($B:$B,MATCH($J29,祝日,),),"")&IFERROR(INDEX($E:$E,MATCH($J29,夏季休暇,),),"")&IFERROR(INDEX($H:$H,MATCH($J29,年末年始,),),"")} | L29: =IF(OR(TEXT(J29,"aaa")="土",TEXT(J29,"aaa")="日",K29<>""),1,0) -> 0 | M29: =IF(OR(AND(休日取得状況表!$D$4<J29,J29<休日取得状況表!$B$5),AND(休日取得状況表!$D$5<J29,J29<休日取得状況表!$B$6),AND(休日取得状況表!$D$6<J29,J29<休日取得状況表!$B$7)),"✕",L29) -> 0
A30: 43843 | B30: 成人の日 | G30: 47117 | H30: 年末年始 | J30: =IF(J29>=MAX(休日取得状況表!$D$4:$D$7),"",J29+1) | K30: {=IFERROR(INDEX($B:$B,MATCH($J30,祝日,),),"")&IFERROR(INDEX($E:$E,MATCH($J30,夏季休暇,),),"")&IFERROR(INDEX($H:$H,MATCH($J30,年末年始,),),"")} | L30: =IF(OR(TEXT(J30,"aaa")="土",TEXT(J30,"aaa")="日",K30<>""),1,0) -> 0 | M30: =IF(OR(AND(休日取得状況表!$D$4<J30,J30<休日取得状況表!$B$5),AND(休日取得状況表!$D$5<J30,J30<休日取得状況表!$B$6),AND(休日取得状況表!$D$6<J30,J30<休日取得状況表!$B$7)),"✕",L30) -> 0
A31: 43872 | B31: 建国記念の日 | G31: 47118 | H31: 年末年始 | J31: =IF(J30>=MAX(休日取得状況表!$D$4:$D$7),"",J30+1) | K31: {=IFERROR(INDEX($B:$B,MATCH($J31,祝日,),),"")&IFERROR(INDEX($E:$E,MATCH($J31,夏季休暇,),),"")&IFERROR(INDEX($H:$H,MATCH($J31,年末年始,),),"")} | L31: =IF(OR(TEXT(J31,"aaa")="土",TEXT(J31,"aaa")="日",K31<>""),1,0) -> 0 | M31: =IF(OR(AND(休日取得状況表!$D$4<J31,J31<休日取得状況表!$B$5),AND(休日取得状況表!$D$5<J31,J31<休日取得状況表!$B$6),AND(休日取得状況表!$D$6<J31,J31<休日取得状況表!$B$7)),"✕",L31) -> 0
A32: 43884 | B32: 天皇誕生日 | G32: 祝日のため除去 | H32: 年末年始 | J32: =IF(J31>=MAX(休日取得状況表!$D$4:$D$7),"",J31+1) | K32: {=IFERROR(INDEX($B:$B,MATCH($J32,祝日,),),"")&IFERROR(INDEX($E:$E,MATCH($J32,夏季休暇,),),"")&IFERROR(INDEX($H:$H,MATCH($J32,年末年始,),),"")} | L32: =IF(OR(TEXT(J32,"aaa")="土",TEXT(J32,"aaa")="日",K32<>""),1,0) -> 0 | M32: =IF(OR(AND(休日取得状況表!$D$4<J32,J32<休日取得状況表!$B$5),AND(休日取得状況表!$D$5<J32,J32<休日取得状況表!$B$6),AND(休日取得状況表!$D$6<J32,J32<休日取得状況表!$B$7)),"✕",L32) -> 0
A33: 43885 | B33: 振替休日 | G33: 47120 | H33: 年末年始 | J33: =IF(J32>=MAX(休日取得状況表!$D$4:$D$7),"",J32+1) | K33: {=IFERROR(INDEX($B:$B,MATCH($J33,祝日,),),"")&IFERROR(INDEX($E:$E,MATCH($J33,夏季休暇,),),"")&IFERROR(INDEX($H:$H,MATCH($J33,年末年始,),),"")} | L33: =IF(OR(TEXT(J33,"aaa")="土",TEXT(J33,"aaa")="日",K33<>""),1,0) -> 0 | M33: =IF(OR(AND(休日取得状況表!$D$4<J33,J33<休日取得状況表!$B$5),AND(休日取得状況表!$D$5<J33,J33<休日取得状況表!$B$6),AND(休日取得状況表!$D$6<J33,J33<休日取得状況表!$B$7)),"✕",L33) -> 0
A34: 43910 | B34: 春分の日 | G34: 47121 | H34: 年末年始 | J34: =IF(J33>=MAX(休日取得状況表!$D$4:$D$7),"",J33+1) | K34: {=IFERROR(INDEX($B:$B,MATCH($J34,祝日,),),"")&IFERROR(INDEX($E:$E,MATCH($J34,夏季休暇,),),"")&IFERROR(INDEX($H:$H,MATCH($J34,年末年始,),),"")} | L34: =IF(OR(TEXT(J34,"aaa")="土",TEXT(J34,"aaa")="日",K34<>""),1,0) -> 0 | M34: =IF(OR(AND(休日取得状況表!$D$4<J34,J34<休日取得状況表!$B$5),AND(休日取得状況表!$D$5<J34,J34<休日取得状況表!$B$6),AND(休日取得状況表!$D$6<J34,J34<休日取得状況表!$B$7)),"✕",L34) -> 0
A35: 43950 | B35: 昭和の日 | G35: 47481 | H35: 年末年始 | J35: =IF(J34>=MAX(休日取得状況表!$D$4:$D$7),"",J34+1) | K35: {=IFERROR(INDEX($B:$B,MATCH($J35,祝日,),),"")&IFERROR(INDEX($E:$E,MATCH($J35,夏季休暇,),),"")&IFERROR(INDEX($H:$H,MATCH($J35,年末年始,),),"")} | L35: =IF(OR(TEXT(J35,"aaa")="土",TEXT(J35,"aaa")="日",K35<>""),1,0) -> 0 | M35: =IF(OR(AND(休日取得状況表!$D$4<J35,J35<休日取得状況表!$B$5),AND(休日取得状況表!$D$5<J35,J35<休日取得状況表!$B$6),AND(休日取得状況表!$D$6<J35,J35<休日取得状況表!$B$7)),"✕",L35) -> 0
A36: 43954 | B36: 憲法記念日 | G36: 47482 | H36: 年末年始 | J36: =IF(J35>=MAX(休日取得状況表!$D$4:$D$7),"",J35+1) | K36: {=IFERROR(INDEX($B:$B,MATCH($J36,祝日,),),"")&IFERROR(INDEX($E:$E,MATCH($J36,夏季休暇,),),"")&IFERROR(INDEX($H:$H,MATCH($J36,年末年始,),),"")} | L36: =IF(OR(TEXT(J36,"aaa")="土",TEXT(J36,"aaa")="日",K36<>""),1,0) -> 0 | M36: =IF(OR(AND(休日取得状況表!$D$4<J36,J36<休日取得状況表!$B$5),AND(休日取得状況表!$D$5<J36,J36<休日取得状況表!$B$6),AND(休日取得状況表!$D$6<J36,J36<休日取得状況表!$B$7)),"✕",L36) -> 0
A37: 43955 | B37: みどりの日 | G37: 47483 | H37: 年末年始 | J37: =IF(J36>=MAX(休日取得状況表!$D$4:$D$7),"",J36+1) | K37: {=IFERROR(INDEX($B:$B,MATCH($J37,祝日,),),"")&IFERROR(INDEX($E:$E,MATCH($J37,夏季休暇,),),"")&IFERROR(INDEX($H:$H,MATCH($J37,年末年始,),),"")} | L37: =IF(OR(TEXT(J37,"aaa")="土",TEXT(J37,"aaa")="日",K37<>""),1,0) -> 0 | M37: =IF(OR(AND(休日取得状況表!$D$4<J37,J37<休日取得状況表!$B$5),AND(休日取得状況表!$D$5<J37,J37<休日取得状況表!$B$6),AND(休日取得状況表!$D$6<J37,J37<休日取得状況表!$B$7)),"✕",L37) -> 0
A38: 43956 | B38: こどもの日 | G38: 祝日のため除去 | H38: 年末年始 | J38: =IF(J37>=MAX(休日取得状況表!$D$4:$D$7),"",J37+1) | K38: {=IFERROR(INDEX($B:$B,MATCH($J38,祝日,),),"")&IFERROR(INDEX($E:$E,MATCH($J38,夏季休暇,),),"")&IFERROR(INDEX($H:$H,MATCH($J38,年末年始,),),"")} | L38: =IF(OR(TEXT(J38,"aaa")="土",TEXT(J38,"aaa")="日",K38<>""),1,0) -> 0 | M38: =IF(OR(AND(休日取得状況表!$D$4<J38,J38<休日取得状況表!$B$5),AND(休日取得状況表!$D$5<J38,J38<休日取得状況表!$B$6),AND(休日取得状況表!$D$6<J38,J38<休日取得状況表!$B$7)),"✕",L38) -> 0
A39: 43957 | B39: 振替休日 | G39: 47485 | H39: 年末年始 | J39: =IF(J38>=MAX(休日取得状況表!$D$4:$D$7),"",J38+1) | K39: {=IFERROR(INDEX($B:$B,MATCH($J39,祝日,),),"")&IFERROR(INDEX($E:$E,MATCH($J39,夏季休暇,),),"")&IFERROR(INDEX($H:$H,MATCH($J39,年末年始,),),"")} | L39: =IF(OR(TEXT(J39,"aaa")="土",TEXT(J39,"aaa")="日",K39<>""),1,0) -> 0 | M39: =IF(OR(AND(休日取得状況表!$D$4<J39,J39<休日取得状況表!$B$5),AND(休日取得状況表!$D$5<J39,J39<休日取得状況表!$B$6),AND(休日取得状況表!$D$6<J39,J39<休日取得状況表!$B$7)),"✕",L39) -> 0
A40: 44035 | B40: 海の日 | G40: 47486 | H40: 年末年始 | J40: =IF(J39>=MAX(休日取得状況表!$D$4:$D$7),"",J39+1) | K40: {=IFERROR(INDEX($B:$B,MATCH($J40,祝日,),),"")&IFERROR(INDEX($E:$E,MATCH($J40,夏季休暇,),),"")&IFERROR(INDEX($H:$H,MATCH($J40,年末年始,),),"")} | L40: =IF(OR(TEXT(J40,"aaa")="土",TEXT(J40,"aaa")="日",K40<>""),1,0) -> 0 | M40: =IF(OR(AND(休日取得状況表!$D$4<J40,J40<休日取得状況表!$B$5),AND(休日取得状況表!$D$5<J40,J40<休日取得状況表!$B$6),AND(休日取得状況表!$D$6<J40,J40<休日取得状況表!$B$7)),"✕",L40) -> 0
A41: 44036 | B41: スポーツの日 | G41: 47846 | H41: 年末年始 | J41: =IF(J40>=MAX(休日取得状況表!$D$4:$D$7),"",J40+1) | K41: {=IFERROR(INDEX($B:$B,MATCH($J41,祝日,),),"")&IFERROR(INDEX($E:$E,MATCH($J41,夏季休暇,),),"")&IFERROR(INDEX($H:$H,MATCH($J41,年末年始,),),"")} | L41: =IF(OR(TEXT(J41,"aaa")="土",TEXT(J41,"aaa")="日",K41<>""),1,0) -> 0 | M41: =IF(OR(AND(休日取得状況表!$D$4<J41,J41<休日取得状況表!$B$5),AND(休日取得状況表!$D$5<J41,J41<休日取得状況表!$B$6),AND(休日取得状況表!$D$6<J41,J41<休日取得状況表!$B$7)),"✕",L41) -> 0
A42: 44053 | B42: 山の日 | G42: 47847 | H42: 年末年始 | J42: =IF(J41>=MAX(休日取得状況表!$D$4:$D$7),"",J41+1) | K42: {=IFERROR(INDEX($B:$B,MATCH($J42,祝日,),),"")&IFERROR(INDEX($E:$E,MATCH($J42,夏季休暇,),),"")&IFERROR(INDEX($H:$H,MATCH($J42,年末年始,),),"")} | L42: =IF(OR(TEXT(J42,"aaa")="土",TEXT(J42,"aaa")="日",K42<>""),1,0) -> 0 | M42: =IF(OR(AND(休日取得状況表!$D$4<J42,J42<休日取得状況表!$B$5),AND(休日取得状況表!$D$5<J42,J42<休日取得状況表!$B$6),AND(休日取得状況表!$D$6<J42,J42<休日取得状況表!$B$7)),"✕",L42) -> 0
A43: 44095 | B43: 敬老の日 | G43: 47848 | H43: 年末年始 | J43: =IF(J42>=MAX(休日取得状況表!$D$4:$D$7),"",J42+1) | K43: {=IFERROR(INDEX($B:$B,MATCH($J43,祝日,),),"")&IFERROR(INDEX($E:$E,MATCH($J43,夏季休暇,),),"")&IFERROR(INDEX($H:$H,MATCH($J43,年末年始,),),"")} | L43: =IF(OR(TEXT(J43,"aaa")="土",TEXT(J43,"aaa")="日",K43<>""),1,0) -> 0 | M43: =IF(OR(AND(休日取得状況表!$D$4<J43,J43<休日取得状況表!$B$5),AND(休日取得状況表!$D$5<J43,J43<休日取得状況表!$B$6),AND(休日取得状況表!$D$6<J43,J43<休日取得状況表!$B$7)),"✕",L43) -> 0
A44: 44096 | B44: 秋分の日 | J44: =IF(J43>=MAX(休日取得状況表!$D$4:$D$7),"",J43+1) | K44: {=IFERROR(INDEX($B:$B,MATCH($J44,祝日,),),"")&IFERROR(INDEX($E:$E,MATCH($J44,夏季休暇,),),"")&IFERROR(INDEX($H:$H,MATCH($J44,年末年始,),),"")} | L44: =IF(OR(TEXT(J44,"aaa")="土",TEXT(J44,"aaa")="日",K44<>""),1,0) -> 0 | M44: =IF(OR(AND(休日取得状況表!$D$4<J44,J44<休日取得状況表!$B$5),AND(休日取得状況表!$D$5<J44,J44<休日取得状況表!$B$6),AND(休日取得状況表!$D$6<J44,J44<休日取得状況表!$B$7)),"✕",L44) -> 0
A45: 44138 | B45: 文化の日 | J45: =IF(J44>=MAX(休日取得状況表!$D$4:$D$7),"",J44+1) | K45: {=IFERROR(INDEX($B:$B,MATCH($J45,祝日,),),"")&IFERROR(INDEX($E:$E,MATCH($J45,夏季休暇,),),"")&IFERROR(INDEX($H:$H,MATCH($J45,年末年始,),),"")} | L45: =IF(OR(TEXT(J45,"aaa")="土",TEXT(J45,"aaa")="日",K45<>""),1,0) -> 0 | M45: =IF(OR(AND(休日取得状況表!$D$4<J45,J45<休日取得状況表!$B$5),AND(休日取得状況表!$D$5<J45,J45<休日取得状況表!$B$6),AND(休日取得状況表!$D$6<J45,J45<休日取得状況表!$B$7)),"✕",L45) -> 0
A46: 44158 | B46: 勤労感謝の日 | J46: =IF(J45>=MAX(休日取得状況表!$D$4:$D$7),"",J45+1) | K46: {=IFERROR(INDEX($B:$B,MATCH($J46,祝日,),),"")&IFERROR(INDEX($E:$E,MATCH($J46,夏季休暇,),),"")&IFERROR(INDEX($H:$H,MATCH($J46,年末年始,),),"")} | L46: =IF(OR(TEXT(J46,"aaa")="土",TEXT(J46,"aaa")="日",K46<>""),1,0) -> 0 | M46: =IF(OR(AND(休日取得状況表!$D$4<J46,J46<休日取得状況表!$B$5),AND(休日取得状況表!$D$5<J46,J46<休日取得状況表!$B$6),AND(休日取得状況表!$D$6<J46,J46<休日取得状況表!$B$7)),"✕",L46) -> 0
J47: =IF(J46>=MAX(休日取得状況表!$D$4:$D$7),"",J46+1) | K47: {=IFERROR(INDEX($B:$B,MATCH($J47,祝日,),),"")&IFERROR(INDEX($E:$E,MATCH($J47,夏季休暇,),),"")&IFERROR(INDEX($H:$H,MATCH($J47,年末年始,),),"")} | L47: =IF(OR(TEXT(J47,"aaa")="土",TEXT(J47,"aaa")="日",K47<>""),1,0) -> 0 | M47: =IF(OR(AND(休日取得状況表!$D$4<J47,J47<休日取得状況表!$B$5),AND(休日取得状況表!$D$5<J47,J47<休日取得状況表!$B$6),AND(休日取得状況表!$D$6<J47,J47<休日取得状況表!$B$7)),"✕",L47) -> 0
A48: 44197 | B48: 元日 | J48: =IF(J47>=MAX(休日取得状況表!$D$4:$D$7),"",J47+1) | K48: {=IFERROR(INDEX($B:$B,MATCH($J48,祝日,),),"")&IFERROR(INDEX($E:$E,MATCH($J48,夏季休暇,),),"")&IFERROR(INDEX($H:$H,MATCH($J48,年末年始,),),"")} | L48: =IF(OR(TEXT(J48,"aaa")="土",TEXT(J48,"aaa")="日",K48<>""),1,0) -> 0 | M48: =IF(OR(AND(休日取得状況表!$D$4<J48,J48<休日取得状況表!$B$5),AND(休日取得状況表!$D$5<J48,J48<休日取得状況表!$B$6),AND(休日取得状況表!$D$6<J48,J48<休日取得状況表!$B$7)),"✕",L48) -> 0
A49: 44207 | B49: 成人の日 | J49: =IF(J48>=MAX(休日取得状況表!$D$4:$D$7),"",J48+1) | K49: {=IFERROR(INDEX($B:$B,MATCH($J49,祝日,),),"")&IFERROR(INDEX($E:$E,MATCH($J49,夏季休暇,),),"")&IFERROR(INDEX($H:$H,MATCH($J49,年末年始,),),"")} | L49: =IF(OR(TEXT(J49,"aaa")="土",TEXT(J49,"aaa")="日",K49<>""),1,0) -> 0 | M49: =IF(OR(AND(休日取得状況表!$D$4<J49,J49<休日取得状況表!$B$5),AND(休日取得状況表!$D$5<J49,J49<休日取得状況表!$B$6),AND(休日取得状況表!$D$6<J49,J49<休日取得状況表!$B$7)),"✕",L49) -> 0
A50: 44238 | B50: 建国記念の日 | J50: =IF(J49>=MAX(休日取得状況表!$D$4:$D$7),"",J49+1) | K50: {=IFERROR(INDEX($B:$B,MATCH($J50,祝日,),),"")&IFERROR(INDEX($E:$E,MATCH($J50,夏季休暇,),),"")&IFERROR(INDEX($H:$H,MATCH($J50,年末年始,),),"")} | L50: =IF(OR(TEXT(J50,"aaa")="土",TEXT(J50,"aaa")="日",K50<>""),1,0) -> 0 | M50: =IF(OR(AND(休日取得状況表!$D$4<J50,J50<休日取得状況表!$B$5),AND(休日取得状況表!$D$5<J50,J50<休日取得状況表!$B$6),AND(休日取得状況表!$D$6<J50,J50<休日取得状況表!$B$7)),"✕",L50) -> 0
A51: 44250 | B51: 天皇誕生日 | J51: =IF(J50>=MAX(休日取得状況表!$D$4:$D$7),"",J50+1) | K51: {=IFERROR(INDEX($B:$B,MATCH($J51,祝日,),),"")&IFERROR(INDEX($E:$E,MATCH($J51,夏季休暇,),),"")&IFERROR(INDEX($H:$H,MATCH($J51,年末年始,),),"")} | L51: =IF(OR(TEXT(J51,"aaa")="土",TEXT(J51,"aaa")="日",K51<>""),1,0) -> 0 | M51: =IF(OR(AND(休日取得状況表!$D$4<J51,J51<休日取得状況表!$B$5),AND(休日取得状況表!$D$5<J51,J51<休日取得状況表!$B$6),AND(休日取得状況表!$D$6<J51,J51<休日取得状況表!$B$7)),"✕",L51) -> 0
A52: 44275 | B52: 春分の日 | J52: =IF(J51>=MAX(休日取得状況表!$D$4:$D$7),"",J51+1) | K52: {=IFERROR(INDEX($B:$B,MATCH($J52,祝日,),),"")&IFERROR(INDEX($E:$E,MATCH($J52,夏季休暇,),),"")&IFERROR(INDEX($H:$H,MATCH($J52,年末年始,),),"")} | L52: =IF(OR(TEXT(J52,"aaa")="土",TEXT(J52,"aaa")="日",K52<>""),1,0) -> 0 | M52: =IF(OR(AND(休日取得状況表!$D$4<J52,J52<休日取得状況表!$B$5),AND(休日取得状況表!$D$5<J52,J52<休日取得状況表!$B$6),AND(休日取得状況表!$D$6<J52,J52<休日取得状況表!$B$7)),"✕",L52) -> 0
A53: 44315 | B53: 昭和の日 | J53: =IF(J52>=MAX(休日取得状況表!$D$4:$D$7),"",J52+1) | K53: {=IFERROR(INDEX($B:$B,MATCH($J53,祝日,),),"")&IFERROR(INDEX($E:$E,MATCH($J53,夏季休暇,),),"")&IFERROR(INDEX($H:$H,MATCH($J53,年末年始,),),"")} | L53: =IF(OR(TEXT(J53,"aaa")="土",TEXT(J53,"aaa")="日",K53<>""),1,0) -> 0 | M53: =IF(OR(AND(休日取得状況表!$D$4<J53,J53<休日取得状況表!$B$5),AND(休日取得状況表!$D$5<J53,J53<休日取得状況表!$B$6),AND(休日取得状況表!$D$6<J53,J53<休日取得状況表!$B$7)),"✕",L53) -> 0
A54: 44319 | B54: 憲法記念日 | J54: =IF(J53>=MAX(休日取得状況表!$D$4:$D$7),"",J53+1) | K54: {=IFERROR(INDEX($B:$B,MATCH($J54,祝日,),),"")&IFERROR(INDEX($E:$E,MATCH($J54,夏季休暇,),),"")&IFERROR(INDEX($H:$H,MATCH($J54,年末年始,),),"")} | L54: =IF(OR(TEXT(J54,"aaa")="土",TEXT(J54,"aaa")="日",K54<>""),1,0) -> 0 | M54: =IF(OR(AND(休日取得状況表!$D$4<J54,J54<休日取得状況表!$B$5),AND(休日取得状況表!$D$5<J54,J54<休日取得状況表!$B$6),AND(休日取得状況表!$D$6<J54,J54<休日取得状況表!$B$7)),"✕",L54) -> 0
A55: 44320 | B55: みどりの日 | J55: =IF(J54>=MAX(休日取得状況表!$D$4:$D$7),"",J54+1) | K55: {=IFERROR(INDEX($B:$B,MATCH($J55,祝日,),),"")&IFERROR(INDEX($E:$E,MATCH($J55,夏季休暇,),),"")&IFERROR(INDEX($H:$H,MATCH($J55,年末年始,),),"")} | L55: =IF(OR(TEXT(J55,"aaa")="土",TEXT(J55,"aaa")="日",K55<>""),1,0) -> 0 | M55: =IF(OR(AND(休日取得状況表!$D$4<J55,J55<休日取得状況表!$B$5),AND(休日取得状況表!$D$5<J55,J55<休日取得状況表!$B$6),AND(休日取得状況表!$D$6<J55,J55<休日取得状況表!$B$7)),"✕",L55) -> 0
A56: 44321 | B56: こどもの日 | J56: =IF(J55>=MAX(休日取得状況表!$D$4:$D$7),"",J55+1) | K56: {=IFERROR(INDEX($B:$B,MATCH($J56,祝日,),),"")&IFERROR(INDEX($E:$E,MATCH($J56,夏季休暇,),),"")&IFERROR(INDEX($H:$H,MATCH($J56,年末年始,),),"")} | L56: =IF(OR(TEXT(J56,"aaa")="土",TEXT(J56,"aaa")="日",K56<>""),1,0) -> 0 | M56: =IF(OR(AND(休日取得状況表!$D$4<J56,J56<休日取得状況表!$B$5),AND(休日取得状況表!$D$5<J56,J56<休日取得状況表!$B$6),AND(休日取得状況表!$D$6<J56,J56<休日取得状況表!$B$7)),"✕",L56) -> 0
A57: 44396 | B57: 海の日 | J57: =IF(J56>=MAX(休日取得状況表!$D$4:$D$7),"",J56+1) | K57: {=IFERROR(INDEX($B:$B,MATCH($J57,祝日,),),"")&IFERROR(INDEX($E:$E,MATCH($J57,夏季休暇,),),"")&IFERROR(INDEX($H:$H,MATCH($J57,年末年始,),),"")} | L57: =IF(OR(TEXT(J57,"aaa")="土",TEXT(J57,"aaa")="日",K57<>""),1,0) -> 0 | M57: =IF(OR(AND(休日取得状況表!$D$4<J57,J57<休日取得状況表!$B$5),AND(休日取得状況表!$D$5<J57,J57<休日取得状況表!$B$6),AND(休日取得状況表!$D$6<J57,J57<休日取得状況表!$B$7)),"✕",L57) -> 0
A58: 44419 | B58: 山の日 | J58: =IF(J57>=MAX(休日取得状況表!$D$4:$D$7),"",J57+1) | K58: {=IFERROR(INDEX($B:$B,MATCH($J58,祝日,),),"")&IFERROR(INDEX($E:$E,MATCH($J58,夏季休暇,),),"")&IFERROR(INDEX($H:$H,MATCH($J58,年末年始,),),"")} | L58: =IF(OR(TEXT(J58,"aaa")="土",TEXT(J58,"aaa")="日",K58<>""),1,0) -> 0 | M58: =IF(OR(AND(休日取得状況表!$D$4<J58,J58<休日取得状況表!$B$5),AND(休日取得状況表!$D$5<J58,J58<休日取得状況表!$B$6),AND(休日取得状況表!$D$6<J58,J58<休日取得状況表!$B$7)),"✕",L58) -> 0
A59: 44459 | B59: 敬老の日 | J59: =IF(J58>=MAX(休日取得状況表!$D$4:$D$7),"",J58+1) | K59: {=IFERROR(INDEX($B:$B,MATCH($J59,祝日,),),"")&IFERROR(INDEX($E:$E,MATCH($J59,夏季休暇,),),"")&IFERROR(INDEX($H:$H,MATCH($J59,年末年始,),),"")} | L59: =IF(OR(TEXT(J59,"aaa")="土",TEXT(J59,"aaa")="日",K59<>""),1,0) -> 0 | M59: =IF(OR(AND(休日取得状況表!$D$4<J59,J59<休日取得状況表!$B$5),AND(休日取得状況表!$D$5<J59,J59<休日取得状況表!$B$6),AND(休日取得状況表!$D$6<J59,J59<休日取得状況表!$B$7)),"✕",L59) -> 0
... A63: 44523 | B63: 勤労感謝の日 | J63: =IF(J62>=MAX(休日取得状況表!$D$4:$D$7),"",J62+1) | K63: {=IFERROR(INDEX($B:$B,MATCH($J63,祝日,),),"")&IFERROR(INDEX($E:$E,MATCH($J63,夏季休暇,),),"")&IFERROR(INDEX($H:$H,MATCH($J63,年末年始,),),"")} | L63: =IF(OR(TEXT(J63,"aaa")="土",TEXT(J63,"aaa")="日",K63<>""),1,0) -> 0 | M63: =IF(OR(AND(休日取得状況表!$D$4<J63,J63<休日取得状況表!$B$5),AND(休日取得状況表!$D$5<J63,J63<休日取得状況表!$B$6),AND(休日取得状況表!$D$6<J63,J63<休日取得状況表!$B$7)),"✕",L63) -> 0
J64: =IF(J63>=MAX(休日取得状況表!$D$4:$D$7),"",J63+1) | K64: {=IFERROR(INDEX($B:$B,MATCH($J64,祝日,),),"")&IFERROR(INDEX($E:$E,MATCH($J64,夏季休暇,),),"")&IFERROR(INDEX($H:$H,MATCH($J64,年末年始,),),"")} | L64: =IF(OR(TEXT(J64,"aaa")="土",TEXT(J64,"aaa")="日",K64<>""),1,0) -> 0 | M64: =IF(OR(AND(休日取得状況表!$D$4<J64,J64<休日取得状況表!$B$5),AND(休日取得状況表!$D$5<J64,J64<休日取得状況表!$B$6),AND(休日取得状況表!$D$6<J64,J64<休日取得状況表!$B$7)),"✕",L64) -> 0
A65: 44562 | B65: 元日 | J65: =IF(J64>=MAX(休日取得状況表!$D$4:$D$7),"",J64+1) | K65: {=IFERROR(INDEX($B:$B,MATCH($J65,祝日,),),"")&IFERROR(INDEX($E:$E,MATCH($J65,夏季休暇,),),"")&IFERROR(INDEX($H:$H,MATCH($J65,年末年始,),),"")} | L65: =IF(OR(TEXT(J65,"aaa")="土",TEXT(J65,"aaa")="日",K65<>""),1,0) -> 0 | M65: =IF(OR(AND(休日取得状況表!$D$4<J65,J65<休日取得状況表!$B$5),AND(休日取得状況表!$D$5<J65,J65<休日取得状況表!$B$6),AND(休日取得状況表!$D$6<J65,J65<休日取得状況表!$B$7)),"✕",L65) -> 0
A66: 44571 | B66: 成人の日 | J66: =IF(J65>=MAX(休日取得状況表!$D$4:$D$7),"",J65+1) | K66: {=IFERROR(INDEX($B:$B,MATCH($J66,祝日,),),"")&IFERROR(INDEX($E:$E,MATCH($J66,夏季休暇,),),"")&IFERROR(INDEX($H:$H,MATCH($J66,年末年始,),),"")} | L66: =IF(OR(TEXT(J66,"aaa")="土",TEXT(J66,"aaa")="日",K66<>""),1,0) -> 0 | M66: =IF(OR(AND(休日取得状況表!$D$4<J66,J66<休日取得状況表!$B$5),AND(休日取得状況表!$D$5<J66,J66<休日取得状況表!$B$6),AND(休日取得状況表!$D$6<J66,J66<休日取得状況表!$B$7)),"✕",L66) -> 0
A67: 44603 | B67: 建国記念の日 | J67: =IF(J66>=MAX(休日取得状況表!$D$4:$D$7),"",J66+1) | K67: {=IFERROR(INDEX($B:$B,MATCH($J67,祝日,),),"")&IFERROR(INDEX($E:$E,MATCH($J67,夏季休暇,),),"")&IFERROR(INDEX($H:$H,MATCH($J67,年末年始,),),"")} | L67: =IF(OR(TEXT(J67,"aaa")="土",TEXT(J67,"aaa")="日",K67<>""),1,0) -> 0 | M67: =IF(OR(AND(休日取得状況表!$D$4<J67,J67<休日取得状況表!$B$5),AND(休日取得状況表!$D$5<J67,J67<休日取得状況表!$B$6),AND(休日取得状況表!$D$6<J67,J67<休日取得状況表!$B$7)),"✕",L67) -> 0
A68: 44615 | B68: 天皇誕生日 | J68: =IF(J67>=MAX(休日取得状況表!$D$4:$D$7),"",J67+1) | K68: {=IFERROR(INDEX($B:$B,MATCH($J68,祝日,),),"")&IFERROR(INDEX($E:$E,MATCH($J68,夏季休暇,),),"")&IFERROR(INDEX($H:$H,MATCH($J68,年末年始,),),"")} | L68: =IF(OR(TEXT(J68,"aaa")="土",TEXT(J68,"aaa")="日",K68<>""),1,0) -> 0 | M68: =IF(OR(AND(休日取得状況表!$D$4<J68,J68<休日取得状況表!$B$5),AND(休日取得状況表!$D$5<J68,J68<休日取得状況表!$B$6),AND(休日取得状況表!$D$6<J68,J68<休日取得状況表!$B$7)),"✕",L68) -> 0
A69: 44641 | B69: 春分の日 | J69: =IF(J68>=MAX(休日取得状況表!$D$4:$D$7),"",J68+1) | K69: {=IFERROR(INDEX($B:$B,MATCH($J69,祝日,),),"")&IFERROR(INDEX($E:$E,MATCH($J69,夏季休暇,),),"")&IFERROR(INDEX($H:$H,MATCH($J69,年末年始,),),"")} | L69: =IF(OR(TEXT(J69,"aaa")="土",TEXT(J69,"aaa")="日",K69<>""),1,0) -> 0 | M69: =IF(OR(AND(休日取得状況表!$D$4<J69,J69<休日取得状況表!$B$5),AND(休日取得状況表!$D$5<J69,J69<休日取得状況表!$B$6),AND(休日取得状況表!$D$6<J69,J69<休日取得状況表!$B$7)),"✕",L69) -> 0
A70: 44680 | B70: 昭和の日 | J70: =IF(J69>=MAX(休日取得状況表!$D$4:$D$7),"",J69+1) | K70: {=IFERROR(INDEX($B:$B,MATCH($J70,祝日,),),"")&IFERROR(INDEX($E:$E,MATCH($J70,夏季休暇,),),"")&IFERROR(INDEX($H:$H,MATCH($J70,年末年始,),),"")} | L70: =IF(OR(TEXT(J70,"aaa")="土",TEXT(J70,"aaa")="日",K70<>""),1,0) -> 0 | M70: =IF(OR(AND(休日取得状況表!$D$4<J70,J70<休日取得状況表!$B$5),AND(休日取得状況表!$D$5<J70,J70<休日取得状況表!$B$6),AND(休日取得状況表!$D$6<J70,J70<休日取得状況表!$B$7)),"✕",L70) -> 0
A71: 44684 | B71: 憲法記念日 | J71: =IF(J70>=MAX(休日取得状況表!$D$4:$D$7),"",J70+1) | K71: {=IFERROR(INDEX($B:$B,MATCH($J71,祝日,),),"")&IFERROR(INDEX($E:$E,MATCH($J71,夏季休暇,),),"")&IFERROR(INDEX($H:$H,MATCH($J71,年末年始,),),"")} | L71: =IF(OR(TEXT(J71,"aaa")="土",TEXT(J71,"aaa")="日",K71<>""),1,0) -> 0 | M71: =IF(OR(AND(休日取得状況表!$D$4<J71,J71<休日取得状況表!$B$5),AND(休日取得状況表!$D$5<J71,J71<休日取得状況表!$B$6),AND(休日取得状況表!$D$6<J71,J71<休日取得状況表!$B$7)),"✕",L71) -> 0
A72: 44685 | B72: みどりの日 | J72: =IF(J71>=MAX(休日取得状況表!$D$4:$D$7),"",J71+1) | K72: {=IFERROR(INDEX($B:$B,MATCH($J72,祝日,),),"")&IFERROR(INDEX($E:$E,MATCH($J72,夏季休暇,),),"")&IFERROR(INDEX($H:$H,MATCH($J72,年末年始,),),"")} | L72: =IF(OR(TEXT(J72,"aaa")="土",TEXT(J72,"aaa")="日",K72<>""),1,0) -> 0 | M72: =IF(OR(AND(休日取得状況表!$D$4<J72,J72<休日取得状況表!$B$5),AND(休日取得状況表!$D$5<J72,J72<休日取得状況表!$B$6),AND(休日取得状況表!$D$6<J72,J72<休日取得状況表!$B$7)),"✕",L72) -> 0
A73: 44686 | B73: こどもの日 | J73: =IF(J72>=MAX(休日取得状況表!$D$4:$D$7),"",J72+1) | K73: {=IFERROR(INDEX($B:$B,MATCH($J73,祝日,),),"")&IFERROR(INDEX($E:$E,MATCH($J73,夏季休暇,),),"")&IFERROR(INDEX($H:$H,MATCH($J73,年末年始,),),"")} | L73: =IF(OR(TEXT(J73,"aaa")="土",TEXT(J73,"aaa")="日",K73<>""),1,0) -> 0 | M73: =IF(OR(AND(休日取得状況表!$D$4<J73,J73<休日取得状況表!$B$5),AND(休日取得状況表!$D$5<J73,J73<休日取得状況表!$B$6),AND(休日取得状況表!$D$6<J73,J73<休日取得状況表!$B$7)),"✕",L73) -> 0
A74: 44760 | B74: 海の日 | J74: =IF(J73>=MAX(休日取得状況表!$D$4:$D$7),"",J73+1) | K74: {=IFERROR(INDEX($B:$B,MATCH($J74,祝日,),),"")&IFERROR(INDEX($E:$E,MATCH($J74,夏季休暇,),),"")&IFERROR(INDEX($H:$H,MATCH($J74,年末年始,),),"")} | L74: =IF(OR(TEXT(J74,"aaa")="土",TEXT(J74,"aaa")="日",K74<>""),1,0) -> 0 | M74: =IF(OR(AND(休日取得状況表!$D$4<J74,J74<休日取得状況表!$B$5),AND(休日取得状況表!$D$5<J74,J74<休日取得状況表!$B$6),AND(休日取得状況表!$D$6<J74,J74<休日取得状況表!$B$7)),"✕",L74) -> 0
A75: 44784 | B75: 山の日 | J75: =IF(J74>=MAX(休日取得状況表!$D$4:$D$7),"",J74+1) | K75: {=IFERROR(INDEX($B:$B,MATCH($J75,祝日,),),"")&IFERROR(INDEX($E:$E,MATCH($J75,夏季休暇,),),"")&IFERROR(INDEX($H:$H,MATCH($J75,年末年始,),),"")} | L75: =IF(OR(TEXT(J75,"aaa")="土",TEXT(J75,"aaa")="日",K75<>""),1,0) -> 0 | M75: =IF(OR(AND(休日取得状況表!$D$4<J75,J75<休日取得状況表!$B$5),AND(休日取得状況表!$D$5<J75,J75<休日取得状況表!$B$6),AND(休日取得状況表!$D$6<J75,J75<休日取得状況表!$B$7)),"✕",L75) -> 0
A76: 44823 | B76: 敬老の日 | J76: =IF(J75>=MAX(休日取得状況表!$D$4:$D$7),"",J75+1) | K76: {=IFERROR(INDEX($B:$B,MATCH($J76,祝日,),),"")&IFERROR(INDEX($E:$E,MATCH($J76,夏季休暇,),),"")&IFERROR(INDEX($H:$H,MATCH($J76,年末年始,),),"")} | L76: =IF(OR(TEXT(J76,"aaa")="土",TEXT(J76,"aaa")="日",K76<>""),1,0) -> 0 | M76: =IF(OR(AND(休日取得状況表!$D$4<J76,J76<休日取得状況表!$B$5),AND(休日取得状況表!$D$5<J76,J76<休日取得状況表!$B$6),AND(休日取得状況表!$D$6<J76,J76<休日取得状況表!$B$7)),"✕",L76) -> 0
... A80: 44888 | B80: 勤労感謝の日 | J80: =IF(J79>=MAX(休日取得状況表!$D$4:$D$7),"",J79+1) | K80: {=IFERROR(INDEX($B:$B,MATCH($J80,祝日,),),"")&IFERROR(INDEX($E:$E,MATCH($J80,夏季休暇,),),"")&IFERROR(INDEX($H:$H,MATCH($J80,年末年始,),),"")} | L80: =IF(OR(TEXT(J80,"aaa")="土",TEXT(J80,"aaa")="日",K80<>""),1,0) -> 0 | M80: =IF(OR(AND(休日取得状況表!$D$4<J80,J80<休日取得状況表!$B$5),AND(休日取得状況表!$D$5<J80,J80<休日取得状況表!$B$6),AND(休日取得状況表!$D$6<J80,J80<休日取得状況表!$B$7)),"✕",L80) -> 0
J81: =IF(J80>=MAX(休日取得状況表!$D$4:$D$7),"",J80+1) | K81: {=IFERROR(INDEX($B:$B,MATCH($J81,祝日,),),"")&IFERROR(INDEX($E:$E,MATCH($J81,夏季休暇,),),"")&IFERROR(INDEX($H:$H,MATCH($J81,年末年始,),),"")} | L81: =IF(OR(TEXT(J81,"aaa")="土",TEXT(J81,"aaa")="日",K81<>""),1,0) -> 0 | M81: =IF(OR(AND(休日取得状況表!$D$4<J81,J81<休日取得状況表!$B$5),AND(休日取得状況表!$D$5<J81,J81<休日取得状況表!$B$6),AND(休日取得状況表!$D$6<J81,J81<休日取得状況表!$B$7)),"✕",L81) -> 0
A82: 44927 | B82: 元日 | J82: =IF(J81>=MAX(休日取得状況表!$D$4:$D$7),"",J81+1) | K82: {=IFERROR(INDEX($B:$B,MATCH($J82,祝日,),),"")&IFERROR(INDEX($E:$E,MATCH($J82,夏季休暇,),),"")&IFERROR(INDEX($H:$H,MATCH($J82,年末年始,),),"")} | L82: =IF(OR(TEXT(J82,"aaa")="土",TEXT(J82,"aaa")="日",K82<>""),1,0) -> 0 | M82: =IF(OR(AND(休日取得状況表!$D$4<J82,J82<休日取得状況表!$B$5),AND(休日取得状況表!$D$5<J82,J82<休日取得状況表!$B$6),AND(休日取得状況表!$D$6<J82,J82<休日取得状況表!$B$7)),"✕",L82) -> 0
A83: 44928 | B83: 振替休日 | J83: =IF(J82>=MAX(休日取得状況表!$D$4:$D$7),"",J82+1) | K83: {=IFERROR(INDEX($B:$B,MATCH($J83,祝日,),),"")&IFERROR(INDEX($E:$E,MATCH($J83,夏季休暇,),),"")&IFERROR(INDEX($H:$H,MATCH($J83,年末年始,),),"")} | L83: =IF(OR(TEXT(J83,"aaa")="土",TEXT(J83,"aaa")="日",K83<>""),1,0) -> 0 | M83: =IF(OR(AND(休日取得状況表!$D$4<J83,J83<休日取得状況表!$B$5),AND(休日取得状況表!$D$5<J83,J83<休日取得状況表!$B$6),AND(休日取得状況表!$D$6<J83,J83<休日取得状況表!$B$7)),"✕",L83) -> 0
A84: 44935 | B84: 成人の日 | J84: =IF(J83>=MAX(休日取得状況表!$D$4:$D$7),"",J83+1) | K84: {=IFERROR(INDEX($B:$B,MATCH($J84,祝日,),),"")&IFERROR(INDEX($E:$E,MATCH($J84,夏季休暇,),),"")&IFERROR(INDEX($H:$H,MATCH($J84,年末年始,),),"")} | L84: =IF(OR(TEXT(J84,"aaa")="土",TEXT(J84,"aaa")="日",K84<>""),1,0) -> 0 | M84: =IF(OR(AND(休日取得状況表!$D$4<J84,J84<休日取得状況表!$B$5),AND(休日取得状況表!$D$5<J84,J84<休日取得状況表!$B$6),AND(休日取得状況表!$D$6<J84,J84<休日取得状況表!$B$7)),"✕",L84) -> 0
A85: 44968 | B85: 建国記念の日 | J85: =IF(J84>=MAX(休日取得状況表!$D$4:$D$7),"",J84+1) | K85: {=IFERROR(INDEX($B:$B,MATCH($J85,祝日,),),"")&IFERROR(INDEX($E:$E,MATCH($J85,夏季休暇,),),"")&IFERROR(INDEX($H:$H,MATCH($J85,年末年始,),),"")} | L85: =IF(OR(TEXT(J85,"aaa")="土",TEXT(J85,"aaa")="日",K85<>""),1,0) -> 0 | M85: =IF(OR(AND(休日取得状況表!$D$4<J85,J85<休日取得状況表!$B$5),AND(休日取得状況表!$D$5<J85,J85<休日取得状況表!$B$6),AND(休日取得状況表!$D$6<J85,J85<休日取得状況表!$B$7)),"✕",L85) -> 0
A86: 44980 | B86: 天皇誕生日 | J86: =IF(J85>=MAX(休日取得状況表!$D$4:$D$7),"",J85+1) | K86: {=IFERROR(INDEX($B:$B,MATCH($J86,祝日,),),"")&IFERROR(INDEX($E:$E,MATCH($J86,夏季休暇,),),"")&IFERROR(INDEX($H:$H,MATCH($J86,年末年始,),),"")} | L86: =IF(OR(TEXT(J86,"aaa")="土",TEXT(J86,"aaa")="日",K86<>""),1,0) -> 0 | M86: =IF(OR(AND(休日取得状況表!$D$4<J86,J86<休日取得状況表!$B$5),AND(休日取得状況表!$D$5<J86,J86<休日取得状況表!$B$6),AND(休日取得状況表!$D$6<J86,J86<休日取得状況表!$B$7)),"✕",L86) -> 0
A87: 45006 | B87: 春分の日 | J87: =IF(J86>=MAX(休日取得状況表!$D$4:$D$7),"",J86+1) | K87: {=IFERROR(INDEX($B:$B,MATCH($J87,祝日,),),"")&IFERROR(INDEX($E:$E,MATCH($J87,夏季休暇,),),"")&IFERROR(INDEX($H:$H,MATCH($J87,年末年始,),),"")} | L87: =IF(OR(TEXT(J87,"aaa")="土",TEXT(J87,"aaa")="日",K87<>""),1,0) -> 0 | M87: =IF(OR(AND(休日取得状況表!$D$4<J87,J87<休日取得状況表!$B$5),AND(休日取得状況表!$D$5<J87,J87<休日取得状況表!$B$6),AND(休日取得状況表!$D$6<J87,J87<休日取得状況表!$B$7)),"✕",L87) -> 0
A88: 45045 | B88: 昭和の日 | J88: =IF(J87>=MAX(休日取得状況表!$D$4:$D$7),"",J87+1) | K88: {=IFERROR(INDEX($B:$B,MATCH($J88,祝日,),),"")&IFERROR(INDEX($E:$E,MATCH($J88,夏季休暇,),),"")&IFERROR(INDEX($H:$H,MATCH($J88,年末年始,),),"")} | L88: =IF(OR(TEXT(J88,"aaa")="土",TEXT(J88,"aaa")="日",K88<>""),1,0) -> 0 | M88: =IF(OR(AND(休日取得状況表!$D$4<J88,J88<休日取得状況表!$B$5),AND(休日取得状況表!$D$5<J88,J88<休日取得状況表!$B$6),AND(休日取得状況表!$D$6<J88,J88<休日取得状況表!$B$7)),"✕",L88) -> 0
A89: 45049 | B89: 憲法記念日 | J89: =IF(J88>=MAX(休日取得状況表!$D$4:$D$7),"",J88+1) | K89: {=IFERROR(INDEX($B:$B,MATCH($J89,祝日,),),"")&IFERROR(INDEX($E:$E,MATCH($J89,夏季休暇,),),"")&IFERROR(INDEX($H:$H,MATCH($J89,年末年始,),),"")} | L89: =IF(OR(TEXT(J89,"aaa")="土",TEXT(J89,"aaa")="日",K89<>""),1,0) -> 0 | M89: =IF(OR(AND(休日取得状況表!$D$4<J89,J89<休日取得状況表!$B$5),AND(休日取得状況表!$D$5<J89,J89<休日取得状況表!$B$6),AND(休日取得状況表!$D$6<J89,J89<休日取得状況表!$B$7)),"✕",L89) -> 0
A90: 45050 | B90: みどりの日 | J90: =IF(J89>=MAX(休日取得状況表!$D$4:$D$7),"",J89+1) | K90: {=IFERROR(INDEX($B:$B,MATCH($J90,祝日,),),"")&IFERROR(INDEX($E:$E,MATCH($J90,夏季休暇,),),"")&IFERROR(INDEX($H:$H,MATCH($J90,年末年始,),),"")} | L90: =IF(OR(TEXT(J90,"aaa")="土",TEXT(J90,"aaa")="日",K90<>""),1,0) -> 0 | M90: =IF(OR(AND(休日取得状況表!$D$4<J90,J90<休日取得状況表!$B$5),AND(休日取得状況表!$D$5<J90,J90<休日取得状況表!$B$6),AND(休日取得状況表!$D$6<J90,J90<休日取得状況表!$B$7)),"✕",L90) -> 0
A91: 45051 | B91: こどもの日 | J91: =IF(J90>=MAX(休日取得状況表!$D$4:$D$7),"",J90+1) | K91: {=IFERROR(INDEX($B:$B,MATCH($J91,祝日,),),"")&IFERROR(INDEX($E:$E,MATCH($J91,夏季休暇,),),"")&IFERROR(INDEX($H:$H,MATCH($J91,年末年始,),),"")} | L91: =IF(OR(TEXT(J91,"aaa")="土",TEXT(J91,"aaa")="日",K91<>""),1,0) -> 0 | M91: =IF(OR(AND(休日取得状況表!$D$4<J91,J91<休日取得状況表!$B$5),AND(休日取得状況表!$D$5<J91,J91<休日取得状況表!$B$6),AND(休日取得状況表!$D$6<J91,J91<休日取得状況表!$B$7)),"✕",L91) -> 0
A92: 45124 | B92: 海の日 | J92: =IF(J91>=MAX(休日取得状況表!$D$4:$D$7),"",J91+1) | K92: {=IFERROR(INDEX($B:$B,MATCH($J92,祝日,),),"")&IFERROR(INDEX($E:$E,MATCH($J92,夏季休暇,),),"")&IFERROR(INDEX($H:$H,MATCH($J92,年末年始,),),"")} | L92: =IF(OR(TEXT(J92,"aaa")="土",TEXT(J92,"aaa")="日",K92<>""),1,0) -> 0 | M92: =IF(OR(AND(休日取得状況表!$D$4<J92,J92<休日取得状況表!$B$5),AND(休日取得状況表!$D$5<J92,J92<休日取得状況表!$B$6),AND(休日取得状況表!$D$6<J92,J92<休日取得状況表!$B$7)),"✕",L92) -> 0
A93: 45149 | B93: 山の日 | J93: =IF(J92>=MAX(休日取得状況表!$D$4:$D$7),"",J92+1) | K93: {=IFERROR(INDEX($B:$B,MATCH($J93,祝日,),),"")&IFERROR(INDEX($E:$E,MATCH($J93,夏季休暇,),),"")&IFERROR(INDEX($H:$H,MATCH($J93,年末年始,),),"")} | L93: =IF(OR(TEXT(J93,"aaa")="土",TEXT(J93,"aaa")="日",K93<>""),1,0) -> 0 | M93: =IF(OR(AND(休日取得状況表!$D$4<J93,J93<休日取得状況表!$B$5),AND(休日取得状況表!$D$5<J93,J93<休日取得状況表!$B$6),AND(休日取得状況表!$D$6<J93,J93<休日取得状況表!$B$7)),"✕",L93) -> 0
... A98: 45253 | B98: 勤労感謝の日 | J98: =IF(J97>=MAX(休日取得状況表!$D$4:$D$7),"",J97+1) | K98: {=IFERROR(INDEX($B:$B,MATCH($J98,祝日,),),"")&IFERROR(INDEX($E:$E,MATCH($J98,夏季休暇,),),"")&IFERROR(INDEX($H:$H,MATCH($J98,年末年始,),),"")} | L98: =IF(OR(TEXT(J98,"aaa")="土",TEXT(J98,"aaa")="日",K98<>""),1,0) -> 0 | M98: =IF(OR(AND(休日取得状況表!$D$4<J98,J98<休日取得状況表!$B$5),AND(休日取得状況表!$D$5<J98,J98<休日取得状況表!$B$6),AND(休日取得状況表!$D$6<J98,J98<休日取得状況表!$B$7)),"✕",L98) -> 0
J99: =IF(J98>=MAX(休日取得状況表!$D$4:$D$7),"",J98+1) | K99: {=IFERROR(INDEX($B:$B,MATCH($J99,祝日,),),"")&IFERROR(INDEX($E:$E,MATCH($J99,夏季休暇,),),"")&IFERROR(INDEX($H:$H,MATCH($J99,年末年始,),),"")} | L99: =IF(OR(TEXT(J99,"aaa")="土",TEXT(J99,"aaa")="日",K99<>""),1,0) -> 0 | M99: =IF(OR(AND(休日取得状況表!$D$4<J99,J99<休日取得状況表!$B$5),AND(休日取得状況表!$D$5<J99,J99<休日取得状況表!$B$6),AND(休日取得状況表!$D$6<J99,J99<休日取得状況表!$B$7)),"✕",L99) -> 0
A100: 45292 | B100: 元日 | J100: =IF(J99>=MAX(休日取得状況表!$D$4:$D$7),"",J99+1) | K100: {=IFERROR(INDEX($B:$B,MATCH($J100,祝日,),),"")&IFERROR(INDEX($E:$E,MATCH($J100,夏季休暇,),),"")&IFERROR(INDEX($H:$H,MATCH($J100,年末年始,),),"")} | L100: =IF(OR(TEXT(J100,"aaa")="土",TEXT(J100,"aaa")="日",K100<>""),1,0) -> 0 | M100: =IF(OR(AND(休日取得状況表!$D$4<J100,J100<休日取得状況表!$B$5),AND(休日取得状況表!$D$5<J100,J100<休日取得状況表!$B$6),AND(休日取得状況表!$D$6<J100,J100<休日取得状況表!$B$7)),"✕",L100) -> 0
A101: 45299 | B101: 成人の日 | J101: =IF(J100>=MAX(休日取得状況表!$D$4:$D$7),"",J100+1) | K101: {=IFERROR(INDEX($B:$B,MATCH($J101,祝日,),),"")&IFERROR(INDEX($E:$E,MATCH($J101,夏季休暇,),),"")&IFERROR(INDEX($H:$H,MATCH($J101,年末年始,),),"")} | L101: =IF(OR(TEXT(J101,"aaa")="土",TEXT(J101,"aaa")="日",K101<>""),1,0) -> 0 | M101: =IF(OR(AND(休日取得状況表!$D$4<J101,J101<休日取得状況表!$B$5),AND(休日取得状況表!$D$5<J101,J101<休日取得状況表!$B$6),AND(休日取得状況表!$D$6<J101,J101<休日取得状況表!$B$7)),"✕",L101) -> 0
A102: 45333 | B102: 建国記念の日 | J102: =IF(J101>=MAX(休日取得状況表!$D$4:$D$7),"",J101+1) | K102: {=IFERROR(INDEX($B:$B,MATCH($J102,祝日,),),"")&IFERROR(INDEX($E:$E,MATCH($J102,夏季休暇,),),"")&IFERROR(INDEX($H:$H,MATCH($J102,年末年始,),),"")} | L102: =IF(OR(TEXT(J102,"aaa")="土",TEXT(J102,"aaa")="日",K102<>""),1,0) -> 0 | M102: =IF(OR(AND(休日取得状況表!$D$4<J102,J102<休日取得状況表!$B$5),AND(休日取得状況表!$D$5<J102,J102<休日取得状況表!$B$6),AND(休日取得状況表!$D$6<J102,J102<休日取得状況表!$B$7)),"✕",L102) -> 0
A103: 45334 | B103: 振替休日 | J103: =IF(J102>=MAX(休日取得状況表!$D$4:$D$7),"",J102+1) | K103: {=IFERROR(INDEX($B:$B,MATCH($J103,祝日,),),"")&IFERROR(INDEX($E:$E,MATCH($J103,夏季休暇,),),"")&IFERROR(INDEX($H:$H,MATCH($J103,年末年始,),),"")} | L103: =IF(OR(TEXT(J103,"aaa")="土",TEXT(J103,"aaa")="日",K103<>""),1,0) -> 0 | M103: =IF(OR(AND(休日取得状況表!$D$4<J103,J103<休日取得状況表!$B$5),AND(休日取得状況表!$D$5<J103,J103<休日取得状況表!$B$6),AND(休日取得状況表!$D$6<J103,J103<休日取得状況表!$B$7)),"✕",L103) -> 0
A104: 45345 | B104: 天皇誕生日 | J104: =IF(J103>=MAX(休日取得状況表!$D$4:$D$7),"",J103+1) | K104: {=IFERROR(INDEX($B:$B,MATCH($J104,祝日,),),"")&IFERROR(INDEX($E:$E,MATCH($J104,夏季休暇,),),"")&IFERROR(INDEX($H:$H,MATCH($J104,年末年始,),),"")} | L104: =IF(OR(TEXT(J104,"aaa")="土",TEXT(J104,"aaa")="日",K104<>""),1,0) -> 0 | M104: =IF(OR(AND(休日取得状況表!$D$4<J104,J104<休日取得状況表!$B$5),AND(休日取得状況表!$D$5<J104,J104<休日取得状況表!$B$6),AND(休日取得状況表!$D$6<J104,J104<休日取得状況表!$B$7)),"✕",L104) -> 0
A105: 45371 | B105: 春分の日 | J105: =IF(J104>=MAX(休日取得状況表!$D$4:$D$7),"",J104+1) | K105: {=IFERROR(INDEX($B:$B,MATCH($J105,祝日,),),"")&IFERROR(INDEX($E:$E,MATCH($J105,夏季休暇,),),"")&IFERROR(INDEX($H:$H,MATCH($J105,年末年始,),),"")} | L105: =IF(OR(TEXT(J105,"aaa")="土",TEXT(J105,"aaa")="日",K105<>""),1,0) -> 0 | M105: =IF(OR(AND(休日取得状況表!$D$4<J105,J105<休日取得状況表!$B$5),AND(休日取得状況表!$D$5<J105,J105<休日取得状況表!$B$6),AND(休日取得状況表!$D$6<J105,J105<休日取得状況表!$B$7)),"✕",L105) -> 0
A106: 45411 | B106: 昭和の日 | J106: =IF(J105>=MAX(休日取得状況表!$D$4:$D$7),"",J105+1) | K106: {=IFERROR(INDEX($B:$B,MATCH($J106,祝日,),),"")&IFERROR(INDEX($E:$E,MATCH($J106,夏季休暇,),),"")&IFERROR(INDEX($H:$H,MATCH($J106,年末年始,),),"")} | L106: =IF(OR(TEXT(J106,"aaa")="土",TEXT(J106,"aaa")="日",K106<>""),1,0) -> 0 | M106: =IF(OR(AND(休日取得状況表!$D$4<J106,J106<休日取得状況表!$B$5),AND(休日取得状況表!$D$5<J106,J106<休日取得状況表!$B$6),AND(休日取得状況表!$D$6<J106,J106<休日取得状況表!$B$7)),"✕",L106) -> 0
A107: 45415 | B107: 憲法記念日 | J107: =IF(J106>=MAX(休日取得状況表!$D$4:$D$7),"",J106+1) | K107: {=IFERROR(INDEX($B:$B,MATCH($J107,祝日,),),"")&IFERROR(INDEX($E:$E,MATCH($J107,夏季休暇,),),"")&IFERROR(INDEX($H:$H,MATCH($J107,年末年始,),),"")} | L107: =IF(OR(TEXT(J107,"aaa")="土",TEXT(J107,"aaa")="日",K107<>""),1,0) -> 0 | M107: =IF(OR(AND(休日取得状況表!$D$4<J107,J107<休日取得状況表!$B$5),AND(休日取得状況表!$D$5<J107,J107<休日取得状況表!$B$6),AND(休日取得状況表!$D$6<J107,J107<休日取得状況表!$B$7)),"✕",L107) -> 0
A108: 45416 | B108: みどりの日 | J108: =IF(J107>=MAX(休日取得状況表!$D$4:$D$7),"",J107+1) | K108: {=IFERROR(INDEX($B:$B,MATCH($J108,祝日,),),"")&IFERROR(INDEX($E:$E,MATCH($J108,夏季休暇,),),"")&IFERROR(INDEX($H:$H,MATCH($J108,年末年始,),),"")} | L108: =IF(OR(TEXT(J108,"aaa")="土",TEXT(J108,"aaa")="日",K108<>""),1,0) -> 0 | M108: =IF(OR(AND(休日取得状況表!$D$4<J108,J108<休日取得状況表!$B$5),AND(休日取得状況表!$D$5<J108,J108<休日取得状況表!$B$6),AND(休日取得状況表!$D$6<J108,J108<休日取得状況表!$B$7)),"✕",L108) -> 0
A109: 45417 | B109: こどもの日 | J109: =IF(J108>=MAX(休日取得状況表!$D$4:$D$7),"",J108+1) | K109: {=IFERROR(INDEX($B:$B,MATCH($J109,祝日,),),"")&IFERROR(INDEX($E:$E,MATCH($J109,夏季休暇,),),"")&IFERROR(INDEX($H:$H,MATCH($J109,年末年始,),),"")} | L109: =IF(OR(TEXT(J109,"aaa")="土",TEXT(J109,"aaa")="日",K109<>""),1,0) -> 0 | M109: =IF(OR(AND(休日取得状況表!$D$4<J109,J109<休日取得状況表!$B$5),AND(休日取得状況表!$D$5<J109,J109<休日取得状況表!$B$6),AND(休日取得状況表!$D$6<J109,J109<休日取得状況表!$B$7)),"✕",L109) -> 0
A110: 45418 | B110: 振替休日 | J110: =IF(J109>=MAX(休日取得状況表!$D$4:$D$7),"",J109+1) | K110: {=IFERROR(INDEX($B:$B,MATCH($J110,祝日,),),"")&IFERROR(INDEX($E:$E,MATCH($J110,夏季休暇,),),"")&IFERROR(INDEX($H:$H,MATCH($J110,年末年始,),),"")} | L110: =IF(OR(TEXT(J110,"aaa")="土",TEXT(J110,"aaa")="日",K110<>""),1,0) -> 0 | M110: =IF(OR(AND(休日取得状況表!$D$4<J110,J110<休日取得状況表!$B$5),AND(休日取得状況表!$D$5<J110,J110<休日取得状況表!$B$6),AND(休日取得状況表!$D$6<J110,J110<休日取得状況表!$B$7)),"✕",L110) -> 0
...

Sheet 休日取得状況表
A1: 休日取得状況表（交替制） | J1: （様式４）
A2: 工事名
A3: 工期 | C3: ～ | F3: ※1休日日数･･･祝日、年末年始、夏期休暇を含む
A4: 対象期間 | C4: ～ | F4: （工場製作のみの期間、工事全体を一時中止している期間は対象に含まない））
A5: 対象期間② | E5: =IF(B5="","",IF(B5<D4,"期間の入力を確認してください。",""))
A6: 対象期間③ | C6: ～ | E6: =IF(B6="","",IF(B6<D5,"期間の入力を確認してください。",""))
A7: 対象期間④ | C7: ～ | E7: =IF(B7="","",IF(B7<D6,"期間の入力を確認してください。",""))
A9: 所属企業名 | C9: 氏 名 | E9: 従事期間 | H9: 休日日数 ※1 | I9: 休日取得日数 | J9: 判定
F10: ～ | H10: =SUMIF(定義!$J:$J,">="&休日取得状況表!E10,定義!$M:$M)-SUMIF(定義!$J:$J,">"&G10,定義!$M:$M) -> 0 | J10: =IF(H10=0,"",IF(I10>=H10,"達成","未達成"))
F11: ～ | H11: =SUMIF(定義!$J:$J,">="&休日取得状況表!E11,定義!$M:$M)-SUMIF(定義!$J:$J,">"&G11,定義!$M:$M) -> 0 | J11: =IF(H11=0,"",IF(I11>=H11,"達成","未達成"))
F12: ～ | H12: =SUMIF(定義!$J:$J,">="&休日取得状況表!E12,定義!$M:$M)-SUMIF(定義!$J:$J,">"&G12,定義!$M:$M) -> 0 | J12: =IF(H12=0,"",IF(I12>=H12,"達成","未達成"))
F13: ～ | H13: =SUMIF(定義!$J:$J,">="&休日取得状況表!E13,定義!$M:$M)-SUMIF(定義!$J:$J,">"&G13,定義!$M:$M) -> 0 | J13: =IF(H13=0,"",IF(I13>=H13,"達成","未達成"))
F14: ～ | H14: =SUMIF(定義!$J:$J,">="&休日取得状況表!E14,定義!$M:$M)-SUMIF(定義!$J:$J,">"&G14,定義!$M:$M) -> 0 | J14: =IF(H14=0,"",IF(I14>=H14,"達成","未達成"))
F15: ～ | H15: =SUMIF(定義!$J:$J,">="&休日取得状況表!E15,定義!$M:$M)-SUMIF(定義!$J:$J,">"&G15,定義!$M:$M) -> 0 | J15: =IF(H15=0,"",IF(I15>=H15,"達成","未達成"))
F16: ～ | H16: =SUMIF(定義!$J:$J,">="&休日取得状況表!E16,定義!$M:$M)-SUMIF(定義!$J:$J,">"&G16,定義!$M:$M) -> 0 | J16: =IF(H16=0,"",IF(I16>=H16,"達成","未達成"))
F17: ～ | H17: =SUMIF(定義!$J:$J,">="&休日取得状況表!E17,定義!$M:$M)-SUMIF(定義!$J:$J,">"&G17,定義!$M:$M) -> 0 | J17: =IF(H17=0,"",IF(I17>=H17,"達成","未達成"))
F18: ～ | H18: =SUMIF(定義!$J:$J,">="&休日取得状況表!E18,定義!$M:$M)-SUMIF(定義!$J:$J,">"&G18,定義!$M:$M) -> 0 | J18: =IF(H18=0,"",IF(I18>=H18,"達成","未達成"))
F19: ～ | H19: =SUMIF(定義!$J:$J,">="&休日取得状況表!E19,定義!$M:$M)-SUMIF(定義!$J:$J,">"&G19,定義!$M:$M) -> 0 | J19: =IF(H19=0,"",IF(I19>=H19,"達成","未達成"))
F20: ～ | H20: =SUMIF(定義!$J:$J,">="&休日取得状況表!E20,定義!$M:$M)-SUMIF(定義!$J:$J,">"&G20,定義!$M:$M) -> 0 | J20: =IF(H20=0,"",IF(I20>=H20,"達成","未達成"))
F21: ～ | H21: =SUMIF(定義!$J:$J,">="&休日取得状況表!E21,定義!$M:$M)-SUMIF(定義!$J:$J,">"&G21,定義!$M:$M) -> 0 | J21: =IF(H21=0,"",IF(I21>=H21,"達成","未達成"))
... F30: ～ | H30: =SUMIF(定義!$J:$J,">="&休日取得状況表!E30,定義!$M:$M)-SUMIF(定義!$J:$J,">"&G30,定義!$M:$M) -> 0 | J30: =IF(H30=0,"",IF(I30>=H30,"達成","未達成"))
G32: 判定結果（実績）： | I32: =IF(COUNTIF($J$10:$J$31,"未達成")>0,"未達成","週休２日達成") -> 週休２日達成

Sheet 定義 (記入例)
A1: 祝日 | D1: 夏季休暇 | G1: 年末年始 | K1: 休日名 | L1: 休日 | M1: 対象期間
A2: 43407 | B2: 文化の日 | D2: 45516 | E2: 夏季休暇 | G2: 祝日のため除去 | H2: 年末年始 | J2: ='休日取得状況表 (記入例)'!$B$4 -> 45810 | K2: {=IFERROR(INDEX($B:$B,MATCH($J2,祝日,),),"")&IFERROR(INDEX($E:$E,MATCH($J2,夏季休暇,),),"")&IFERROR(INDEX($H:$H,MATCH($J2,年末年始,),),"")} | L2: =IF(OR(TEXT(J2,"aaa")="土",TEXT(J2,"aaa")="日",K2<>""),1,0) -> 0 | M2: =IF(OR(AND('休日取得状況表 (記入例)'!$D$4<J2,J2<'休日取得状況表 (記入例)'!$B$5),AND('休日取得状況表 (記入例)'!$D$5<J2,J2<'休日取得状況表 (記入例)'!$B$6),AND('休日取得状況表 (記入例)'!$D$6<J2,J2<'休日取得状況表 (記入例)'!$B$7)),"✕",L2) -> 0
A3: 43427 | B3: 勤労感謝の日 | D3: 45517 | E3: 夏季休暇 | G3: 45293 | H3: 年末年始 | J3: =IF(J2>=MAX('休日取得状況表 (記入例)'!$D$4:$D$7),"",J2+1) -> 45811 | K3: {=IFERROR(INDEX($B:$B,MATCH($J3,祝日,),),"")&IFERROR(INDEX($E:$E,MATCH($J3,夏季休暇,),),"")&IFERROR(INDEX($H:$H,MATCH($J3,年末年始,),),"")} | L3: =IF(OR(TEXT(J3,"aaa")="土",TEXT(J3,"aaa")="日",K3<>""),1,0) -> 0 | M3: =IF(OR(AND('休日取得状況表 (記入例)'!$D$4<J3,J3<'休日取得状況表 (記入例)'!$B$5),AND('休日取得状況表 (記入例)'!$D$5<J3,J3<'休日取得状況表 (記入例)'!$B$6),AND('休日取得状況表 (記入例)'!$D$6<J3,J3<'休日取得状況表 (記入例)'!$B$7)),"✕",L3) -> 0
A4: 43457 | B4: 天皇誕生日 | D4: 45518 | E4: 夏季休暇 | G4: 45294 | H4: 年末年始 | J4: =IF(J3>=MAX('休日取得状況表 (記入例)'!$D$4:$D$7),"",J3+1) -> 45812 | K4: {=IFERROR(INDEX($B:$B,MATCH($J4,祝日,),),"")&IFERROR(INDEX($E:$E,MATCH($J4,夏季休暇,),),"")&IFERROR(INDEX($H:$H,MATCH($J4,年末年始,),),"")} | L4: =IF(OR(TEXT(J4,"aaa")="土",TEXT(J4,"aaa")="日",K4<>""),1,0) -> 0 | M4: =IF(OR(AND('休日取得状況表 (記入例)'!$D$4<J4,J4<'休日取得状況表 (記入例)'!$B$5),AND('休日取得状況表 (記入例)'!$D$5<J4,J4<'休日取得状況表 (記入例)'!$B$6),AND('休日取得状況表 (記入例)'!$D$6<J4,J4<'休日取得状況表 (記入例)'!$B$7)),"✕",L4) -> 0
A5: 43458 | B5: 振替休日 | D5: 45881 | E5: 夏季休暇 | G5: 45655 | H5: 年末年始 | J5: =IF(J4>=MAX('休日取得状況表 (記入例)'!$D$4:$D$7),"",J4+1) -> 45813 | K5: {=IFERROR(INDEX($B:$B,MATCH($J5,祝日,),),"")&IFERROR(INDEX($E:$E,MATCH($J5,夏季休暇,),),"")&IFERROR(INDEX($H:$H,MATCH($J5,年末年始,),),"")} | L5: =IF(OR(TEXT(J5,"aaa")="土",TEXT(J5,"aaa")="日",K5<>""),1,0) -> 0 | M5: =IF(OR(AND('休日取得状況表 (記入例)'!$D$4<J5,J5<'休日取得状況表 (記入例)'!$B$5),AND('休日取得状況表 (記入例)'!$D$5<J5,J5<'休日取得状況表 (記入例)'!$B$6),AND('休日取得状況表 (記入例)'!$D$6<J5,J5<'休日取得状況表 (記入例)'!$B$7)),"✕",L5) -> 0
A6: 43466 | B6: 元日 | D6: 45882 | E6: 夏季休暇 | G6: 45656 | H6: 年末年始 | J6: =IF(J5>=MAX('休日取得状況表 (記入例)'!$D$4:$D$7),"",J5+1) -> 45814 | K6: {=IFERROR(INDEX($B:$B,MATCH($J6,祝日,),),"")&IFERROR(INDEX($E:$E,MATCH($J6,夏季休暇,),),"")&IFERROR(INDEX($H:$H,MATCH($J6,年末年始,),),"")} | L6: =IF(OR(TEXT(J6,"aaa")="土",TEXT(J6,"aaa")="日",K6<>""),1,0) -> 0 | M6: =IF(OR(AND('休日取得状況表 (記入例)'!$D$4<J6,J6<'休日取得状況表 (記入例)'!$B$5),AND('休日取得状況表 (記入例)'!$D$5<J6,J6<'休日取得状況表 (記入例)'!$B$6),AND('休日取得状況表 (記入例)'!$D$6<J6,J6<'休日取得状況表 (記入例)'!$B$7)),"✕",L6) -> 0
A7: 43479 | B7: 成人の日 | D7: 45883 | E7: 夏季休暇 | G7: 45657 | H7: 年末年始 | J7: =IF(J6>=MAX('休日取得状況表 (記入例)'!$D$4:$D$7),"",J6+1) -> 45815 | K7: {=IFERROR(INDEX($B:$B,MATCH($J7,祝日,),),"")&IFERROR(INDEX($E:$E,MATCH($J7,夏季休暇,),),"")&IFERROR(INDEX($H:$H,MATCH($J7,年末年始,),),"")} | L7: =IF(OR(TEXT(J7,"aaa")="土",TEXT(J7,"aaa")="日",K7<>""),1,0) -> 1 | M7: =IF(OR(AND('休日取得状況表 (記入例)'!$D$4<J7,J7<'休日取得状況表 (記入例)'!$B$5),AND('休日取得状況表 (記入例)'!$D$5<J7,J7<'休日取得状況表 (記入例)'!$B$6),AND('休日取得状況表 (記入例)'!$D$6<J7,J7<'休日取得状況表 (記入例)'!$B$7)),"✕",L7) -> 1
A8: 43507 | B8: 建国記念の日 | D8: 46246 | E8: 夏季休暇 | G8: 祝日のため除去 | H8: 年末年始 | J8: =IF(J7>=MAX('休日取得状況表 (記入例)'!$D$4:$D$7),"",J7+1) -> 45816 | K8: {=IFERROR(INDEX($B:$B,MATCH($J8,祝日,),),"")&IFERROR(INDEX($E:$E,MATCH($J8,夏季休暇,),),"")&IFERROR(INDEX($H:$H,MATCH($J8,年末年始,),),"")} | L8: =IF(OR(TEXT(J8,"aaa")="土",TEXT(J8,"aaa")="日",K8<>""),1,0) -> 1 | M8: =IF(OR(AND('休日取得状況表 (記入例)'!$D$4<J8,J8<'休日取得状況表 (記入例)'!$B$5),AND('休日取得状況表 (記入例)'!$D$5<J8,J8<'休日取得状況表 (記入例)'!$B$6),AND('休日取得状況表 (記入例)'!$D$6<J8,J8<'休日取得状況表 (記入例)'!$B$7)),"✕",L8) -> 1
A9: 43545 | B9: 春分の日 | D9: 46247 | E9: 夏季休暇 | G9: 45659 | H9: 年末年始 | J9: =IF(J8>=MAX('休日取得状況表 (記入例)'!$D$4:$D$7),"",J8+1) -> 45817 | K9: {=IFERROR(INDEX($B:$B,MATCH($J9,祝日,),),"")&IFERROR(INDEX($E:$E,MATCH($J9,夏季休暇,),),"")&IFERROR(INDEX($H:$H,MATCH($J9,年末年始,),),"")} | L9: =IF(OR(TEXT(J9,"aaa")="土",TEXT(J9,"aaa")="日",K9<>""),1,0) -> 0 | M9: =IF(OR(AND('休日取得状況表 (記入例)'!$D$4<J9,J9<'休日取得状況表 (記入例)'!$B$5),AND('休日取得状況表 (記入例)'!$D$5<J9,J9<'休日取得状況表 (記入例)'!$B$6),AND('休日取得状況表 (記入例)'!$D$6<J9,J9<'休日取得状況表 (記入例)'!$B$7)),"✕",L9) -> 0
A10: 43584 | B10: 昭和の日 | D10: 46248 | E10: 夏季休暇 | G10: 45660 | H10: 年末年始 | J10: =IF(J9>=MAX('休日取得状況表 (記入例)'!$D$4:$D$7),"",J9+1) -> 45818 | K10: {=IFERROR(INDEX($B:$B,MATCH($J10,祝日,),),"")&IFERROR(INDEX($E:$E,MATCH($J10,夏季休暇,),),"")&IFERROR(INDEX($H:$H,MATCH($J10,年末年始,),),"")} | L10: =IF(OR(TEXT(J10,"aaa")="土",TEXT(J10,"aaa")="日",K10<>""),1,0) -> 0 | M10: =IF(OR(AND('休日取得状況表 (記入例)'!$D$4<J10,J10<'休日取得状況表 (記入例)'!$B$5),AND('休日取得状況表 (記入例)'!$D$5<J10,J10<'休日取得状況表 (記入例)'!$B$6),AND('休日取得状況表 (記入例)'!$D$6<J10,J10<'休日取得状況表 (記入例)'!$B$7)),"✕",L10) -> 0
A11: 43585 | B11: 国民の休日 | D11: 46611 | E11: 夏季休暇 | G11: 46020 | H11: 年末年始 | J11: =IF(J10>=MAX('休日取得状況表 (記入例)'!$D$4:$D$7),"",J10+1) -> 45819 | K11: {=IFERROR(INDEX($B:$B,MATCH($J11,祝日,),),"")&IFERROR(INDEX($E:$E,MATCH($J11,夏季休暇,),),"")&IFERROR(INDEX($H:$H,MATCH($J11,年末年始,),),"")} | L11: =IF(OR(TEXT(J11,"aaa")="土",TEXT(J11,"aaa")="日",K11<>""),1,0) -> 0 | M11: =IF(OR(AND('休日取得状況表 (記入例)'!$D$4<J11,J11<'休日取得状況表 (記入例)'!$B$5),AND('休日取得状況表 (記入例)'!$D$5<J11,J11<'休日取得状況表 (記入例)'!$B$6),AND('休日取得状況表 (記入例)'!$D$6<J11,J11<'休日取得状況表 (記入例)'!$B$7)),"✕",L11) -> 0
A12: 43586 | B12: 天皇の即位の日 | D12: 46612 | E12: 夏季休暇 | G12: 46021 | H12: 年末年始 | J12: =IF(J11>=MAX('休日取得状況表 (記入例)'!$D$4:$D$7),"",J11+1) -> 45820 | K12: {=IFERROR(INDEX($B:$B,MATCH($J12,祝日,),),"")&IFERROR(INDEX($E:$E,MATCH($J12,夏季休暇,),),"")&IFERROR(INDEX($H:$H,MATCH($J12,年末年始,),),"")} | L12: =IF(OR(TEXT(J12,"aaa")="土",TEXT(J12,"aaa")="日",K12<>""),1,0) -> 0 | M12: =IF(OR(AND('休日取得状況表 (記入例)'!$D$4<J12,J12<'休日取得状況表 (記入例)'!$B$5),AND('休日取得状況表 (記入例)'!$D$5<J12,J12<'休日取得状況表 (記入例)'!$B$6),AND('休日取得状況表 (記入例)'!$D$6<J12,J12<'休日取得状況表 (記入例)'!$B$7)),"✕",L12) -> 0
A13: 43587 | B13: 国民の休日 | D13: 46615 | E13: 夏季休暇 | G13: 46022 | H13: 年末年始 | J13: =IF(J12>=MAX('休日取得状況表 (記入例)'!$D$4:$D$7),"",J12+1) -> 45821 | K13: {=IFERROR(INDEX($B:$B,MATCH($J13,祝日,),),"")&IFERROR(INDEX($E:$E,MATCH($J13,夏季休暇,),),"")&IFERROR(INDEX($H:$H,MATCH($J13,年末年始,),),"")} | L13: =IF(OR(TEXT(J13,"aaa")="土",TEXT(J13,"aaa")="日",K13<>""),1,0) -> 0 | M13: =IF(OR(AND('休日取得状況表 (記入例)'!$D$4<J13,J13<'休日取得状況表 (記入例)'!$B$5),AND('休日取得状況表 (記入例)'!$D$5<J13,J13<'休日取得状況表 (記入例)'!$B$6),AND('休日取得状況表 (記入例)'!$D$6<J13,J13<'休日取得状況表 (記入例)'!$B$7)),"✕",L13) -> 0
A14: 43588 | B14: 憲法記念日 | D14: 46979 | E14: 夏季休暇 | G14: 祝日のため除去 | H14: 年末年始 | J14: =IF(J13>=MAX('休日取得状況表 (記入例)'!$D$4:$D$7),"",J13+1) -> 45822 | K14: {=IFERROR(INDEX($B:$B,MATCH($J14,祝日,),),"")&IFERROR(INDEX($E:$E,MATCH($J14,夏季休暇,),),"")&IFERROR(INDEX($H:$H,MATCH($J14,年末年始,),),"")} | L14: =IF(OR(TEXT(J14,"aaa")="土",TEXT(J14,"aaa")="日",K14<>""),1,0) -> 1 | M14: =IF(OR(AND('休日取得状況表 (記入例)'!$D$4<J14,J14<'休日取得状況表 (記入例)'!$B$5),AND('休日取得状況表 (記入例)'!$D$5<J14,J14<'休日取得状況表 (記入例)'!$B$6),AND('休日取得状況表 (記入例)'!$D$6<J14,J14<'休日取得状況表 (記入例)'!$B$7)),"✕",L14) -> 1
A15: 43589 | B15: みどりの日 | D15: 46980 | E15: 夏季休暇 | G15: 46024 | H15: 年末年始 | J15: =IF(J14>=MAX('休日取得状況表 (記入例)'!$D$4:$D$7),"",J14+1) -> 45823 | K15: {=IFERROR(INDEX($B:$B,MATCH($J15,祝日,),),"")&IFERROR(INDEX($E:$E,MATCH($J15,夏季休暇,),),"")&IFERROR(INDEX($H:$H,MATCH($J15,年末年始,),),"")} | L15: =IF(OR(TEXT(J15,"aaa")="土",TEXT(J15,"aaa")="日",K15<>""),1,0) -> 1 | M15: =IF(OR(AND('休日取得状況表 (記入例)'!$D$4<J15,J15<'休日取得状況表 (記入例)'!$B$5),AND('休日取得状況表 (記入例)'!$D$5<J15,J15<'休日取得状況表 (記入例)'!$B$6),AND('休日取得状況表 (記入例)'!$D$6<J15,J15<'休日取得状況表 (記入例)'!$B$7)),"✕",L15) -> 1
A16: 43590 | B16: こどもの日 | D16: 46981 | E16: 夏季休暇 | G16: 46025 | H16: 年末年始 | J16: =IF(J15>=MAX('休日取得状況表 (記入例)'!$D$4:$D$7),"",J15+1) -> 45824 | K16: {=IFERROR(INDEX($B:$B,MATCH($J16,祝日,),),"")&IFERROR(INDEX($E:$E,MATCH($J16,夏季休暇,),),"")&IFERROR(INDEX($H:$H,MATCH($J16,年末年始,),),"")} | L16: =IF(OR(TEXT(J16,"aaa")="土",TEXT(J16,"aaa")="日",K16<>""),1,0) -> 0 | M16: =IF(OR(AND('休日取得状況表 (記入例)'!$D$4<J16,J16<'休日取得状況表 (記入例)'!$B$5),AND('休日取得状況表 (記入例)'!$D$5<J16,J16<'休日取得状況表 (記入例)'!$B$6),AND('休日取得状況表 (記入例)'!$D$6<J16,J16<'休日取得状況表 (記入例)'!$B$7)),"✕",L16) -> 0
A17: 43591 | B17: 振替休日 | D17: 47343 | E17: 夏季休暇 | G17: 46385 | H17: 年末年始 | J17: =IF(J16>=MAX('休日取得状況表 (記入例)'!$D$4:$D$7),"",J16+1) -> 45825 | K17: {=IFERROR(INDEX($B:$B,MATCH($J17,祝日,),),"")&IFERROR(INDEX($E:$E,MATCH($J17,夏季休暇,),),"")&IFERROR(INDEX($H:$H,MATCH($J17,年末年始,),),"")} | L17: =IF(OR(TEXT(J17,"aaa")="土",TEXT(J17,"aaa")="日",K17<>""),1,0) -> 0 | M17: =IF(OR(AND('休日取得状況表 (記入例)'!$D$4<J17,J17<'休日取得状況表 (記入例)'!$B$5),AND('休日取得状況表 (記入例)'!$D$5<J17,J17<'休日取得状況表 (記入例)'!$B$6),AND('休日取得状況表 (記入例)'!$D$6<J17,J17<'休日取得状況表 (記入例)'!$B$7)),"✕",L17) -> 0
A18: 43661 | B18: 海の日 | D18: 47344 | E18: 夏季休暇 | G18: 46386 | H18: 年末年始 | J18: =IF(J17>=MAX('休日取得状況表 (記入例)'!$D$4:$D$7),"",J17+1) -> 45826 | K18: {=IFERROR(INDEX($B:$B,MATCH($J18,祝日,),),"")&IFERROR(INDEX($E:$E,MATCH($J18,夏季休暇,),),"")&IFERROR(INDEX($H:$H,MATCH($J18,年末年始,),),"")} | L18: =IF(OR(TEXT(J18,"aaa")="土",TEXT(J18,"aaa")="日",K18<>""),1,0) -> 0 | M18: =IF(OR(AND('休日取得状況表 (記入例)'!$D$4<J18,J18<'休日取得状況表 (記入例)'!$B$5),AND('休日取得状況表 (記入例)'!$D$5<J18,J18<'休日取得状況表 (記入例)'!$B$6),AND('休日取得状況表 (記入例)'!$D$6<J18,J18<'休日取得状況表 (記入例)'!$B$7)),"✕",L18) -> 0
A19: 43688 | B19: 山の日 | D19: 47345 | E19: 夏季休暇 | G19: 46387 | H19: 年末年始 | J19: =IF(J18>=MAX('休日取得状況表 (記入例)'!$D$4:$D$7),"",J18+1) -> 45827 | K19: {=IFERROR(INDEX($B:$B,MATCH($J19,祝日,),),"")&IFERROR(INDEX($E:$E,MATCH($J19,夏季休暇,),),"")&IFERROR(INDEX($H:$H,MATCH($J19,年末年始,),),"")} | L19: =IF(OR(TEXT(J19,"aaa")="土",TEXT(J19,"aaa")="日",K19<>""),1,0) -> 0 | M19: =IF(OR(AND('休日取得状況表 (記入例)'!$D$4<J19,J19<'休日取得状況表 (記入例)'!$B$5),AND('休日取得状況表 (記入例)'!$D$5<J19,J19<'休日取得状況表 (記入例)'!$B$6),AND('休日取得状況表 (記入例)'!$D$6<J19,J19<'休日取得状況表 (記入例)'!$B$7)),"✕",L19) -> 0
A20: 43689 | B20: 振替休日 | D20: 47707 | E20: 夏季休暇 | G20: 祝日のため除去 | H20: 年末年始 | J20: =IF(J19>=MAX('休日取得状況表 (記入例)'!$D$4:$D$7),"",J19+1) -> 45828 | K20: {=IFERROR(INDEX($B:$B,MATCH($J20,祝日,),),"")&IFERROR(INDEX($E:$E,MATCH($J20,夏季休暇,),),"")&IFERROR(INDEX($H:$H,MATCH($J20,年末年始,),),"")} | L20: =IF(OR(TEXT(J20,"aaa")="土",TEXT(J20,"aaa")="日",K20<>""),1,0) -> 0 | M20: =IF(OR(AND('休日取得状況表 (記入例)'!$D$4<J20,J20<'休日取得状況表 (記入例)'!$B$5),AND('休日取得状況表 (記入例)'!$D$5<J20,J20<'休日取得状況表 (記入例)'!$B$6),AND('休日取得状況表 (記入例)'!$D$6<J20,J20<'休日取得状況表 (記入例)'!$B$7)),"✕",L20) -> 0
A21: 43724 | B21: 敬老の日 | D21: 47708 | E21: 夏季休暇 | G21: 46389 | H21: 年末年始 | J21: =IF(J20>=MAX('休日取得状況表 (記入例)'!$D$4:$D$7),"",J20+1) -> 45829 | K21: {=IFERROR(INDEX($B:$B,MATCH($J21,祝日,),),"")&IFERROR(INDEX($E:$E,MATCH($J21,夏季休暇,),),"")&IFERROR(INDEX($H:$H,MATCH($J21,年末年始,),),"")} | L21: =IF(OR(TEXT(J21,"aaa")="土",TEXT(J21,"aaa")="日",K21<>""),1,0) -> 1 | M21: =IF(OR(AND('休日取得状況表 (記入例)'!$D$4<J21,J21<'休日取得状況表 (記入例)'!$B$5),AND('休日取得状況表 (記入例)'!$D$5<J21,J21<'休日取得状況表 (記入例)'!$B$6),AND('休日取得状況表 (記入例)'!$D$6<J21,J21<'休日取得状況表 (記入例)'!$B$7)),"✕",L21) -> 1
A22: 43731 | B22: 秋分の日 | D22: 47709 | E22: 夏季休暇 | G22: 46390 | H22: 年末年始 | J22: =IF(J21>=MAX('休日取得状況表 (記入例)'!$D$4:$D$7),"",J21+1) -> 45830 | K22: {=IFERROR(INDEX($B:$B,MATCH($J22,祝日,),),"")&IFERROR(INDEX($E:$E,MATCH($J22,夏季休暇,),),"")&IFERROR(INDEX($H:$H,MATCH($J22,年末年始,),),"")} | L22: =IF(OR(TEXT(J22,"aaa")="土",TEXT(J22,"aaa")="日",K22<>""),1,0) -> 1 | M22: =IF(OR(AND('休日取得状況表 (記入例)'!$D$4<J22,J22<'休日取得状況表 (記入例)'!$B$5),AND('休日取得状況表 (記入例)'!$D$5<J22,J22<'休日取得状況表 (記入例)'!$B$6),AND('休日取得状況表 (記入例)'!$D$6<J22,J22<'休日取得状況表 (記入例)'!$B$7)),"✕",L22) -> 1
A23: 43752 | B23: 体育の日 | G23: 46750 | H23: 年末年始 | J23: =IF(J22>=MAX('休日取得状況表 (記入例)'!$D$4:$D$7),"",J22+1) -> 45831 | K23: {=IFERROR(INDEX($B:$B,MATCH($J23,祝日,),),"")&IFERROR(INDEX($E:$E,MATCH($J23,夏季休暇,),),"")&IFERROR(INDEX($H:$H,MATCH($J23,年末年始,),),"")} | L23: =IF(OR(TEXT(J23,"aaa")="土",TEXT(J23,"aaa")="日",K23<>""),1,0) -> 0 | M23: =IF(OR(AND('休日取得状況表 (記入例)'!$D$4<J23,J23<'休日取得状況表 (記入例)'!$B$5),AND('休日取得状況表 (記入例)'!$D$5<J23,J23<'休日取得状況表 (記入例)'!$B$6),AND('休日取得状況表 (記入例)'!$D$6<J23,J23<'休日取得状況表 (記入例)'!$B$7)),"✕",L23) -> 0
A24: 43760 | B24: 即位礼正殿の儀 | G24: 46751 | H24: 年末年始 | J24: =IF(J23>=MAX('休日取得状況表 (記入例)'!$D$4:$D$7),"",J23+1) -> 45832 | K24: {=IFERROR(INDEX($B:$B,MATCH($J24,祝日,),),"")&IFERROR(INDEX($E:$E,MATCH($J24,夏季休暇,),),"")&IFERROR(INDEX($H:$H,MATCH($J24,年末年始,),),"")} | L24: =IF(OR(TEXT(J24,"aaa")="土",TEXT(J24,"aaa")="日",K24<>""),1,0) -> 0 | M24: =IF(OR(AND('休日取得状況表 (記入例)'!$D$4<J24,J24<'休日取得状況表 (記入例)'!$B$5),AND('休日取得状況表 (記入例)'!$D$5<J24,J24<'休日取得状況表 (記入例)'!$B$6),AND('休日取得状況表 (記入例)'!$D$6<J24,J24<'休日取得状況表 (記入例)'!$B$7)),"✕",L24) -> 0
A25: 43772 | B25: 文化の日 | G25: 46752 | H25: 年末年始 | J25: =IF(J24>=MAX('休日取得状況表 (記入例)'!$D$4:$D$7),"",J24+1) -> 45833 | K25: {=IFERROR(INDEX($B:$B,MATCH($J25,祝日,),),"")&IFERROR(INDEX($E:$E,MATCH($J25,夏季休暇,),),"")&IFERROR(INDEX($H:$H,MATCH($J25,年末年始,),),"")} | L25: =IF(OR(TEXT(J25,"aaa")="土",TEXT(J25,"aaa")="日",K25<>""),1,0) -> 0 | M25: =IF(OR(AND('休日取得状況表 (記入例)'!$D$4<J25,J25<'休日取得状況表 (記入例)'!$B$5),AND('休日取得状況表 (記入例)'!$D$5<J25,J25<'休日取得状況表 (記入例)'!$B$6),AND('休日取得状況表 (記入例)'!$D$6<J25,J25<'休日取得状況表 (記入例)'!$B$7)),"✕",L25) -> 0
A26: 43773 | B26: 振替休日 | G26: 祝日のため除去 | H26: 年末年始 | J26: =IF(J25>=MAX('休日取得状況表 (記入例)'!$D$4:$D$7),"",J25+1) -> 45834 | K26: {=IFERROR(INDEX($B:$B,MATCH($J26,祝日,),),"")&IFERROR(INDEX($E:$E,MATCH($J26,夏季休暇,),),"")&IFERROR(INDEX($H:$H,MATCH($J26,年末年始,),),"")} | L26: =IF(OR(TEXT(J26,"aaa")="土",TEXT(J26,"aaa")="日",K26<>""),1,0) -> 0 | M26: =IF(OR(AND('休日取得状況表 (記入例)'!$D$4<J26,J26<'休日取得状況表 (記入例)'!$B$5),AND('休日取得状況表 (記入例)'!$D$5<J26,J26<'休日取得状況表 (記入例)'!$B$6),AND('休日取得状況表 (記入例)'!$D$6<J26,J26<'休日取得状況表 (記入例)'!$B$7)),"✕",L26) -> 0
A27: 43792 | B27: 勤労感謝の日 | G27: 46754 | H27: 年末年始 | J27: =IF(J26>=MAX('休日取得状況表 (記入例)'!$D$4:$D$7),"",J26+1) -> 45835 | K27: {=IFERROR(INDEX($B:$B,MATCH($J27,祝日,),),"")&IFERROR(INDEX($E:$E,MATCH($J27,夏季休暇,),),"")&IFERROR(INDEX($H:$H,MATCH($J27,年末年始,),),"")} | L27: =IF(OR(TEXT(J27,"aaa")="土",TEXT(J27,"aaa")="日",K27<>""),1,0) -> 0 | M27: =IF(OR(AND('休日取得状況表 (記入例)'!$D$4<J27,J27<'休日取得状況表 (記入例)'!$B$5),AND('休日取得状況表 (記入例)'!$D$5<J27,J27<'休日取得状況表 (記入例)'!$B$6),AND('休日取得状況表 (記入例)'!$D$6<J27,J27<'休日取得状況表 (記入例)'!$B$7)),"✕",L27) -> 0
G28: 46755 | H28: 年末年始 | J28: =IF(J27>=MAX('休日取得状況表 (記入例)'!$D$4:$D$7),"",J27+1) -> 45836 | K28: {=IFERROR(INDEX($B:$B,MATCH($J28,祝日,),),"")&IFERROR(INDEX($E:$E,MATCH($J28,夏季休暇,),),"")&IFERROR(INDEX($H:$H,MATCH($J28,年末年始,),),"")} | L28: =IF(OR(TEXT(J28,"aaa")="土",TEXT(J28,"aaa")="日",K28<>""),1,0) -> 1 | M28: =IF(OR(AND('休日取得状況表 (記入例)'!$D$4<J28,J28<'休日取得状況表 (記入例)'!$B$5),AND('休日取得状況表 (記入例)'!$D$5<J28,J28<'休日取得状況表 (記入例)'!$B$6),AND('休日取得状況表 (記入例)'!$D$6<J28,J28<'休日取得状況表 (記入例)'!$B$7)),"✕",L28) -> 1
A29: 43831 | B29: 元日 | G29: 47116 | H29: 年末年始 | J29: =IF(J28>=MAX('休日取得状況表 (記入例)'!$D$4:$D$7),"",J28+1) -> 45837 | K29: {=IFERROR(INDEX($B:$B,MATCH($J29,祝日,),),"")&IFERROR(INDEX($E:$E,MATCH($J29,夏季休暇,),),"")&IFERROR(INDEX($H:$H,MATCH($J29,年末年始,),),"")} | L29: =IF(OR(TEXT(J29,"aaa")="土",TEXT(J29,"aaa")="日",K29<>""),1,0) -> 1 | M29: =IF(OR(AND('休日取得状況表 (記入例)'!$D$4<J29,J29<'休日取得状況表 (記入例)'!$B$5),AND('休日取得状況表 (記入例)'!$D$5<J29,J29<'休日取得状況表 (記入例)'!$B$6),AND('休日取得状況表 (記入例)'!$D$6<J29,J29<'休日取得状況表 (記入例)'!$B$7)),"✕",L29) -> 1
A30: 43843 | B30: 成人の日 | G30: 47117 | H30: 年末年始 | J30: =IF(J29>=MAX('休日取得状況表 (記入例)'!$D$4:$D$7),"",J29+1) -> 45838 | K30: {=IFERROR(INDEX($B:$B,MATCH($J30,祝日,),),"")&IFERROR(INDEX($E:$E,MATCH($J30,夏季休暇,),),"")&IFERROR(INDEX($H:$H,MATCH($J30,年末年始,),),"")} | L30: =IF(OR(TEXT(J30,"aaa")="土",TEXT(J30,"aaa")="日",K30<>""),1,0) -> 0 | M30: =IF(OR(AND('休日取得状況表 (記入例)'!$D$4<J30,J30<'休日取得状況表 (記入例)'!$B$5),AND('休日取得状況表 (記入例)'!$D$5<J30,J30<'休日取得状況表 (記入例)'!$B$6),AND('休日取得状況表 (記入例)'!$D$6<J30,J30<'休日取得状況表 (記入例)'!$B$7)),"✕",L30) -> 0
A31: 43872 | B31: 建国記念の日 | G31: 47118 | H31: 年末年始 | J31: =IF(J30>=MAX('休日取得状況表 (記入例)'!$D$4:$D$7),"",J30+1) -> 45839 | K31: {=IFERROR(INDEX($B:$B,MATCH($J31,祝日,),),"")&IFERROR(INDEX($E:$E,MATCH($J31,夏季休暇,),),"")&IFERROR(INDEX($H:$H,MATCH($J31,年末年始,),),"")} | L31: =IF(OR(TEXT(J31,"aaa")="土",TEXT(J31,"aaa")="日",K31<>""),1,0) -> 0 | M31: =IF(OR(AND('休日取得状況表 (記入例)'!$D$4<J31,J31<'休日取得状況表 (記入例)'!$B$5),AND('休日取得状況表 (記入例)'!$D$5<J31,J31<'休日取得状況表 (記入例)'!$B$6),AND('休日取得状況表 (記入例)'!$D$6<J31,J31<'休日取得状況表 (記入例)'!$B$7)),"✕",L31) -> 0
A32: 43884 | B32: 天皇誕生日 | G32: 祝日のため除去 | H32: 年末年始 | J32: =IF(J31>=MAX('休日取得状況表 (記入例)'!$D$4:$D$7),"",J31+1) -> 45840 | K32: {=IFERROR(INDEX($B:$B,MATCH($J32,祝日,),),"")&IFERROR(INDEX($E:$E,MATCH($J32,夏季休暇,),),"")&IFERROR(INDEX($H:$H,MATCH($J32,年末年始,),),"")} | L32: =IF(OR(TEXT(J32,"aaa")="土",TEXT(J32,"aaa")="日",K32<>""),1,0) -> 0 | M32: =IF(OR(AND('休日取得状況表 (記入例)'!$D$4<J32,J32<'休日取得状況表 (記入例)'!$B$5),AND('休日取得状況表 (記入例)'!$D$5<J32,J32<'休日取得状況表 (記入例)'!$B$6),AND('休日取得状況表 (記入例)'!$D$6<J32,J32<'休日取得状況表 (記入例)'!$B$7)),"✕",L32) -> 0
A33: 43885 | B33: 振替休日 | G33: 47120 | H33: 年末年始 | J33: =IF(J32>=MAX('休日取得状況表 (記入例)'!$D$4:$D$7),"",J32+1) -> 45841 | K33: {=IFERROR(INDEX($B:$B,MATCH($J33,祝日,),),"")&IFERROR(INDEX($E:$E,MATCH($J33,夏季休暇,),),"")&IFERROR(INDEX($H:$H,MATCH($J33,年末年始,),),"")} | L33: =IF(OR(TEXT(J33,"aaa")="土",TEXT(J33,"aaa")="日",K33<>""),1,0) -> 0 | M33: =IF(OR(AND('休日取得状況表 (記入例)'!$D$4<J33,J33<'休日取得状況表 (記入例)'!$B$5),AND('休日取得状況表 (記入例)'!$D$5<J33,J33<'休日取得状況表 (記入例)'!$B$6),AND('休日取得状況表 (記入例)'!$D$6<J33,J33<'休日取得状況表 (記入例)'!$B$7)),"✕",L33) -> 0
A34: 43910 | B34: 春分の日 | G34: 47121 | H34: 年末年始 | J34: =IF(J33>=MAX('休日取得状況表 (記入例)'!$D$4:$D$7),"",J33+1) -> 45842 | K34: {=IFERROR(INDEX($B:$B,MATCH($J34,祝日,),),"")&IFERROR(INDEX($E:$E,MATCH($J34,夏季休暇,),),"")&IFERROR(INDEX($H:$H,MATCH($J34,年末年始,),),"")} | L34: =IF(OR(TEXT(J34,"aaa")="土",TEXT(J34,"aaa")="日",K34<>""),1,0) -> 0 | M34: =IF(OR(AND('休日取得状況表 (記入例)'!$D$4<J34,J34<'休日取得状況表 (記入例)'!$B$5),AND('休日取得状況表 (記入例)'!$D$5<J34,J34<'休日取得状況表 (記入例)'!$B$6),AND('休日取得状況表 (記入例)'!$D$6<J34,J34<'休日取得状況表 (記入例)'!$B$7)),"✕",L34) -> 0
A35: 43950 | B35: 昭和の日 | G35: 47481 | H35: 年末年始 | J35: =IF(J34>=MAX('休日取得状況表 (記入例)'!$D$4:$D$7),"",J34+1) -> 45843 | K35: {=IFERROR(INDEX($B:$B,MATCH($J35,祝日,),),"")&IFERROR(INDEX($E:$E,MATCH($J35,夏季休暇,),),"")&IFERROR(INDEX($H:$H,MATCH($J35,年末年始,),),"")} | L35: =IF(OR(TEXT(J35,"aaa")="土",TEXT(J35,"aaa")="日",K35<>""),1,0) -> 1 | M35: =IF(OR(AND('休日取得状況表 (記入例)'!$D$4<J35,J35<'休日取得状況表 (記入例)'!$B$5),AND('休日取得状況表 (記入例)'!$D$5<J35,J35<'休日取得状況表 (記入例)'!$B$6),AND('休日取得状況表 (記入例)'!$D$6<J35,J35<'休日取得状況表 (記入例)'!$B$7)),"✕",L35) -> ✕
A36: 43954 | B36: 憲法記念日 | G36: 47482 | H36: 年末年始 | J36: =IF(J35>=MAX('休日取得状況表 (記入例)'!$D$4:$D$7),"",J35+1) -> 45844 | K36: {=IFERROR(INDEX($B:$B,MATCH($J36,祝日,),),"")&IFERROR(INDEX($E:$E,MATCH($J36,夏季休暇,),),"")&IFERROR(INDEX($H:$H,MATCH($J36,年末年始,),),"")} | L36: =IF(OR(TEXT(J36,"aaa")="土",TEXT(J36,"aaa")="日",K36<>""),1,0) -> 1 | M36: =IF(OR(AND('休日取得状況表 (記入例)'!$D$4<J36,J36<'休日取得状況表 (記入例)'!$B$5),AND('休日取得状況表 (記入例)'!$D$5<J36,J36<'休日取得状況表 (記入例)'!$B$6),AND('休日取得状況表 (記入例)'!$D$6<J36,J36<'休日取得状況表 (記入例)'!$B$7)),"✕",L36) -> ✕
A37: 43955 | B37: みどりの日 | G37: 47483 | H37: 年末年始 | J37: =IF(J36>=MAX('休日取得状況表 (記入例)'!$D$4:$D$7),"",J36+1) -> 45845 | K37: {=IFERROR(INDEX($B:$B,MATCH($J37,祝日,),),"")&IFERROR(INDEX($E:$E,MATCH($J37,夏季休暇,),),"")&IFERROR(INDEX($H:$H,MATCH($J37,年末年始,),),"")} | L37: =IF(OR(TEXT(J37,"aaa")="土",TEXT(J37,"aaa")="日",K37<>""),1,0) -> 0 | M37: =IF(OR(AND('休日取得状況表 (記入例)'!$D$4<J37,J37<'休日取得状況表 (記入例)'!$B$5),AND('休日取得状況表 (記入例)'!$D$5<J37,J37<'休日取得状況表 (記入例)'!$B$6),AND('休日取得状況表 (記入例)'!$D$6<J37,J37<'休日取得状況表 (記入例)'!$B$7)),"✕",L37) -> ✕
A38: 43956 | B38: こどもの日 | G38: 祝日のため除去 | H38: 年末年始 | J38: =IF(J37>=MAX('休日取得状況表 (記入例)'!$D$4:$D$7),"",J37+1) -> 45846 | K38: {=IFERROR(INDEX($B:$B,MATCH($J38,祝日,),),"")&IFERROR(INDEX($E:$E,MATCH($J38,夏季休暇,),),"")&IFERROR(INDEX($H:$H,MATCH($J38,年末年始,),),"")} | L38: =IF(OR(TEXT(J38,"aaa")="土",TEXT(J38,"aaa")="日",K38<>""),1,0) -> 0 | M38: =IF(OR(AND('休日取得状況表 (記入例)'!$D$4<J38,J38<'休日取得状況表 (記入例)'!$B$5),AND('休日取得状況表 (記入例)'!$D$5<J38,J38<'休日取得状況表 (記入例)'!$B$6),AND('休日取得状況表 (記入例)'!$D$6<J38,J38<'休日取得状況表 (記入例)'!$B$7)),"✕",L38) -> ✕
A39: 43957 | B39: 振替休日 | G39: 47485 | H39: 年末年始 | J39: =IF(J38>=MAX('休日取得状況表 (記入例)'!$D$4:$D$7),"",J38+1) -> 45847 | K39: {=IFERROR(INDEX($B:$B,MATCH($J39,祝日,),),"")&IFERROR(INDEX($E:$E,MATCH($J39,夏季休暇,),),"")&IFERROR(INDEX($H:$H,MATCH($J39,年末年始,),),"")} | L39: =IF(OR(TEXT(J39,"aaa")="土",TEXT(J39,"aaa")="日",K39<>""),1,0) -> 0 | M39: =IF(OR(AND('休日取得状況表 (記入例)'!$D$4<J39,J39<'休日取得状況表 (記入例)'!$B$5),AND('休日取得状況表 (記入例)'!$D$5<J39,J39<'休日取得状況表 (記入例)'!$B$6),AND('休日取得状況表 (記入例)'!$D$6<J39,J39<'休日取得状況表 (記入例)'!$B$7)),"✕",L39) -> ✕
A40: 44035 | B40: 海の日 | G40: 47486 | H40: 年末年始 | J40: =IF(J39>=MAX('休日取得状況表 (記入例)'!$D$4:$D$7),"",J39+1) -> 45848 | K40: {=IFERROR(INDEX($B:$B,MATCH($J40,祝日,),),"")&IFERROR(INDEX($E:$E,MATCH($J40,夏季休暇,),),"")&IFERROR(INDEX($H:$H,MATCH($J40,年末年始,),),"")} | L40: =IF(OR(TEXT(J40,"aaa")="土",TEXT(J40,"aaa")="日",K40<>""),1,0) -> 0 | M40: =IF(OR(AND('休日取得状況表 (記入例)'!$D$4<J40,J40<'休日取得状況表 (記入例)'!$B$5),AND('休日取得状況表 (記入例)'!$D$5<J40,J40<'休日取得状況表 (記入例)'!$B$6),AND('休日取得状況表 (記入例)'!$D$6<J40,J40<'休日取得状況表 (記入例)'!$B$7)),"✕",L40) -> ✕
A41: 44036 | B41: スポーツの日 | G41: 47846 | H41: 年末年始 | J41: =IF(J40>=MAX('休日取得状況表 (記入例)'!$D$4:$D$7),"",J40+1) -> 45849 | K41: {=IFERROR(INDEX($B:$B,MATCH($J41,祝日,),),"")&IFERROR(INDEX($E:$E,MATCH($J41,夏季休暇,),),"")&IFERROR(INDEX($H:$H,MATCH($J41,年末年始,),),"")} | L41: =IF(OR(TEXT(J41,"aaa")="土",TEXT(J41,"aaa")="日",K41<>""),1,0) -> 0 | M41: =IF(OR(AND('休日取得状況表 (記入例)'!$D$4<J41,J41<'休日取得状況表 (記入例)'!$B$5),AND('休日取得状況表 (記入例)'!$D$5<J41,J41<'休日取得状況表 (記入例)'!$B$6),AND('休日取得状況表 (記入例)'!$D$6<J41,J41<'休日取得状況表 (記入例)'!$B$7)),"✕",L41) -> ✕
A42: 44053 | B42: 山の日 | G42: 47847 | H42: 年末年始 | J42: =IF(J41>=MAX('休日取得状況表 (記入例)'!$D$4:$D$7),"",J41+1) -> 45850 | K42: {=IFERROR(INDEX($B:$B,MATCH($J42,祝日,),),"")&IFERROR(INDEX($E:$E,MATCH($J42,夏季休暇,),),"")&IFERROR(INDEX($H:$H,MATCH($J42,年末年始,),),"")} | L42: =IF(OR(TEXT(J42,"aaa")="土",TEXT(J42,"aaa")="日",K42<>""),1,0) -> 1 | M42: =IF(OR(AND('休日取得状況表 (記入例)'!$D$4<J42,J42<'休日取得状況表 (記入例)'!$B$5),AND('休日取得状況表 (記入例)'!$D$5<J42,J42<'休日取得状況表 (記入例)'!$B$6),AND('休日取得状況表 (記入例)'!$D$6<J42,J42<'休日取得状況表 (記入例)'!$B$7)),"✕",L42) -> ✕
A43: 44095 | B43: 敬老の日 | G43: 47848 | H43: 年末年始 | J43: =IF(J42>=MAX('休日取得状況表 (記入例)'!$D$4:$D$7),"",J42+1) -> 45851 | K43: {=IFERROR(INDEX($B:$B,MATCH($J43,祝日,),),"")&IFERROR(INDEX($E:$E,MATCH($J43,夏季休暇,),),"")&IFERROR(INDEX($H:$H,MATCH($J43,年末年始,),),"")} | L43: =IF(OR(TEXT(J43,"aaa")="土",TEXT(J43,"aaa")="日",K43<>""),1,0) -> 1 | M43: =IF(OR(AND('休日取得状況表 (記入例)'!$D$4<J43,J43<'休日取得状況表 (記入例)'!$B$5),AND('休日取得状況表 (記入例)'!$D$5<J43,J43<'休日取得状況表 (記入例)'!$B$6),AND('休日取得状況表 (記入例)'!$D$6<J43,J43<'休日取得状況表 (記入例)'!$B$7)),"✕",L43) -> ✕
A44: 44096 | B44: 秋分の日 | J44: =IF(J43>=MAX('休日取得状況表 (記入例)'!$D$4:$D$7),"",J43+1) -> 45852 | K44: {=IFERROR(INDEX($B:$B,MATCH($J44,祝日,),),"")&IFERROR(INDEX($E:$E,MATCH($J44,夏季休暇,),),"")&IFERROR(INDEX($H:$H,MATCH($J44,年末年始,),),"")} | L44: =IF(OR(TEXT(J44,"aaa")="土",TEXT(J44,"aaa")="日",K44<>""),1,0) -> 0 | M44: =IF(OR(AND('休日取得状況表 (記入例)'!$D$4<J44,J44<'休日取得状況表 (記入例)'!$B$5),AND('休日取得状況表 (記入例)'!$D$5<J44,J44<'休日取得状況表 (記入例)'!$B$6),AND('休日取得状況表 (記入例)'!$D$6<J44,J44<'休日取得状況表 (記入例)'!$B$7)),"✕",L44) -> ✕
A45: 44138 | B45: 文化の日 | J45: =IF(J44>=MAX('休日取得状況表 (記入例)'!$D$4:$D$7),"",J44+1) -> 45853 | K45: {=IFERROR(INDEX($B:$B,MATCH($J45,祝日,),),"")&IFERROR(INDEX($E:$E,MATCH($J45,夏季休暇,),),"")&IFERROR(INDEX($H:$H,MATCH($J45,年末年始,),),"")} | L45: =IF(OR(TEXT(J45,"aaa")="土",TEXT(J45,"aaa")="日",K45<>""),1,0) -> 0 | M45: =IF(OR(AND('休日取得状況表 (記入例)'!$D$4<J45,J45<'休日取得状況表 (記入例)'!$B$5),AND('休日取得状況表 (記入例)'!$D$5<J45,J45<'休日取得状況表 (記入例)'!$B$6),AND('休日取得状況表 (記入例)'!$D$6<J45,J45<'休日取得状況表 (記入例)'!$B$7)),"✕",L45) -> ✕
A46: 44158 | B46: 勤労感謝の日 | J46: =IF(J45>=MAX('休日取得状況表 (記入例)'!$D$4:$D$7),"",J45+1) -> 45854 | K46: {=IFERROR(INDEX($B:$B,MATCH($J46,祝日,),),"")&IFERROR(INDEX($E:$E,MATCH($J46,夏季休暇,),),"")&IFERROR(INDEX($H:$H,MATCH($J46,年末年始,),),"")} | L46: =IF(OR(TEXT(J46,"aaa")="土",TEXT(J46,"aaa")="日",K46<>""),1,0) -> 0 | M46: =IF(OR(AND('休日取得状況表 (記入例)'!$D$4<J46,J46<'休日取得状況表 (記入例)'!$B$5),AND('休日取得状況表 (記入例)'!$D$5<J46,J46<'休日取得状況表 (記入例)'!$B$6),AND('休日取得状況表 (記入例)'!$D$6<J46,J46<'休日取得状況表 (記入例)'!$B$7)),"✕",L46) -> ✕
J47: =IF(J46>=MAX('休日取得状況表 (記入例)'!$D$4:$D$7),"",J46+1) -> 45855 | K47: {=IFERROR(INDEX($B:$B,MATCH($J47,祝日,),),"")&IFERROR(INDEX($E:$E,MATCH($J47,夏季休暇,),),"")&IFERROR(INDEX($H:$H,MATCH($J47,年末年始,),),"")} | L47: =IF(OR(TEXT(J47,"aaa")="土",TEXT(J47,"aaa")="日",K47<>""),1,0) -> 0 | M47: =IF(OR(AND('休日取得状況表 (記入例)'!$D$4<J47,J47<'休日取得状況表 (記入例)'!$B$5),AND('休日取得状況表 (記入例)'!$D$5<J47,J47<'休日取得状況表 (記入例)'!$B$6),AND('休日取得状況表 (記入例)'!$D$6<J47,J47<'休日取得状況表 (記入例)'!$B$7)),"✕",L47) -> ✕
A48: 44197 | B48: 元日 | J48: =IF(J47>=MAX('休日取得状況表 (記入例)'!$D$4:$D$7),"",J47+1) -> 45856 | K48: {=IFERROR(INDEX($B:$B,MATCH($J48,祝日,),),"")&IFERROR(INDEX($E:$E,MATCH($J48,夏季休暇,),),"")&IFERROR(INDEX($H:$H,MATCH($J48,年末年始,),),"")} | L48: =IF(OR(TEXT(J48,"aaa")="土",TEXT(J48,"aaa")="日",K48<>""),1,0) -> 0 | M48: =IF(OR(AND('休日取得状況表 (記入例)'!$D$4<J48,J48<'休日取得状況表 (記入例)'!$B$5),AND('休日取得状況表 (記入例)'!$D$5<J48,J48<'休日取得状況表 (記入例)'!$B$6),AND('休日取得状況表 (記入例)'!$D$6<J48,J48<'休日取得状況表 (記入例)'!$B$7)),"✕",L48) -> ✕
A49: 44207 | B49: 成人の日 | J49: =IF(J48>=MAX('休日取得状況表 (記入例)'!$D$4:$D$7),"",J48+1) -> 45857 | K49: {=IFERROR(INDEX($B:$B,MATCH($J49,祝日,),),"")&IFERROR(INDEX($E:$E,MATCH($J49,夏季休暇,),),"")&IFERROR(INDEX($H:$H,MATCH($J49,年末年始,),),"")} | L49: =IF(OR(TEXT(J49,"aaa")="土",TEXT(J49,"aaa")="日",K49<>""),1,0) -> 1 | M49: =IF(OR(AND('休日取得状況表 (記入例)'!$D$4<J49,J49<'休日取得状況表 (記入例)'!$B$5),AND('休日取得状況表 (記入例)'!$D$5<J49,J49<'休日取得状況表 (記入例)'!$B$6),AND('休日取得状況表 (記入例)'!$D$6<J49,J49<'休日取得状況表 (記入例)'!$B$7)),"✕",L49) -> ✕
A50: 44238 | B50: 建国記念の日 | J50: =IF(J49>=MAX('休日取得状況表 (記入例)'!$D$4:$D$7),"",J49+1) -> 45858 | K50: {=IFERROR(INDEX($B:$B,MATCH($J50,祝日,),),"")&IFERROR(INDEX($E:$E,MATCH($J50,夏季休暇,),),"")&IFERROR(INDEX($H:$H,MATCH($J50,年末年始,),),"")} | L50: =IF(OR(TEXT(J50,"aaa")="土",TEXT(J50,"aaa")="日",K50<>""),1,0) -> 1 | M50: =IF(OR(AND('休日取得状況表 (記入例)'!$D$4<J50,J50<'休日取得状況表 (記入例)'!$B$5),AND('休日取得状況表 (記入例)'!$D$5<J50,J50<'休日取得状況表 (記入例)'!$B$6),AND('休日取得状況表 (記入例)'!$D$6<J50,J50<'休日取得状況表 (記入例)'!$B$7)),"✕",L50) -> ✕
A51: 44250 | B51: 天皇誕生日 | J51: =IF(J50>=MAX('休日取得状況表 (記入例)'!$D$4:$D$7),"",J50+1) -> 45859 | K51: {=IFERROR(INDEX($B:$B,MATCH($J51,祝日,),),"")&IFERROR(INDEX($E:$E,MATCH($J51,夏季休暇,),),"")&IFERROR(INDEX($H:$H,MATCH($J51,年末年始,),),"")} -> 海の日 | L51: =IF(OR(TEXT(J51,"aaa")="土",TEXT(J51,"aaa")="日",K51<>""),1,0) -> 1 | M51: =IF(OR(AND('休日取得状況表 (記入例)'!$D$4<J51,J51<'休日取得状況表 (記入例)'!$B$5),AND('休日取得状況表 (記入例)'!$D$5<J51,J51<'休日取得状況表 (記入例)'!$B$6),AND('休日取得状況表 (記入例)'!$D$6<J51,J51<'休日取得状況表 (記入例)'!$B$7)),"✕",L51) -> ✕
A52: 44275 | B52: 春分の日 | J52: =IF(J51>=MAX('休日取得状況表 (記入例)'!$D$4:$D$7),"",J51+1) -> 45860 | K52: {=IFERROR(INDEX($B:$B,MATCH($J52,祝日,),),"")&IFERROR(INDEX($E:$E,MATCH($J52,夏季休暇,),),"")&IFERROR(INDEX($H:$H,MATCH($J52,年末年始,),),"")} | L52: =IF(OR(TEXT(J52,"aaa")="土",TEXT(J52,"aaa")="日",K52<>""),1,0) -> 0 | M52: =IF(OR(AND('休日取得状況表 (記入例)'!$D$4<J52,J52<'休日取得状況表 (記入例)'!$B$5),AND('休日取得状況表 (記入例)'!$D$5<J52,J52<'休日取得状況表 (記入例)'!$B$6),AND('休日取得状況表 (記入例)'!$D$6<J52,J52<'休日取得状況表 (記入例)'!$B$7)),"✕",L52) -> ✕
A53: 44315 | B53: 昭和の日 | J53: =IF(J52>=MAX('休日取得状況表 (記入例)'!$D$4:$D$7),"",J52+1) -> 45861 | K53: {=IFERROR(INDEX($B:$B,MATCH($J53,祝日,),),"")&IFERROR(INDEX($E:$E,MATCH($J53,夏季休暇,),),"")&IFERROR(INDEX($H:$H,MATCH($J53,年末年始,),),"")} | L53: =IF(OR(TEXT(J53,"aaa")="土",TEXT(J53,"aaa")="日",K53<>""),1,0) -> 0 | M53: =IF(OR(AND('休日取得状況表 (記入例)'!$D$4<J53,J53<'休日取得状況表 (記入例)'!$B$5),AND('休日取得状況表 (記入例)'!$D$5<J53,J53<'休日取得状況表 (記入例)'!$B$6),AND('休日取得状況表 (記入例)'!$D$6<J53,J53<'休日取得状況表 (記入例)'!$B$7)),"✕",L53) -> ✕
A54: 44319 | B54: 憲法記念日 | J54: =IF(J53>=MAX('休日取得状況表 (記入例)'!$D$4:$D$7),"",J53+1) -> 45862 | K54: {=IFERROR(INDEX($B:$B,MATCH($J54,祝日,),),"")&IFERROR(INDEX($E:$E,MATCH($J54,夏季休暇,),),"")&IFERROR(INDEX($H:$H,MATCH($J54,年末年始,),),"")} | L54: =IF(OR(TEXT(J54,"aaa")="土",TEXT(J54,"aaa")="日",K54<>""),1,0) -> 0 | M54: =IF(OR(AND('休日取得状況表 (記入例)'!$D$4<J54,J54<'休日取得状況表 (記入例)'!$B$5),AND('休日取得状況表 (記入例)'!$D$5<J54,J54<'休日取得状況表 (記入例)'!$B$6),AND('休日取得状況表 (記入例)'!$D$6<J54,J54<'休日取得状況表 (記入例)'!$B$7)),"✕",L54) -> ✕
A55: 44320 | B55: みどりの日 | J55: =IF(J54>=MAX('休日取得状況表 (記入例)'!$D$4:$D$7),"",J54+1) -> 45863 | K55: {=IFERROR(INDEX($B:$B,MATCH($J55,祝日,),),"")&IFERROR(INDEX($E:$E,MATCH($J55,夏季休暇,),),"")&IFERROR(INDEX($H:$H,MATCH($J55,年末年始,),),"")} | L55: =IF(OR(TEXT(J55,"aaa")="土",TEXT(J55,"aaa")="日",K55<>""),1,0) -> 0 | M55: =IF(OR(AND('休日取得状況表 (記入例)'!$D$4<J55,J55<'休日取得状況表 (記入例)'!$B$5),AND('休日取得状況表 (記入例)'!$D$5<J55,J55<'休日取得状況表 (記入例)'!$B$6),AND('休日取得状況表 (記入例)'!$D$6<J55,J55<'休日取得状況表 (記入例)'!$B$7)),"✕",L55) -> ✕
A56: 44321 | B56: こどもの日 | J56: =IF(J55>=MAX('休日取得状況表 (記入例)'!$D$4:$D$7),"",J55+1) -> 45864 | K56: {=IFERROR(INDEX($B:$B,MATCH($J56,祝日,),),"")&IFERROR(INDEX($E:$E,MATCH($J56,夏季休暇,),),"")&IFERROR(INDEX($H:$H,MATCH($J56,年末年始,),),"")} | L56: =IF(OR(TEXT(J56,"aaa")="土",TEXT(J56,"aaa")="日",K56<>""),1,0) -> 1 | M56: =IF(OR(AND('休日取得状況表 (記入例)'!$D$4<J56,J56<'休日取得状況表 (記入例)'!$B$5),AND('休日取得状況表 (記入例)'!$D$5<J56,J56<'休日取得状況表 (記入例)'!$B$6),AND('休日取得状況表 (記入例)'!$D$6<J56,J56<'休日取得状況表 (記入例)'!$B$7)),"✕",L56) -> ✕
A57: 44396 | B57: 海の日 | J57: =IF(J56>=MAX('休日取得状況表 (記入例)'!$D$4:$D$7),"",J56+1) -> 45865 | K57: {=IFERROR(INDEX($B:$B,MATCH($J57,祝日,),),"")&IFERROR(INDEX($E:$E,MATCH($J57,夏季休暇,),),"")&IFERROR(INDEX($H:$H,MATCH($J57,年末年始,),),"")} | L57: =IF(OR(TEXT(J57,"aaa")="土",TEXT(J57,"aaa")="日",K57<>""),1,0) -> 1 | M57: =IF(OR(AND('休日取得状況表 (記入例)'!$D$4<J57,J57<'休日取得状況表 (記入例)'!$B$5),AND('休日取得状況表 (記入例)'!$D$5<J57,J57<'休日取得状況表 (記入例)'!$B$6),AND('休日取得状況表 (記入例)'!$D$6<J57,J57<'休日取得状況表 (記入例)'!$B$7)),"✕",L57) -> ✕
A58: 44419 | B58: 山の日 | J58: =IF(J57>=MAX('休日取得状況表 (記入例)'!$D$4:$D$7),"",J57+1) -> 45866 | K58: {=IFERROR(INDEX($B:$B,MATCH($J58,祝日,),),"")&IFERROR(INDEX($E:$E,MATCH($J58,夏季休暇,),),"")&IFERROR(INDEX($H:$H,MATCH($J58,年末年始,),),"")} | L58: =IF(OR(TEXT(J58,"aaa")="土",TEXT(J58,"aaa")="日",K58<>""),1,0) -> 0 | M58: =IF(OR(AND('休日取得状況表 (記入例)'!$D$4<J58,J58<'休日取得状況表 (記入例)'!$B$5),AND('休日取得状況表 (記入例)'!$D$5<J58,J58<'休日取得状況表 (記入例)'!$B$6),AND('休日取得状況表 (記入例)'!$D$6<J58,J58<'休日取得状況表 (記入例)'!$B$7)),"✕",L58) -> ✕
A59: 44459 | B59: 敬老の日 | J59: =IF(J58>=MAX('休日取得状況表 (記入例)'!$D$4:$D$7),"",J58+1) -> 45867 | K59: {=IFERROR(INDEX($B:$B,MATCH($J59,祝日,),),"")&IFERROR(INDEX($E:$E,MATCH($J59,夏季休暇,),),"")&IFERROR(INDEX($H:$H,MATCH($J59,年末年始,),),"")} | L59: =IF(OR(TEXT(J59,"aaa")="土",TEXT(J59,"aaa")="日",K59<>""),1,0) -> 0 | M59: =IF(OR(AND('休日取得状況表 (記入例)'!$D$4<J59,J59<'休日取得状況表 (記入例)'!$B$5),AND('休日取得状況表 (記入例)'!$D$5<J59,J59<'休日取得状況表 (記入例)'!$B$6),AND('休日取得状況表 (記入例)'!$D$6<J59,J59<'休日取得状況表 (記入例)'!$B$7)),"✕",L59) -> ✕
... A63: 44523 | B63: 勤労感謝の日 | J63: =IF(J62>=MAX('休日取得状況表 (記入例)'!$D$4:$D$7),"",J62+1) -> 45871 | K63: {=IFERROR(INDEX($B:$B,MATCH($J63,祝日,),),"")&IFERROR(INDEX($E:$E,MATCH($J63,夏季休暇,),),"")&IFERROR(INDEX($H:$H,MATCH($J63,年末年始,),),"")} | L63: =IF(OR(TEXT(J63,"aaa")="土",TEXT(J63,"aaa")="日",K63<>""),1,0) -> 1 | M63: =IF(OR(AND('休日取得状況表 (記入例)'!$D$4<J63,J63<'休日取得状況表 (記入例)'!$B$5),AND('休日取得状況表 (記入例)'!$D$5<J63,J63<'休日取得状況表 (記入例)'!$B$6),AND('休日取得状況表 (記入例)'!$D$6<J63,J63<'休日取得状況表 (記入例)'!$B$7)),"✕",L63) -> ✕
J64: =IF(J63>=MAX('休日取得状況表 (記入例)'!$D$4:$D$7),"",J63+1) -> 45872 | K64: {=IFERROR(INDEX($B:$B,MATCH($J64,祝日,),),"")&IFERROR(INDEX($E:$E,MATCH($J64,夏季休暇,),),"")&IFERROR(INDEX($H:$H,MATCH($J64,年末年始,),),"")} | L64: =IF(OR(TEXT(J64,"aaa")="土",TEXT(J64,"aaa")="日",K64<>""),1,0) -> 1 | M64: =IF(OR(AND('休日取得状況表 (記入例)'!$D$4<J64,J64<'休日取得状況表 (記入例)'!$B$5),AND('休日取得状況表 (記入例)'!$D$5<J64,J64<'休日取得状況表 (記入例)'!$B$6),AND('休日取得状況表 (記入例)'!$D$6<J64,J64<'休日取得状況表 (記入例)'!$B$7)),"✕",L64) -> ✕
A65: 44562 | B65: 元日 | J65: =IF(J64>=MAX('休日取得状況表 (記入例)'!$D$4:$D$7),"",J64+1) -> 45873 | K65: {=IFERROR(INDEX($B:$B,MATCH($J65,祝日,),),"")&IFERROR(INDEX($E:$E,MATCH($J65,夏季休暇,),),"")&IFERROR(INDEX($H:$H,MATCH($J65,年末年始,),),"")} | L65: =IF(OR(TEXT(J65,"aaa")="土",TEXT(J65,"aaa")="日",K65<>""),1,0) -> 0 | M65: =IF(OR(AND('休日取得状況表 (記入例)'!$D$4<J65,J65<'休日取得状況表 (記入例)'!$B$5),AND('休日取得状況表 (記入例)'!$D$5<J65,J65<'休日取得状況表 (記入例)'!$B$6),AND('休日取得状況表 (記入例)'!$D$6<J65,J65<'休日取得状況表 (記入例)'!$B$7)),"✕",L65) -> 0
A66: 44571 | B66: 成人の日 | J66: =IF(J65>=MAX('休日取得状況表 (記入例)'!$D$4:$D$7),"",J65+1) -> 45874 | K66: {=IFERROR(INDEX($B:$B,MATCH($J66,祝日,),),"")&IFERROR(INDEX($E:$E,MATCH($J66,夏季休暇,),),"")&IFERROR(INDEX($H:$H,MATCH($J66,年末年始,),),"")} | L66: =IF(OR(TEXT(J66,"aaa")="土",TEXT(J66,"aaa")="日",K66<>""),1,0) -> 0 | M66: =IF(OR(AND('休日取得状況表 (記入例)'!$D$4<J66,J66<'休日取得状況表 (記入例)'!$B$5),AND('休日取得状況表 (記入例)'!$D$5<J66,J66<'休日取得状況表 (記入例)'!$B$6),AND('休日取得状況表 (記入例)'!$D$6<J66,J66<'休日取得状況表 (記入例)'!$B$7)),"✕",L66) -> 0
A67: 44603 | B67: 建国記念の日 | J67: =IF(J66>=MAX('休日取得状況表 (記入例)'!$D$4:$D$7),"",J66+1) -> 45875 | K67: {=IFERROR(INDEX($B:$B,MATCH($J67,祝日,),),"")&IFERROR(INDEX($E:$E,MATCH($J67,夏季休暇,),),"")&IFERROR(INDEX($H:$H,MATCH($J67,年末年始,),),"")} | L67: =IF(OR(TEXT(J67,"aaa")="土",TEXT(J67,"aaa")="日",K67<>""),1,0) -> 0 | M67: =IF(OR(AND('休日取得状況表 (記入例)'!$D$4<J67,J67<'休日取得状況表 (記入例)'!$B$5),AND('休日取得状況表 (記入例)'!$D$5<J67,J67<'休日取得状況表 (記入例)'!$B$6),AND('休日取得状況表 (記入例)'!$D$6<J67,J67<'休日取得状況表 (記入例)'!$B$7)),"✕",L67) -> 0
A68: 44615 | B68: 天皇誕生日 | J68: =IF(J67>=MAX('休日取得状況表 (記入例)'!$D$4:$D$7),"",J67+1) -> 45876 | K68: {=IFERROR(INDEX($B:$B,MATCH($J68,祝日,),),"")&IFERROR(INDEX($E:$E,MATCH($J68,夏季休暇,),),"")&IFERROR(INDEX($H:$H,MATCH($J68,年末年始,),),"")} | L68: =IF(OR(TEXT(J68,"aaa")="土",TEXT(J68,"aaa")="日",K68<>""),1,0) -> 0 | M68: =IF(OR(AND('休日取得状況表 (記入例)'!$D$4<J68,J68<'休日取得状況表 (記入例)'!$B$5),AND('休日取得状況表 (記入例)'!$D$5<J68,J68<'休日取得状況表 (記入例)'!$B$6),AND('休日取得状況表 (記入例)'!$D$6<J68,J68<'休日取得状況表 (記入例)'!$B$7)),"✕",L68) -> 0
A69: 44641 | B69: 春分の日 | J69: =IF(J68>=MAX('休日取得状況表 (記入例)'!$D$4:$D$7),"",J68+1) -> 45877 | K69: {=IFERROR(INDEX($B:$B,MATCH($J69,祝日,),),"")&IFERROR(INDEX($E:$E,MATCH($J69,夏季休暇,),),"")&IFERROR(INDEX($H:$H,MATCH($J69,年末年始,),),"")} | L69: =IF(OR(TEXT(J69,"aaa")="土",TEXT(J69,"aaa")="日",K69<>""),1,0) -> 0 | M69: =IF(OR(AND('休日取得状況表 (記入例)'!$D$4<J69,J69<'休日取得状況表 (記入例)'!$B$5),AND('休日取得状況表 (記入例)'!$D$5<J69,J69<'休日取得状況表 (記入例)'!$B$6),AND('休日取得状況表 (記入例)'!$D$6<J69,J69<'休日取得状況表 (記入例)'!$B$7)),"✕",L69) -> 0
A70: 44680 | B70: 昭和の日 | J70: =IF(J69>=MAX('休日取得状況表 (記入例)'!$D$4:$D$7),"",J69+1) -> 45878 | K70: {=IFERROR(INDEX($B:$B,MATCH($J70,祝日,),),"")&IFERROR(INDEX($E:$E,MATCH($J70,夏季休暇,),),"")&IFERROR(INDEX($H:$H,MATCH($J70,年末年始,),),"")} | L70: =IF(OR(TEXT(J70,"aaa")="土",TEXT(J70,"aaa")="日",K70<>""),1,0) -> 1 | M70: =IF(OR(AND('休日取得状況表 (記入例)'!$D$4<J70,J70<'休日取得状況表 (記入例)'!$B$5),AND('休日取得状況表 (記入例)'!$D$5<J70,J70<'休日取得状況表 (記入例)'!$B$6),AND('休日取得状況表 (記入例)'!$D$6<J70,J70<'休日取得状況表 (記入例)'!$B$7)),"✕",L70) -> 1
A71: 44684 | B71: 憲法記念日 | J71: =IF(J70>=MAX('休日取得状況表 (記入例)'!$D$4:$D$7),"",J70+1) -> 45879 | K71: {=IFERROR(INDEX($B:$B,MATCH($J71,祝日,),),"")&IFERROR(INDEX($E:$E,MATCH($J71,夏季休暇,),),"")&IFERROR(INDEX($H:$H,MATCH($J71,年末年始,),),"")} | L71: =IF(OR(TEXT(J71,"aaa")="土",TEXT(J71,"aaa")="日",K71<>""),1,0) -> 1 | M71: =IF(OR(AND('休日取得状況表 (記入例)'!$D$4<J71,J71<'休日取得状況表 (記入例)'!$B$5),AND('休日取得状況表 (記入例)'!$D$5<J71,J71<'休日取得状況表 (記入例)'!$B$6),AND('休日取得状況表 (記入例)'!$D$6<J71,J71<'休日取得状況表 (記入例)'!$B$7)),"✕",L71) -> 1
A72: 44685 | B72: みどりの日 | J72: =IF(J71>=MAX('休日取得状況表 (記入例)'!$D$4:$D$7),"",J71+1) -> 45880 | K72: {=IFERROR(INDEX($B:$B,MATCH($J72,祝日,),),"")&IFERROR(INDEX($E:$E,MATCH($J72,夏季休暇,),),"")&IFERROR(INDEX($H:$H,MATCH($J72,年末年始,),),"")} -> 山の日 | L72: =IF(OR(TEXT(J72,"aaa")="土",TEXT(J72,"aaa")="日",K72<>""),1,0) -> 1 | M72: =IF(OR(AND('休日取得状況表 (記入例)'!$D$4<J72,J72<'休日取得状況表 (記入例)'!$B$5),AND('休日取得状況表 (記入例)'!$D$5<J72,J72<'休日取得状況表 (記入例)'!$B$6),AND('休日取得状況表 (記入例)'!$D$6<J72,J72<'休日取得状況表 (記入例)'!$B$7)),"✕",L72) -> 1
A73: 44686 | B73: こどもの日 | J73: =IF(J72>=MAX('休日取得状況表 (記入例)'!$D$4:$D$7),"",J72+1) -> 45881 | K73: {=IFERROR(INDEX($B:$B,MATCH($J73,祝日,),),"")&IFERROR(INDEX($E:$E,MATCH($J73,夏季休暇,),),"")&IFERROR(INDEX($H:$H,MATCH($J73,年末年始,),),"")} -> 夏季休暇 | L73: =IF(OR(TEXT(J73,"aaa")="土",TEXT(J73,"aaa")="日",K73<>""),1,0) -> 1 | M73: =IF(OR(AND('休日取得状況表 (記入例)'!$D$4<J73,J73<'休日取得状況表 (記入例)'!$B$5),AND('休日取得状況表 (記入例)'!$D$5<J73,J73<'休日取得状況表 (記入例)'!$B$6),AND('休日取得状況表 (記入例)'!$D$6<J73,J73<'休日取得状況表 (記入例)'!$B$7)),"✕",L73) -> 1
A74: 44760 | B74: 海の日 | J74: =IF(J73>=MAX('休日取得状況表 (記入例)'!$D$4:$D$7),"",J73+1) -> 45882 | K74: {=IFERROR(INDEX($B:$B,MATCH($J74,祝日,),),"")&IFERROR(INDEX($E:$E,MATCH($J74,夏季休暇,),),"")&IFERROR(INDEX($H:$H,MATCH($J74,年末年始,),),"")} -> 夏季休暇 | L74: =IF(OR(TEXT(J74,"aaa")="土",TEXT(J74,"aaa")="日",K74<>""),1,0) -> 1 | M74: =IF(OR(AND('休日取得状況表 (記入例)'!$D$4<J74,J74<'休日取得状況表 (記入例)'!$B$5),AND('休日取得状況表 (記入例)'!$D$5<J74,J74<'休日取得状況表 (記入例)'!$B$6),AND('休日取得状況表 (記入例)'!$D$6<J74,J74<'休日取得状況表 (記入例)'!$B$7)),"✕",L74) -> 1
A75: 44784 | B75: 山の日 | J75: =IF(J74>=MAX('休日取得状況表 (記入例)'!$D$4:$D$7),"",J74+1) -> 45883 | K75: {=IFERROR(INDEX($B:$B,MATCH($J75,祝日,),),"")&IFERROR(INDEX($E:$E,MATCH($J75,夏季休暇,),),"")&IFERROR(INDEX($H:$H,MATCH($J75,年末年始,),),"")} -> 夏季休暇 | L75: =IF(OR(TEXT(J75,"aaa")="土",TEXT(J75,"aaa")="日",K75<>""),1,0) -> 1 | M75: =IF(OR(AND('休日取得状況表 (記入例)'!$D$4<J75,J75<'休日取得状況表 (記入例)'!$B$5),AND('休日取得状況表 (記入例)'!$D$5<J75,J75<'休日取得状況表 (記入例)'!$B$6),AND('休日取得状況表 (記入例)'!$D$6<J75,J75<'休日取得状況表 (記入例)'!$B$7)),"✕",L75) -> 1
A76: 44823 | B76: 敬老の日 | J76: =IF(J75>=MAX('休日取得状況表 (記入例)'!$D$4:$D$7),"",J75+1) -> 45884 | K76: {=IFERROR(INDEX($B:$B,MATCH($J76,祝日,),),"")&IFERROR(INDEX($E:$E,MATCH($J76,夏季休暇,),),"")&IFERROR(INDEX($H:$H,MATCH($J76,年末年始,),),"")} | L76: =IF(OR(TEXT(J76,"aaa")="土",TEXT(J76,"aaa")="日",K76<>""),1,0) -> 0 | M76: =IF(OR(AND('休日取得状況表 (記入例)'!$D$4<J76,J76<'休日取得状況表 (記入例)'!$B$5),AND('休日取得状況表 (記入例)'!$D$5<J76,J76<'休日取得状況表 (記入例)'!$B$6),AND('休日取得状況表 (記入例)'!$D$6<J76,J76<'休日取得状況表 (記入例)'!$B$7)),"✕",L76) -> 0
... A80: 44888 | B80: 勤労感謝の日 | J80: =IF(J79>=MAX('休日取得状況表 (記入例)'!$D$4:$D$7),"",J79+1) -> 45888 | K80: {=IFERROR(INDEX($B:$B,MATCH($J80,祝日,),),"")&IFERROR(INDEX($E:$E,MATCH($J80,夏季休暇,),),"")&IFERROR(INDEX($H:$H,MATCH($J80,年末年始,),),"")} | L80: =IF(OR(TEXT(J80,"aaa")="土",TEXT(J80,"aaa")="日",K80<>""),1,0) -> 0 | M80: =IF(OR(AND('休日取得状況表 (記入例)'!$D$4<J80,J80<'休日取得状況表 (記入例)'!$B$5),AND('休日取得状況表 (記入例)'!$D$5<J80,J80<'休日取得状況表 (記入例)'!$B$6),AND('休日取得状況表 (記入例)'!$D$6<J80,J80<'休日取得状況表 (記入例)'!$B$7)),"✕",L80) -> 0
J81: =IF(J80>=MAX('休日取得状況表 (記入例)'!$D$4:$D$7),"",J80+1) -> 45889 | K81: {=IFERROR(INDEX($B:$B,MATCH($J81,祝日,),),"")&IFERROR(INDEX($E:$E,MATCH($J81,夏季休暇,),),"")&IFERROR(INDEX($H:$H,MATCH($J81,年末年始,),),"")} | L81: =IF(OR(TEXT(J81,"aaa")="土",TEXT(J81,"aaa")="日",K81<>""),1,0) -> 0 | M81: =IF(OR(AND('休日取得状況表 (記入例)'!$D$4<J81,J81<'休日取得状況表 (記入例)'!$B$5),AND('休日取得状況表 (記入例)'!$D$5<J81,J81<'休日取得状況表 (記入例)'!$B$6),AND('休日取得状況表 (記入例)'!$D$6<J81,J81<'休日取得状況表 (記入例)'!$B$7)),"✕",L81) -> 0
A82: 44927 | B82: 元日 | J82: =IF(J81>=MAX('休日取得状況表 (記入例)'!$D$4:$D$7),"",J81+1) -> 45890 | K82: {=IFERROR(INDEX($B:$B,MATCH($J82,祝日,),),"")&IFERROR(INDEX($E:$E,MATCH($J82,夏季休暇,),),"")&IFERROR(INDEX($H:$H,MATCH($J82,年末年始,),),"")} | L82: =IF(OR(TEXT(J82,"aaa")="土",TEXT(J82,"aaa")="日",K82<>""),1,0) -> 0 | M82: =IF(OR(AND('休日取得状況表 (記入例)'!$D$4<J82,J82<'休日取得状況表 (記入例)'!$B$5),AND('休日取得状況表 (記入例)'!$D$5<J82,J82<'休日取得状況表 (記入例)'!$B$6),AND('休日取得状況表 (記入例)'!$D$6<J82,J82<'休日取得状況表 (記入例)'!$B$7)),"✕",L82) -> 0
A83: 44928 | B83: 振替休日 | J83: =IF(J82>=MAX('休日取得状況表 (記入例)'!$D$4:$D$7),"",J82+1) -> 45891 | K83: {=IFERROR(INDEX($B:$B,MATCH($J83,祝日,),),"")&IFERROR(INDEX($E:$E,MATCH($J83,夏季休暇,),),"")&IFERROR(INDEX($H:$H,MATCH($J83,年末年始,),),"")} | L83: =IF(OR(TEXT(J83,"aaa")="土",TEXT(J83,"aaa")="日",K83<>""),1,0) -> 0 | M83: =IF(OR(AND('休日取得状況表 (記入例)'!$D$4<J83,J83<'休日取得状況表 (記入例)'!$B$5),AND('休日取得状況表 (記入例)'!$D$5<J83,J83<'休日取得状況表 (記入例)'!$B$6),AND('休日取得状況表 (記入例)'!$D$6<J83,J83<'休日取得状況表 (記入例)'!$B$7)),"✕",L83) -> 0
A84: 44935 | B84: 成人の日 | J84: =IF(J83>=MAX('休日取得状況表 (記入例)'!$D$4:$D$7),"",J83+1) -> 45892 | K84: {=IFERROR(INDEX($B:$B,MATCH($J84,祝日,),),"")&IFERROR(INDEX($E:$E,MATCH($J84,夏季休暇,),),"")&IFERROR(INDEX($H:$H,MATCH($J84,年末年始,),),"")} | L84: =IF(OR(TEXT(J84,"aaa")="土",TEXT(J84,"aaa")="日",K84<>""),1,0) -> 1 | M84: =IF(OR(AND('休日取得状況表 (記入例)'!$D$4<J84,J84<'休日取得状況表 (記入例)'!$B$5),AND('休日取得状況表 (記入例)'!$D$5<J84,J84<'休日取得状況表 (記入例)'!$B$6),AND('休日取得状況表 (記入例)'!$D$6<J84,J84<'休日取得状況表 (記入例)'!$B$7)),"✕",L84) -> 1
A85: 44968 | B85: 建国記念の日 | J85: =IF(J84>=MAX('休日取得状況表 (記入例)'!$D$4:$D$7),"",J84+1) -> 45893 | K85: {=IFERROR(INDEX($B:$B,MATCH($J85,祝日,),),"")&IFERROR(INDEX($E:$E,MATCH($J85,夏季休暇,),),"")&IFERROR(INDEX($H:$H,MATCH($J85,年末年始,),),"")} | L85: =IF(OR(TEXT(J85,"aaa")="土",TEXT(J85,"aaa")="日",K85<>""),1,0) -> 1 | M85: =IF(OR(AND('休日取得状況表 (記入例)'!$D$4<J85,J85<'休日取得状況表 (記入例)'!$B$5),AND('休日取得状況表 (記入例)'!$D$5<J85,J85<'休日取得状況表 (記入例)'!$B$6),AND('休日取得状況表 (記入例)'!$D$6<J85,J85<'休日取得状況表 (記入例)'!$B$7)),"✕",L85) -> 1
A86: 44980 | B86: 天皇誕生日 | J86: =IF(J85>=MAX('休日取得状況表 (記入例)'!$D$4:$D$7),"",J85+1) -> 45894 | K86: {=IFERROR(INDEX($B:$B,MATCH($J86,祝日,),),"")&IFERROR(INDEX($E:$E,MATCH($J86,夏季休暇,),),"")&IFERROR(INDEX($H:$H,MATCH($J86,年末年始,),),"")} | L86: =IF(OR(TEXT(J86,"aaa")="土",TEXT(J86,"aaa")="日",K86<>""),1,0) -> 0 | M86: =IF(OR(AND('休日取得状況表 (記入例)'!$D$4<J86,J86<'休日取得状況表 (記入例)'!$B$5),AND('休日取得状況表 (記入例)'!$D$5<J86,J86<'休日取得状況表 (記入例)'!$B$6),AND('休日取得状況表 (記入例)'!$D$6<J86,J86<'休日取得状況表 (記入例)'!$B$7)),"✕",L86) -> 0
A87: 45006 | B87: 春分の日 | J87: =IF(J86>=MAX('休日取得状況表 (記入例)'!$D$4:$D$7),"",J86+1) -> 45895 | K87: {=IFERROR(INDEX($B:$B,MATCH($J87,祝日,),),"")&IFERROR(INDEX($E:$E,MATCH($J87,夏季休暇,),),"")&IFERROR(INDEX($H:$H,MATCH($J87,年末年始,),),"")} | L87: =IF(OR(TEXT(J87,"aaa")="土",TEXT(J87,"aaa")="日",K87<>""),1,0) -> 0 | M87: =IF(OR(AND('休日取得状況表 (記入例)'!$D$4<J87,J87<'休日取得状況表 (記入例)'!$B$5),AND('休日取得状況表 (記入例)'!$D$5<J87,J87<'休日取得状況表 (記入例)'!$B$6),AND('休日取得状況表 (記入例)'!$D$6<J87,J87<'休日取得状況表 (記入例)'!$B$7)),"✕",L87) -> 0
A88: 45045 | B88: 昭和の日 | J88: =IF(J87>=MAX('休日取得状況表 (記入例)'!$D$4:$D$7),"",J87+1) -> 45896 | K88: {=IFERROR(INDEX($B:$B,MATCH($J88,祝日,),),"")&IFERROR(INDEX($E:$E,MATCH($J88,夏季休暇,),),"")&IFERROR(INDEX($H:$H,MATCH($J88,年末年始,),),"")} | L88: =IF(OR(TEXT(J88,"aaa")="土",TEXT(J88,"aaa")="日",K88<>""),1,0) -> 0 | M88: =IF(OR(AND('休日取得状況表 (記入例)'!$D$4<J88,J88<'休日取得状況表 (記入例)'!$B$5),AND('休日取得状況表 (記入例)'!$D$5<J88,J88<'休日取得状況表 (記入例)'!$B$6),AND('休日取得状況表 (記入例)'!$D$6<J88,J88<'休日取得状況表 (記入例)'!$B$7)),"✕",L88) -> 0
A89: 45049 | B89: 憲法記念日 | J89: =IF(J88>=MAX('休日取得状況表 (記入例)'!$D$4:$D$7),"",J88+1) -> 45897 | K89: {=IFERROR(INDEX($B:$B,MATCH($J89,祝日,),),"")&IFERROR(INDEX($E:$E,MATCH($J89,夏季休暇,),),"")&IFERROR(INDEX($H:$H,MATCH($J89,年末年始,),),"")} | L89: =IF(OR(TEXT(J89,"aaa")="土",TEXT(J89,"aaa")="日",K89<>""),1,0) -> 0 | M89: =IF(OR(AND('休日取得状況表 (記入例)'!$D$4<J89,J89<'休日取得状況表 (記入例)'!$B$5),AND('休日取得状況表 (記入例)'!$D$5<J89,J89<'休日取得状況表 (記入例)'!$B$6),AND('休日取得状況表 (記入例)'!$D$6<J89,J89<'休日取得状況表 (記入例)'!$B$7)),"✕",L89) -> 0
A90: 45050 | B90: みどりの日 | J90: =IF(J89>=MAX('休日取得状況表 (記入例)'!$D$4:$D$7),"",J89+1) -> 45898 | K90: {=IFERROR(INDEX($B:$B,MATCH($J90,祝日,),),"")&IFERROR(INDEX($E:$E,MATCH($J90,夏季休暇,),),"")&IFERROR(INDEX($H:$H,MATCH($J90,年末年始,),),"")} | L90: =IF(OR(TEXT(J90,"aaa")="土",TEXT(J90,"aaa")="日",K90<>""),1,0) -> 0 | M90: =IF(OR(AND('休日取得状況表 (記入例)'!$D$4<J90,J90<'休日取得状況表 (記入例)'!$B$5),AND('休日取得状況表 (記入例)'!$D$5<J90,J90<'休日取得状況表 (記入例)'!$B$6),AND('休日取得状況表 (記入例)'!$D$6<J90,J90<'休日取得状況表 (記入例)'!$B$7)),"✕",L90) -> 0
A91: 45051 | B91: こどもの日 | J91: =IF(J90>=MAX('休日取得状況表 (記入例)'!$D$4:$D$7),"",J90+1) -> 45899 | K91: {=IFERROR(INDEX($B:$B,MATCH($J91,祝日,),),"")&IFERROR(INDEX($E:$E,MATCH($J91,夏季休暇,),),"")&IFERROR(INDEX($H:$H,MATCH($J91,年末年始,),),"")} | L91: =IF(OR(TEXT(J91,"aaa")="土",TEXT(J91,"aaa")="日",K91<>""),1,0) -> 1 | M91: =IF(OR(AND('休日取得状況表 (記入例)'!$D$4<J91,J91<'休日取得状況表 (記入例)'!$B$5),AND('休日取得状況表 (記入例)'!$D$5<J91,J91<'休日取得状況表 (記入例)'!$B$6),AND('休日取得状況表 (記入例)'!$D$6<J91,J91<'休日取得状況表 (記入例)'!$B$7)),"✕",L91) -> 1
A92: 45124 | B92: 海の日 | J92: =IF(J91>=MAX('休日取得状況表 (記入例)'!$D$4:$D$7),"",J91+1) -> 45900 | K92: {=IFERROR(INDEX($B:$B,MATCH($J92,祝日,),),"")&IFERROR(INDEX($E:$E,MATCH($J92,夏季休暇,),),"")&IFERROR(INDEX($H:$H,MATCH($J92,年末年始,),),"")} | L92: =IF(OR(TEXT(J92,"aaa")="土",TEXT(J92,"aaa")="日",K92<>""),1,0) -> 1 | M92: =IF(OR(AND('休日取得状況表 (記入例)'!$D$4<J92,J92<'休日取得状況表 (記入例)'!$B$5),AND('休日取得状況表 (記入例)'!$D$5<J92,J92<'休日取得状況表 (記入例)'!$B$6),AND('休日取得状況表 (記入例)'!$D$6<J92,J92<'休日取得状況表 (記入例)'!$B$7)),"✕",L92) -> 1
A93: 45149 | B93: 山の日 | J93: =IF(J92>=MAX('休日取得状況表 (記入例)'!$D$4:$D$7),"",J92+1) -> 45901 | K93: {=IFERROR(INDEX($B:$B,MATCH($J93,祝日,),),"")&IFERROR(INDEX($E:$E,MATCH($J93,夏季休暇,),),"")&IFERROR(INDEX($H:$H,MATCH($J93,年末年始,),),"")} | L93: =IF(OR(TEXT(J93,"aaa")="土",TEXT(J93,"aaa")="日",K93<>""),1,0) -> 0 | M93: =IF(OR(AND('休日取得状況表 (記入例)'!$D$4<J93,J93<'休日取得状況表 (記入例)'!$B$5),AND('休日取得状況表 (記入例)'!$D$5<J93,J93<'休日取得状況表 (記入例)'!$B$6),AND('休日取得状況表 (記入例)'!$D$6<J93,J93<'休日取得状況表 (記入例)'!$B$7)),"✕",L93) -> 0
... A98: 45253 | B98: 勤労感謝の日 | J98: =IF(J97>=MAX('休日取得状況表 (記入例)'!$D$4:$D$7),"",J97+1) -> 45906 | K98: {=IFERROR(INDEX($B:$B,MATCH($J98,祝日,),),"")&IFERROR(INDEX($E:$E,MATCH($J98,夏季休暇,),),"")&IFERROR(INDEX($H:$H,MATCH($J98,年末年始,),),"")} | L98: =IF(OR(TEXT(J98,"aaa")="土",TEXT(J98,"aaa")="日",K98<>""),1,0) -> 1 | M98: =IF(OR(AND('休日取得状況表 (記入例)'!$D$4<J98,J98<'休日取得状況表 (記入例)'!$B$5),AND('休日取得状況表 (記入例)'!$D$5<J98,J98<'休日取得状況表 (記入例)'!$B$6),AND('休日取得状況表 (記入例)'!$D$6<J98,J98<'休日取得状況表 (記入例)'!$B$7)),"✕",L98) -> 1
J99: =IF(J98>=MAX('休日取得状況表 (記入例)'!$D$4:$D$7),"",J98+1) -> 45907 | K99: {=IFERROR(INDEX($B:$B,MATCH($J99,祝日,),),"")&IFERROR(INDEX($E:$E,MATCH($J99,夏季休暇,),),"")&IFERROR(INDEX($H:$H,MATCH($J99,年末年始,),),"")} | L99: =IF(OR(TEXT(J99,"aaa")="土",TEXT(J99,"aaa")="日",K99<>""),1,0) -> 1 | M99: =IF(OR(AND('休日取得状況表 (記入例)'!$D$4<J99,J99<'休日取得状況表 (記入例)'!$B$5),AND('休日取得状況表 (記入例)'!$D$5<J99,J99<'休日取得状況表 (記入例)'!$B$6),AND('休日取得状況表 (記入例)'!$D$6<J99,J99<'休日取得状況表 (記入例)'!$B$7)),"✕",L99) -> 1
A100: 45292 | B100: 元日 | J100: =IF(J99>=MAX('休日取得状況表 (記入例)'!$D$4:$D$7),"",J99+1) -> 45908 | K100: {=IFERROR(INDEX($B:$B,MATCH($J100,祝日,),),"")&IFERROR(INDEX($E:$E,MATCH($J100,夏季休暇,),),"")&IFERROR(INDEX($H:$H,MATCH($J100,年末年始,),),"")} | L100: =IF(OR(TEXT(J100,"aaa")="土",TEXT(J100,"aaa")="日",K100<>""),1,0) -> 0 | M100: =IF(OR(AND('休日取得状況表 (記入例)'!$D$4<J100,J100<'休日取得状況表 (記入例)'!$B$5),AND('休日取得状況表 (記入例)'!$D$5<J100,J100<'休日取得状況表 (記入例)'!$B$6),AND('休日取得状況表 (記入例)'!$D$6<J100,J100<'休日取得状況表 (記入例)'!$B$7)),"✕",L100) -> 0
A101: 45299 | B101: 成人の日 | J101: =IF(J100>=MAX('休日取得状況表 (記入例)'!$D$4:$D$7),"",J100+1) -> 45909 | K101: {=IFERROR(INDEX($B:$B,MATCH($J101,祝日,),),"")&IFERROR(INDEX($E:$E,MATCH($J101,夏季休暇,),),"")&IFERROR(INDEX($H:$H,MATCH($J101,年末年始,),),"")} | L101: =IF(OR(TEXT(J101,"aaa")="土",TEXT(J101,"aaa")="日",K101<>""),1,0) -> 0 | M101: =IF(OR(AND('休日取得状況表 (記入例)'!$D$4<J101,J101<'休日取得状況表 (記入例)'!$B$5),AND('休日取得状況表 (記入例)'!$D$5<J101,J101<'休日取得状況表 (記入例)'!$B$6),AND('休日取得状況表 (記入例)'!$D$6<J101,J101<'休日取得状況表 (記入例)'!$B$7)),"✕",L101) -> 0
A102: 45333 | B102: 建国記念の日 | J102: =IF(J101>=MAX('休日取得状況表 (記入例)'!$D$4:$D$7),"",J101+1) -> 45910 | K102: {=IFERROR(INDEX($B:$B,MATCH($J102,祝日,),),"")&IFERROR(INDEX($E:$E,MATCH($J102,夏季休暇,),),"")&IFERROR(INDEX($H:$H,MATCH($J102,年末年始,),),"")} | L102: =IF(OR(TEXT(J102,"aaa")="土",TEXT(J102,"aaa")="日",K102<>""),1,0) -> 0 | M102: =IF(OR(AND('休日取得状況表 (記入例)'!$D$4<J102,J102<'休日取得状況表 (記入例)'!$B$5),AND('休日取得状況表 (記入例)'!$D$5<J102,J102<'休日取得状況表 (記入例)'!$B$6),AND('休日取得状況表 (記入例)'!$D$6<J102,J102<'休日取得状況表 (記入例)'!$B$7)),"✕",L102) -> 0
A103: 45334 | B103: 振替休日 | J103: =IF(J102>=MAX('休日取得状況表 (記入例)'!$D$4:$D$7),"",J102+1) -> 45911 | K103: {=IFERROR(INDEX($B:$B,MATCH($J103,祝日,),),"")&IFERROR(INDEX($E:$E,MATCH($J103,夏季休暇,),),"")&IFERROR(INDEX($H:$H,MATCH($J103,年末年始,),),"")} | L103: =IF(OR(TEXT(J103,"aaa")="土",TEXT(J103,"aaa")="日",K103<>""),1,0) -> 0 | M103: =IF(OR(AND('休日取得状況表 (記入例)'!$D$4<J103,J103<'休日取得状況表 (記入例)'!$B$5),AND('休日取得状況表 (記入例)'!$D$5<J103,J103<'休日取得状況表 (記入例)'!$B$6),AND('休日取得状況表 (記入例)'!$D$6<J103,J103<'休日取得状況表 (記入例)'!$B$7)),"✕",L103) -> 0
A104: 45345 | B104: 天皇誕生日 | J104: =IF(J103>=MAX('休日取得状況表 (記入例)'!$D$4:$D$7),"",J103+1) -> 45912 | K104: {=IFERROR(INDEX($B:$B,MATCH($J104,祝日,),),"")&IFERROR(INDEX($E:$E,MATCH($J104,夏季休暇,),),"")&IFERROR(INDEX($H:$H,MATCH($J104,年末年始,),),"")} | L104: =IF(OR(TEXT(J104,"aaa")="土",TEXT(J104,"aaa")="日",K104<>""),1,0) -> 0 | M104: =IF(OR(AND('休日取得状況表 (記入例)'!$D$4<J104,J104<'休日取得状況表 (記入例)'!$B$5),AND('休日取得状況表 (記入例)'!$D$5<J104,J104<'休日取得状況表 (記入例)'!$B$6),AND('休日取得状況表 (記入例)'!$D$6<J104,J104<'休日取得状況表 (記入例)'!$B$7)),"✕",L104) -> 0
A105: 45371 | B105: 春分の日 | J105: =IF(J104>=MAX('休日取得状況表 (記入例)'!$D$4:$D$7),"",J104+1) -> 45913 | K105: {=IFERROR(INDEX($B:$B,MATCH($J105,祝日,),),"")&IFERROR(INDEX($E:$E,MATCH($J105,夏季休暇,),),"")&IFERROR(INDEX($H:$H,MATCH($J105,年末年始,),),"")} | L105: =IF(OR(TEXT(J105,"aaa")="土",TEXT(J105,"aaa")="日",K105<>""),1,0) -> 1 | M105: =IF(OR(AND('休日取得状況表 (記入例)'!$D$4<J105,J105<'休日取得状況表 (記入例)'!$B$5),AND('休日取得状況表 (記入例)'!$D$5<J105,J105<'休日取得状況表 (記入例)'!$B$6),AND('休日取得状況表 (記入例)'!$D$6<J105,J105<'休日取得状況表 (記入例)'!$B$7)),"✕",L105) -> 1
A106: 45411 | B106: 昭和の日 | J106: =IF(J105>=MAX('休日取得状況表 (記入例)'!$D$4:$D$7),"",J105+1) -> 45914 | K106: {=IFERROR(INDEX($B:$B,MATCH($J106,祝日,),),"")&IFERROR(INDEX($E:$E,MATCH($J106,夏季休暇,),),"")&IFERROR(INDEX($H:$H,MATCH($J106,年末年始,),),"")} | L106: =IF(OR(TEXT(J106,"aaa")="土",TEXT(J106,"aaa")="日",K106<>""),1,0) -> 1 | M106: =IF(OR(AND('休日取得状況表 (記入例)'!$D$4<J106,J106<'休日取得状況表 (記入例)'!$B$5),AND('休日取得状況表 (記入例)'!$D$5<J106,J106<'休日取得状況表 (記入例)'!$B$6),AND('休日取得状況表 (記入例)'!$D$6<J106,J106<'休日取得状況表 (記入例)'!$B$7)),"✕",L106) -> 1
A107: 45415 | B107: 憲法記念日 | J107: =IF(J106>=MAX('休日取得状況表 (記入例)'!$D$4:$D$7),"",J106+1) -> 45915 | K107: {=IFERROR(INDEX($B:$B,MATCH($J107,祝日,),),"")&IFERROR(INDEX($E:$E,MATCH($J107,夏季休暇,),),"")&IFERROR(INDEX($H:$H,MATCH($J107,年末年始,),),"")} -> 敬老の日 | L107: =IF(OR(TEXT(J107,"aaa")="土",TEXT(J107,"aaa")="日",K107<>""),1,0) -> 1 | M107: =IF(OR(AND('休日取得状況表 (記入例)'!$D$4<J107,J107<'休日取得状況表 (記入例)'!$B$5),AND('休日取得状況表 (記入例)'!$D$5<J107,J107<'休日取得状況表 (記入例)'!$B$6),AND('休日取得状況表 (記入例)'!$D$6<J107,J107<'休日取得状況表 (記入例)'!$B$7)),"✕",L107) -> 1
A108: 45416 | B108: みどりの日 | J108: =IF(J107>=MAX('休日取得状況表 (記入例)'!$D$4:$D$7),"",J107+1) -> 45916 | K108: {=IFERROR(INDEX($B:$B,MATCH($J108,祝日,),),"")&IFERROR(INDEX($E:$E,MATCH($J108,夏季休暇,),),"")&IFERROR(INDEX($H:$H,MATCH($J108,年末年始,),),"")} | L108: =IF(OR(TEXT(J108,"aaa")="土",TEXT(J108,"aaa")="日",K108<>""),1,0) -> 0 | M108: =IF(OR(AND('休日取得状況表 (記入例)'!$D$4<J108,J108<'休日取得状況表 (記入例)'!$B$5),AND('休日取得状況表 (記入例)'!$D$5<J108,J108<'休日取得状況表 (記入例)'!$B$6),AND('休日取得状況表 (記入例)'!$D$6<J108,J108<'休日取得状況表 (記入例)'!$B$7)),"✕",L108) -> 0
A109: 45417 | B109: こどもの日 | J109: =IF(J108>=MAX('休日取得状況表 (記入例)'!$D$4:$D$7),"",J108+1) -> 45917 | K109: {=IFERROR(INDEX($B:$B,MATCH($J109,祝日,),),"")&IFERROR(INDEX($E:$E,MATCH($J109,夏季休暇,),),"")&IFERROR(INDEX($H:$H,MATCH($J109,年末年始,),),"")} | L109: =IF(OR(TEXT(J109,"aaa")="土",TEXT(J109,"aaa")="日",K109<>""),1,0) -> 0 | M109: =IF(OR(AND('休日取得状況表 (記入例)'!$D$4<J109,J109<'休日取得状況表 (記入例)'!$B$5),AND('休日取得状況表 (記入例)'!$D$5<J109,J109<'休日取得状況表 (記入例)'!$B$6),AND('休日取得状況表 (記入例)'!$D$6<J109,J109<'休日取得状況表 (記入例)'!$B$7)),"✕",L109) -> 0
A110: 45418 | B110: 振替休日 | J110: =IF(J109>=MAX('休日取得状況表 (記入例)'!$D$4:$D$7),"",J109+1) -> 45918 | K110: {=IFERROR(INDEX($B:$B,MATCH($J110,祝日,),),"")&IFERROR(INDEX($E:$E,MATCH($J110,夏季休暇,),),"")&IFERROR(INDEX($H:$H,MATCH($J110,年末年始,),),"")} | L110: =IF(OR(TEXT(J110,"aaa")="土",TEXT(J110,"aaa")="日",K110<>""),1,0) -> 0 | M110: =IF(OR(AND('休日取得状況表 (記入例)'!$D$4<J110,J110<'休日取得状況表 (記入例)'!$B$5),AND('休日取得状況表 (記入例)'!$D$5<J110,J110<'休日取得状況表 (記入例)'!$B$6),AND('休日取得状況表 (記入例)'!$D$6<J110,J110<'休日取得状況表 (記入例)'!$B$7)),"✕",L110) -> 0
...

Sheet 休日取得状況表 (記入例)
A1: 休日取得状況表（交替制） | J1: （様式４）
A2: 工事名 | B2: ○○工事
A3: 工期 | B3: 45779 | C3: ～ | D3: 46101 | F3: ※1休日日数･･･祝日、年末年始、夏期休暇を含む
A4: 対象期間 | B4: 45810 | C4: ～ | D4: 45842 | F4: （工場製作のみの期間、工事全体を一時中止している期間は対象に含まない））
A5: 対象期間② | B5: 45873 | C5: ～ | D5: 46081 | E5: =IF(B5="","",IF(B5<D4,"期間の入力を確認してください。",""))
A6: 対象期間③ | B6: 46037 | C6: ～ | E6: =IF(B6="","",IF(B6<D5,"期間の入力を確認してください。","")) -> 期間の入力を確認してください。
A7: 対象期間④ | C7: ～ | E7: =IF(B7="","",IF(B7<D6,"期間の入力を確認してください。",""))
A9: 所属企業名 | C9: 氏 名 | E9: 従事期間 | H9: 休日日数 ※1 | I9: 休日取得日数 | J9: 判定
A10: （株）○○○建設 | C10: ○○ ○○ | E10: 45824 | F10: ～ | G10: 45915 | H10: =SUMIF('定義 (記入例)'!$J:$J,">="&'休日取得状況表 (記入例)'!E10,'定義 (記入例)'!$M:$M)-SUMIF('定義 (記入例)'!$J:$J,">"&G10,'定義 (記入例)'!$M:$M) -> 21 | I10: 25 | J10: =IF(H10=0,"",IF(I10>=H10,"達成","未達成")) -> 達成 | K10: =IF(E10>G10,"期間の入力を確認してください。","")
A11: ○○○○（有） | C11: ○○ ○○ | E11: 45936 | F11: ～ | G11: 46045 | H11: =SUMIF('定義 (記入例)'!$J:$J,">="&'休日取得状況表 (記入例)'!E11,'定義 (記入例)'!$M:$M)-SUMIF('定義 (記入例)'!$J:$J,">"&G11,'定義 (記入例)'!$M:$M) -> 39 | I11: 39 | J11: =IF(H11=0,"",IF(I11>=H11,"達成","未達成")) -> 達成 | K11: =IF(E11>G11,"期間の入力を確認してください。","")
F12: ～ | H12: =SUMIF('定義 (記入例)'!$J:$J,">="&'休日取得状況表 (記入例)'!E12,'定義 (記入例)'!$M:$M)-SUMIF('定義 (記入例)'!$J:$J,">"&G12,'定義 (記入例)'!$M:$M) -> 0 | J12: =IF(H12=0,"",IF(I12>=H12,"達成","未達成")) | K12: =IF(E12>G12,"期間の入力を確認してください。","")
F13: ～ | H13: =SUMIF('定義 (記入例)'!$J:$J,">="&'休日取得状況表 (記入例)'!E13,'定義 (記入例)'!$M:$M)-SUMIF('定義 (記入例)'!$J:$J,">"&G13,'定義 (記入例)'!$M:$M) -> 0 | J13: =IF(H13=0,"",IF(I13>=H13,"達成","未達成")) | K13: =IF(E13>G13,"期間の入力を確認してください。","")
F14: ～ | H14: =SUMIF('定義 (記入例)'!$J:$J,">="&'休日取得状況表 (記入例)'!E14,'定義 (記入例)'!$M:$M)-SUMIF('定義 (記入例)'!$J:$J,">"&G14,'定義 (記入例)'!$M:$M) -> 0 | J14: =IF(H14=0,"",IF(I14>=H14,"達成","未達成")) | K14: =IF(E14>G14,"期間の入力を確認してください。","")
F15: ～ | H15: =SUMIF('定義 (記入例)'!$J:$J,">="&'休日取得状況表 (記入例)'!E15,'定義 (記入例)'!$M:$M)-SUMIF('定義 (記入例)'!$J:$J,">"&G15,'定義 (記入例)'!$M:$M) -> 0 | J15: =IF(H15=0,"",IF(I15>=H15,"達成","未達成")) | K15: =IF(E15>G15,"期間の入力を確認してください。","")
F16: ～ | H16: =SUMIF('定義 (記入例)'!$J:$J,">="&'休日取得状況表 (記入例)'!E16,'定義 (記入例)'!$M:$M)-SUMIF('定義 (記入例)'!$J:$J,">"&G16,'定義 (記入例)'!$M:$M) -> 0 | J16: =IF(H16=0,"",IF(I16>=H16,"達成","未達成")) | K16: =IF(E16>G16,"期間の入力を確認してください。","")
F17: ～ | H17: =SUMIF('定義 (記入例)'!$J:$J,">="&'休日取得状況表 (記入例)'!E17,'定義 (記入例)'!$M:$M)-SUMIF('定義 (記入例)'!$J:$J,">"&G17,'定義 (記入例)'!$M:$M) -> 0 | J17: =IF(H17=0,"",IF(I17>=H17,"達成","未達成")) | K17: =IF(E17>G17,"期間の入力を確認してください。","")
F18: ～ | H18: =SUMIF('定義 (記入例)'!$J:$J,">="&'休日取得状況表 (記入例)'!E18,'定義 (記入例)'!$M:$M)-SUMIF('定義 (記入例)'!$J:$J,">"&G18,'定義 (記入例)'!$M:$M) -> 0 | J18: =IF(H18=0,"",IF(I18>=H18,"達成","未達成")) | K18: =IF(E18>G18,"期間の入力を確認してください。","")
F19: ～ | H19: =SUMIF('定義 (記入例)'!$J:$J,">="&'休日取得状況表 (記入例)'!E19,'定義 (記入例)'!$M:$M)-SUMIF('定義 (記入例)'!$J:$J,">"&G19,'定義 (記入例)'!$M:$M) -> 0 | J19: =IF(H19=0,"",IF(I19>=H19,"達成","未達成")) | K19: =IF(E19>G19,"期間の入力を確認してください。","")
F20: ～ | H20: =SUMIF('定義 (記入例)'!$J:$J,">="&'休日取得状況表 (記入例)'!E20,'定義 (記入例)'!$M:$M)-SUMIF('定義 (記入例)'!$J:$J,">"&G20,'定義 (記入例)'!$M:$M) -> 0 | J20: =IF(H20=0,"",IF(I20>=H20,"達成","未達成")) | K20: =IF(E20>G20,"期間の入力を確認してください。","")
F21: ～ | H21: =SUMIF('定義 (記入例)'!$J:$J,">="&'休日取得状況表 (記入例)'!E21,'定義 (記入例)'!$M:$M)-SUMIF('定義 (記入例)'!$J:$J,">"&G21,'定義 (記入例)'!$M:$M) -> 0 | J21: =IF(H21=0,"",IF(I21>=H21,"達成","未達成")) | K21: =IF(E21>G21,"期間の入力を確認してください。","")
F22: ～ | H22: =SUMIF('定義 (記入例)'!$J:$J,">="&'休日取得状況表 (記入例)'!E22,'定義 (記入例)'!$M:$M)-SUMIF('定義 (記入例)'!$J:$J,">"&G22,'定義 (記入例)'!$M:$M) -> 0 | J22: =IF(H22=0,"",IF(I22>=H22,"達成","未達成")) | K22: =IF(E22>G22,"期間の入力を確認してください。","")
F23: ～ | H23: =SUMIF('定義 (記入例)'!$J:$J,">="&'休日取得状況表 (記入例)'!E23,'定義 (記入例)'!$M:$M)-SUMIF('定義 (記入例)'!$J:$J,">"&G23,'定義 (記入例)'!$M:$M) -> 0 | J23: =IF(H23=0,"",IF(I23>=H23,"達成","未達成")) | K23: =IF(E23>G23,"期間の入力を確認してください。","")
... F30: ～ | H30: =SUMIF('定義 (記入例)'!$J:$J,">="&'休日取得状況表 (記入例)'!E30,'定義 (記入例)'!$M:$M)-SUMIF('定義 (記入例)'!$J:$J,">"&G30,'定義 (記入例)'!$M:$M) -> 0 | J30: =IF(H30=0,"",IF(I30>=H30,"達成","未達成")) | K30: =IF(E30>G30,"期間の入力を確認してください。","")
G32: 判定結果（実績）： | I32: =IF(COUNTIF($J$10:$J$31,"未達成")>0,"未達成","週休２日達成") -> 週休２日達成
