Workbook
Name 夏季休暇: '定義（記入例用）'!$G:$G
Name 祝日: '定義（記入例用）'!$D:$D
Name 年末年始: '定義（記入例用）'!$J:$J

Sheet 定義
A1: 工期 | D1: 祝日 | G1: 夏季休暇 | J1: 年末年始 | N1: 工期 | O1: 休日名 | P1: 改行 | Q1: 表示用 | R1: 必要現場閉所カウント
A2: =休日取得計画表・休日取得実績表!D5 -> 0 | B2: 工期始め | D2: 43407 | E2: 文化の日 | G2: 45516 | H2: 夏季休暇 | J2: 祝日のため除去 | K2: 年末年始 | M2: =休日取得計画表・休日取得実績表!D5 -> 0 | N2: {=IFERROR(INDEX($B:$B,MATCH($M2,$A:$A,),),"")} -> 工期始め | O2: {=IFERROR(INDEX($E:$E,MATCH($M2,祝日,),),"")&IFERROR(INDEX($H:$H,MATCH($M2,夏季休暇,),),"")&IFERROR(INDEX($K:$K,MATCH($M2,年末年始,),),"")} | P2: =IF(COUNTBLANK(N2:O2)=0,CHAR(10),"") | Q2: =O2&P2&N2 -> 工期始め | R2: =IF(OR(TEXT(M2,"aaa")="土",TEXT(M2,"aaa")="日",O2<>""),1,0) -> 1
A3: =休日取得計画表・休日取得実績表!O5 -> 0 | B3: 現場着手 | D3: 43427 | E3: 勤労感謝の日 | G3: 45517 | H3: 夏季休暇 | J3: 45293 | K3: 年末年始 | M3: =IF(定義!M2+1>休日取得計画表・休日取得実績表!$I$5,"",定義!M2+1) | N3: {=IFERROR(INDEX($B:$B,MATCH($M3,$A:$A,),),"")} | O3: {=IFERROR(INDEX($E:$E,MATCH($M3,祝日,),),"")&IFERROR(INDEX($H:$H,MATCH($M3,夏季休暇,),),"")&IFERROR(INDEX($K:$K,MATCH($M3,年末年始,),),"")} | P3: =IF(COUNTBLANK(N3:O3)=0,CHAR(10),"") | Q3: =O3&P3&N3 | R3: =IF(OR(TEXT(M3,"aaa")="土",TEXT(M3,"aaa")="日",O3<>""),1,0) -> 0
A4: =A5-20 -> -20 | B4: 対象期間最終日 | D4: 43457 | E4: 天皇誕生日 | G4: 45518 | H4: 夏季休暇 | J4: 45294 | K4: 年末年始 | M4: =IF(定義!M3+1>休日取得計画表・休日取得実績表!$I$5,"",定義!M3+1) -> #VALUE! | O4: {=IFERROR(INDEX($E:$E,MATCH($M4,祝日,),),"")&IFERROR(INDEX($H:$H,MATCH($M4,夏季休暇,),),"")&IFERROR(INDEX($K:$K,MATCH($M4,年末年始,),),"")} | P4: =IF(COUNTBLANK(N4:O4)=0,CHAR(10),"") | Q4: =O4&P4&N4 | R4: =IF(OR(TEXT(M4,"aaa")="土",TEXT(M4,"aaa")="日",O4<>""),1,0) -> #VALUE!
A5: =MIN(休日取得計画表・休日取得実績表!I5,休日取得計画表・休日取得実績表!W5) -> 0 | B5: 工期の末日 | D5: 43458 | E5: 振替休日 | G5: 45881 | H5: 夏季休暇 | J5: 45655 | K5: 年末年始 | M5: =IF(定義!M4+1>休日取得計画表・休日取得実績表!$I$5,"",定義!M4+1) -> #VALUE! | N5: {=IFERROR(INDEX($B:$B,MATCH($M5,$A:$A,),),"")} | O5: {=IFERROR(INDEX($E:$E,MATCH($M5,祝日,),),"")&IFERROR(INDEX($H:$H,MATCH($M5,夏季休暇,),),"")&IFERROR(INDEX($K:$K,MATCH($M5,年末年始,),),"")} | P5: =IF(COUNTBLANK(N5:O5)=0,CHAR(10),"") | Q5: =O5&P5&N5 | R5: =IF(OR(TEXT(M5,"aaa")="土",TEXT(M5,"aaa")="日",O5<>""),1,0) -> #VALUE!
D6: 43466 | E6: 元日 | G6: 45882 | H6: 夏季休暇 | J6: 45656 | K6: 年末年始 | M6: =IF(定義!M5+1>休日取得計画表・休日取得実績表!$I$5,"",定義!M5+1) -> #VALUE! | N6: {=IFERROR(INDEX($B:$B,MATCH($M6,$A:$A,),),"")} | O6: {=IFERROR(INDEX($E:$E,MATCH($M6,祝日,),),"")&IFERROR(INDEX($H:$H,MATCH($M6,夏季休暇,),),"")&IFERROR(INDEX($K:$K,MATCH($M6,年末年始,),),"")} | P6: =IF(COUNTBLANK(N6:O6)=0,CHAR(10),"") | Q6: =O6&P6&N6 | R6: =IF(OR(TEXT(M6,"aaa")="土",TEXT(M6,"aaa")="日",O6<>""),1,0) -> #VALUE!
D7: 43479 | E7: 成人の日 | G7: 45883 | H7: 夏季休暇 | J7: 45657 | K7: 年末年始 | M7: =IF(定義!M6+1>休日取得計画表・休日取得実績表!$I$5,"",定義!M6+1) -> #VALUE! | N7: {=IFERROR(INDEX($B:$B,MATCH($M7,$A:$A,),),"")} | O7: {=IFERROR(INDEX($E:$E,MATCH($M7,祝日,),),"")&IFERROR(INDEX($H:$H,MATCH($M7,夏季休暇,),),"")&IFERROR(INDEX($K:$K,MATCH($M7,年末年始,),),"")} | P7: =IF(COUNTBLANK(N7:O7)=0,CHAR(10),"") | Q7: =O7&P7&N7 | R7: =IF(OR(TEXT(M7,"aaa")="土",TEXT(M7,"aaa")="日",O7<>""),1,0) -> #VALUE!
D8: 43507 | E8: 建国記念の日 | G8: 46246 | H8: 夏季休暇 | J8: 祝日のため除去 | K8: 年末年始 | M8: =IF(定義!M7+1>休日取得計画表・休日取得実績表!$I$5,"",定義!M7+1) -> #VALUE! | N8: {=IFERROR(INDEX($B:$B,MATCH($M8,$A:$A,),),"")} | O8: {=IFERROR(INDEX($E:$E,MATCH($M8,祝日,),),"")&IFERROR(INDEX($H:$H,MATCH($M8,夏季休暇,),),"")&IFERROR(INDEX($K:$K,MATCH($M8,年末年始,),),"")} | P8: =IF(COUNTBLANK(N8:O8)=0,CHAR(10),"") | Q8: =O8&P8&N8 | R8: =IF(OR(TEXT(M8,"aaa")="土",TEXT(M8,"aaa")="日",O8<>""),1,0) -> #VALUE!
D9: 43545 | E9: 春分の日 | G9: 46247 | H9: 夏季休暇 | J9: 45659 | K9: 年末年始 | M9: =IF(定義!M8+1>休日取得計画表・休日取得実績表!$I$5,"",定義!M8+1) -> #VALUE! | N9: {=IFERROR(INDEX($B:$B,MATCH($M9,$A:$A,),),"")} | O9: {=IFERROR(INDEX($E:$E,MATCH($M9,祝日,),),"")&IFERROR(INDEX($H:$H,MATCH($M9,夏季休暇,),),"")&IFERROR(INDEX($K:$K,MATCH($M9,年末年始,),),"")} | P9: =IF(COUNTBLANK(N9:O9)=0,CHAR(10),"") | Q9: =O9&P9&N9 | R9: =IF(OR(TEXT(M9,"aaa")="土",TEXT(M9,"aaa")="日",O9<>""),1,0) -> #VALUE!
D10: 43584 | E10: 昭和の日 | G10: 46248 | H10: 夏季休暇 | J10: 45660 | K10: 年末年始 | M10: =IF(定義!M9+1>休日取得計画表・休日取得実績表!$I$5,"",定義!M9+1) -> #VALUE! | N10: {=IFERROR(INDEX($B:$B,MATCH($M10,$A:$A,),),"")} | O10: {=IFERROR(INDEX($E:$E,MATCH($M10,祝日,),),"")&IFERROR(INDEX($H:$H,MATCH($M10,夏季休暇,),),"")&IFERROR(INDEX($K:$K,MATCH($M10,年末年始,),),"")} | P10: =IF(COUNTBLANK(N10:O10)=0,CHAR(10),"") | Q10: =O10&P10&N10 | R10: =IF(OR(TEXT(M10,"aaa")="土",TEXT(M10,"aaa")="日",O10<>""),1,0) -> #VALUE!
D11: 43585 | E11: 国民の休日 | G11: 46611 | H11: 夏季休暇 | J11: 46020 | K11: 年末年始 | M11: =IF(定義!M10+1>休日取得計画表・休日取得実績表!$I$5,"",定義!M10+1) -> #VALUE! | N11: {=IFERROR(INDEX($B:$B,MATCH($M11,$A:$A,),),"")} | O11: {=IFERROR(INDEX($E:$E,MATCH($M11,祝日,),),"")&IFERROR(INDEX($H:$H,MATCH($M11,夏季休暇,),),"")&IFERROR(INDEX($K:$K,MATCH($M11,年末年始,),),"")} | P11: =IF(COUNTBLANK(N11:O11)=0,CHAR(10),"") | Q11: =O11&P11&N11 | R11: =IF(OR(TEXT(M11,"aaa")="土",TEXT(M11,"aaa")="日",O11<>""),1,0) -> #VALUE!
D12: 43586 | E12: 天皇の即位の日 | G12: 46612 | H12: 夏季休暇 | J12: 46021 | K12: 年末年始 | M12: =IF(定義!M11+1>休日取得計画表・休日取得実績表!$I$5,"",定義!M11+1) -> #VALUE! | N12: {=IFERROR(INDEX($B:$B,MATCH($M12,$A:$A,),),"")} | O12: {=IFERROR(INDEX($E:$E,MATCH($M12,祝日,),),"")&IFERROR(INDEX($H:$H,MATCH($M12,夏季休暇,),),"")&IFERROR(INDEX($K:$K,MATCH($M12,年末年始,),),"")} | P12: =IF(COUNTBLANK(N12:O12)=0,CHAR(10),"") | Q12: =O12&P12&N12 | R12: =IF(OR(TEXT(M12,"aaa")="土",TEXT(M12,"aaa")="日",O12<>""),1,0) -> #VALUE!
D13: 43587 | E13: 国民の休日 | G13: 46615 | H13: 夏季休暇 | J13: 46022 | K13: 年末年始 | M13: =IF(定義!M12+1>休日取得計画表・休日取得実績表!$I$5,"",定義!M12+1) -> #VALUE! | N13: {=IFERROR(INDEX($B:$B,MATCH($M13,$A:$A,),),"")} | O13: {=IFERROR(INDEX($E:$E,MATCH($M13,祝日,),),"")&IFERROR(INDEX($H:$H,MATCH($M13,夏季休暇,),),"")&IFERROR(INDEX($K:$K,MATCH($M13,年末年始,),),"")} | P13: =IF(COUNTBLANK(N13:O13)=0,CHAR(10),"") | Q13: =O13&P13&N13 | R13: =IF(OR(TEXT(M13,"aaa")="土",TEXT(M13,"aaa")="日",O13<>""),1,0) -> #VALUE!
D14: 43588 | E14: 憲法記念日 | G14: 46979 | H14: 夏季休暇 | J14: 祝日のため除去 | K14: 年末年始 | M14: =IF(定義!M13+1>休日取得計画表・休日取得実績表!$I$5,"",定義!M13+1) -> #VALUE! | N14: {=IFERROR(INDEX($B:$B,MATCH($M14,$A:$A,),),"")} | O14: {=IFERROR(INDEX($E:$E,MATCH($M14,祝日,),),"")&IFERROR(INDEX($H:$H,MATCH($M14,夏季休暇,),),"")&IFERROR(INDEX($K:$K,MATCH($M14,年末年始,),),"")} | P14: =IF(COUNTBLANK(N14:O14)=0,CHAR(10),"") | Q14: =O14&P14&N14 | R14: =IF(OR(TEXT(M14,"aaa")="土",TEXT(M14,"aaa")="日",O14<>""),1,0) -> #VALUE!
D15: 43589 | E15: みどりの日 | G15: 46980 | H15: 夏季休暇 | J15: 46024 | K15: 年末年始 | M15: =IF(定義!M14+1>休日取得計画表・休日取得実績表!$I$5,"",定義!M14+1) -> #VALUE! | N15: {=IFERROR(INDEX($B:$B,MATCH($M15,$A:$A,),),"")} | O15: {=IFERROR(INDEX($E:$E,MATCH($M15,祝日,),),"")&IFERROR(INDEX($H:$H,MATCH($M15,夏季休暇,),),"")&IFERROR(INDEX($K:$K,MATCH($M15,年末年始,),),"")} | P15: =IF(COUNTBLANK(N15:O15)=0,CHAR(10),"") | Q15: =O15&P15&N15 | R15: =IF(OR(TEXT(M15,"aaa")="土",TEXT(M15,"aaa")="日",O15<>""),1,0) -> #VALUE!
D16: 43590 | E16: こどもの日 | G16: 46981 | H16: 夏季休暇 | J16: 46025 | K16: 年末年始 | M16: =IF(定義!M15+1>休日取得計画表・休日取得実績表!$I$5,"",定義!M15+1) -> #VALUE! | N16: {=IFERROR(INDEX($B:$B,MATCH($M16,$A:$A,),),"")} | O16: {=IFERROR(INDEX($E:$E,MATCH($M16,祝日,),),"")&IFERROR(INDEX($H:$H,MATCH($M16,夏季休暇,),),"")&IFERROR(INDEX($K:$K,MATCH($M16,年末年始,),),"")} | P16: =IF(COUNTBLANK(N16:O16)=0,CHAR(10),"") | Q16: =O16&P16&N16 | R16: =IF(OR(TEXT(M16,"aaa")="土",TEXT(M16,"aaa")="日",O16<>""),1,0) -> #VALUE!
D17: 43591 | E17: 振替休日 | G17: 47343 | H17: 夏季休暇 | J17: 46385 | K17: 年末年始 | M17: =IF(定義!M16+1>休日取得計画表・休日取得実績表!$I$5,"",定義!M16+1) -> #VALUE! | N17: {=IFERROR(INDEX($B:$B,MATCH($M17,$A:$A,),),"")} | O17: {=IFERROR(INDEX($E:$E,MATCH($M17,祝日,),),"")&IFERROR(INDEX($H:$H,MATCH($M17,夏季休暇,),),"")&IFERROR(INDEX($K:$K,MATCH($M17,年末年始,),),"")} | P17: =IF(COUNTBLANK(N17:O17)=0,CHAR(10),"") | Q17: =O17&P17&N17 | R17: =IF(OR(TEXT(M17,"aaa")="土",TEXT(M17,"aaa")="日",O17<>""),1,0) -> #VALUE!
D18: 43661 | E18: 海の日 | G18: 47344 | H18: 夏季休暇 | J18: 46386 | K18: 年末年始 | M18: =IF(定義!M17+1>休日取得計画表・休日取得実績表!$I$5,"",定義!M17+1) -> #VALUE! | N18: {=IFERROR(INDEX($B:$B,MATCH($M18,$A:$A,),),"")} | O18: {=IFERROR(INDEX($E:$E,MATCH($M18,祝日,),),"")&IFERROR(INDEX($H:$H,MATCH($M18,夏季休暇,),),"")&IFERROR(INDEX($K:$K,MATCH($M18,年末年始,),),"")} | P18: =IF(COUNTBLANK(N18:O18)=0,CHAR(10),"") | Q18: =O18&P18&N18 | R18: =IF(OR(TEXT(M18,"aaa")="土",TEXT(M18,"aaa")="日",O18<>""),1,0) -> #VALUE!
D19: 43688 | E19: 山の日 | G19: 47345 | H19: 夏季休暇 | J19: 46387 | K19: 年末年始 | M19: =IF(定義!M18+1>休日取得計画表・休日取得実績表!$I$5,"",定義!M18+1) -> #VALUE! | N19: {=IFERROR(INDEX($B:$B,MATCH($M19,$A:$A,),),"")} | O19: {=IFERROR(INDEX($E:$E,MATCH($M19,祝日,),),"")&IFERROR(INDEX($H:$H,MATCH($M19,夏季休暇,),),"")&IFERROR(INDEX($K:$K,MATCH($M19,年末年始,),),"")} | P19: =IF(COUNTBLANK(N19:O19)=0,CHAR(10),"") | Q19: =O19&P19&N19 | R19: =IF(OR(TEXT(M19,"aaa")="土",TEXT(M19,"aaa")="日",O19<>""),1,0) -> #VALUE!
D20: 43689 | E20: 振替休日 | G20: 47707 | H20: 夏季休暇 | J20: 祝日のため除去 | K20: 年末年始 | M20: =IF(定義!M19+1>休日取得計画表・休日取得実績表!$I$5,"",定義!M19+1) -> #VALUE! | N20: {=IFERROR(INDEX($B:$B,MATCH($M20,$A:$A,),),"")} | O20: {=IFERROR(INDEX($E:$E,MATCH($M20,祝日,),),"")&IFERROR(INDEX($H:$H,MATCH($M20,夏季休暇,),),"")&IFERROR(INDEX($K:$K,MATCH($M20,年末年始,),),"")} | P20: =IF(COUNTBLANK(N20:O20)=0,CHAR(10),"") | Q20: =O20&P20&N20 | R20: =IF(OR(TEXT(M20,"aaa")="土",TEXT(M20,"aaa")="日",O20<>""),1,0) -> #VALUE!
D21: 43724 | E21: 敬老の日 | G21: 47708 | H21: 夏季休暇 | J21: 46389 | K21: 年末年始 | M21: =IF(定義!M20+1>休日取得計画表・休日取得実績表!$I$5,"",定義!M20+1) -> #VALUE! | N21: {=IFERROR(INDEX($B:$B,MATCH($M21,$A:$A,),),"")} | O21: {=IFERROR(INDEX($E:$E,MATCH($M21,祝日,),),"")&IFERROR(INDEX($H:$H,MATCH($M21,夏季休暇,),),"")&IFERROR(INDEX($K:$K,MATCH($M21,年末年始,),),"")} | P21: =IF(COUNTBLANK(N21:O21)=0,CHAR(10),"") | Q21: =O21&P21&N21 | R21: =IF(OR(TEXT(M21,"aaa")="土",TEXT(M21,"aaa")="日",O21<>""),1,0) -> #VALUE!
D22: 43731 | E22: 秋分の日 | G22: 47709 | H22: 夏季休暇 | J22: 46390 | K22: 年末年始 | M22: =IF(定義!M21+1>休日取得計画表・休日取得実績表!$I$5,"",定義!M21+1) -> #VALUE! | N22: {=IFERROR(INDEX($B:$B,MATCH($M22,$A:$A,),),"")} | O22: {=IFERROR(INDEX($E:$E,MATCH($M22,祝日,),),"")&IFERROR(INDEX($H:$H,MATCH($M22,夏季休暇,),),"")&IFERROR(INDEX($K:$K,MATCH($M22,年末年始,),),"")} | P22: =IF(COUNTBLANK(N22:O22)=0,CHAR(10),"") | Q22: =O22&P22&N22 | R22: =IF(OR(TEXT(M22,"aaa")="土",TEXT(M22,"aaa")="日",O22<>""),1,0) -> #VALUE!
D23: 43752 | E23: 体育の日 | J23: 46750 | K23: 年末年始 | M23: =IF(定義!M22+1>休日取得計画表・休日取得実績表!$I$5,"",定義!M22+1) -> #VALUE! | N23: {=IFERROR(INDEX($B:$B,MATCH($M23,$A:$A,),),"")} | O23: {=IFERROR(INDEX($E:$E,MATCH($M23,祝日,),),"")&IFERROR(INDEX($H:$H,MATCH($M23,夏季休暇,),),"")&IFERROR(INDEX($K:$K,MATCH($M23,年末年始,),),"")} | P23: =IF(COUNTBLANK(N23:O23)=0,CHAR(10),"") | Q23: =O23&P23&N23 | R23: =IF(OR(TEXT(M23,"aaa")="土",TEXT(M23,"aaa")="日",O23<>""),1,0) -> #VALUE!
D24: 43760 | E24: 即位礼正殿の儀 | J24: 46751 | K24: 年末年始 | M24: =IF(定義!M23+1>休日取得計画表・休日取得実績表!$I$5,"",定義!M23+1) -> #VALUE! | N24: {=IFERROR(INDEX($B:$B,MATCH($M24,$A:$A,),),"")} | O24: {=IFERROR(INDEX($E:$E,MATCH($M24,祝日,),),"")&IFERROR(INDEX($H:$H,MATCH($M24,夏季休暇,),),"")&IFERROR(INDEX($K:$K,MATCH($M24,年末年始,),),"")} | P24: =IF(COUNTBLANK(N24:O24)=0,CHAR(10),"") | Q24: =O24&P24&N24 | R24: =IF(OR(TEXT(M24,"aaa")="土",TEXT(M24,"aaa")="日",O24<>""),1,0) -> #VALUE!
D25: 43772 | E25: 文化の日 | J25: 46752 | K25: 年末年始 | M25: =IF(定義!M24+1>休日取得計画表・休日取得実績表!$I$5,"",定義!M24+1) -> #VALUE! | N25: {=IFERROR(INDEX($B:$B,MATCH($M25,$A:$A,),),"")} | O25: {=IFERROR(INDEX($E:$E,MATCH($M25,祝日,),),"")&IFERROR(INDEX($H:$H,MATCH($M25,夏季休暇,),),"")&IFERROR(INDEX($K:$K,MATCH($M25,年末年始,),),"")} | P25: =IF(COUNTBLANK(N25:O25)=0,CHAR(10),"") | Q25: =O25&P25&N25 | R25: =IF(OR(TEXT(M25,"aaa")="土",TEXT(M25,"aaa")="日",O25<>""),1,0) -> #VALUE!
D26: 43773 | E26: 振替休日 | J26: 祝日のため除去 | K26: 年末年始 | M26: =IF(定義!M25+1>休日取得計画表・休日取得実績表!$I$5,"",定義!M25+1) -> #VALUE! | N26: {=IFERROR(INDEX($B:$B,MATCH($M26,$A:$A,),),"")} | O26: {=IFERROR(INDEX($E:$E,MATCH($M26,祝日,),),"")&IFERROR(INDEX($H:$H,MATCH($M26,夏季休暇,),),"")&IFERROR(INDEX($K:$K,MATCH($M26,年末年始,),),"")} | P26: =IF(COUNTBLANK(N26:O26)=0,CHAR(10),"") | Q26: =O26&P26&N26 | R26: =IF(OR(TEXT(M26,"aaa")="土",TEXT(M26,"aaa")="日",O26<>""),1,0) -> #VALUE!
D27: 43792 | E27: 勤労感謝の日 | J27: 46754 | K27: 年末年始 | M27: =IF(定義!M26+1>休日取得計画表・休日取得実績表!$I$5,"",定義!M26+1) -> #VALUE! | N27: {=IFERROR(INDEX($B:$B,MATCH($M27,$A:$A,),),"")} | O27: {=IFERROR(INDEX($E:$E,MATCH($M27,祝日,),),"")&IFERROR(INDEX($H:$H,MATCH($M27,夏季休暇,),),"")&IFERROR(INDEX($K:$K,MATCH($M27,年末年始,),),"")} | P27: =IF(COUNTBLANK(N27:O27)=0,CHAR(10),"") | Q27: =O27&P27&N27 | R27: =IF(OR(TEXT(M27,"aaa")="土",TEXT(M27,"aaa")="日",O27<>""),1,0) -> #VALUE!
J28: 46755 | K28: 年末年始 | M28: =IF(定義!M27+1>休日取得計画表・休日取得実績表!$I$5,"",定義!M27+1) -> #VALUE! | N28: {=IFERROR(INDEX($B:$B,MATCH($M28,$A:$A,),),"")} | O28: {=IFERROR(INDEX($E:$E,MATCH($M28,祝日,),),"")&IFERROR(INDEX($H:$H,MATCH($M28,夏季休暇,),),"")&IFERROR(INDEX($K:$K,MATCH($M28,年末年始,),),"")} | P28: =IF(COUNTBLANK(N28:O28)=0,CHAR(10),"") | Q28: =O28&P28&N28 | R28: =IF(OR(TEXT(M28,"aaa")="土",TEXT(M28,"aaa")="日",O28<>""),1,0) -> #VALUE!
D29: 43831 | E29: 元日 | J29: 47116 | K29: 年末年始 | M29: =IF(定義!M28+1>休日取得計画表・休日取得実績表!$I$5,"",定義!M28+1) -> #VALUE! | N29: {=IFERROR(INDEX($B:$B,MATCH($M29,$A:$A,),),"")} | O29: {=IFERROR(INDEX($E:$E,MATCH($M29,祝日,),),"")&IFERROR(INDEX($H:$H,MATCH($M29,夏季休暇,),),"")&IFERROR(INDEX($K:$K,MATCH($M29,年末年始,),),"")} | P29: =IF(COUNTBLANK(N29:O29)=0,CHAR(10),"") | Q29: =O29&P29&N29 | R29: =IF(OR(TEXT(M29,"aaa")="土",TEXT(M29,"aaa")="日",O29<>""),1,0) -> #VALUE!
D30: 43843 | E30: 成人の日 | J30: 47117 | K30: 年末年始 | M30: =IF(定義!M29+1>休日取得計画表・休日取得実績表!$I$5,"",定義!M29+1) -> #VALUE! | N30: {=IFERROR(INDEX($B:$B,MATCH($M30,$A:$A,),),"")} | O30: {=IFERROR(INDEX($E:$E,MATCH($M30,祝日,),),"")&IFERROR(INDEX($H:$H,MATCH($M30,夏季休暇,),),"")&IFERROR(INDEX($K:$K,MATCH($M30,年末年始,),),"")} | P30: =IF(COUNTBLANK(N30:O30)=0,CHAR(10),"") | Q30: =O30&P30&N30 | R30: =IF(OR(TEXT(M30,"aaa")="土",TEXT(M30,"aaa")="日",O30<>""),1,0) -> #VALUE!
D31: 43872 | E31: 建国記念の日 | J31: 47118 | K31: 年末年始 | M31: =IF(定義!M30+1>休日取得計画表・休日取得実績表!$I$5,"",定義!M30+1) -> #VALUE! | N31: {=IFERROR(INDEX($B:$B,MATCH($M31,$A:$A,),),"")} | O31: {=IFERROR(INDEX($E:$E,MATCH($M31,祝日,),),"")&IFERROR(INDEX($H:$H,MATCH($M31,夏季休暇,),),"")&IFERROR(INDEX($K:$K,MATCH($M31,年末年始,),),"")} | P31: =IF(COUNTBLANK(N31:O31)=0,CHAR(10),"") | Q31: =O31&P31&N31 | R31: =IF(OR(TEXT(M31,"aaa")="土",TEXT(M31,"aaa")="日",O31<>""),1,0) -> #VALUE!
D32: 43884 | E32: 天皇誕生日 | J32: 祝日のため除去 | K32: 年末年始 | M32: =IF(定義!M31+1>休日取得計画表・休日取得実績表!$I$5,"",定義!M31+1) -> #VALUE! | N32: {=IFERROR(INDEX($B:$B,MATCH($M32,$A:$A,),),"")} | O32: {=IFERROR(INDEX($E:$E,MATCH($M32,祝日,),),"")&IFERROR(INDEX($H:$H,MATCH($M32,夏季休暇,),),"")&IFERROR(INDEX($K:$K,MATCH($M32,年末年始,),),"")} | P32: =IF(COUNTBLANK(N32:O32)=0,CHAR(10),"") | Q32: =O32&P32&N32 | R32: =IF(OR(TEXT(M32,"aaa")="土",TEXT(M32,"aaa")="日",O32<>""),1,0) -> #VALUE!
D33: 43885 | E33: 振替休日 | J33: 47120 | K33: 年末年始 | M33: =IF(定義!M32+1>休日取得計画表・休日取得実績表!$I$5,"",定義!M32+1) -> #VALUE! | N33: {=IFERROR(INDEX($B:$B,MATCH($M33,$A:$A,),),"")} | O33: {=IFERROR(INDEX($E:$E,MATCH($M33,祝日,),),"")&IFERROR(INDEX($H:$H,MATCH($M33,夏季休暇,),),"")&IFERROR(INDEX($K:$K,MATCH($M33,年末年始,),),"")} | P33: =IF(COUNTBLANK(N33:O33)=0,CHAR(10),"") | Q33: =O33&P33&N33 | R33: =IF(OR(TEXT(M33,"aaa")="土",TEXT(M33,"aaa")="日",O33<>""),1,0) -> #VALUE!
D34: 43910 | E34: 春分の日 | J34: 47121 | K34: 年末年始 | M34: =IF(定義!M33+1>休日取得計画表・休日取得実績表!$I$5,"",定義!M33+1) -> #VALUE! | N34: {=IFERROR(INDEX($B:$B,MATCH($M34,$A:$A,),),"")} | O34: {=IFERROR(INDEX($E:$E,MATCH($M34,祝日,),),"")&IFERROR(INDEX($H:$H,MATCH($M34,夏季休暇,),),"")&IFERROR(INDEX($K:$K,MATCH($M34,年末年始,),),"")} | P34: =IF(COUNTBLANK(N34:O34)=0,CHAR(10),"") | Q34: =O34&P34&N34 | R34: =IF(OR(TEXT(M34,"aaa")="土",TEXT(M34,"aaa")="日",O34<>""),1,0) -> #VALUE!
D35: 43950 | E35: 昭和の日 | J35: 47481 | K35: 年末年始 | M35: =IF(定義!M34+1>休日取得計画表・休日取得実績表!$I$5,"",定義!M34+1) -> #VALUE! | N35: {=IFERROR(INDEX($B:$B,MATCH($M35,$A:$A,),),"")} | O35: {=IFERROR(INDEX($E:$E,MATCH($M35,祝日,),),"")&IFERROR(INDEX($H:$H,MATCH($M35,夏季休暇,),),"")&IFERROR(INDEX($K:$K,MATCH($M35,年末年始,),),"")} | P35: =IF(COUNTBLANK(N35:O35)=0,CHAR(10),"") | Q35: =O35&P35&N35 | R35: =IF(OR(TEXT(M35,"aaa")="土",TEXT(M35,"aaa")="日",O35<>""),1,0) -> #VALUE!
D36: 43954 | E36: 憲法記念日 | J36: 47482 | K36: 年末年始 | M36: =IF(定義!M35+1>休日取得計画表・休日取得実績表!$I$5,"",定義!M35+1) -> #VALUE! | N36: {=IFERROR(INDEX($B:$B,MATCH($M36,$A:$A,),),"")} | O36: {=IFERROR(INDEX($E:$E,MATCH($M36,祝日,),),"")&IFERROR(INDEX($H:$H,MATCH($M36,夏季休暇,),),"")&IFERROR(INDEX($K:$K,MATCH($M36,年末年始,),),"")} | P36: =IF(COUNTBLANK(N36:O36)=0,CHAR(10),"") | Q36: =O36&P36&N36 | R36: =IF(OR(TEXT(M36,"aaa")="土",TEXT(M36,"aaa")="日",O36<>""),1,0) -> #VALUE!
D37: 43955 | E37: みどりの日 | J37: 47483 | K37: 年末年始 | M37: =IF(定義!M36+1>休日取得計画表・休日取得実績表!$I$5,"",定義!M36+1) -> #VALUE! | N37: {=IFERROR(INDEX($B:$B,MATCH($M37,$A:$A,),),"")} | O37: {=IFERROR(INDEX($E:$E,MATCH($M37,祝日,),),"")&IFERROR(INDEX($H:$H,MATCH($M37,夏季休暇,),),"")&IFERROR(INDEX($K:$K,MATCH($M37,年末年始,),),"")} | P37: =IF(COUNTBLANK(N37:O37)=0,CHAR(10),"") | Q37: =O37&P37&N37 | R37: =IF(OR(TEXT(M37,"aaa")="土",TEXT(M37,"aaa")="日",O37<>""),1,0) -> #VALUE!
D38: 43956 | E38: こどもの日 | J38: 祝日のため除去 | K38: 年末年始 | M38: =IF(定義!M37+1>休日取得計画表・休日取得実績表!$I$5,"",定義!M37+1) -> #VALUE! | N38: {=IFERROR(INDEX($B:$B,MATCH($M38,$A:$A,),),"")} | O38: {=IFERROR(INDEX($E:$E,MATCH($M38,祝日,),),"")&IFERROR(INDEX($H:$H,MATCH($M38,夏季休暇,),),"")&IFERROR(INDEX($K:$K,MATCH($M38,年末年始,),),"")} | P38: =IF(COUNTBLANK(N38:O38)=0,CHAR(10),"") | Q38: =O38&P38&N38 | R38: =IF(OR(TEXT(M38,"aaa")="土",TEXT(M38,"aaa")="日",O38<>""),1,0) -> #VALUE!
D39: 43957 | E39: 振替休日 | J39: 47485 | K39: 年末年始 | M39: =IF(定義!M38+1>休日取得計画表・休日取得実績表!$I$5,"",定義!M38+1) -> #VALUE! | N39: {=IFERROR(INDEX($B:$B,MATCH($M39,$A:$A,),),"")} | O39: {=IFERROR(INDEX($E:$E,MATCH($M39,祝日,),),"")&IFERROR(INDEX($H:$H,MATCH($M39,夏季休暇,),),"")&IFERROR(INDEX($K:$K,MATCH($M39,年末年始,),),"")} | P39: =IF(COUNTBLANK(N39:O39)=0,CHAR(10),"") | Q39: =O39&P39&N39 | R39: =IF(OR(TEXT(M39,"aaa")="土",TEXT(M39,"aaa")="日",O39<>""),1,0) -> #VALUE!
D40: 44035 | E40: 海の日 | J40: 47486 | K40: 年末年始 | M40: =IF(定義!M39+1>休日取得計画表・休日取得実績表!$I$5,"",定義!M39+1) -> #VALUE! | N40: {=IFERROR(INDEX($B:$B,MATCH($M40,$A:$A,),),"")} | O40: {=IFERROR(INDEX($E:$E,MATCH($M40,祝日,),),"")&IFERROR(INDEX($H:$H,MATCH($M40,夏季休暇,),),"")&IFERROR(INDEX($K:$K,MATCH($M40,年末年始,),),"")} | P40: =IF(COUNTBLANK(N40:O40)=0,CHAR(10),"") | Q40: =O40&P40&N40 | R40: =IF(OR(TEXT(M40,"aaa")="土",TEXT(M40,"aaa")="日",O40<>""),1,0) -> #VALUE!
D41: 44036 | E41: スポーツの日 | J41: 47846 | K41: 年末年始 | M41: =IF(定義!M40+1>休日取得計画表・休日取得実績表!$I$5,"",定義!M40+1) -> #VALUE! | N41: {=IFERROR(INDEX($B:$B,MATCH($M41,$A:$A,),),"")} | O41: {=IFERROR(INDEX($E:$E,MATCH($M41,祝日,),),"")&IFERROR(INDEX($H:$H,MATCH($M41,夏季休暇,),),"")&IFERROR(INDEX($K:$K,MATCH($M41,年末年始,),),"")} | P41: =IF(COUNTBLANK(N41:O41)=0,CHAR(10),"") | Q41: =O41&P41&N41 | R41: =IF(OR(TEXT(M41,"aaa")="土",TEXT(M41,"aaa")="日",O41<>""),1,0) -> #VALUE!
D42: 44053 | E42: 山の日 | J42: 47847 | K42: 年末年始 | M42: =IF(定義!M41+1>休日取得計画表・休日取得実績表!$I$5,"",定義!M41+1) -> #VALUE! | N42: {=IFERROR(INDEX($B:$B,MATCH($M42,$A:$A,),),"")} | O42: {=IFERROR(INDEX($E:$E,MATCH($M42,祝日,),),"")&IFERROR(INDEX($H:$H,MATCH($M42,夏季休暇,),),"")&IFERROR(INDEX($K:$K,MATCH($M42,年末年始,),),"")} | P42: =IF(COUNTBLANK(N42:O42)=0,CHAR(10),"") | Q42: =O42&P42&N42 | R42: =IF(OR(TEXT(M42,"aaa")="土",TEXT(M42,"aaa")="日",O42<>""),1,0) -> #VALUE!
D43: 44095 | E43: 敬老の日 | J43: 47848 | K43: 年末年始 | M43: =IF(定義!M42+1>休日取得計画表・休日取得実績表!$I$5,"",定義!M42+1) -> #VALUE! | N43: {=IFERROR(INDEX($B:$B,MATCH($M43,$A:$A,),),"")} | O43: {=IFERROR(INDEX($E:$E,MATCH($M43,祝日,),),"")&IFERROR(INDEX($H:$H,MATCH($M43,夏季休暇,),),"")&IFERROR(INDEX($K:$K,MATCH($M43,年末年始,),),"")} | P43: =IF(COUNTBLANK(N43:O43)=0,CHAR(10),"") | Q43: =O43&P43&N43 | R43: =IF(OR(TEXT(M43,"aaa")="土",TEXT(M43,"aaa")="日",O43<>""),1,0) -> #VALUE!
D44: 44096 | E44: 秋分の日 | M44: =IF(定義!M43+1>休日取得計画表・休日取得実績表!$I$5,"",定義!M43+1) -> #VALUE! | N44: {=IFERROR(INDEX($B:$B,MATCH($M44,$A:$A,),),"")} | O44: {=IFERROR(INDEX($E:$E,MATCH($M44,祝日,),),"")&IFERROR(INDEX($H:$H,MATCH($M44,夏季休暇,),),"")&IFERROR(INDEX($K:$K,MATCH($M44,年末年始,),),"")} | P44: =IF(COUNTBLANK(N44:O44)=0,CHAR(10),"") | Q44: =O44&P44&N44 | R44: =IF(OR(TEXT(M44,"aaa")="土",TEXT(M44,"aaa")="日",O44<>""),1,0) -> #VALUE!
D45: 44138 | E45: 文化の日 | M45: =IF(定義!M44+1>休日取得計画表・休日取得実績表!$I$5,"",定義!M44+1) -> #VALUE! | N45: {=IFERROR(INDEX($B:$B,MATCH($M45,$A:$A,),),"")} | O45: {=IFERROR(INDEX($E:$E,MATCH($M45,祝日,),),"")&IFERROR(INDEX($H:$H,MATCH($M45,夏季休暇,),),"")&IFERROR(INDEX($K:$K,MATCH($M45,年末年始,),),"")} | P45: =IF(COUNTBLANK(N45:O45)=0,CHAR(10),"") | Q45: =O45&P45&N45 | R45: =IF(OR(TEXT(M45,"aaa")="土",TEXT(M45,"aaa")="日",O45<>""),1,0) -> #VALUE!
D46: 44158 | E46: 勤労感謝の日 | M46: =IF(定義!M45+1>休日取得計画表・休日取得実績表!$I$5,"",定義!M45+1) -> #VALUE! | N46: {=IFERROR(INDEX($B:$B,MATCH($M46,$A:$A,),),"")} | O46: {=IFERROR(INDEX($E:$E,MATCH($M46,祝日,),),"")&IFERROR(INDEX($H:$H,MATCH($M46,夏季休暇,),),"")&IFERROR(INDEX($K:$K,MATCH($M46,年末年始,),),"")} | P46: =IF(COUNTBLANK(N46:O46)=0,CHAR(10),"") | Q46: =O46&P46&N46 | R46: =IF(OR(TEXT(M46,"aaa")="土",TEXT(M46,"aaa")="日",O46<>""),1,0) -> #VALUE!
M47: =IF(定義!M46+1>休日取得計画表・休日取得実績表!$I$5,"",定義!M46+1) -> #VALUE! | N47: {=IFERROR(INDEX($B:$B,MATCH($M47,$A:$A,),),"")} | O47: {=IFERROR(INDEX($E:$E,MATCH($M47,祝日,),),"")&IFERROR(INDEX($H:$H,MATCH($M47,夏季休暇,),),"")&IFERROR(INDEX($K:$K,MATCH($M47,年末年始,),),"")} | P47: =IF(COUNTBLANK(N47:O47)=0,CHAR(10),"") | Q47: =O47&P47&N47 | R47: =IF(OR(TEXT(M47,"aaa")="土",TEXT(M47,"aaa")="日",O47<>""),1,0) -> #VALUE!
D48: 44197 | E48: 元日 | M48: =IF(定義!M47+1>休日取得計画表・休日取得実績表!$I$5,"",定義!M47+1) -> #VALUE! | N48: {=IFERROR(INDEX($B:$B,MATCH($M48,$A:$A,),),"")} | O48: {=IFERROR(INDEX($E:$E,MATCH($M48,祝日,),),"")&IFERROR(INDEX($H:$H,MATCH($M48,夏季休暇,),),"")&IFERROR(INDEX($K:$K,MATCH($M48,年末年始,),),"")} | P48: =IF(COUNTBLANK(N48:O48)=0,CHAR(10),"") | Q48: =O48&P48&N48 | R48: =IF(OR(TEXT(M48,"aaa")="土",TEXT(M48,"aaa")="日",O48<>""),1,0) -> #VALUE!
D49: 44207 | E49: 成人の日 | M49: =IF(定義!M48+1>休日取得計画表・休日取得実績表!$I$5,"",定義!M48+1) -> #VALUE! | N49: {=IFERROR(INDEX($B:$B,MATCH($M49,$A:$A,),),"")} | O49: {=IFERROR(INDEX($E:$E,MATCH($M49,祝日,),),"")&IFERROR(INDEX($H:$H,MATCH($M49,夏季休暇,),),"")&IFERROR(INDEX($K:$K,MATCH($M49,年末年始,),),"")} | P49: =IF(COUNTBLANK(N49:O49)=0,CHAR(10),"") | Q49: =O49&P49&N49 | R49: =IF(OR(TEXT(M49,"aaa")="土",TEXT(M49,"aaa")="日",O49<>""),1,0) -> #VALUE!
D50: 44238 | E50: 建国記念の日 | M50: =IF(定義!M49+1>休日取得計画表・休日取得実績表!$I$5,"",定義!M49+1) -> #VALUE! | N50: {=IFERROR(INDEX($B:$B,MATCH($M50,$A:$A,),),"")} | O50: {=IFERROR(INDEX($E:$E,MATCH($M50,祝日,),),"")&IFERROR(INDEX($H:$H,MATCH($M50,夏季休暇,),),"")&IFERROR(INDEX($K:$K,MATCH($M50,年末年始,),),"")} | P50: =IF(COUNTBLANK(N50:O50)=0,CHAR(10),"") | Q50: =O50&P50&N50 | R50: =IF(OR(TEXT(M50,"aaa")="土",TEXT(M50,"aaa")="日",O50<>""),1,0) -> #VALUE!
D51: 44250 | E51: 天皇誕生日 | M51: =IF(定義!M50+1>休日取得計画表・休日取得実績表!$I$5,"",定義!M50+1) -> #VALUE! | N51: {=IFERROR(INDEX($B:$B,MATCH($M51,$A:$A,),),"")} | O51: {=IFERROR(INDEX($E:$E,MATCH($M51,祝日,),),"")&IFERROR(INDEX($H:$H,MATCH($M51,夏季休暇,),),"")&IFERROR(INDEX($K:$K,MATCH($M51,年末年始,),),"")} | P51: =IF(COUNTBLANK(N51:O51)=0,CHAR(10),"") | Q51: =O51&P51&N51 | R51: =IF(OR(TEXT(M51,"aaa")="土",TEXT(M51,"aaa")="日",O51<>""),1,0) -> #VALUE!
D52: 44275 | E52: 春分の日 | M52: =IF(定義!M51+1>休日取得計画表・休日取得実績表!$I$5,"",定義!M51+1) -> #VALUE! | N52: {=IFERROR(INDEX($B:$B,MATCH($M52,$A:$A,),),"")} | O52: {=IFERROR(INDEX($E:$E,MATCH($M52,祝日,),),"")&IFERROR(INDEX($H:$H,MATCH($M52,夏季休暇,),),"")&IFERROR(INDEX($K:$K,MATCH($M52,年末年始,),),"")} | P52: =IF(COUNTBLANK(N52:O52)=0,CHAR(10),"") | Q52: =O52&P52&N52 | R52: =IF(OR(TEXT(M52,"aaa")="土",TEXT(M52,"aaa")="日",O52<>""),1,0) -> #VALUE!
D53: 44315 | E53: 昭和の日 | M53: =IF(定義!M52+1>休日取得計画表・休日取得実績表!$I$5,"",定義!M52+1) -> #VALUE! | N53: {=IFERROR(INDEX($B:$B,MATCH($M53,$A:$A,),),"")} | O53: {=IFERROR(INDEX($E:$E,MATCH($M53,祝日,),),"")&IFERROR(INDEX($H:$H,MATCH($M53,夏季休暇,),),"")&IFERROR(INDEX($K:$K,MATCH($M53,年末年始,),),"")} | P53: =IF(COUNTBLANK(N53:O53)=0,CHAR(10),"") | Q53: =O53&P53&N53 | R53: =IF(OR(TEXT(M53,"aaa")="土",TEXT(M53,"aaa")="日",O53<>""),1,0) -> #VALUE!
D54: 44319 | E54: 憲法記念日 | M54: =IF(定義!M53+1>休日取得計画表・休日取得実績表!$I$5,"",定義!M53+1) -> #VALUE! | N54: {=IFERROR(INDEX($B:$B,MATCH($M54,$A:$A,),),"")} | O54: {=IFERROR(INDEX($E:$E,MATCH($M54,祝日,),),"")&IFERROR(INDEX($H:$H,MATCH($M54,夏季休暇,),),"")&IFERROR(INDEX($K:$K,MATCH($M54,年末年始,),),"")} | P54: =IF(COUNTBLANK(N54:O54)=0,CHAR(10),"") | Q54: =O54&P54&N54 | R54: =IF(OR(TEXT(M54,"aaa")="土",TEXT(M54,"aaa")="日",O54<>""),1,0) -> #VALUE!
D55: 44320 | E55: みどりの日 | M55: =IF(定義!M54+1>休日取得計画表・休日取得実績表!$I$5,"",定義!M54+1) -> #VALUE! | N55: {=IFERROR(INDEX($B:$B,MATCH($M55,$A:$A,),),"")} | O55: {=IFERROR(INDEX($E:$E,MATCH($M55,祝日,),),"")&IFERROR(INDEX($H:$H,MATCH($M55,夏季休暇,),),"")&IFERROR(INDEX($K:$K,MATCH($M55,年末年始,),),"")} | P55: =IF(COUNTBLANK(N55:O55)=0,CHAR(10),"") | Q55: =O55&P55&N55 | R55: =IF(OR(TEXT(M55,"aaa")="土",TEXT(M55,"aaa")="日",O55<>""),1,0) -> #VALUE!
D56: 44321 | E56: こどもの日 | M56: =IF(定義!M55+1>休日取得計画表・休日取得実績表!$I$5,"",定義!M55+1) -> #VALUE! | N56: {=IFERROR(INDEX($B:$B,MATCH($M56,$A:$A,),),"")} | O56: {=IFERROR(INDEX($E:$E,MATCH($M56,祝日,),),"")&IFERROR(INDEX($H:$H,MATCH($M56,夏季休暇,),),"")&IFERROR(INDEX($K:$K,MATCH($M56,年末年始,),),"")} | P56: =IF(COUNTBLANK(N56:O56)=0,CHAR(10),"") | Q56: =O56&P56&N56 | R56: =IF(OR(TEXT(M56,"aaa")="土",TEXT(M56,"aaa")="日",O56<>""),1,0) -> #VALUE!
D57: 44396 | E57: 海の日 | M57: =IF(定義!M56+1>休日取得計画表・休日取得実績表!$I$5,"",定義!M56+1) -> #VALUE! | N57: {=IFERROR(INDEX($B:$B,MATCH($M57,$A:$A,),),"")} | O57: {=IFERROR(INDEX($E:$E,MATCH($M57,祝日,),),"")&IFERROR(INDEX($H:$H,MATCH($M57,夏季休暇,),),"")&IFERROR(INDEX($K:$K,MATCH($M57,年末年始,),),"")} | P57: =IF(COUNTBLANK(N57:O57)=0,CHAR(10),"") | Q57: =O57&P57&N57 | R57: =IF(OR(TEXT(M57,"aaa")="土",TEXT(M57,"aaa")="日",O57<>""),1,0) -> #VALUE!
D58: 44419 | E58: 山の日 | M58: =IF(定義!M57+1>休日取得計画表・休日取得実績表!$I$5,"",定義!M57+1) -> #VALUE! | N58: {=IFERROR(INDEX($B:$B,MATCH($M58,$A:$A,),),"")} | O58: {=IFERROR(INDEX($E:$E,MATCH($M58,祝日,),),"")&IFERROR(INDEX($H:$H,MATCH($M58,夏季休暇,),),"")&IFERROR(INDEX($K:$K,MATCH($M58,年末年始,),),"")} | P58: =IF(COUNTBLANK(N58:O58)=0,CHAR(10),"") | Q58: =O58&P58&N58 | R58: =IF(OR(TEXT(M58,"aaa")="土",TEXT(M58,"aaa")="日",O58<>""),1,0) -> #VALUE!
D59: 44459 | E59: 敬老の日 | M59: =IF(定義!M58+1>休日取得計画表・休日取得実績表!$I$5,"",定義!M58+1) -> #VALUE! | N59: {=IFERROR(INDEX($B:$B,MATCH($M59,$A:$A,),),"")} | O59: {=IFERROR(INDEX($E:$E,MATCH($M59,祝日,),),"")&IFERROR(INDEX($H:$H,MATCH($M59,夏季休暇,),),"")&IFERROR(INDEX($K:$K,MATCH($M59,年末年始,),),"")} | P59: =IF(COUNTBLANK(N59:O59)=0,CHAR(10),"") | Q59: =O59&P59&N59 | R59: =IF(OR(TEXT(M59,"aaa")="土",TEXT(M59,"aaa")="日",O59<>""),1,0) -> #VALUE!
... D63: 44523 | E63: 勤労感謝の日 | M63: =IF(定義!M62+1>休日取得計画表・休日取得実績表!$I$5,"",定義!M62+1) -> #VALUE! | N63: {=IFERROR(INDEX($B:$B,MATCH($M63,$A:$A,),),"")} | O63: {=IFERROR(INDEX($E:$E,MATCH($M63,祝日,),),"")&IFERROR(INDEX($H:$H,MATCH($M63,夏季休暇,),),"")&IFERROR(INDEX($K:$K,MATCH($M63,年末年始,),),"")} | P63: =IF(COUNTBLANK(N63:O63)=0,CHAR(10),"") | Q63: =O63&P63&N63 | R63: =IF(OR(TEXT(M63,"aaa")="土",TEXT(M63,"aaa")="日",O63<>""),1,0) -> #VALUE!
M64: =IF(定義!M63+1>休日取得計画表・休日取得実績表!$I$5,"",定義!M63+1) -> #VALUE! | N64: {=IFERROR(INDEX($B:$B,MATCH($M64,$A:$A,),),"")} | O64: {=IFERROR(INDEX($E:$E,MATCH($M64,祝日,),),"")&IFERROR(INDEX($H:$H,MATCH($M64,夏季休暇,),),"")&IFERROR(INDEX($K:$K,MATCH($M64,年末年始,),),"")} | P64: =IF(COUNTBLANK(N64:O64)=0,CHAR(10),"") | Q64: =O64&P64&N64 | R64: =IF(OR(TEXT(M64,"aaa")="土",TEXT(M64,"aaa")="日",O64<>""),1,0) -> #VALUE!
D65: 44562 | E65: 元日 | M65: =IF(定義!M64+1>休日取得計画表・休日取得実績表!$I$5,"",定義!M64+1) -> #VALUE! | N65: {=IFERROR(INDEX($B:$B,MATCH($M65,$A:$A,),),"")} | O65: {=IFERROR(INDEX($E:$E,MATCH($M65,祝日,),),"")&IFERROR(INDEX($H:$H,MATCH($M65,夏季休暇,),),"")&IFERROR(INDEX($K:$K,MATCH($M65,年末年始,),),"")} | P65: =IF(COUNTBLANK(N65:O65)=0,CHAR(10),"") | Q65: =O65&P65&N65 | R65: =IF(OR(TEXT(M65,"aaa")="土",TEXT(M65,"aaa")="日",O65<>""),1,0) -> #VALUE!
D66: 44571 | E66: 成人の日 | M66: =IF(定義!M65+1>休日取得計画表・休日取得実績表!$I$5,"",定義!M65+1) -> #VALUE! | N66: {=IFERROR(INDEX($B:$B,MATCH($M66,$A:$A,),),"")} | O66: {=IFERROR(INDEX($E:$E,MATCH($M66,祝日,),),"")&IFERROR(INDEX($H:$H,MATCH($M66,夏季休暇,),),"")&IFERROR(INDEX($K:$K,MATCH($M66,年末年始,),),"")} | P66: =IF(COUNTBLANK(N66:O66)=0,CHAR(10),"") | Q66: =O66&P66&N66 | R66: =IF(OR(TEXT(M66,"aaa")="土",TEXT(M66,"aaa")="日",O66<>""),1,0) -> #VALUE!
D67: 44603 | E67: 建国記念の日 | M67: =IF(定義!M66+1>休日取得計画表・休日取得実績表!$I$5,"",定義!M66+1) -> #VALUE! | N67: {=IFERROR(INDEX($B:$B,MATCH($M67,$A:$A,),),"")} | O67: {=IFERROR(INDEX($E:$E,MATCH($M67,祝日,),),"")&IFERROR(INDEX($H:$H,MATCH($M67,夏季休暇,),),"")&IFERROR(INDEX($K:$K,MATCH($M67,年末年始,),),"")} | P67: =IF(COUNTBLANK(N67:O67)=0,CHAR(10),"") | Q67: =O67&P67&N67 | R67: =IF(OR(TEXT(M67,"aaa")="土",TEXT(M67,"aaa")="日",O67<>""),1,0) -> #VALUE!
D68: 44615 | E68: 天皇誕生日 | M68: =IF(定義!M67+1>休日取得計画表・休日取得実績表!$I$5,"",定義!M67+1) -> #VALUE! | N68: {=IFERROR(INDEX($B:$B,MATCH($M68,$A:$A,),),"")} | O68: {=IFERROR(INDEX($E:$E,MATCH($M68,祝日,),),"")&IFERROR(INDEX($H:$H,MATCH($M68,夏季休暇,),),"")&IFERROR(INDEX($K:$K,MATCH($M68,年末年始,),),"")} | P68: =IF(COUNTBLANK(N68:O68)=0,CHAR(10),"") | Q68: =O68&P68&N68 | R68: =IF(OR(TEXT(M68,"aaa")="土",TEXT(M68,"aaa")="日",O68<>""),1,0) -> #VALUE!
D69: 44641 | E69: 春分の日 | M69: =IF(定義!M68+1>休日取得計画表・休日取得実績表!$I$5,"",定義!M68+1) -> #VALUE! | N69: {=IFERROR(INDEX($B:$B,MATCH($M69,$A:$A,),),"")} | O69: {=IFERROR(INDEX($E:$E,MATCH($M69,祝日,),),"")&IFERROR(INDEX($H:$H,MATCH($M69,夏季休暇,),),"")&IFERROR(INDEX($K:$K,MATCH($M69,年末年始,),),"")} | P69: =IF(COUNTBLANK(N69:O69)=0,CHAR(10),"") | Q69: =O69&P69&N69 | R69: =IF(OR(TEXT(M69,"aaa")="土",TEXT(M69,"aaa")="日",O69<>""),1,0) -> #VALUE!
D70: 44680 | E70: 昭和の日 | M70: =IF(定義!M69+1>休日取得計画表・休日取得実績表!$I$5,"",定義!M69+1) -> #VALUE! | N70: {=IFERROR(INDEX($B:$B,MATCH($M70,$A:$A,),),"")} | O70: {=IFERROR(INDEX($E:$E,MATCH($M70,祝日,),),"")&IFERROR(INDEX($H:$H,MATCH($M70,夏季休暇,),),"")&IFERROR(INDEX($K:$K,MATCH($M70,年末年始,),),"")} | P70: =IF(COUNTBLANK(N70:O70)=0,CHAR(10),"") | Q70: =O70&P70&N70 | R70: =IF(OR(TEXT(M70,"aaa")="土",TEXT(M70,"aaa")="日",O70<>""),1,0) -> #VALUE!
D71: 44684 | E71: 憲法記念日 | M71: =IF(定義!M70+1>休日取得計画表・休日取得実績表!$I$5,"",定義!M70+1) -> #VALUE! | N71: {=IFERROR(INDEX($B:$B,MATCH($M71,$A:$A,),),"")} | O71: {=IFERROR(INDEX($E:$E,MATCH($M71,祝日,),),"")&IFERROR(INDEX($H:$H,MATCH($M71,夏季休暇,),),"")&IFERROR(INDEX($K:$K,MATCH($M71,年末年始,),),"")} | P71: =IF(COUNTBLANK(N71:O71)=0,CHAR(10),"") | Q71: =O71&P71&N71 | R71: =IF(OR(TEXT(M71,"aaa")="土",TEXT(M71,"aaa")="日",O71<>""),1,0) -> #VALUE!
D72: 44685 | E72: みどりの日 | M72: =IF(定義!M71+1>休日取得計画表・休日取得実績表!$I$5,"",定義!M71+1) -> #VALUE! | N72: {=IFERROR(INDEX($B:$B,MATCH($M72,$A:$A,),),"")} | O72: {=IFERROR(INDEX($E:$E,MATCH($M72,祝日,),),"")&IFERROR(INDEX($H:$H,MATCH($M72,夏季休暇,),),"")&IFERROR(INDEX($K:$K,MATCH($M72,年末年始,),),"")} | P72: =IF(COUNTBLANK(N72:O72)=0,CHAR(10),"") | Q72: =O72&P72&N72 | R72: =IF(OR(TEXT(M72,"aaa")="土",TEXT(M72,"aaa")="日",O72<>""),1,0) -> #VALUE!
D73: 44686 | E73: こどもの日 | M73: =IF(定義!M72+1>休日取得計画表・休日取得実績表!$I$5,"",定義!M72+1) -> #VALUE! | N73: {=IFERROR(INDEX($B:$B,MATCH($M73,$A:$A,),),"")} | O73: {=IFERROR(INDEX($E:$E,MATCH($M73,祝日,),),"")&IFERROR(INDEX($H:$H,MATCH($M73,夏季休暇,),),"")&IFERROR(INDEX($K:$K,MATCH($M73,年末年始,),),"")} | P73: =IF(COUNTBLANK(N73:O73)=0,CHAR(10),"") | Q73: =O73&P73&N73 | R73: =IF(OR(TEXT(M73,"aaa")="土",TEXT(M73,"aaa")="日",O73<>""),1,0) -> #VALUE!
D74: 44760 | E74: 海の日 | M74: =IF(定義!M73+1>休日取得計画表・休日取得実績表!$I$5,"",定義!M73+1) -> #VALUE! | N74: {=IFERROR(INDEX($B:$B,MATCH($M74,$A:$A,),),"")} | O74: {=IFERROR(INDEX($E:$E,MATCH($M74,祝日,),),"")&IFERROR(INDEX($H:$H,MATCH($M74,夏季休暇,),),"")&IFERROR(INDEX($K:$K,MATCH($M74,年末年始,),),"")} | P74: =IF(COUNTBLANK(N74:O74)=0,CHAR(10),"") | Q74: =O74&P74&N74 | R74: =IF(OR(TEXT(M74,"aaa")="土",TEXT(M74,"aaa")="日",O74<>""),1,0) -> #VALUE!
D75: 44784 | E75: 山の日 | M75: =IF(定義!M74+1>休日取得計画表・休日取得実績表!$I$5,"",定義!M74+1) -> #VALUE! | N75: {=IFERROR(INDEX($B:$B,MATCH($M75,$A:$A,),),"")} | O75: {=IFERROR(INDEX($E:$E,MATCH($M75,祝日,),),"")&IFERROR(INDEX($H:$H,MATCH($M75,夏季休暇,),),"")&IFERROR(INDEX($K:$K,MATCH($M75,年末年始,),),"")} | P75: =IF(COUNTBLANK(N75:O75)=0,CHAR(10),"") | Q75: =O75&P75&N75 | R75: =IF(OR(TEXT(M75,"aaa")="土",TEXT(M75,"aaa")="日",O75<>""),1,0) -> #VALUE!
D76: 44823 | E76: 敬老の日 | M76: =IF(定義!M75+1>休日取得計画表・休日取得実績表!$I$5,"",定義!M75+1) -> #VALUE! | N76: {=IFERROR(INDEX($B:$B,MATCH($M76,$A:$A,),),"")} | O76: {=IFERROR(INDEX($E:$E,MATCH($M76,祝日,),),"")&IFERROR(INDEX($H:$H,MATCH($M76,夏季休暇,),),"")&IFERROR(INDEX($K:$K,MATCH($M76,年末年始,),),"")} | P76: =IF(COUNTBLANK(N76:O76)=0,CHAR(10),"") | Q76: =O76&P76&N76 | R76: =IF(OR(TEXT(M76,"aaa")="土",TEXT(M76,"aaa")="日",O76<>""),1,0) -> #VALUE!
... D80: 44888 | E80: 勤労感謝の日 | M80: =IF(定義!M79+1>休日取得計画表・休日取得実績表!$I$5,"",定義!M79+1) -> #VALUE! | N80: {=IFERROR(INDEX($B:$B,MATCH($M80,$A:$A,),),"")} | O80: {=IFERROR(INDEX($E:$E,MATCH($M80,祝日,),),"")&IFERROR(INDEX($H:$H,MATCH($M80,夏季休暇,),),"")&IFERROR(INDEX($K:$K,MATCH($M80,年末年始,),),"")} | P80: =IF(COUNTBLANK(N80:O80)=0,CHAR(10),"") | Q80: =O80&P80&N80 | R80: =IF(OR(TEXT(M80,"aaa")="土",TEXT(M80,"aaa")="日",O80<>""),1,0) -> #VALUE!
M81: =IF(定義!M80+1>休日取得計画表・休日取得実績表!$I$5,"",定義!M80+1) -> #VALUE! | N81: {=IFERROR(INDEX($B:$B,MATCH($M81,$A:$A,),),"")} | O81: {=IFERROR(INDEX($E:$E,MATCH($M81,祝日,),),"")&IFERROR(INDEX($H:$H,MATCH($M81,夏季休暇,),),"")&IFERROR(INDEX($K:$K,MATCH($M81,年末年始,),),"")} | P81: =IF(COUNTBLANK(N81:O81)=0,CHAR(10),"") | Q81: =O81&P81&N81 | R81: =IF(OR(TEXT(M81,"aaa")="土",TEXT(M81,"aaa")="日",O81<>""),1,0) -> #VALUE!
D82: 44927 | E82: 元日 | M82: =IF(定義!M81+1>休日取得計画表・休日取得実績表!$I$5,"",定義!M81+1) -> #VALUE! | N82: {=IFERROR(INDEX($B:$B,MATCH($M82,$A:$A,),),"")} | O82: {=IFERROR(INDEX($E:$E,MATCH($M82,祝日,),),"")&IFERROR(INDEX($H:$H,MATCH($M82,夏季休暇,),),"")&IFERROR(INDEX($K:$K,MATCH($M82,年末年始,),),"")} | P82: =IF(COUNTBLANK(N82:O82)=0,CHAR(10),"") | Q82: =O82&P82&N82 | R82: =IF(OR(TEXT(M82,"aaa")="土",TEXT(M82,"aaa")="日",O82<>""),1,0) -> #VALUE!
D83: 44928 | E83: 振替休日 | M83: =IF(定義!M82+1>休日取得計画表・休日取得実績表!$I$5,"",定義!M82+1) -> #VALUE! | N83: {=IFERROR(INDEX($B:$B,MATCH($M83,$A:$A,),),"")} | O83: {=IFERROR(INDEX($E:$E,MATCH($M83,祝日,),),"")&IFERROR(INDEX($H:$H,MATCH($M83,夏季休暇,),),"")&IFERROR(INDEX($K:$K,MATCH($M83,年末年始,),),"")} | P83: =IF(COUNTBLANK(N83:O83)=0,CHAR(10),"") | Q83: =O83&P83&N83 | R83: =IF(OR(TEXT(M83,"aaa")="土",TEXT(M83,"aaa")="日",O83<>""),1,0) -> #VALUE!
D84: 44935 | E84: 成人の日 | M84: =IF(定義!M83+1>休日取得計画表・休日取得実績表!$I$5,"",定義!M83+1) -> #VALUE! | N84: {=IFERROR(INDEX($B:$B,MATCH($M84,$A:$A,),),"")} | O84: {=IFERROR(INDEX($E:$E,MATCH($M84,祝日,),),"")&IFERROR(INDEX($H:$H,MATCH($M84,夏季休暇,),),"")&IFERROR(INDEX($K:$K,MATCH($M84,年末年始,),),"")} | P84: =IF(COUNTBLANK(N84:O84)=0,CHAR(10),"") | Q84: =O84&P84&N84 | R84: =IF(OR(TEXT(M84,"aaa")="土",TEXT(M84,"aaa")="日",O84<>""),1,0) -> #VALUE!
D85: 44968 | E85: 建国記念の日 | M85: =IF(定義!M84+1>休日取得計画表・休日取得実績表!$I$5,"",定義!M84+1) -> #VALUE! | N85: {=IFERROR(INDEX($B:$B,MATCH($M85,$A:$A,),),"")} | O85: {=IFERROR(INDEX($E:$E,MATCH($M85,祝日,),),"")&IFERROR(INDEX($H:$H,MATCH($M85,夏季休暇,),),"")&IFERROR(INDEX($K:$K,MATCH($M85,年末年始,),),"")} | P85: =IF(COUNTBLANK(N85:O85)=0,CHAR(10),"") | Q85: =O85&P85&N85 | R85: =IF(OR(TEXT(M85,"aaa")="土",TEXT(M85,"aaa")="日",O85<>""),1,0) -> #VALUE!
D86: 44980 | E86: 天皇誕生日 | M86: =IF(定義!M85+1>休日取得計画表・休日取得実績表!$I$5,"",定義!M85+1) -> #VALUE! | N86: {=IFERROR(INDEX($B:$B,MATCH($M86,$A:$A,),),"")} | O86: {=IFERROR(INDEX($E:$E,MATCH($M86,祝日,),),"")&IFERROR(INDEX($H:$H,MATCH($M86,夏季休暇,),),"")&IFERROR(INDEX($K:$K,MATCH($M86,年末年始,),),"")} | P86: =IF(COUNTBLANK(N86:O86)=0,CHAR(10),"") | Q86: =O86&P86&N86 | R86: =IF(OR(TEXT(M86,"aaa")="土",TEXT(M86,"aaa")="日",O86<>""),1,0) -> #VALUE!
D87: 45006 | E87: 春分の日 | M87: =IF(定義!M86+1>休日取得計画表・休日取得実績表!$I$5,"",定義!M86+1) -> #VALUE! | N87: {=IFERROR(INDEX($B:$B,MATCH($M87,$A:$A,),),"")} | O87: {=IFERROR(INDEX($E:$E,MATCH($M87,祝日,),),"")&IFERROR(INDEX($H:$H,MATCH($M87,夏季休暇,),),"")&IFERROR(INDEX($K:$K,MATCH($M87,年末年始,),),"")} | P87: =IF(COUNTBLANK(N87:O87)=0,CHAR(10),"") | Q87: =O87&P87&N87 | R87: =IF(OR(TEXT(M87,"aaa")="土",TEXT(M87,"aaa")="日",O87<>""),1,0) -> #VALUE!
D88: 45045 | E88: 昭和の日 | M88: =IF(定義!M87+1>休日取得計画表・休日取得実績表!$I$5,"",定義!M87+1) -> #VALUE! | N88: {=IFERROR(INDEX($B:$B,MATCH($M88,$A:$A,),),"")} | O88: {=IFERROR(INDEX($E:$E,MATCH($M88,祝日,),),"")&IFERROR(INDEX($H:$H,MATCH($M88,夏季休暇,),),"")&IFERROR(INDEX($K:$K,MATCH($M88,年末年始,),),"")} | P88: =IF(COUNTBLANK(N88:O88)=0,CHAR(10),"") | Q88: =O88&P88&N88 | R88: =IF(OR(TEXT(M88,"aaa")="土",TEXT(M88,"aaa")="日",O88<>""),1,0) -> #VALUE!
D89: 45049 | E89: 憲法記念日 | M89: =IF(定義!M88+1>休日取得計画表・休日取得実績表!$I$5,"",定義!M88+1) -> #VALUE! | N89: {=IFERROR(INDEX($B:$B,MATCH($M89,$A:$A,),),"")} | O89: {=IFERROR(INDEX($E:$E,MATCH($M89,祝日,),),"")&IFERROR(INDEX($H:$H,MATCH($M89,夏季休暇,),),"")&IFERROR(INDEX($K:$K,MATCH($M89,年末年始,),),"")} | P89: =IF(COUNTBLANK(N89:O89)=0,CHAR(10),"") | Q89: =O89&P89&N89 | R89: =IF(OR(TEXT(M89,"aaa")="土",TEXT(M89,"aaa")="日",O89<>""),1,0) -> #VALUE!
D90: 45050 | E90: みどりの日 | M90: =IF(定義!M89+1>休日取得計画表・休日取得実績表!$I$5,"",定義!M89+1) -> #VALUE! | N90: {=IFERROR(INDEX($B:$B,MATCH($M90,$A:$A,),),"")} | O90: {=IFERROR(INDEX($E:$E,MATCH($M90,祝日,),),"")&IFERROR(INDEX($H:$H,MATCH($M90,夏季休暇,),),"")&IFERROR(INDEX($K:$K,MATCH($M90,年末年始,),),"")} | P90: =IF(COUNTBLANK(N90:O90)=0,CHAR(10),"") | Q90: =O90&P90&N90 | R90: =IF(OR(TEXT(M90,"aaa")="土",TEXT(M90,"aaa")="日",O90<>""),1,0) -> #VALUE!
D91: 45051 | E91: こどもの日 | M91: =IF(定義!M90+1>休日取得計画表・休日取得実績表!$I$5,"",定義!M90+1) -> #VALUE! | N91: {=IFERROR(INDEX($B:$B,MATCH($M91,$A:$A,),),"")} | O91: {=IFERROR(INDEX($E:$E,MATCH($M91,祝日,),),"")&IFERROR(INDEX($H:$H,MATCH($M91,夏季休暇,),),"")&IFERROR(INDEX($K:$K,MATCH($M91,年末年始,),),"")} | P91: =IF(COUNTBLANK(N91:O91)=0,CHAR(10),"") | Q91: =O91&P91&N91 | R91: =IF(OR(TEXT(M91,"aaa")="土",TEXT(M91,"aaa")="日",O91<>""),1,0) -> #VALUE!
D92: 45124 | E92: 海の日 | M92: =IF(定義!M91+1>休日取得計画表・休日取得実績表!$I$5,"",定義!M91+1) -> #VALUE! | N92: {=IFERROR(INDEX($B:$B,MATCH($M92,$A:$A,),),"")} | O92: {=IFERROR(INDEX($E:$E,MATCH($M92,祝日,),),"")&IFERROR(INDEX($H:$H,MATCH($M92,夏季休暇,),),"")&IFERROR(INDEX($K:$K,MATCH($M92,年末年始,),),"")} | P92: =IF(COUNTBLANK(N92:O92)=0,CHAR(10),"") | Q92: =O92&P92&N92 | R92: =IF(OR(TEXT(M92,"aaa")="土",TEXT(M92,"aaa")="日",O92<>""),1,0) -> #VALUE!
D93: 45149 | E93: 山の日 | M93: =IF(定義!M92+1>休日取得計画表・休日取得実績表!$I$5,"",定義!M92+1) -> #VALUE! | N93: {=IFERROR(INDEX($B:$B,MATCH($M93,$A:$A,),),"")} | O93: {=IFERROR(INDEX($E:$E,MATCH($M93,祝日,),),"")&IFERROR(INDEX($H:$H,MATCH($M93,夏季休暇,),),"")&IFERROR(INDEX($K:$K,MATCH($M93,年末年始,),),"")} | P93: =IF(COUNTBLANK(N93:O93)=0,CHAR(10),"") | Q93: =O93&P93&N93 | R93: =IF(OR(TEXT(M93,"aaa")="土",TEXT(M93,"aaa")="日",O93<>""),1,0) -> #VALUE!
... D98: 45253 | E98: 勤労感謝の日 | M98: =IF(定義!M97+1>休日取得計画表・休日取得実績表!$I$5,"",定義!M97+1) -> #VALUE! | N98: {=IFERROR(INDEX($B:$B,MATCH($M98,$A:$A,),),"")} | O98: {=IFERROR(INDEX($E:$E,MATCH($M98,祝日,),),"")&IFERROR(INDEX($H:$H,MATCH($M98,夏季休暇,),),"")&IFERROR(INDEX($K:$K,MATCH($M98,年末年始,),),"")} | P98: =IF(COUNTBLANK(N98:O98)=0,CHAR(10),"") | Q98: =O98&P98&N98 | R98: =IF(OR(TEXT(M98,"aaa")="土",TEXT(M98,"aaa")="日",O98<>""),1,0) -> #VALUE!
M99: =IF(定義!M98+1>休日取得計画表・休日取得実績表!$I$5,"",定義!M98+1) -> #VALUE! | N99: {=IFERROR(INDEX($B:$B,MATCH($M99,$A:$A,),),"")} | O99: {=IFERROR(INDEX($E:$E,MATCH($M99,祝日,),),"")&IFERROR(INDEX($H:$H,MATCH($M99,夏季休暇,),),"")&IFERROR(INDEX($K:$K,MATCH($M99,年末年始,),),"")} | P99: =IF(COUNTBLANK(N99:O99)=0,CHAR(10),"") | Q99: =O99&P99&N99 | R99: =IF(OR(TEXT(M99,"aaa")="土",TEXT(M99,"aaa")="日",O99<>""),1,0) -> #VALUE!
D100: 45292 | E100: 元日 | M100: =IF(定義!M99+1>休日取得計画表・休日取得実績表!$I$5,"",定義!M99+1) -> #VALUE! | N100: {=IFERROR(INDEX($B:$B,MATCH($M100,$A:$A,),),"")} | O100: {=IFERROR(INDEX($E:$E,MATCH($M100,祝日,),),"")&IFERROR(INDEX($H:$H,MATCH($M100,夏季休暇,),),"")&IFERROR(INDEX($K:$K,MATCH($M100,年末年始,),),"")} | P100: =IF(COUNTBLANK(N100:O100)=0,CHAR(10),"") | Q100: =O100&P100&N100 | R100: =IF(OR(TEXT(M100,"aaa")="土",TEXT(M100,"aaa")="日",O100<>""),1,0) -> #VALUE!
D101: 45299 | E101: 成人の日 | M101: =IF(定義!M100+1>休日取得計画表・休日取得実績表!$I$5,"",定義!M100+1) -> #VALUE! | N101: {=IFERROR(INDEX($B:$B,MATCH($M101,$A:$A,),),"")} | O101: {=IFERROR(INDEX($E:$E,MATCH($M101,祝日,),),"")&IFERROR(INDEX($H:$H,MATCH($M101,夏季休暇,),),"")&IFERROR(INDEX($K:$K,MATCH($M101,年末年始,),),"")} | P101: =IF(COUNTBLANK(N101:O101)=0,CHAR(10),"") | Q101: =O101&P101&N101 | R101: =IF(OR(TEXT(M101,"aaa")="土",TEXT(M101,"aaa")="日",O101<>""),1,0) -> #VALUE!
D102: 45333 | E102: 建国記念の日 | M102: =IF(定義!M101+1>休日取得計画表・休日取得実績表!$I$5,"",定義!M101+1) -> #VALUE! | N102: {=IFERROR(INDEX($B:$B,MATCH($M102,$A:$A,),),"")} | O102: {=IFERROR(INDEX($E:$E,MATCH($M102,祝日,),),"")&IFERROR(INDEX($H:$H,MATCH($M102,夏季休暇,),),"")&IFERROR(INDEX($K:$K,MATCH($M102,年末年始,),),"")} | P102: =IF(COUNTBLANK(N102:O102)=0,CHAR(10),"") | Q102: =O102&P102&N102 | R102: =IF(OR(TEXT(M102,"aaa")="土",TEXT(M102,"aaa")="日",O102<>""),1,0) -> #VALUE!
D103: 45334 | E103: 振替休日 | M103: =IF(定義!M102+1>休日取得計画表・休日取得実績表!$I$5,"",定義!M102+1) -> #VALUE! | N103: {=IFERROR(INDEX($B:$B,MATCH($M103,$A:$A,),),"")} | O103: {=IFERROR(INDEX($E:$E,MATCH($M103,祝日,),),"")&IFERROR(INDEX($H:$H,MATCH($M103,夏季休暇,),),"")&IFERROR(INDEX($K:$K,MATCH($M103,年末年始,),),"")} | P103: =IF(COUNTBLANK(N103:O103)=0,CHAR(10),"") | Q103: =O103&P103&N103 | R103: =IF(OR(TEXT(M103,"aaa")="土",TEXT(M103,"aaa")="日",O103<>""),1,0) -> #VALUE!
D104: 45345 | E104: 天皇誕生日 | M104: =IF(定義!M103+1>休日取得計画表・休日取得実績表!$I$5,"",定義!M103+1) -> #VALUE! | N104: {=IFERROR(INDEX($B:$B,MATCH($M104,$A:$A,),),"")} | O104: {=IFERROR(INDEX($E:$E,MATCH($M104,祝日,),),"")&IFERROR(INDEX($H:$H,MATCH($M104,夏季休暇,),),"")&IFERROR(INDEX($K:$K,MATCH($M104,年末年始,),),"")} | P104: =IF(COUNTBLANK(N104:O104)=0,CHAR(10),"") | Q104: =O104&P104&N104 | R104: =IF(OR(TEXT(M104,"aaa")="土",TEXT(M104,"aaa")="日",O104<>""),1,0) -> #VALUE!
D105: 45371 | E105: 春分の日 | M105: =IF(定義!M104+1>休日取得計画表・休日取得実績表!$I$5,"",定義!M104+1) -> #VALUE! | N105: {=IFERROR(INDEX($B:$B,MATCH($M105,$A:$A,),),"")} | O105: {=IFERROR(INDEX($E:$E,MATCH($M105,祝日,),),"")&IFERROR(INDEX($H:$H,MATCH($M105,夏季休暇,),),"")&IFERROR(INDEX($K:$K,MATCH($M105,年末年始,),),"")} | P105: =IF(COUNTBLANK(N105:O105)=0,CHAR(10),"") | Q105: =O105&P105&N105 | R105: =IF(OR(TEXT(M105,"aaa")="土",TEXT(M105,"aaa")="日",O105<>""),1,0) -> #VALUE!
D106: 45411 | E106: 昭和の日 | M106: =IF(定義!M105+1>休日取得計画表・休日取得実績表!$I$5,"",定義!M105+1) -> #VALUE! | N106: {=IFERROR(INDEX($B:$B,MATCH($M106,$A:$A,),),"")} | O106: {=IFERROR(INDEX($E:$E,MATCH($M106,祝日,),),"")&IFERROR(INDEX($H:$H,MATCH($M106,夏季休暇,),),"")&IFERROR(INDEX($K:$K,MATCH($M106,年末年始,),),"")} | P106: =IF(COUNTBLANK(N106:O106)=0,CHAR(10),"") | Q106: =O106&P106&N106 | R106: =IF(OR(TEXT(M106,"aaa")="土",TEXT(M106,"aaa")="日",O106<>""),1,0) -> #VALUE!
D107: 45415 | E107: 憲法記念日 | M107: =IF(定義!M106+1>休日取得計画表・休日取得実績表!$I$5,"",定義!M106+1) -> #VALUE! | N107: {=IFERROR(INDEX($B:$B,MATCH($M107,$A:$A,),),"")} | O107: {=IFERROR(INDEX($E:$E,MATCH($M107,祝日,),),"")&IFERROR(INDEX($H:$H,MATCH($M107,夏季休暇,),),"")&IFERROR(INDEX($K:$K,MATCH($M107,年末年始,),),"")} | P107: =IF(COUNTBLANK(N107:O107)=0,CHAR(10),"") | Q107: =O107&P107&N107 | R107: =IF(OR(TEXT(M107,"aaa")="土",TEXT(M107,"aaa")="日",O107<>""),1,0) -> #VALUE!
D108: 45416 | E108: みどりの日 | M108: =IF(定義!M107+1>休日取得計画表・休日取得実績表!$I$5,"",定義!M107+1) -> #VALUE! | N108: {=IFERROR(INDEX($B:$B,MATCH($M108,$A:$A,),),"")} | O108: {=IFERROR(INDEX($E:$E,MATCH($M108,祝日,),),"")&IFERROR(INDEX($H:$H,MATCH($M108,夏季休暇,),),"")&IFERROR(INDEX($K:$K,MATCH($M108,年末年始,),),"")} | P108: =IF(COUNTBLANK(N108:O108)=0,CHAR(10),"") | Q108: =O108&P108&N108 | R108: =IF(OR(TEXT(M108,"aaa")="土",TEXT(M108,"aaa")="日",O108<>""),1,0) -> #VALUE!
D109: 45417 | E109: こどもの日 | M109: =IF(定義!M108+1>休日取得計画表・休日取得実績表!$I$5,"",定義!M108+1) -> #VALUE! | N109: {=IFERROR(INDEX($B:$B,MATCH($M109,$A:$A,),),"")} | O109: {=IFERROR(INDEX($E:$E,MATCH($M109,祝日,),),"")&IFERROR(INDEX($H:$H,MATCH($M109,夏季休暇,),),"")&IFERROR(INDEX($K:$K,MATCH($M109,年末年始,),),"")} | P109: =IF(COUNTBLANK(N109:O109)=0,CHAR(10),"") | Q109: =O109&P109&N109 | R109: =IF(OR(TEXT(M109,"aaa")="土",TEXT(M109,"aaa")="日",O109<>""),1,0) -> #VALUE!
D110: 45418 | E110: 振替休日 | M110: =IF(定義!M109+1>休日取得計画表・休日取得実績表!$I$5,"",定義!M109+1) -> #VALUE! | N110: {=IFERROR(INDEX($B:$B,MATCH($M110,$A:$A,),),"")} | O110: {=IFERROR(INDEX($E:$E,MATCH($M110,祝日,),),"")&IFERROR(INDEX($H:$H,MATCH($M110,夏季休暇,),),"")&IFERROR(INDEX($K:$K,MATCH($M110,年末年始,),),"")} | P110: =IF(COUNTBLANK(N110:O110)=0,CHAR(10),"") | Q110: =O110&P110&N110 | R110: =IF(OR(TEXT(M110,"aaa")="土",TEXT(M110,"aaa")="日",O110<>""),1,0) -> #VALUE!
...

Sheet 休日取得計画表・休日取得実績表
B1: 休日等取得計画・休日等取得実績表 | AI1: （様式３）
AE2: 計画休日数 | AH2: =SUM(AK:AK) -> 0 | AJ2: =IF(AH2<SUM(AM:AM),"計画休日数が足りていません。","")
B3: 週休2日の種類 | AE3: 実績休日数 | AH3: =SUM(AO:AO) -> 0
B4: 工事名 | AE4: 必要現場閉所日数 | AH4: =SUM(AQ:AQ) -> 0
B5: 期間 | H5: ～ | N5: 着手日 | T5: 完成通知書提出日 | AC5: 判定結果（実績）： | AF5: =IF(AH2=0,"",IF(AH3>=AH2,"週休２日達成","不達成"))
I6: =IF(D5>I5,"▲確認：工期末が工期始まりより早いです。","") | T6: （工期内に完成の場合入力）
B7: 月 | C7: =DATE(YEAR(D5),MONTH(D5),1) -> 1 | AH7: 月計 | AI7: 累計 | AK7: 計画時点 | AO7: 実績
B8: 日 | C8: =+C7 -> 1 | D8: =IFERROR(IF(MONTH(C8+1)=MONTH($C7),C8+1,""),"") -> 2 | E8: =IFERROR(IF(MONTH(D8+1)=MONTH($C7),D8+1,""),"") -> 3 | F8: =IFERROR(IF(MONTH(E8+1)=MONTH($C7),E8+1,""),"") -> 4 | G8: =IFERROR(IF(MONTH(F8+1)=MONTH($C7),F8+1,""),"") -> 5 | H8: =IFERROR(IF(MONTH(G8+1)=MONTH($C7),G8+1,""),"") -> 6 | I8: =IFERROR(IF(MONTH(H8+1)=MONTH($C7),H8+1,""),"") -> 7 | J8: =IFERROR(IF(MONTH(I8+1)=MONTH($C7),I8+1,""),"") -> 8 | K8: =IFERROR(IF(MONTH(J8+1)=MONTH($C7),J8+1,""),"") -> 9 | ... AG8: =IFERROR(IF(MONTH(AF8+1)=MONTH($C7),AF8+1,""),"") -> 31 | AK8: 計画休日数（月計） | AL8: 計画休日数（累計） | AM8: 必要現場閉所日（月計） | AN8: 必要現場閉所日（累計） | AO8: 実績休日数（月計） | AP8: 実績休日数（累計） | AQ8: 必要現場閉所日（月計） | AR8: 必要現場閉所日（累計）
B9: 曜日 | C9: =IF(C8="","",IF(COUNTIF(祝日,C8)>0,"祝",IF(COUNTIF(夏季休暇,C8)+COUNTIF(年末年始,C8)>0,"休",TEXT(C8,"aaa")))) -> 日 | D9: =IF(D8="","",IF(COUNTIF(祝日,D8)>0,"祝",IF(COUNTIF(夏季休暇,D8)+COUNTIF(年末年始,D8)>0,"休",TEXT(D8,"aaa")))) -> 月 | E9: =IF(E8="","",IF(COUNTIF(祝日,E8)>0,"祝",IF(COUNTIF(夏季休暇,E8)+COUNTIF(年末年始,E8)>0,"休",TEXT(E8,"aaa")))) -> 火 | F9: =IF(F8="","",IF(COUNTIF(祝日,F8)>0,"祝",IF(COUNTIF(夏季休暇,F8)+COUNTIF(年末年始,F8)>0,"休",TEXT(F8,"aaa")))) -> 水 | G9: =IF(G8="","",IF(COUNTIF(祝日,G8)>0,"祝",IF(COUNTIF(夏季休暇,G8)+COUNTIF(年末年始,G8)>0,"休",TEXT(G8,"aaa")))) -> 木 | H9: =IF(H8="","",IF(COUNTIF(祝日,H8)>0,"祝",IF(COUNTIF(夏季休暇,H8)+COUNTIF(年末年始,H8)>0,"休",TEXT(H8,"aaa")))) -> 金 | I9: =IF(I8="","",IF(COUNTIF(祝日,I8)>0,"祝",IF(COUNTIF(夏季休暇,I8)+COUNTIF(年末年始,I8)>0,"休",TEXT(I8,"aaa")))) -> 土 | J9: =IF(J8="","",IF(COUNTIF(祝日,J8)>0,"祝",IF(COUNTIF(夏季休暇,J8)+COUNTIF(年末年始,J8)>0,"休",TEXT(J8,"aaa")))) -> 日 | ... AG9: =IF(AG8="","",IF(COUNTIF(祝日,AG8)>0,"祝",IF(COUNTIF(夏季休暇,AG8)+COUNTIF(年末年始,AG8)>0,"休",TEXT(AG8,"aaa")))) -> 火 | AH9: ○計 | AI9: ○計
B10: 計画用 | C10: {=IF(OR(C8<$O$5,MIN($I$5,$W$5)-20<C8,C13="―"),"✕",INDEX(定義!$R:$R,MATCH(休日取得計画表・休日取得実績表!C8,定義!$M:$M,),))} -> ✕ | D10: {=IF(OR(D8<$O$5,MIN($I$5,$W$5)-20<D8,D13="―"),"✕",INDEX(定義!$R:$R,MATCH(休日取得計画表・休日取得実績表!D8,定義!$M:$M,),))} -> ✕ | E10: {=IF(OR(E8<$O$5,MIN($I$5,$W$5)-20<E8,E13="―"),"✕",INDEX(定義!$R:$R,MATCH(休日取得計画表・休日取得実績表!E8,定義!$M:$M,),))} -> ✕ | F10: {=IF(OR(F8<$O$5,MIN($I$5,$W$5)-20<F8,F13="―"),"✕",INDEX(定義!$R:$R,MATCH(休日取得計画表・休日取得実績表!F8,定義!$M:$M,),))} -> ✕ | G10: {=IF(OR(G8<$O$5,MIN($I$5,$W$5)-20<G8,G13="―"),"✕",INDEX(定義!$R:$R,MATCH(休日取得計画表・休日取得実績表!G8,定義!$M:$M,),))} -> ✕ | H10: {=IF(OR(H8<$O$5,MIN($I$5,$W$5)-20<H8,H13="―"),"✕",INDEX(定義!$R:$R,MATCH(休日取得計画表・休日取得実績表!H8,定義!$M:$M,),))} -> ✕ | I10: {=IF(OR(I8<$O$5,MIN($I$5,$W$5)-20<I8,I13="―"),"✕",INDEX(定義!$R:$R,MATCH(休日取得計画表・休日取得実績表!I8,定義!$M:$M,),))} -> ✕ | J10: {=IF(OR(J8<$O$5,MIN($I$5,$W$5)-20<J8,J13="―"),"✕",INDEX(定義!$R:$R,MATCH(休日取得計画表・休日取得実績表!J8,定義!$M:$M,),))} -> ✕ | ... AG10: {=IF(OR(AG8<$O$5,MIN($I$5,$W$5)-20<AG8,AG13="―"),"✕",INDEX(定義!$R:$R,MATCH(休日取得計画表・休日取得実績表!AG8,定義!$M:$M,),))} -> ✕
B11: 実績用 | C11: {=IF(OR(C8<$O$5,MIN($I$5,$W$5)-20<C8,C14="―"),"✕",INDEX(定義!$R:$R,MATCH(休日取得計画表・休日取得実績表!C8,定義!$M:$M,),))} -> ✕ | D11: {=IF(OR(D8<$O$5,MIN($I$5,$W$5)-20<D8,D14="―"),"✕",INDEX(定義!$R:$R,MATCH(休日取得計画表・休日取得実績表!D8,定義!$M:$M,),))} -> ✕ | E11: {=IF(OR(E8<$O$5,MIN($I$5,$W$5)-20<E8,E14="―"),"✕",INDEX(定義!$R:$R,MATCH(休日取得計画表・休日取得実績表!E8,定義!$M:$M,),))} -> ✕ | F11: {=IF(OR(F8<$O$5,MIN($I$5,$W$5)-20<F8,F14="―"),"✕",INDEX(定義!$R:$R,MATCH(休日取得計画表・休日取得実績表!F8,定義!$M:$M,),))} -> ✕ | G11: {=IF(OR(G8<$O$5,MIN($I$5,$W$5)-20<G8,G14="―"),"✕",INDEX(定義!$R:$R,MATCH(休日取得計画表・休日取得実績表!G8,定義!$M:$M,),))} -> ✕ | H11: {=IF(OR(H8<$O$5,MIN($I$5,$W$5)-20<H8,H14="―"),"✕",INDEX(定義!$R:$R,MATCH(休日取得計画表・休日取得実績表!H8,定義!$M:$M,),))} -> ✕ | I11: {=IF(OR(I8<$O$5,MIN($I$5,$W$5)-20<I8,I14="―"),"✕",INDEX(定義!$R:$R,MATCH(休日取得計画表・休日取得実績表!I8,定義!$M:$M,),))} -> ✕ | J11: {=IF(OR(J8<$O$5,MIN($I$5,$W$5)-20<J8,J14="―"),"✕",INDEX(定義!$R:$R,MATCH(休日取得計画表・休日取得実績表!J8,定義!$M:$M,),))} -> ✕ | ... AG11: {=IF(OR(AG8<$O$5,MIN($I$5,$W$5)-20<AG8,AG14="―"),"✕",INDEX(定義!$R:$R,MATCH(休日取得計画表・休日取得実績表!AG8,定義!$M:$M,),))} -> ✕
B12: 行事 | C12: {=IFERROR(INDEX(定義!$Q:$Q,MATCH(休日取得計画表・休日取得実績表!C8,定義!$M:$M,),),"")} | D12: {=IFERROR(INDEX(定義!$Q:$Q,MATCH(休日取得計画表・休日取得実績表!D8,定義!$M:$M,),),"")} | E12: {=IFERROR(INDEX(定義!$Q:$Q,MATCH(休日取得計画表・休日取得実績表!E8,定義!$M:$M,),),"")} | F12: {=IFERROR(INDEX(定義!$Q:$Q,MATCH(休日取得計画表・休日取得実績表!F8,定義!$M:$M,),),"")} | G12: {=IFERROR(INDEX(定義!$Q:$Q,MATCH(休日取得計画表・休日取得実績表!G8,定義!$M:$M,),),"")} | H12: {=IFERROR(INDEX(定義!$Q:$Q,MATCH(休日取得計画表・休日取得実績表!H8,定義!$M:$M,),),"")} | I12: {=IFERROR(INDEX(定義!$Q:$Q,MATCH(休日取得計画表・休日取得実績表!I8,定義!$M:$M,),),"")} | J12: {=IFERROR(INDEX(定義!$Q:$Q,MATCH(休日取得計画表・休日取得実績表!J8,定義!$M:$M,),),"")} | ... AG12: {=IFERROR(INDEX(定義!$Q:$Q,MATCH(休日取得計画表・休日取得実績表!AG8,定義!$M:$M,),),"")}
B13: =IF($F$3="受注者希望型","－","休日 計画") -> 休日 計画 | AH13: =AK13 -> 0 | AI13: =AL13 -> 0 | AK13: =COUNTIFS(C13:AG13,"○",C10:AG10,"<>✕") -> 0 | AL13: =SUM(AK$7:AK14) -> 0 | AM13: =SUM(C10:AG10) -> 0 | AN13: =SUM(AM$7:AM14) -> 0 | AO13: =COUNTIFS(C14:AG14,"○",C11:AG11,"<>✕") -> 0 | AP13: =SUM(AO$7:AO14) -> 0 | AQ13: =SUM(C11:AG11) -> 0 | AR13: =SUM(AQ$7:AQ14) -> 0
B14: 休日 実績 | AH14: =AO13 -> 0 | AI14: =AP13 -> 0
B16: 月 | C16: =DATE(YEAR($C$7),MONTH($C$7)+COUNTIF($B$7:B16,"月")-1,1) -> 32 | AH16: 月計 | AI16: 累計 | AK16: 計画時点 | AO16: 実績
B17: 日 | C17: =+C16 -> 32 | D17: =IFERROR(IF(MONTH(C17+1)=MONTH($C16),C17+1,""),"") -> 33 | E17: =IFERROR(IF(MONTH(D17+1)=MONTH($C16),D17+1,""),"") -> 34 | F17: =IFERROR(IF(MONTH(E17+1)=MONTH($C16),E17+1,""),"") -> 35 | G17: =IFERROR(IF(MONTH(F17+1)=MONTH($C16),F17+1,""),"") -> 36 | H17: =IFERROR(IF(MONTH(G17+1)=MONTH($C16),G17+1,""),"") -> 37 | I17: =IFERROR(IF(MONTH(H17+1)=MONTH($C16),H17+1,""),"") -> 38 | J17: =IFERROR(IF(MONTH(I17+1)=MONTH($C16),I17+1,""),"") -> 39 | K17: =IFERROR(IF(MONTH(J17+1)=MONTH($C16),J17+1,""),"") -> 40 | ... AG17: =IFERROR(IF(MONTH(AF17+1)=MONTH($C16),AF17+1,""),"") | AK17: 計画休日数（月計） | AL17: 計画休日数（累計） | AM17: 必要現場閉所日（月計） | AN17: 必要現場閉所日（累計） | AO17: 実績休日数（月計） | AP17: 実績休日数（累計） | AQ17: 必要現場閉所日（月計） | AR17: 必要現場閉所日（累計）
B18: 曜日 | C18: =IF(C17="","",IF(COUNTIF(祝日,C17)>0,"祝",IF(COUNTIF(夏季休暇,C17)+COUNTIF(年末年始,C17)>0,"休",TEXT(C17,"aaa")))) -> 水 | D18: =IF(D17="","",IF(COUNTIF(祝日,D17)>0,"祝",IF(COUNTIF(夏季休暇,D17)+COUNTIF(年末年始,D17)>0,"休",TEXT(D17,"aaa")))) -> 木 | E18: =IF(E17="","",IF(COUNTIF(祝日,E17)>0,"祝",IF(COUNTIF(夏季休暇,E17)+COUNTIF(年末年始,E17)>0,"休",TEXT(E17,"aaa")))) -> 金 | F18: =IF(F17="","",IF(COUNTIF(祝日,F17)>0,"祝",IF(COUNTIF(夏季休暇,F17)+COUNTIF(年末年始,F17)>0,"休",TEXT(F17,"aaa")))) -> 土 | G18: =IF(G17="","",IF(COUNTIF(祝日,G17)>0,"祝",IF(COUNTIF(夏季休暇,G17)+COUNTIF(年末年始,G17)>0,"休",TEXT(G17,"aaa")))) -> 日 | H18: =IF(H17="","",IF(COUNTIF(祝日,H17)>0,"祝",IF(COUNTIF(夏季休暇,H17)+COUNTIF(年末年始,H17)>0,"休",TEXT(H17,"aaa")))) -> 月 | I18: =IF(I17="","",IF(COUNTIF(祝日,I17)>0,"祝",IF(COUNTIF(夏季休暇,I17)+COUNTIF(年末年始,I17)>0,"休",TEXT(I17,"aaa")))) -> 火 | J18: =IF(J17="","",IF(COUNTIF(祝日,J17)>0,"祝",IF(COUNTIF(夏季休暇,J17)+COUNTIF(年末年始,J17)>0,"休",TEXT(J17,"aaa")))) -> 水 | ... AG18: =IF(AG17="","",IF(COUNTIF(祝日,AG17)>0,"祝",IF(COUNTIF(夏季休暇,AG17)+COUNTIF(年末年始,AG17)>0,"休",TEXT(AG17,"aaa")))) | AH18: ○計 | AI18: ○計
B19: 対象期間 | C19: {=IF(OR(C17<$O$5,MIN($I$5,$W$5)-20<C17,C22="―"),"✕",INDEX(定義!$R:$R,MATCH(休日取得計画表・休日取得実績表!C17,定義!$M:$M,),))} -> ✕ | D19: {=IF(OR(D17<$O$5,MIN($I$5,$W$5)-20<D17,D22="―"),"✕",INDEX(定義!$R:$R,MATCH(休日取得計画表・休日取得実績表!D17,定義!$M:$M,),))} -> ✕ | E19: {=IF(OR(E17<$O$5,MIN($I$5,$W$5)-20<E17,E22="―"),"✕",INDEX(定義!$R:$R,MATCH(休日取得計画表・休日取得実績表!E17,定義!$M:$M,),))} -> ✕ | F19: {=IF(OR(F17<$O$5,MIN($I$5,$W$5)-20<F17,F22="―"),"✕",INDEX(定義!$R:$R,MATCH(休日取得計画表・休日取得実績表!F17,定義!$M:$M,),))} -> ✕ | G19: {=IF(OR(G17<$O$5,MIN($I$5,$W$5)-20<G17,G22="―"),"✕",INDEX(定義!$R:$R,MATCH(休日取得計画表・休日取得実績表!G17,定義!$M:$M,),))} -> ✕ | H19: {=IF(OR(H17<$O$5,MIN($I$5,$W$5)-20<H17,H22="―"),"✕",INDEX(定義!$R:$R,MATCH(休日取得計画表・休日取得実績表!H17,定義!$M:$M,),))} -> ✕ | I19: {=IF(OR(I17<$O$5,MIN($I$5,$W$5)-20<I17,I22="―"),"✕",INDEX(定義!$R:$R,MATCH(休日取得計画表・休日取得実績表!I17,定義!$M:$M,),))} -> ✕ | J19: {=IF(OR(J17<$O$5,MIN($I$5,$W$5)-20<J17,J22="―"),"✕",INDEX(定義!$R:$R,MATCH(休日取得計画表・休日取得実績表!J17,定義!$M:$M,),))} -> ✕ | ... AG19: {=IF(OR(AG17<$O$5,MIN($I$5,$W$5)-20<AG17,AG22="―"),"✕",INDEX(定義!$R:$R,MATCH(休日取得計画表・休日取得実績表!AG17,定義!$M:$M,),))} -> ✕
B20: 対象期間 | C20: {=IF(OR(C17<$O$5,MIN($I$5,$W$5)-20<C17,C23="―"),"✕",INDEX(定義!$R:$R,MATCH(休日取得計画表・休日取得実績表!C17,定義!$M:$M,),))} -> ✕ | D20: {=IF(OR(D17<$O$5,MIN($I$5,$W$5)-20<D17,D23="―"),"✕",INDEX(定義!$R:$R,MATCH(休日取得計画表・休日取得実績表!D17,定義!$M:$M,),))} -> ✕ | E20: {=IF(OR(E17<$O$5,MIN($I$5,$W$5)-20<E17,E23="―"),"✕",INDEX(定義!$R:$R,MATCH(休日取得計画表・休日取得実績表!E17,定義!$M:$M,),))} -> ✕ | F20: {=IF(OR(F17<$O$5,MIN($I$5,$W$5)-20<F17,F23="―"),"✕",INDEX(定義!$R:$R,MATCH(休日取得計画表・休日取得実績表!F17,定義!$M:$M,),))} -> ✕ | G20: {=IF(OR(G17<$O$5,MIN($I$5,$W$5)-20<G17,G23="―"),"✕",INDEX(定義!$R:$R,MATCH(休日取得計画表・休日取得実績表!G17,定義!$M:$M,),))} -> ✕ | H20: {=IF(OR(H17<$O$5,MIN($I$5,$W$5)-20<H17,H23="―"),"✕",INDEX(定義!$R:$R,MATCH(休日取得計画表・休日取得実績表!H17,定義!$M:$M,),))} -> ✕ | I20: {=IF(OR(I17<$O$5,MIN($I$5,$W$5)-20<I17,I23="―"),"✕",INDEX(定義!$R:$R,MATCH(休日取得計画表・休日取得実績表!I17,定義!$M:$M,),))} -> ✕ | J20: {=IF(OR(J17<$O$5,MIN($I$5,$W$5)-20<J17,J23="―"),"✕",INDEX(定義!$R:$R,MATCH(休日取得計画表・休日取得実績表!J17,定義!$M:$M,),))} -> ✕ | ... AG20: {=IF(OR(AG17<$O$5,MIN($I$5,$W$5)-20<AG17,AG23="―"),"✕",INDEX(定義!$R:$R,MATCH(休日取得計画表・休日取得実績表!AG17,定義!$M:$M,),))} -> ✕
B21: 行事 | C21: {=IFERROR(INDEX(定義!$Q:$Q,MATCH(休日取得計画表・休日取得実績表!C17,定義!$M:$M,),),"")} | D21: {=IFERROR(INDEX(定義!$Q:$Q,MATCH(休日取得計画表・休日取得実績表!D17,定義!$M:$M,),),"")} | E21: {=IFERROR(INDEX(定義!$Q:$Q,MATCH(休日取得計画表・休日取得実績表!E17,定義!$M:$M,),),"")} | F21: {=IFERROR(INDEX(定義!$Q:$Q,MATCH(休日取得計画表・休日取得実績表!F17,定義!$M:$M,),),"")} | G21: {=IFERROR(INDEX(定義!$Q:$Q,MATCH(休日取得計画表・休日取得実績表!G17,定義!$M:$M,),),"")} | H21: {=IFERROR(INDEX(定義!$Q:$Q,MATCH(休日取得計画表・休日取得実績表!H17,定義!$M:$M,),),"")} | I21: {=IFERROR(INDEX(定義!$Q:$Q,MATCH(休日取得計画表・休日取得実績表!I17,定義!$M:$M,),),"")} | J21: {=IFERROR(INDEX(定義!$Q:$Q,MATCH(休日取得計画表・休日取得実績表!J17,定義!$M:$M,),),"")} | ... AG21: {=IFERROR(INDEX(定義!$Q:$Q,MATCH(休日取得計画表・休日取得実績表!AG17,定義!$M:$M,),),"")}
B22: =IF($F$3="受注者希望型","－","休日 計画") -> 休日 計画 | AH22: =AK22 -> 0 | AI22: =AL22 -> 0 | AK22: =COUNTIFS(C22:AG22,"○",C19:AG19,"<>✕") -> 0 | AL22: =SUM(AK$7:AK23) -> 0 | AM22: =SUM(C19:AG19) -> 0 | AN22: =SUM(AM$7:AM23) -> 0 | AO22: =COUNTIFS(C23:AG23,"○",C20:AG20,"<>✕") -> 0 | AP22: =SUM(AO$7:AO23) -> 0 | AQ22: =SUM(C20:AG20) -> 0 | AR22: =SUM(AQ$7:AQ23) -> 0
B23: 休日 実績 | AH23: =AO22 -> 0 | AI23: =AP22 -> 0
B25: 月 | C25: =DATE(YEAR($C$7),MONTH($C$7)+COUNTIF($B$7:B25,"月")-1,1) -> 61 | AH25: 月計 | AI25: 累計 | AK25: 計画時点 | AO25: 実績
B26: 日 | C26: =+C25 -> 61 | D26: =IFERROR(IF(MONTH(C26+1)=MONTH($C25),C26+1,""),"") -> 62 | E26: =IFERROR(IF(MONTH(D26+1)=MONTH($C25),D26+1,""),"") -> 63 | F26: =IFERROR(IF(MONTH(E26+1)=MONTH($C25),E26+1,""),"") -> 64 | G26: =IFERROR(IF(MONTH(F26+1)=MONTH($C25),F26+1,""),"") -> 65 | H26: =IFERROR(IF(MONTH(G26+1)=MONTH($C25),G26+1,""),"") -> 66 | I26: =IFERROR(IF(MONTH(H26+1)=MONTH($C25),H26+1,""),"") -> 67 | J26: =IFERROR(IF(MONTH(I26+1)=MONTH($C25),I26+1,""),"") -> 68 | K26: =IFERROR(IF(MONTH(J26+1)=MONTH($C25),J26+1,""),"") -> 69 | ... AG26: =IFERROR(IF(MONTH(AF26+1)=MONTH($C25),AF26+1,""),"") -> 91 | AK26: 計画休日数（月計） | AL26: 計画休日数（累計） | AM26: 必要現場閉所日（月計） | AN26: 必要現場閉所日（累計） | AO26: 実績休日数（月計） | AP26: 実績休日数（累計） | AQ26: 必要現場閉所日（月計） | AR26: 必要現場閉所日（累計）
B27: 曜日 | C27: =IF(C26="","",IF(COUNTIF(祝日,C26)>0,"祝",IF(COUNTIF(夏季休暇,C26)+COUNTIF(年末年始,C26)>0,"休",TEXT(C26,"aaa")))) -> 木 | D27: =IF(D26="","",IF(COUNTIF(祝日,D26)>0,"祝",IF(COUNTIF(夏季休暇,D26)+COUNTIF(年末年始,D26)>0,"休",TEXT(D26,"aaa")))) -> 金 | E27: =IF(E26="","",IF(COUNTIF(祝日,E26)>0,"祝",IF(COUNTIF(夏季休暇,E26)+COUNTIF(年末年始,E26)>0,"休",TEXT(E26,"aaa")))) -> 土 | F27: =IF(F26="","",IF(COUNTIF(祝日,F26)>0,"祝",IF(COUNTIF(夏季休暇,F26)+COUNTIF(年末年始,F26)>0,"休",TEXT(F26,"aaa")))) -> 日 | G27: =IF(G26="","",IF(COUNTIF(祝日,G26)>0,"祝",IF(COUNTIF(夏季休暇,G26)+COUNTIF(年末年始,G26)>0,"休",TEXT(G26,"aaa")))) -> 月 | H27: =IF(H26="","",IF(COUNTIF(祝日,H26)>0,"祝",IF(COUNTIF(夏季休暇,H26)+COUNTIF(年末年始,H26)>0,"休",TEXT(H26,"aaa")))) -> 火 | I27: =IF(I26="","",IF(COUNTIF(祝日,I26)>0,"祝",IF(COUNTIF(夏季休暇,I26)+COUNTIF(年末年始,I26)>0,"休",TEXT(I26,"aaa")))) -> 水 | J27: =IF(J26="","",IF(COUNTIF(祝日,J26)>0,"祝",IF(COUNTIF(夏季休暇,J26)+COUNTIF(年末年始,J26)>0,"休",TEXT(J26,"aaa")))) -> 木 | ... AG27: =IF(AG26="","",IF(COUNTIF(祝日,AG26)>0,"祝",IF(COUNTIF(夏季休暇,AG26)+COUNTIF(年末年始,AG26)>0,"休",TEXT(AG26,"aaa")))) -> 土 | AH27: ○計 | AI27: ○計
B28: 対象期間 | C28: {=IF(OR(C26<$O$5,MIN($I$5,$W$5)-20<C26,C31="―"),"✕",INDEX(定義!$R:$R,MATCH(休日取得計画表・休日取得実績表!C26,定義!$M:$M,),))} -> ✕ | D28: {=IF(OR(D26<$O$5,MIN($I$5,$W$5)-20<D26,D31="―"),"✕",INDEX(定義!$R:$R,MATCH(休日取得計画表・休日取得実績表!D26,定義!$M:$M,),))} -> ✕ | E28: {=IF(OR(E26<$O$5,MIN($I$5,$W$5)-20<E26,E31="―"),"✕",INDEX(定義!$R:$R,MATCH(休日取得計画表・休日取得実績表!E26,定義!$M:$M,),))} -> ✕ | F28: {=IF(OR(F26<$O$5,MIN($I$5,$W$5)-20<F26,F31="―"),"✕",INDEX(定義!$R:$R,MATCH(休日取得計画表・休日取得実績表!F26,定義!$M:$M,),))} -> ✕ | G28: {=IF(OR(G26<$O$5,MIN($I$5,$W$5)-20<G26,G31="―"),"✕",INDEX(定義!$R:$R,MATCH(休日取得計画表・休日取得実績表!G26,定義!$M:$M,),))} -> ✕ | H28: {=IF(OR(H26<$O$5,MIN($I$5,$W$5)-20<H26,H31="―"),"✕",INDEX(定義!$R:$R,MATCH(休日取得計画表・休日取得実績表!H26,定義!$M:$M,),))} -> ✕ | I28: {=IF(OR(I26<$O$5,MIN($I$5,$W$5)-20<I26,I31="―"),"✕",INDEX(定義!$R:$R,MATCH(休日取得計画表・休日取得実績表!I26,定義!$M:$M,),))} -> ✕ | J28: {=IF(OR(J26<$O$5,MIN($I$5,$W$5)-20<J26,J31="―"),"✕",INDEX(定義!$R:$R,MATCH(休日取得計画表・休日取得実績表!J26,定義!$M:$M,),))} -> ✕ | ... AG28: {=IF(OR(AG26<$O$5,MIN($I$5,$W$5)-20<AG26,AG31="―"),"✕",INDEX(定義!$R:$R,MATCH(休日取得計画表・休日取得実績表!AG26,定義!$M:$M,),))} -> ✕
B29: 対象期間 | C29: {=IF(OR(C26<$O$5,MIN($I$5,$W$5)-20<C26,C32="―"),"✕",INDEX(定義!$R:$R,MATCH(休日取得計画表・休日取得実績表!C26,定義!$M:$M,),))} -> ✕ | D29: {=IF(OR(D26<$O$5,MIN($I$5,$W$5)-20<D26,D32="―"),"✕",INDEX(定義!$R:$R,MATCH(休日取得計画表・休日取得実績表!D26,定義!$M:$M,),))} -> ✕ | E29: {=IF(OR(E26<$O$5,MIN($I$5,$W$5)-20<E26,E32="―"),"✕",INDEX(定義!$R:$R,MATCH(休日取得計画表・休日取得実績表!E26,定義!$M:$M,),))} -> ✕ | F29: {=IF(OR(F26<$O$5,MIN($I$5,$W$5)-20<F26,F32="―"),"✕",INDEX(定義!$R:$R,MATCH(休日取得計画表・休日取得実績表!F26,定義!$M:$M,),))} -> ✕ | G29: {=IF(OR(G26<$O$5,MIN($I$5,$W$5)-20<G26,G32="―"),"✕",INDEX(定義!$R:$R,MATCH(休日取得計画表・休日取得実績表!G26,定義!$M:$M,),))} -> ✕ | H29: {=IF(OR(H26<$O$5,MIN($I$5,$W$5)-20<H26,H32="―"),"✕",INDEX(定義!$R:$R,MATCH(休日取得計画表・休日取得実績表!H26,定義!$M:$M,),))} -> ✕ | I29: {=IF(OR(I26<$O$5,MIN($I$5,$W$5)-20<I26,I32="―"),"✕",INDEX(定義!$R:$R,MATCH(休日取得計画表・休日取得実績表!I26,定義!$M:$M,),))} -> ✕ | J29: {=IF(OR(J26<$O$5,MIN($I$5,$W$5)-20<J26,J32="―"),"✕",INDEX(定義!$R:$R,MATCH(休日取得計画表・休日取得実績表!J26,定義!$M:$M,),))} -> ✕ | ... AG29: {=IF(OR(AG26<$O$5,MIN($I$5,$W$5)-20<AG26,AG32="―"),"✕",INDEX(定義!$R:$R,MATCH(休日取得計画表・休日取得実績表!AG26,定義!$M:$M,),))} -> ✕
B30: 行事 | C30: {=IFERROR(INDEX(定義!$Q:$Q,MATCH(休日取得計画表・休日取得実績表!C26,定義!$M:$M,),),"")} | D30: {=IFERROR(INDEX(定義!$Q:$Q,MATCH(休日取得計画表・休日取得実績表!D26,定義!$M:$M,),),"")} | E30: {=IFERROR(INDEX(定義!$Q:$Q,MATCH(休日取得計画表・休日取得実績表!E26,定義!$M:$M,),),"")} | F30: {=IFERROR(INDEX(定義!$Q:$Q,MATCH(休日取得計画表・休日取得実績表!F26,定義!$M:$M,),),"")} | G30: {=IFERROR(INDEX(定義!$Q:$Q,MATCH(休日取得計画表・休日取得実績表!G26,定義!$M:$M,),),"")} | H30: {=IFERROR(INDEX(定義!$Q:$Q,MATCH(休日取得計画表・休日取得実績表!H26,定義!$M:$M,),),"")} | I30: {=IFERROR(INDEX(定義!$Q:$Q,MATCH(休日取得計画表・休日取得実績表!I26,定義!$M:$M,),),"")} | J30: {=IFERROR(INDEX(定義!$Q:$Q,MATCH(休日取得計画表・休日取得実績表!J26,定義!$M:$M,),),"")} | ... AG30: {=IFERROR(INDEX(定義!$Q:$Q,MATCH(休日取得計画表・休日取得実績表!AG26,定義!$M:$M,),),"")}
B31: =IF($F$3="受注者希望型","－","休日 計画") -> 休日 計画 | AH31: =AK31 -> 0 | AI31: =AL31 -> 0 | AK31: =COUNTIFS(C31:AG31,"○",C28:AG28,"<>✕") -> 0 | AL31: =SUM(AK$7:AK32) -> 0 | AM31: =SUM(C28:AG28) -> 0 | AN31: =SUM(AM$7:AM32) -> 0 | AO31: =COUNTIFS(C32:AG32,"○",C29:AG29,"<>✕") -> 0 | AP31: =SUM(AO$7:AO32) -> 0 | AQ31: =SUM(C29:AG29) -> 0 | AR31: =SUM(AQ$7:AQ32) -> 0
B32: 休日 実績 | AH32: =AO31 -> 0 | AI32: =AP31 -> 0
B34: 月 | C34: =DATE(YEAR($C$7),MONTH($C$7)+COUNTIF($B$7:B34,"月")-1,1) -> 92 | AH34: 月計 | AI34: 累計 | AK34: 計画時点 | AO34: 実績
B35: 日 | C35: =+C34 -> 92 | D35: =IFERROR(IF(MONTH(C35+1)=MONTH($C34),C35+1,""),"") -> 93 | E35: =IFERROR(IF(MONTH(D35+1)=MONTH($C34),D35+1,""),"") -> 94 | F35: =IFERROR(IF(MONTH(E35+1)=MONTH($C34),E35+1,""),"") -> 95 | G35: =IFERROR(IF(MONTH(F35+1)=MONTH($C34),F35+1,""),"") -> 96 | H35: =IFERROR(IF(MONTH(G35+1)=MONTH($C34),G35+1,""),"") -> 97 | I35: =IFERROR(IF(MONTH(H35+1)=MONTH($C34),H35+1,""),"") -> 98 | J35: =IFERROR(IF(MONTH(I35+1)=MONTH($C34),I35+1,""),"") -> 99 | K35: =IFERROR(IF(MONTH(J35+1)=MONTH($C34),J35+1,""),"") -> 100 | ... AG35: =IFERROR(IF(MONTH(AF35+1)=MONTH($C34),AF35+1,""),"") | AK35: 計画休日数（月計） | AL35: 計画休日数（累計） | AM35: 必要現場閉所日（月計） | AN35: 必要現場閉所日（累計） | AO35: 実績休日数（月計） | AP35: 実績休日数（累計） | AQ35: 必要現場閉所日（月計） | AR35: 必要現場閉所日（累計）
B36: 曜日 | C36: =IF(C35="","",IF(COUNTIF(祝日,C35)>0,"祝",IF(COUNTIF(夏季休暇,C35)+COUNTIF(年末年始,C35)>0,"休",TEXT(C35,"aaa")))) -> 日 | D36: =IF(D35="","",IF(COUNTIF(祝日,D35)>0,"祝",IF(COUNTIF(夏季休暇,D35)+COUNTIF(年末年始,D35)>0,"休",TEXT(D35,"aaa")))) -> 月 | E36: =IF(E35="","",IF(COUNTIF(祝日,E35)>0,"祝",IF(COUNTIF(夏季休暇,E35)+COUNTIF(年末年始,E35)>0,"休",TEXT(E35,"aaa")))) -> 火 | F36: =IF(F35="","",IF(COUNTIF(祝日,F35)>0,"祝",IF(COUNTIF(夏季休暇,F35)+COUNTIF(年末年始,F35)>0,"休",TEXT(F35,"aaa")))) -> 水 | G36: =IF(G35="","",IF(COUNTIF(祝日,G35)>0,"祝",IF(COUNTIF(夏季休暇,G35)+COUNTIF(年末年始,G35)>0,"休",TEXT(G35,"aaa")))) -> 木 | H36: =IF(H35="","",IF(COUNTIF(祝日,H35)>0,"祝",IF(COUNTIF(夏季休暇,H35)+COUNTIF(年末年始,H35)>0,"休",TEXT(H35,"aaa")))) -> 金 | I36: =IF(I35="","",IF(COUNTIF(祝日,I35)>0,"祝",IF(COUNTIF(夏季休暇,I35)+COUNTIF(年末年始,I35)>0,"休",TEXT(I35,"aaa")))) -> 土 | J36: =IF(J35="","",IF(COUNTIF(祝日,J35)>0,"祝",IF(COUNTIF(夏季休暇,J35)+COUNTIF(年末年始,J35)>0,"休",TEXT(J35,"aaa")))) -> 日 | ... AG36: =IF(AG35="","",IF(COUNTIF(祝日,AG35)>0,"祝",IF(COUNTIF(夏季休暇,AG35)+COUNTIF(年末年始,AG35)>0,"休",TEXT(AG35,"aaa")))) | AH36: ○計 | AI36: ○計
B37: 対象期間 | C37: {=IF(OR(C35<$O$5,MIN($I$5,$W$5)-20<C35,C40="―"),"✕",INDEX(定義!$R:$R,MATCH(休日取得計画表・休日取得実績表!C35,定義!$M:$M,),))} -> ✕ | D37: {=IF(OR(D35<$O$5,MIN($I$5,$W$5)-20<D35,D40="―"),"✕",INDEX(定義!$R:$R,MATCH(休日取得計画表・休日取得実績表!D35,定義!$M:$M,),))} -> ✕ | E37: {=IF(OR(E35<$O$5,MIN($I$5,$W$5)-20<E35,E40="―"),"✕",INDEX(定義!$R:$R,MATCH(休日取得計画表・休日取得実績表!E35,定義!$M:$M,),))} -> ✕ | F37: {=IF(OR(F35<$O$5,MIN($I$5,$W$5)-20<F35,F40="―"),"✕",INDEX(定義!$R:$R,MATCH(休日取得計画表・休日取得実績表!F35,定義!$M:$M,),))} -> ✕ | G37: {=IF(OR(G35<$O$5,MIN($I$5,$W$5)-20<G35,G40="―"),"✕",INDEX(定義!$R:$R,MATCH(休日取得計画表・休日取得実績表!G35,定義!$M:$M,),))} -> ✕ | H37: {=IF(OR(H35<$O$5,MIN($I$5,$W$5)-20<H35,H40="―"),"✕",INDEX(定義!$R:$R,MATCH(休日取得計画表・休日取得実績表!H35,定義!$M:$M,),))} -> ✕ | I37: {=IF(OR(I35<$O$5,MIN($I$5,$W$5)-20<I35,I40="―"),"✕",INDEX(定義!$R:$R,MATCH(休日取得計画表・休日取得実績表!I35,定義!$M:$M,),))} -> ✕ | J37: {=IF(OR(J35<$O$5,MIN($I$5,$W$5)-20<J35,J40="―"),"✕",INDEX(定義!$R:$R,MATCH(休日取得計画表・休日取得実績表!J35,定義!$M:$M,),))} -> ✕ | ... AG37: {=IF(OR(AG35<$O$5,MIN($I$5,$W$5)-20<AG35,AG40="―"),"✕",INDEX(定義!$R:$R,MATCH(休日取得計画表・休日取得実績表!AG35,定義!$M:$M,),))} -> ✕
B38: 対象期間 | C38: {=IF(OR(C35<$O$5,MIN($I$5,$W$5)-20<C35,C41="―"),"✕",INDEX(定義!$R:$R,MATCH(休日取得計画表・休日取得実績表!C35,定義!$M:$M,),))} -> ✕ | D38: {=IF(OR(D35<$O$5,MIN($I$5,$W$5)-20<D35,D41="―"),"✕",INDEX(定義!$R:$R,MATCH(休日取得計画表・休日取得実績表!D35,定義!$M:$M,),))} -> ✕ | E38: {=IF(OR(E35<$O$5,MIN($I$5,$W$5)-20<E35,E41="―"),"✕",INDEX(定義!$R:$R,MATCH(休日取得計画表・休日取得実績表!E35,定義!$M:$M,),))} -> ✕ | F38: {=IF(OR(F35<$O$5,MIN($I$5,$W$5)-20<F35,F41="―"),"✕",INDEX(定義!$R:$R,MATCH(休日取得計画表・休日取得実績表!F35,定義!$M:$M,),))} -> ✕ | G38: {=IF(OR(G35<$O$5,MIN($I$5,$W$5)-20<G35,G41="―"),"✕",INDEX(定義!$R:$R,MATCH(休日取得計画表・休日取得実績表!G35,定義!$M:$M,),))} -> ✕ | H38: {=IF(OR(H35<$O$5,MIN($I$5,$W$5)-20<H35,H41="―"),"✕",INDEX(定義!$R:$R,MATCH(休日取得計画表・休日取得実績表!H35,定義!$M:$M,),))} -> ✕ | I38: {=IF(OR(I35<$O$5,MIN($I$5,$W$5)-20<I35,I41="―"),"✕",INDEX(定義!$R:$R,MATCH(休日取得計画表・休日取得実績表!I35,定義!$M:$M,),))} -> ✕ | J38: {=IF(OR(J35<$O$5,MIN($I$5,$W$5)-20<J35,J41="―"),"✕",INDEX(定義!$R:$R,MATCH(休日取得計画表・休日取得実績表!J35,定義!$M:$M,),))} -> ✕ | ... AG38: {=IF(OR(AG35<$O$5,MIN($I$5,$W$5)-20<AG35,AG41="―"),"✕",INDEX(定義!$R:$R,MATCH(休日取得計画表・休日取得実績表!AG35,定義!$M:$M,),))} -> ✕
B39: 行事 | C39: {=IFERROR(INDEX(定義!$Q:$Q,MATCH(休日取得計画表・休日取得実績表!C35,定義!$M:$M,),),"")} | D39: {=IFERROR(INDEX(定義!$Q:$Q,MATCH(休日取得計画表・休日取得実績表!D35,定義!$M:$M,),),"")} | E39: {=IFERROR(INDEX(定義!$Q:$Q,MATCH(休日取得計画表・休日取得実績表!E35,定義!$M:$M,),),"")} | F39: {=IFERROR(INDEX(定義!$Q:$Q,MATCH(休日取得計画表・休日取得実績表!F35,定義!$M:$M,),),"")} | G39: {=IFERROR(INDEX(定義!$Q:$Q,MATCH(休日取得計画表・休日取得実績表!G35,定義!$M:$M,),),"")} | H39: {=IFERROR(INDEX(定義!$Q:$Q,MATCH(休日取得計画表・休日取得実績表!H35,定義!$M:$M,),),"")} | I39: {=IFERROR(INDEX(定義!$Q:$Q,MATCH(休日取得計画表・休日取得実績表!I35,定義!$M:$M,),),"")} | J39: {=IFERROR(INDEX(定義!$Q:$Q,MATCH(休日取得計画表・休日取得実績表!J35,定義!$M:$M,),),"")} | ... AG39: {=IFERROR(INDEX(定義!$Q:$Q,MATCH(休日取得計画表・休日取得実績表!AG35,定義!$M:$M,),),"")}
B40: =IF($F$3="受注者希望型","－","休日 計画") -> 休日 計画 | AH40: =AK40 -> 0 | AI40: =AL40 -> 0 | AK40: =COUNTIFS(C40:AG40,"○",C37:AG37,"<>✕") -> 0 | AL40: =SUM(AK$7:AK41) -> 0 | AM40: =SUM(C37:AG37) -> 0 | AN40: =SUM(AM$7:AM41) -> 0 | AO40: =COUNTIFS(C41:AG41,"○",C38:AG38,"<>✕") -> 0 | AP40: =SUM(AO$7:AO41) -> 0 | AQ40: =SUM(C38:AG38) -> 0 | AR40: =SUM(AQ$7:AQ41) -> 0
B41: 休日 実績 | AH41: =AO40 -> 0 | AI41: =AP40 -> 0
B43: 月 | C43: =DATE(YEAR($C$7),MONTH($C$7)+COUNTIF($B$7:B43,"月")-1,1) -> 122 | AH43: 月計 | AI43: 累計 | AK43: 計画時点 | AO43: 実績
B44: 日 | C44: =+C43 -> 122 | D44: =IFERROR(IF(MONTH(C44+1)=MONTH($C43),C44+1,""),"") -> 123 | E44: =IFERROR(IF(MONTH(D44+1)=MONTH($C43),D44+1,""),"") -> 124 | F44: =IFERROR(IF(MONTH(E44+1)=MONTH($C43),E44+1,""),"") -> 125 | G44: =IFERROR(IF(MONTH(F44+1)=MONTH($C43),F44+1,""),"") -> 126 | H44: =IFERROR(IF(MONTH(G44+1)=MONTH($C43),G44+1,""),"") -> 127 | I44: =IFERROR(IF(MONTH(H44+1)=MONTH($C43),H44+1,""),"") -> 128 | J44: =IFERROR(IF(MONTH(I44+1)=MONTH($C43),I44+1,""),"") -> 129 | K44: =IFERROR(IF(MONTH(J44+1)=MONTH($C43),J44+1,""),"") -> 130 | ... AG44: =IFERROR(IF(MONTH(AF44+1)=MONTH($C43),AF44+1,""),"") -> 152 | AK44: 計画休日数（月計） | AL44: 計画休日数（累計） | AM44: 必要現場閉所日（月計） | AN44: 必要現場閉所日（累計） | AO44: 実績休日数（月計） | AP44: 実績休日数（累計） | AQ44: 必要現場閉所日（月計） | AR44: 必要現場閉所日（累計）
B45: 曜日 | C45: =IF(C44="","",IF(COUNTIF(祝日,C44)>0,"祝",IF(COUNTIF(夏季休暇,C44)+COUNTIF(年末年始,C44)>0,"休",TEXT(C44,"aaa")))) -> 火 | D45: =IF(D44="","",IF(COUNTIF(祝日,D44)>0,"祝",IF(COUNTIF(夏季休暇,D44)+COUNTIF(年末年始,D44)>0,"休",TEXT(D44,"aaa")))) -> 水 | E45: =IF(E44="","",IF(COUNTIF(祝日,E44)>0,"祝",IF(COUNTIF(夏季休暇,E44)+COUNTIF(年末年始,E44)>0,"休",TEXT(E44,"aaa")))) -> 木 | F45: =IF(F44="","",IF(COUNTIF(祝日,F44)>0,"祝",IF(COUNTIF(夏季休暇,F44)+COUNTIF(年末年始,F44)>0,"休",TEXT(F44,"aaa")))) -> 金 | G45: =IF(G44="","",IF(COUNTIF(祝日,G44)>0,"祝",IF(COUNTIF(夏季休暇,G44)+COUNTIF(年末年始,G44)>0,"休",TEXT(G44,"aaa")))) -> 土 | H45: =IF(H44="","",IF(COUNTIF(祝日,H44)>0,"祝",IF(COUNTIF(夏季休暇,H44)+COUNTIF(年末年始,H44)>0,"休",TEXT(H44,"aaa")))) -> 日 | I45: =IF(I44="","",IF(COUNTIF(祝日,I44)>0,"祝",IF(COUNTIF(夏季休暇,I44)+COUNTIF(年末年始,I44)>0,"休",TEXT(I44,"aaa")))) -> 月 | J45: =IF(J44="","",IF(COUNTIF(祝日,J44)>0,"祝",IF(COUNTIF(夏季休暇,J44)+COUNTIF(年末年始,J44)>0,"休",TEXT(J44,"aaa")))) -> 火 | ... AG45: =IF(AG44="","",IF(COUNTIF(祝日,AG44)>0,"祝",IF(COUNTIF(夏季休暇,AG44)+COUNTIF(年末年始,AG44)>0,"休",TEXT(AG44,"aaa")))) -> 木 | AH45: ○計 | AI45: ○計
B46: 対象期間 | C46: {=IF(OR(C44<$O$5,MIN($I$5,$W$5)-20<C44,C49="―"),"✕",INDEX(定義!$R:$R,MATCH(休日取得計画表・休日取得実績表!C44,定義!$M:$M,),))} -> ✕ | D46: {=IF(OR(D44<$O$5,MIN($I$5,$W$5)-20<D44,D49="―"),"✕",INDEX(定義!$R:$R,MATCH(休日取得計画表・休日取得実績表!D44,定義!$M:$M,),))} -> ✕ | E46: {=IF(OR(E44<$O$5,MIN($I$5,$W$5)-20<E44,E49="―"),"✕",INDEX(定義!$R:$R,MATCH(休日取得計画表・休日取得実績表!E44,定義!$M:$M,),))} -> ✕ | F46: {=IF(OR(F44<$O$5,MIN($I$5,$W$5)-20<F44,F49="―"),"✕",INDEX(定義!$R:$R,MATCH(休日取得計画表・休日取得実績表!F44,定義!$M:$M,),))} -> ✕ | G46: {=IF(OR(G44<$O$5,MIN($I$5,$W$5)-20<G44,G49="―"),"✕",INDEX(定義!$R:$R,MATCH(休日取得計画表・休日取得実績表!G44,定義!$M:$M,),))} -> ✕ | H46: {=IF(OR(H44<$O$5,MIN($I$5,$W$5)-20<H44,H49="―"),"✕",INDEX(定義!$R:$R,MATCH(休日取得計画表・休日取得実績表!H44,定義!$M:$M,),))} -> ✕ | I46: {=IF(OR(I44<$O$5,MIN($I$5,$W$5)-20<I44,I49="―"),"✕",INDEX(定義!$R:$R,MATCH(休日取得計画表・休日取得実績表!I44,定義!$M:$M,),))} -> ✕ | J46: {=IF(OR(J44<$O$5,MIN($I$5,$W$5)-20<J44,J49="―"),"✕",INDEX(定義!$R:$R,MATCH(休日取得計画表・休日取得実績表!J44,定義!$M:$M,),))} -> ✕ | ... AG46: {=IF(OR(AG44<$O$5,MIN($I$5,$W$5)-20<AG44,AG49="―"),"✕",INDEX(定義!$R:$R,MATCH(休日取得計画表・休日取得実績表!AG44,定義!$M:$M,),))} -> ✕
B47: 対象期間 | C47: {=IF(OR(C44<$O$5,MIN($I$5,$W$5)-20<C44,C50="―"),"✕",INDEX(定義!$R:$R,MATCH(休日取得計画表・休日取得実績表!C44,定義!$M:$M,),))} -> ✕ | D47: {=IF(OR(D44<$O$5,MIN($I$5,$W$5)-20<D44,D50="―"),"✕",INDEX(定義!$R:$R,MATCH(休日取得計画表・休日取得実績表!D44,定義!$M:$M,),))} -> ✕ | E47: {=IF(OR(E44<$O$5,MIN($I$5,$W$5)-20<E44,E50="―"),"✕",INDEX(定義!$R:$R,MATCH(休日取得計画表・休日取得実績表!E44,定義!$M:$M,),))} -> ✕ | F47: {=IF(OR(F44<$O$5,MIN($I$5,$W$5)-20<F44,F50="―"),"✕",INDEX(定義!$R:$R,MATCH(休日取得計画表・休日取得実績表!F44,定義!$M:$M,),))} -> ✕ | G47: {=IF(OR(G44<$O$5,MIN($I$5,$W$5)-20<G44,G50="―"),"✕",INDEX(定義!$R:$R,MATCH(休日取得計画表・休日取得実績表!G44,定義!$M:$M,),))} -> ✕ | H47: {=IF(OR(H44<$O$5,MIN($I$5,$W$5)-20<H44,H50="―"),"✕",INDEX(定義!$R:$R,MATCH(休日取得計画表・休日取得実績表!H44,定義!$M:$M,),))} -> ✕ | I47: {=IF(OR(I44<$O$5,MIN($I$5,$W$5)-20<I44,I50="―"),"✕",INDEX(定義!$R:$R,MATCH(休日取得計画表・休日取得実績表!I44,定義!$M:$M,),))} -> ✕ | J47: {=IF(OR(J44<$O$5,MIN($I$5,$W$5)-20<J44,J50="―"),"✕",INDEX(定義!$R:$R,MATCH(休日取得計画表・休日取得実績表!J44,定義!$M:$M,),))} -> ✕ | ... AG47: {=IF(OR(AG44<$O$5,MIN($I$5,$W$5)-20<AG44,AG50="―"),"✕",INDEX(定義!$R:$R,MATCH(休日取得計画表・休日取得実績表!AG44,定義!$M:$M,),))} -> ✕
B48: 行事 | C48: {=IFERROR(INDEX(定義!$Q:$Q,MATCH(休日取得計画表・休日取得実績表!C44,定義!$M:$M,),),"")} | D48: {=IFERROR(INDEX(定義!$Q:$Q,MATCH(休日取得計画表・休日取得実績表!D44,定義!$M:$M,),),"")} | E48: {=IFERROR(INDEX(定義!$Q:$Q,MATCH(休日取得計画表・休日取得実績表!E44,定義!$M:$M,),),"")} | F48: {=IFERROR(INDEX(定義!$Q:$Q,MATCH(休日取得計画表・休日取得実績表!F44,定義!$M:$M,),),"")} | G48: {=IFERROR(INDEX(定義!$Q:$Q,MATCH(休日取得計画表・休日取得実績表!G44,定義!$M:$M,),),"")} | H48: {=IFERROR(INDEX(定義!$Q:$Q,MATCH(休日取得計画表・休日取得実績表!H44,定義!$M:$M,),),"")} | I48: {=IFERROR(INDEX(定義!$Q:$Q,MATCH(休日取得計画表・休日取得実績表!I44,定義!$M:$M,),),"")} | J48: {=IFERROR(INDEX(定義!$Q:$Q,MATCH(休日取得計画表・休日取得実績表!J44,定義!$M:$M,),),"")} | ... AG48: {=IFERROR(INDEX(定義!$Q:$Q,MATCH(休日取得計画表・休日取得実績表!AG44,定義!$M:$M,),),"")}
B49: =IF($F$3="受注者希望型","－","休日 計画") -> 休日 計画 | AH49: =AK49 -> 0 | AI49: =AL49 -> 0 | AK49: =COUNTIFS(C49:AG49,"○",C46:AG46,"<>✕") -> 0 | AL49: =SUM(AK$7:AK50) -> 0 | AM49: =SUM(C46:AG46) -> 0 | AN49: =SUM(AM$7:AM50) -> 0 | AO49: =COUNTIFS(C50:AG50,"○",C47:AG47,"<>✕") -> 0 | AP49: =SUM(AO$7:AO50) -> 0 | AQ49: =SUM(C47:AG47) -> 0 | AR49: =SUM(AQ$7:AQ50) -> 0
B50: 休日 実績 | AH50: =AO49 -> 0 | AI50: =AP49 -> 0
B52: 月 | C52: =DATE(YEAR($C$7),MONTH($C$7)+COUNTIF($B$7:B52,"月")-1,1) -> 153 | AH52: 月計 | AI52: 累計 | AK52: 計画時点 | AO52: 実績
B53: 日 | C53: =+C52 -> 153 | D53: =IFERROR(IF(MONTH(C53+1)=MONTH($C52),C53+1,""),"") -> 154 | E53: =IFERROR(IF(MONTH(D53+1)=MONTH($C52),D53+1,""),"") -> 155 | F53: =IFERROR(IF(MONTH(E53+1)=MONTH($C52),E53+1,""),"") -> 156 | G53: =IFERROR(IF(MONTH(F53+1)=MONTH($C52),F53+1,""),"") -> 157 | H53: =IFERROR(IF(MONTH(G53+1)=MONTH($C52),G53+1,""),"") -> 158 | I53: =IFERROR(IF(MONTH(H53+1)=MONTH($C52),H53+1,""),"") -> 159 | J53: =IFERROR(IF(MONTH(I53+1)=MONTH($C52),I53+1,""),"") -> 160 | K53: =IFERROR(IF(MONTH(J53+1)=MONTH($C52),J53+1,""),"") -> 161 | ... AG53: =IFERROR(IF(MONTH(AF53+1)=MONTH($C52),AF53+1,""),"") | AK53: 計画休日数（月計） | AL53: 計画休日数（累計） | AM53: 必要現場閉所日（月計） | AN53: 必要現場閉所日（累計） | AO53: 実績休日数（月計） | AP53: 実績休日数（累計） | AQ53: 必要現場閉所日（月計） | AR53: 必要現場閉所日（累計）
B54: 曜日 | C54: =IF(C53="","",IF(COUNTIF(祝日,C53)>0,"祝",IF(COUNTIF(夏季休暇,C53)+COUNTIF(年末年始,C53)>0,"休",TEXT(C53,"aaa")))) -> 金 | D54: =IF(D53="","",IF(COUNTIF(祝日,D53)>0,"祝",IF(COUNTIF(夏季休暇,D53)+COUNTIF(年末年始,D53)>0,"休",TEXT(D53,"aaa")))) -> 土 | E54: =IF(E53="","",IF(COUNTIF(祝日,E53)>0,"祝",IF(COUNTIF(夏季休暇,E53)+COUNTIF(年末年始,E53)>0,"休",TEXT(E53,"aaa")))) -> 日 | F54: =IF(F53="","",IF(COUNTIF(祝日,F53)>0,"祝",IF(COUNTIF(夏季休暇,F53)+COUNTIF(年末年始,F53)>0,"休",TEXT(F53,"aaa")))) -> 月 | G54: =IF(G53="","",IF(COUNTIF(祝日,G53)>0,"祝",IF(COUNTIF(夏季休暇,G53)+COUNTIF(年末年始,G53)>0,"休",TEXT(G53,"aaa")))) -> 火 | H54: =IF(H53="","",IF(COUNTIF(祝日,H53)>0,"祝",IF(COUNTIF(夏季休暇,H53)+COUNTIF(年末年始,H53)>0,"休",TEXT(H53,"aaa")))) -> 水 | I54: =IF(I53="","",IF(COUNTIF(祝日,I53)>0,"祝",IF(COUNTIF(夏季休暇,I53)+COUNTIF(年末年始,I53)>0,"休",TEXT(I53,"aaa")))) -> 木 | J54: =IF(J53="","",IF(COUNTIF(祝日,J53)>0,"祝",IF(COUNTIF(夏季休暇,J53)+COUNTIF(年末年始,J53)>0,"休",TEXT(J53,"aaa")))) -> 金 | ... AG54: =IF(AG53="","",IF(COUNTIF(祝日,AG53)>0,"祝",IF(COUNTIF(夏季休暇,AG53)+COUNTIF(年末年始,AG53)>0,"休",TEXT(AG53,"aaa")))) | AH54: ○計 | AI54: ○計
B55: 対象期間 | C55: {=IF(OR(C53<$O$5,MIN($I$5,$W$5)-20<C53,C58="―"),"✕",INDEX(定義!$R:$R,MATCH(休日取得計画表・休日取得実績表!C53,定義!$M:$M,),))} -> ✕ | D55: {=IF(OR(D53<$O$5,MIN($I$5,$W$5)-20<D53,D58="―"),"✕",INDEX(定義!$R:$R,MATCH(休日取得計画表・休日取得実績表!D53,定義!$M:$M,),))} -> ✕ | E55: {=IF(OR(E53<$O$5,MIN($I$5,$W$5)-20<E53,E58="―"),"✕",INDEX(定義!$R:$R,MATCH(休日取得計画表・休日取得実績表!E53,定義!$M:$M,),))} -> ✕ | F55: {=IF(OR(F53<$O$5,MIN($I$5,$W$5)-20<F53,F58="―"),"✕",INDEX(定義!$R:$R,MATCH(休日取得計画表・休日取得実績表!F53,定義!$M:$M,),))} -> ✕ | G55: {=IF(OR(G53<$O$5,MIN($I$5,$W$5)-20<G53,G58="―"),"✕",INDEX(定義!$R:$R,MATCH(休日取得計画表・休日取得実績表!G53,定義!$M:$M,),))} -> ✕ | H55: {=IF(OR(H53<$O$5,MIN($I$5,$W$5)-20<H53,H58="―"),"✕",INDEX(定義!$R:$R,MATCH(休日取得計画表・休日取得実績表!H53,定義!$M:$M,),))} -> ✕ | I55: {=IF(OR(I53<$O$5,MIN($I$5,$W$5)-20<I53,I58="―"),"✕",INDEX(定義!$R:$R,MATCH(休日取得計画表・休日取得実績表!I53,定義!$M:$M,),))} -> ✕ | J55: {=IF(OR(J53<$O$5,MIN($I$5,$W$5)-20<J53,J58="―"),"✕",INDEX(定義!$R:$R,MATCH(休日取得計画表・休日取得実績表!J53,定義!$M:$M,),))} -> ✕ | ... AG55: {=IF(OR(AG53<$O$5,MIN($I$5,$W$5)-20<AG53,AG58="―"),"✕",INDEX(定義!$R:$R,MATCH(休日取得計画表・休日取得実績表!AG53,定義!$M:$M,),))} -> ✕
B56: 対象期間 | C56: {=IF(OR(C53<$O$5,MIN($I$5,$W$5)-20<C53,C59="―"),"✕",INDEX(定義!$R:$R,MATCH(休日取得計画表・休日取得実績表!C53,定義!$M:$M,),))} -> ✕ | D56: {=IF(OR(D53<$O$5,MIN($I$5,$W$5)-20<D53,D59="―"),"✕",INDEX(定義!$R:$R,MATCH(休日取得計画表・休日取得実績表!D53,定義!$M:$M,),))} -> ✕ | E56: {=IF(OR(E53<$O$5,MIN($I$5,$W$5)-20<E53,E59="―"),"✕",INDEX(定義!$R:$R,MATCH(休日取得計画表・休日取得実績表!E53,定義!$M:$M,),))} -> ✕ | F56: {=IF(OR(F53<$O$5,MIN($I$5,$W$5)-20<F53,F59="―"),"✕",INDEX(定義!$R:$R,MATCH(休日取得計画表・休日取得実績表!F53,定義!$M:$M,),))} -> ✕ | G56: {=IF(OR(G53<$O$5,MIN($I$5,$W$5)-20<G53,G59="―"),"✕",INDEX(定義!$R:$R,MATCH(休日取得計画表・休日取得実績表!G53,定義!$M:$M,),))} -> ✕ | H56: {=IF(OR(H53<$O$5,MIN($I$5,$W$5)-20<H53,H59="―"),"✕",INDEX(定義!$R:$R,MATCH(休日取得計画表・休日取得実績表!H53,定義!$M:$M,),))} -> ✕ | I56: {=IF(OR(I53<$O$5,MIN($I$5,$W$5)-20<I53,I59="―"),"✕",INDEX(定義!$R:$R,MATCH(休日取得計画表・休日取得実績表!I53,定義!$M:$M,),))} -> ✕ | J56: {=IF(OR(J53<$O$5,MIN($I$5,$W$5)-20<J53,J59="―"),"✕",INDEX(定義!$R:$R,MATCH(休日取得計画表・休日取得実績表!J53,定義!$M:$M,),))} -> ✕ | ... AG56: {=IF(OR(AG53<$O$5,MIN($I$5,$W$5)-20<AG53,AG59="―"),"✕",INDEX(定義!$R:$R,MATCH(休日取得計画表・休日取得実績表!AG53,定義!$M:$M,),))} -> ✕
B57: 行事 | C57: {=IFERROR(INDEX(定義!$Q:$Q,MATCH(休日取得計画表・休日取得実績表!C53,定義!$M:$M,),),"")} | D57: {=IFERROR(INDEX(定義!$Q:$Q,MATCH(休日取得計画表・休日取得実績表!D53,定義!$M:$M,),),"")} | E57: {=IFERROR(INDEX(定義!$Q:$Q,MATCH(休日取得計画表・休日取得実績表!E53,定義!$M:$M,),),"")} | F57: {=IFERROR(INDEX(定義!$Q:$Q,MATCH(休日取得計画表・休日取得実績表!F53,定義!$M:$M,),),"")} | G57: {=IFERROR(INDEX(定義!$Q:$Q,MATCH(休日取得計画表・休日取得実績表!G53,定義!$M:$M,),),"")} | H57: {=IFERROR(INDEX(定義!$Q:$Q,MATCH(休日取得計画表・休日取得実績表!H53,定義!$M:$M,),),"")} | I57: {=IFERROR(INDEX(定義!$Q:$Q,MATCH(休日取得計画表・休日取得実績表!I53,定義!$M:$M,),),"")} | J57: {=IFERROR(INDEX(定義!$Q:$Q,MATCH(休日取得計画表・休日取得実績表!J53,定義!$M:$M,),),"")} | ... AG57: {=IFERROR(INDEX(定義!$Q:$Q,MATCH(休日取得計画表・休日取得実績表!AG53,定義!$M:$M,),),"")}
B58: =IF($F$3="受注者希望型","－","休日 計画") -> 休日 計画 | AH58: =AK58 -> 0 | AI58: =AL58 -> 0 | AK58: =COUNTIFS(C58:AG58,"○",C55:AG55,"<>✕") -> 0 | AL58: =SUM(AK$7:AK59) -> 0 | AM58: =SUM(C55:AG55) -> 0 | AN58: =SUM(AM$7:AM59) -> 0 | AO58: =COUNTIFS(C59:AG59,"○",C56:AG56,"<>✕") -> 0 | AP58: =SUM(AO$7:AO59) -> 0 | AQ58: =SUM(C56:AG56) -> 0 | AR58: =SUM(AQ$7:AQ59) -> 0
B59: 休日 実績 | AH59: =AO58 -> 0 | AI59: =AP58 -> 0
B61: 月 | C61: =DATE(YEAR($C$7),MONTH($C$7)+COUNTIF($B$7:B61,"月")-1,1) -> 183 | AH61: 月計 | AI61: 累計 | AK61: 計画時点 | AO61: 実績
B62: 日 | C62: =+C61 -> 183 | D62: =IFERROR(IF(MONTH(C62+1)=MONTH($C61),C62+1,""),"") -> 184 | E62: =IFERROR(IF(MONTH(D62+1)=MONTH($C61),D62+1,""),"") -> 185 | F62: =IFERROR(IF(MONTH(E62+1)=MONTH($C61),E62+1,""),"") -> 186 | G62: =IFERROR(IF(MONTH(F62+1)=MONTH($C61),F62+1,""),"") -> 187 | H62: =IFERROR(IF(MONTH(G62+1)=MONTH($C61),G62+1,""),"") -> 188 | I62: =IFERROR(IF(MONTH(H62+1)=MONTH($C61),H62+1,""),"") -> 189 | J62: =IFERROR(IF(MONTH(I62+1)=MONTH($C61),I62+1,""),"") -> 190 | K62: =IFERROR(IF(MONTH(J62+1)=MONTH($C61),J62+1,""),"") -> 191 | ... AG62: =IFERROR(IF(MONTH(AF62+1)=MONTH($C61),AF62+1,""),"") -> 213 | AK62: 計画休日数（月計） | AL62: 計画休日数（累計） | AM62: 必要現場閉所日（月計） | AN62: 必要現場閉所日（累計） | AO62: 実績休日数（月計） | AP62: 実績休日数（累計） | AQ62: 必要現場閉所日（月計） | AR62: 必要現場閉所日（累計）
B63: 曜日 | C63: =IF(C62="","",IF(COUNTIF(祝日,C62)>0,"祝",IF(COUNTIF(夏季休暇,C62)+COUNTIF(年末年始,C62)>0,"休",TEXT(C62,"aaa")))) -> 日 | D63: =IF(D62="","",IF(COUNTIF(祝日,D62)>0,"祝",IF(COUNTIF(夏季休暇,D62)+COUNTIF(年末年始,D62)>0,"休",TEXT(D62,"aaa")))) -> 月 | E63: =IF(E62="","",IF(COUNTIF(祝日,E62)>0,"祝",IF(COUNTIF(夏季休暇,E62)+COUNTIF(年末年始,E62)>0,"休",TEXT(E62,"aaa")))) -> 火 | F63: =IF(F62="","",IF(COUNTIF(祝日,F62)>0,"祝",IF(COUNTIF(夏季休暇,F62)+COUNTIF(年末年始,F62)>0,"休",TEXT(F62,"aaa")))) -> 水 | G63: =IF(G62="","",IF(COUNTIF(祝日,G62)>0,"祝",IF(COUNTIF(夏季休暇,G62)+COUNTIF(年末年始,G62)>0,"休",TEXT(G62,"aaa")))) -> 木 | H63: =IF(H62="","",IF(COUNTIF(祝日,H62)>0,"祝",IF(COUNTIF(夏季休暇,H62)+COUNTIF(年末年始,H62)>0,"休",TEXT(H62,"aaa")))) -> 金 | I63: =IF(I62="","",IF(COUNTIF(祝日,I62)>0,"祝",IF(COUNTIF(夏季休暇,I62)+COUNTIF(年末年始,I62)>0,"休",TEXT(I62,"aaa")))) -> 土 | J63: =IF(J62="","",IF(COUNTIF(祝日,J62)>0,"祝",IF(COUNTIF(夏季休暇,J62)+COUNTIF(年末年始,J62)>0,"休",TEXT(J62,"aaa")))) -> 日 | ... AG63: =IF(AG62="","",IF(COUNTIF(祝日,AG62)>0,"祝",IF(COUNTIF(夏季休暇,AG62)+COUNTIF(年末年始,AG62)>0,"休",TEXT(AG62,"aaa")))) -> 火 | AH63: ○計 | AI63: ○計
B64: 対象期間 | C64: {=IF(OR(C62<$O$5,MIN($I$5,$W$5)-20<C62,C67="―"),"✕",INDEX(定義!$R:$R,MATCH(休日取得計画表・休日取得実績表!C62,定義!$M:$M,),))} -> ✕ | D64: {=IF(OR(D62<$O$5,MIN($I$5,$W$5)-20<D62,D67="―"),"✕",INDEX(定義!$R:$R,MATCH(休日取得計画表・休日取得実績表!D62,定義!$M:$M,),))} -> ✕ | E64: {=IF(OR(E62<$O$5,MIN($I$5,$W$5)-20<E62,E67="―"),"✕",INDEX(定義!$R:$R,MATCH(休日取得計画表・休日取得実績表!E62,定義!$M:$M,),))} -> ✕ | F64: {=IF(OR(F62<$O$5,MIN($I$5,$W$5)-20<F62,F67="―"),"✕",INDEX(定義!$R:$R,MATCH(休日取得計画表・休日取得実績表!F62,定義!$M:$M,),))} -> ✕ | G64: {=IF(OR(G62<$O$5,MIN($I$5,$W$5)-20<G62,G67="―"),"✕",INDEX(定義!$R:$R,MATCH(休日取得計画表・休日取得実績表!G62,定義!$M:$M,),))} -> ✕ | H64: {=IF(OR(H62<$O$5,MIN($I$5,$W$5)-20<H62,H67="―"),"✕",INDEX(定義!$R:$R,MATCH(休日取得計画表・休日取得実績表!H62,定義!$M:$M,),))} -> ✕ | I64: {=IF(OR(I62<$O$5,MIN($I$5,$W$5)-20<I62,I67="―"),"✕",INDEX(定義!$R:$R,MATCH(休日取得計画表・休日取得実績表!I62,定義!$M:$M,),))} -> ✕ | J64: {=IF(OR(J62<$O$5,MIN($I$5,$W$5)-20<J62,J67="―"),"✕",INDEX(定義!$R:$R,MATCH(休日取得計画表・休日取得実績表!J62,定義!$M:$M,),))} -> ✕ | ... AG64: {=IF(OR(AG62<$O$5,MIN($I$5,$W$5)-20<AG62,AG67="―"),"✕",INDEX(定義!$R:$R,MATCH(休日取得計画表・休日取得実績表!AG62,定義!$M:$M,),))} -> ✕
B65: 対象期間 | C65: {=IF(OR(C62<$O$5,MIN($I$5,$W$5)-20<C62,C68="―"),"✕",INDEX(定義!$R:$R,MATCH(休日取得計画表・休日取得実績表!C62,定義!$M:$M,),))} -> ✕ | D65: {=IF(OR(D62<$O$5,MIN($I$5,$W$5)-20<D62,D68="―"),"✕",INDEX(定義!$R:$R,MATCH(休日取得計画表・休日取得実績表!D62,定義!$M:$M,),))} -> ✕ | E65: {=IF(OR(E62<$O$5,MIN($I$5,$W$5)-20<E62,E68="―"),"✕",INDEX(定義!$R:$R,MATCH(休日取得計画表・休日取得実績表!E62,定義!$M:$M,),))} -> ✕ | F65: {=IF(OR(F62<$O$5,MIN($I$5,$W$5)-20<F62,F68="―"),"✕",INDEX(定義!$R:$R,MATCH(休日取得計画表・休日取得実績表!F62,定義!$M:$M,),))} -> ✕ | G65: {=IF(OR(G62<$O$5,MIN($I$5,$W$5)-20<G62,G68="―"),"✕",INDEX(定義!$R:$R,MATCH(休日取得計画表・休日取得実績表!G62,定義!$M:$M,),))} -> ✕ | H65: {=IF(OR(H62<$O$5,MIN($I$5,$W$5)-20<H62,H68="―"),"✕",INDEX(定義!$R:$R,MATCH(休日取得計画表・休日取得実績表!H62,定義!$M:$M,),))} -> ✕ | I65: {=IF(OR(I62<$O$5,MIN($I$5,$W$5)-20<I62,I68="―"),"✕",INDEX(定義!$R:$R,MATCH(休日取得計画表・休日取得実績表!I62,定義!$M:$M,),))} -> ✕ | J65: {=IF(OR(J62<$O$5,MIN($I$5,$W$5)-20<J62,J68="―"),"✕",INDEX(定義!$R:$R,MATCH(休日取得計画表・休日取得実績表!J62,定義!$M:$M,),))} -> ✕ | ... AG65: {=IF(OR(AG62<$O$5,MIN($I$5,$W$5)-20<AG62,AG68="―"),"✕",INDEX(定義!$R:$R,MATCH(休日取得計画表・休日取得実績表!AG62,定義!$M:$M,),))} -> ✕
B66: 行事 | C66: {=IFERROR(INDEX(定義!$Q:$Q,MATCH(休日取得計画表・休日取得実績表!C62,定義!$M:$M,),),"")} | D66: {=IFERROR(INDEX(定義!$Q:$Q,MATCH(休日取得計画表・休日取得実績表!D62,定義!$M:$M,),),"")} | E66: {=IFERROR(INDEX(定義!$Q:$Q,MATCH(休日取得計画表・休日取得実績表!E62,定義!$M:$M,),),"")} | F66: {=IFERROR(INDEX(定義!$Q:$Q,MATCH(休日取得計画表・休日取得実績表!F62,定義!$M:$M,),),"")} | G66: {=IFERROR(INDEX(定義!$Q:$Q,MATCH(休日取得計画表・休日取得実績表!G62,定義!$M:$M,),),"")} | H66: {=IFERROR(INDEX(定義!$Q:$Q,MATCH(休日取得計画表・休日取得実績表!H62,定義!$M:$M,),),"")} | I66: {=IFERROR(INDEX(定義!$Q:$Q,MATCH(休日取得計画表・休日取得実績表!I62,定義!$M:$M,),),"")} | J66: {=IFERROR(INDEX(定義!$Q:$Q,MATCH(休日取得計画表・休日取得実績表!J62,定義!$M:$M,),),"")} | ... AG66: {=IFERROR(INDEX(定義!$Q:$Q,MATCH(休日取得計画表・休日取得実績表!AG62,定義!$M:$M,),),"")}
B67: =IF($F$3="受注者希望型","－","休日 計画") -> 休日 計画 | AH67: =AK67 -> 0 | AI67: =AL67 -> 0 | AK67: =COUNTIFS(C67:AG67,"○",C64:AG64,"<>✕") -> 0 | AL67: =SUM(AK$7:AK68) -> 0 | AM67: =SUM(C64:AG64) -> 0 | AN67: =SUM(AM$7:AM68) -> 0 | AO67: =COUNTIFS(C68:AG68,"○",C65:AG65,"<>✕") -> 0 | AP67: =SUM(AO$7:AO68) -> 0 | AQ67: =SUM(C65:AG65) -> 0 | AR67: =SUM(AQ$7:AQ68) -> 0
B68: 休日 実績 | AH68: =AO67 -> 0 | AI68: =AP67 -> 0
B70: 月 | C70: =DATE(YEAR($C$7),MONTH($C$7)+COUNTIF($B$7:B70,"月")-1,1) -> 214 | AH70: 月計 | AI70: 累計 | AK70: 計画時点 | AO70: 実績
B71: 日 | C71: =+C70 -> 214 | D71: =IFERROR(IF(MONTH(C71+1)=MONTH($C70),C71+1,""),"") -> 215 | E71: =IFERROR(IF(MONTH(D71+1)=MONTH($C70),D71+1,""),"") -> 216 | F71: =IFERROR(IF(MONTH(E71+1)=MONTH($C70),E71+1,""),"") -> 217 | G71: =IFERROR(IF(MONTH(F71+1)=MONTH($C70),F71+1,""),"") -> 218 | H71: =IFERROR(IF(MONTH(G71+1)=MONTH($C70),G71+1,""),"") -> 219 | I71: =IFERROR(IF(MONTH(H71+1)=MONTH($C70),H71+1,""),"") -> 220 | J71: =IFERROR(IF(MONTH(I71+1)=MONTH($C70),I71+1,""),"") -> 221 | K71: =IFERROR(IF(MONTH(J71+1)=MONTH($C70),J71+1,""),"") -> 222 | ... AG71: =IFERROR(IF(MONTH(AF71+1)=MONTH($C70),AF71+1,""),"") -> 244 | AK71: 計画休日数（月計） | AL71: 計画休日数（累計） | AM71: 必要現場閉所日（月計） | AN71: 必要現場閉所日（累計） | AO71: 実績休日数（月計） | AP71: 実績休日数（累計） | AQ71: 必要現場閉所日（月計） | AR71: 必要現場閉所日（累計）
B72: 曜日 | C72: =IF(C71="","",IF(COUNTIF(祝日,C71)>0,"祝",IF(COUNTIF(夏季休暇,C71)+COUNTIF(年末年始,C71)>0,"休",TEXT(C71,"aaa")))) -> 水 | D72: =IF(D71="","",IF(COUNTIF(祝日,D71)>0,"祝",IF(COUNTIF(夏季休暇,D71)+COUNTIF(年末年始,D71)>0,"休",TEXT(D71,"aaa")))) -> 木 | E72: =IF(E71="","",IF(COUNTIF(祝日,E71)>0,"祝",IF(COUNTIF(夏季休暇,E71)+COUNTIF(年末年始,E71)>0,"休",TEXT(E71,"aaa")))) -> 金 | F72: =IF(F71="","",IF(COUNTIF(祝日,F71)>0,"祝",IF(COUNTIF(夏季休暇,F71)+COUNTIF(年末年始,F71)>0,"休",TEXT(F71,"aaa")))) -> 土 | G72: =IF(G71="","",IF(COUNTIF(祝日,G71)>0,"祝",IF(COUNTIF(夏季休暇,G71)+COUNTIF(年末年始,G71)>0,"休",TEXT(G71,"aaa")))) -> 日 | H72: =IF(H71="","",IF(COUNTIF(祝日,H71)>0,"祝",IF(COUNTIF(夏季休暇,H71)+COUNTIF(年末年始,H71)>0,"休",TEXT(H71,"aaa")))) -> 月 | I72: =IF(I71="","",IF(COUNTIF(祝日,I71)>0,"祝",IF(COUNTIF(夏季休暇,I71)+COUNTIF(年末年始,I71)>0,"休",TEXT(I71,"aaa")))) -> 火 | J72: =IF(J71="","",IF(COUNTIF(祝日,J71)>0,"祝",IF(COUNTIF(夏季休暇,J71)+COUNTIF(年末年始,J71)>0,"休",TEXT(J71,"aaa")))) -> 水 | ... AG72: =IF(AG71="","",IF(COUNTIF(祝日,AG71)>0,"祝",IF(COUNTIF(夏季休暇,AG71)+COUNTIF(年末年始,AG71)>0,"休",TEXT(AG71,"aaa")))) -> 金 | AH72: ○計 | AI72: ○計
B73: 対象期間 | C73: {=IF(OR(C71<$O$5,MIN($I$5,$W$5)-20<C71,C76="―"),"✕",INDEX(定義!$R:$R,MATCH(休日取得計画表・休日取得実績表!C71,定義!$M:$M,),))} -> ✕ | D73: {=IF(OR(D71<$O$5,MIN($I$5,$W$5)-20<D71,D76="―"),"✕",INDEX(定義!$R:$R,MATCH(休日取得計画表・休日取得実績表!D71,定義!$M:$M,),))} -> ✕ | E73: {=IF(OR(E71<$O$5,MIN($I$5,$W$5)-20<E71,E76="―"),"✕",INDEX(定義!$R:$R,MATCH(休日取得計画表・休日取得実績表!E71,定義!$M:$M,),))} -> ✕ | F73: {=IF(OR(F71<$O$5,MIN($I$5,$W$5)-20<F71,F76="―"),"✕",INDEX(定義!$R:$R,MATCH(休日取得計画表・休日取得実績表!F71,定義!$M:$M,),))} -> ✕ | G73: {=IF(OR(G71<$O$5,MIN($I$5,$W$5)-20<G71,G76="―"),"✕",INDEX(定義!$R:$R,MATCH(休日取得計画表・休日取得実績表!G71,定義!$M:$M,),))} -> ✕ | H73: {=IF(OR(H71<$O$5,MIN($I$5,$W$5)-20<H71,H76="―"),"✕",INDEX(定義!$R:$R,MATCH(休日取得計画表・休日取得実績表!H71,定義!$M:$M,),))} -> ✕ | I73: {=IF(OR(I71<$O$5,MIN($I$5,$W$5)-20<I71,I76="―"),"✕",INDEX(定義!$R:$R,MATCH(休日取得計画表・休日取得実績表!I71,定義!$M:$M,),))} -> ✕ | J73: {=IF(OR(J71<$O$5,MIN($I$5,$W$5)-20<J71,J76="―"),"✕",INDEX(定義!$R:$R,MATCH(休日取得計画表・休日取得実績表!J71,定義!$M:$M,),))} -> ✕ | ... AG73: {=IF(OR(AG71<$O$5,MIN($I$5,$W$5)-20<AG71,AG76="―"),"✕",INDEX(定義!$R:$R,MATCH(休日取得計画表・休日取得実績表!AG71,定義!$M:$M,),))} -> ✕
B74: 対象期間 | C74: {=IF(OR(C71<$O$5,MIN($I$5,$W$5)-20<C71,C77="―"),"✕",INDEX(定義!$R:$R,MATCH(休日取得計画表・休日取得実績表!C71,定義!$M:$M,),))} -> ✕ | D74: {=IF(OR(D71<$O$5,MIN($I$5,$W$5)-20<D71,D77="―"),"✕",INDEX(定義!$R:$R,MATCH(休日取得計画表・休日取得実績表!D71,定義!$M:$M,),))} -> ✕ | E74: {=IF(OR(E71<$O$5,MIN($I$5,$W$5)-20<E71,E77="―"),"✕",INDEX(定義!$R:$R,MATCH(休日取得計画表・休日取得実績表!E71,定義!$M:$M,),))} -> ✕ | F74: {=IF(OR(F71<$O$5,MIN($I$5,$W$5)-20<F71,F77="―"),"✕",INDEX(定義!$R:$R,MATCH(休日取得計画表・休日取得実績表!F71,定義!$M:$M,),))} -> ✕ | G74: {=IF(OR(G71<$O$5,MIN($I$5,$W$5)-20<G71,G77="―"),"✕",INDEX(定義!$R:$R,MATCH(休日取得計画表・休日取得実績表!G71,定義!$M:$M,),))} -> ✕ | H74: {=IF(OR(H71<$O$5,MIN($I$5,$W$5)-20<H71,H77="―"),"✕",INDEX(定義!$R:$R,MATCH(休日取得計画表・休日取得実績表!H71,定義!$M:$M,),))} -> ✕ | I74: {=IF(OR(I71<$O$5,MIN($I$5,$W$5)-20<I71,I77="―"),"✕",INDEX(定義!$R:$R,MATCH(休日取得計画表・休日取得実績表!I71,定義!$M:$M,),))} -> ✕ | J74: {=IF(OR(J71<$O$5,MIN($I$5,$W$5)-20<J71,J77="―"),"✕",INDEX(定義!$R:$R,MATCH(休日取得計画表・休日取得実績表!J71,定義!$M:$M,),))} -> ✕ | ... AG74: {=IF(OR(AG71<$O$5,MIN($I$5,$W$5)-20<AG71,AG77="―"),"✕",INDEX(定義!$R:$R,MATCH(休日取得計画表・休日取得実績表!AG71,定義!$M:$M,),))} -> ✕
B75: 行事 | C75: {=IFERROR(INDEX(定義!$Q:$Q,MATCH(休日取得計画表・休日取得実績表!C71,定義!$M:$M,),),"")} | D75: {=IFERROR(INDEX(定義!$Q:$Q,MATCH(休日取得計画表・休日取得実績表!D71,定義!$M:$M,),),"")} | E75: {=IFERROR(INDEX(定義!$Q:$Q,MATCH(休日取得計画表・休日取得実績表!E71,定義!$M:$M,),),"")} | F75: {=IFERROR(INDEX(定義!$Q:$Q,MATCH(休日取得計画表・休日取得実績表!F71,定義!$M:$M,),),"")} | G75: {=IFERROR(INDEX(定義!$Q:$Q,MATCH(休日取得計画表・休日取得実績表!G71,定義!$M:$M,),),"")} | H75: {=IFERROR(INDEX(定義!$Q:$Q,MATCH(休日取得計画表・休日取得実績表!H71,定義!$M:$M,),),"")} | I75: {=IFERROR(INDEX(定義!$Q:$Q,MATCH(休日取得計画表・休日取得実績表!I71,定義!$M:$M,),),"")} | J75: {=IFERROR(INDEX(定義!$Q:$Q,MATCH(休日取得計画表・休日取得実績表!J71,定義!$M:$M,),),"")} | ... AG75: {=IFERROR(INDEX(定義!$Q:$Q,MATCH(休日取得計画表・休日取得実績表!AG71,定義!$M:$M,),),"")}
B76: =IF($F$3="受注者希望型","－","休日 計画") -> 休日 計画 | AH76: =AK76 -> 0 | AI76: =AL76 -> 0 | AK76: =COUNTIFS(C76:AG76,"○",C73:AG73,"<>✕") -> 0 | AL76: =SUM(AK$7:AK77) -> 0 | AM76: =SUM(C73:AG73) -> 0 | AN76: =SUM(AM$7:AM77) -> 0 | AO76: =COUNTIFS(C77:AG77,"○",C74:AG74,"<>✕") -> 0 | AP76: =SUM(AO$7:AO77) -> 0 | AQ76: =SUM(C74:AG74) -> 0 | AR76: =SUM(AQ$7:AQ77) -> 0
B77: 休日 実績 | AH77: =AO76 -> 0 | AI77: =AP76 -> 0

Sheet 定義（記入例用）
A1: 工期 | D1: 祝日 | G1: 夏季休暇 | J1: 年末年始 | N1: 工期 | O1: 休日名 | P1: 改行 | Q1: 表示用 | R1: 必要現場閉所カウント
A2: ='休日取得計画表・休日取得実績表（記入例）'!D5 -> 45789 | B2: 工期始め | D2: 43407 | E2: 文化の日 | G2: 45516 | H2: 夏季休暇 | J2: 祝日のため除去 | K2: 年末年始 | M2: ='休日取得計画表・休日取得実績表（記入例）'!D5 -> 45789 | N2: {=IFERROR(INDEX($B:$B,MATCH($M2,$A:$A,),),"")} -> 工期始め | O2: {=IFERROR(INDEX($E:$E,MATCH($M2,祝日,),),"")&IFERROR(INDEX($H:$H,MATCH($M2,夏季休暇,),),"")&IFERROR(INDEX($K:$K,MATCH($M2,年末年始,),),"")} | P2: =IF(COUNTBLANK(N2:O2)=0,CHAR(10),"") | Q2: =O2&P2&N2 -> 工期始め | R2: =IF(OR(TEXT(M2,"aaa")="土",TEXT(M2,"aaa")="日",O2<>""),1,0) -> 0
A3: ='休日取得計画表・休日取得実績表（記入例）'!O5 -> 45810 | B3: 現場着手 | D3: 43427 | E3: 勤労感謝の日 | G3: 45517 | H3: 夏季休暇 | J3: 45293 | K3: 年末年始 | M3: =IF('定義（記入例用）'!M2+1>'休日取得計画表・休日取得実績表（記入例）'!$I$5,"",'定義（記入例用）'!M2+1) -> 45790 | N3: {=IFERROR(INDEX($B:$B,MATCH($M3,$A:$A,),),"")} | O3: {=IFERROR(INDEX($E:$E,MATCH($M3,祝日,),),"")&IFERROR(INDEX($H:$H,MATCH($M3,夏季休暇,),),"")&IFERROR(INDEX($K:$K,MATCH($M3,年末年始,),),"")} | P3: =IF(COUNTBLANK(N3:O3)=0,CHAR(10),"") | Q3: =O3&P3&N3 | R3: =IF(OR(TEXT(M3,"aaa")="土",TEXT(M3,"aaa")="日",O3<>""),1,0) -> 0
A4: =A5-20 -> 46080 | B4: 対象期間最終日 | D4: 43457 | E4: 天皇誕生日 | G4: 45518 | H4: 夏季休暇 | J4: 45294 | K4: 年末年始 | M4: =IF('定義（記入例用）'!M3+1>'休日取得計画表・休日取得実績表（記入例）'!$I$5,"",'定義（記入例用）'!M3+1) -> 45791 | O4: {=IFERROR(INDEX($E:$E,MATCH($M4,祝日,),),"")&IFERROR(INDEX($H:$H,MATCH($M4,夏季休暇,),),"")&IFERROR(INDEX($K:$K,MATCH($M4,年末年始,),),"")} | P4: =IF(COUNTBLANK(N4:O4)=0,CHAR(10),"") | Q4: =O4&P4&N4 | R4: =IF(OR(TEXT(M4,"aaa")="土",TEXT(M4,"aaa")="日",O4<>""),1,0) -> 0
A5: =MIN('休日取得計画表・休日取得実績表（記入例）'!I5,'休日取得計画表・休日取得実績表（記入例）'!W5) -> 46100 | B5: 工期の末日 | D5: 43458 | E5: 振替休日 | G5: 45881 | H5: 夏季休暇 | J5: 45655 | K5: 年末年始 | M5: =IF('定義（記入例用）'!M4+1>'休日取得計画表・休日取得実績表（記入例）'!$I$5,"",'定義（記入例用）'!M4+1) -> 45792 | N5: {=IFERROR(INDEX($B:$B,MATCH($M5,$A:$A,),),"")} | O5: {=IFERROR(INDEX($E:$E,MATCH($M5,祝日,),),"")&IFERROR(INDEX($H:$H,MATCH($M5,夏季休暇,),),"")&IFERROR(INDEX($K:$K,MATCH($M5,年末年始,),),"")} | P5: =IF(COUNTBLANK(N5:O5)=0,CHAR(10),"") | Q5: =O5&P5&N5 | R5: =IF(OR(TEXT(M5,"aaa")="土",TEXT(M5,"aaa")="日",O5<>""),1,0) -> 0
D6: 43466 | E6: 元日 | G6: 45882 | H6: 夏季休暇 | J6: 45656 | K6: 年末年始 | M6: =IF('定義（記入例用）'!M5+1>'休日取得計画表・休日取得実績表（記入例）'!$I$5,"",'定義（記入例用）'!M5+1) -> 45793 | N6: {=IFERROR(INDEX($B:$B,MATCH($M6,$A:$A,),),"")} | O6: {=IFERROR(INDEX($E:$E,MATCH($M6,祝日,),),"")&IFERROR(INDEX($H:$H,MATCH($M6,夏季休暇,),),"")&IFERROR(INDEX($K:$K,MATCH($M6,年末年始,),),"")} | P6: =IF(COUNTBLANK(N6:O6)=0,CHAR(10),"") | Q6: =O6&P6&N6 | R6: =IF(OR(TEXT(M6,"aaa")="土",TEXT(M6,"aaa")="日",O6<>""),1,0) -> 0
D7: 43479 | E7: 成人の日 | G7: 45883 | H7: 夏季休暇 | J7: 45657 | K7: 年末年始 | M7: =IF('定義（記入例用）'!M6+1>'休日取得計画表・休日取得実績表（記入例）'!$I$5,"",'定義（記入例用）'!M6+1) -> 45794 | N7: {=IFERROR(INDEX($B:$B,MATCH($M7,$A:$A,),),"")} | O7: {=IFERROR(INDEX($E:$E,MATCH($M7,祝日,),),"")&IFERROR(INDEX($H:$H,MATCH($M7,夏季休暇,),),"")&IFERROR(INDEX($K:$K,MATCH($M7,年末年始,),),"")} | P7: =IF(COUNTBLANK(N7:O7)=0,CHAR(10),"") | Q7: =O7&P7&N7 | R7: =IF(OR(TEXT(M7,"aaa")="土",TEXT(M7,"aaa")="日",O7<>""),1,0) -> 1
D8: 43507 | E8: 建国記念の日 | G8: 46246 | H8: 夏季休暇 | J8: 祝日のため除去 | K8: 年末年始 | M8: =IF('定義（記入例用）'!M7+1>'休日取得計画表・休日取得実績表（記入例）'!$I$5,"",'定義（記入例用）'!M7+1) -> 45795 | N8: {=IFERROR(INDEX($B:$B,MATCH($M8,$A:$A,),),"")} | O8: {=IFERROR(INDEX($E:$E,MATCH($M8,祝日,),),"")&IFERROR(INDEX($H:$H,MATCH($M8,夏季休暇,),),"")&IFERROR(INDEX($K:$K,MATCH($M8,年末年始,),),"")} | P8: =IF(COUNTBLANK(N8:O8)=0,CHAR(10),"") | Q8: =O8&P8&N8 | R8: =IF(OR(TEXT(M8,"aaa")="土",TEXT(M8,"aaa")="日",O8<>""),1,0) -> 1
D9: 43545 | E9: 春分の日 | G9: 46247 | H9: 夏季休暇 | J9: 45659 | K9: 年末年始 | M9: =IF('定義（記入例用）'!M8+1>'休日取得計画表・休日取得実績表（記入例）'!$I$5,"",'定義（記入例用）'!M8+1) -> 45796 | N9: {=IFERROR(INDEX($B:$B,MATCH($M9,$A:$A,),),"")} | O9: {=IFERROR(INDEX($E:$E,MATCH($M9,祝日,),),"")&IFERROR(INDEX($H:$H,MATCH($M9,夏季休暇,),),"")&IFERROR(INDEX($K:$K,MATCH($M9,年末年始,),),"")} | P9: =IF(COUNTBLANK(N9:O9)=0,CHAR(10),"") | Q9: =O9&P9&N9 | R9: =IF(OR(TEXT(M9,"aaa")="土",TEXT(M9,"aaa")="日",O9<>""),1,0) -> 0
D10: 43584 | E10: 昭和の日 | G10: 46248 | H10: 夏季休暇 | J10: 45660 | K10: 年末年始 | M10: =IF('定義（記入例用）'!M9+1>'休日取得計画表・休日取得実績表（記入例）'!$I$5,"",'定義（記入例用）'!M9+1) -> 45797 | N10: {=IFERROR(INDEX($B:$B,MATCH($M10,$A:$A,),),"")} | O10: {=IFERROR(INDEX($E:$E,MATCH($M10,祝日,),),"")&IFERROR(INDEX($H:$H,MATCH($M10,夏季休暇,),),"")&IFERROR(INDEX($K:$K,MATCH($M10,年末年始,),),"")} | P10: =IF(COUNTBLANK(N10:O10)=0,CHAR(10),"") | Q10: =O10&P10&N10 | R10: =IF(OR(TEXT(M10,"aaa")="土",TEXT(M10,"aaa")="日",O10<>""),1,0) -> 0
D11: 43585 | E11: 国民の休日 | G11: 46611 | H11: 夏季休暇 | J11: 46020 | K11: 年末年始 | M11: =IF('定義（記入例用）'!M10+1>'休日取得計画表・休日取得実績表（記入例）'!$I$5,"",'定義（記入例用）'!M10+1) -> 45798 | N11: {=IFERROR(INDEX($B:$B,MATCH($M11,$A:$A,),),"")} | O11: {=IFERROR(INDEX($E:$E,MATCH($M11,祝日,),),"")&IFERROR(INDEX($H:$H,MATCH($M11,夏季休暇,),),"")&IFERROR(INDEX($K:$K,MATCH($M11,年末年始,),),"")} | P11: =IF(COUNTBLANK(N11:O11)=0,CHAR(10),"") | Q11: =O11&P11&N11 | R11: =IF(OR(TEXT(M11,"aaa")="土",TEXT(M11,"aaa")="日",O11<>""),1,0) -> 0
D12: 43586 | E12: 天皇の即位の日 | G12: 46612 | H12: 夏季休暇 | J12: 46021 | K12: 年末年始 | M12: =IF('定義（記入例用）'!M11+1>'休日取得計画表・休日取得実績表（記入例）'!$I$5,"",'定義（記入例用）'!M11+1) -> 45799 | N12: {=IFERROR(INDEX($B:$B,MATCH($M12,$A:$A,),),"")} | O12: {=IFERROR(INDEX($E:$E,MATCH($M12,祝日,),),"")&IFERROR(INDEX($H:$H,MATCH($M12,夏季休暇,),),"")&IFERROR(INDEX($K:$K,MATCH($M12,年末年始,),),"")} | P12: =IF(COUNTBLANK(N12:O12)=0,CHAR(10),"") | Q12: =O12&P12&N12 | R12: =IF(OR(TEXT(M12,"aaa")="土",TEXT(M12,"aaa")="日",O12<>""),1,0) -> 0
D13: 43587 | E13: 国民の休日 | G13: 46615 | H13: 夏季休暇 | J13: 46022 | K13: 年末年始 | M13: =IF('定義（記入例用）'!M12+1>'休日取得計画表・休日取得実績表（記入例）'!$I$5,"",'定義（記入例用）'!M12+1) -> 45800 | N13: {=IFERROR(INDEX($B:$B,MATCH($M13,$A:$A,),),"")} | O13: {=IFERROR(INDEX($E:$E,MATCH($M13,祝日,),),"")&IFERROR(INDEX($H:$H,MATCH($M13,夏季休暇,),),"")&IFERROR(INDEX($K:$K,MATCH($M13,年末年始,),),"")} | P13: =IF(COUNTBLANK(N13:O13)=0,CHAR(10),"") | Q13: =O13&P13&N13 | R13: =IF(OR(TEXT(M13,"aaa")="土",TEXT(M13,"aaa")="日",O13<>""),1,0) -> 0
D14: 43588 | E14: 憲法記念日 | G14: 46979 | H14: 夏季休暇 | J14: 祝日のため除去 | K14: 年末年始 | M14: =IF('定義（記入例用）'!M13+1>'休日取得計画表・休日取得実績表（記入例）'!$I$5,"",'定義（記入例用）'!M13+1) -> 45801 | N14: {=IFERROR(INDEX($B:$B,MATCH($M14,$A:$A,),),"")} | O14: {=IFERROR(INDEX($E:$E,MATCH($M14,祝日,),),"")&IFERROR(INDEX($H:$H,MATCH($M14,夏季休暇,),),"")&IFERROR(INDEX($K:$K,MATCH($M14,年末年始,),),"")} | P14: =IF(COUNTBLANK(N14:O14)=0,CHAR(10),"") | Q14: =O14&P14&N14 | R14: =IF(OR(TEXT(M14,"aaa")="土",TEXT(M14,"aaa")="日",O14<>""),1,0) -> 1
D15: 43589 | E15: みどりの日 | G15: 46980 | H15: 夏季休暇 | J15: 46024 | K15: 年末年始 | M15: =IF('定義（記入例用）'!M14+1>'休日取得計画表・休日取得実績表（記入例）'!$I$5,"",'定義（記入例用）'!M14+1) -> 45802 | N15: {=IFERROR(INDEX($B:$B,MATCH($M15,$A:$A,),),"")} | O15: {=IFERROR(INDEX($E:$E,MATCH($M15,祝日,),),"")&IFERROR(INDEX($H:$H,MATCH($M15,夏季休暇,),),"")&IFERROR(INDEX($K:$K,MATCH($M15,年末年始,),),"")} | P15: =IF(COUNTBLANK(N15:O15)=0,CHAR(10),"") | Q15: =O15&P15&N15 | R15: =IF(OR(TEXT(M15,"aaa")="土",TEXT(M15,"aaa")="日",O15<>""),1,0) -> 1
D16: 43590 | E16: こどもの日 | G16: 46981 | H16: 夏季休暇 | J16: 46025 | K16: 年末年始 | M16: =IF('定義（記入例用）'!M15+1>'休日取得計画表・休日取得実績表（記入例）'!$I$5,"",'定義（記入例用）'!M15+1) -> 45803 | N16: {=IFERROR(INDEX($B:$B,MATCH($M16,$A:$A,),),"")} | O16: {=IFERROR(INDEX($E:$E,MATCH($M16,祝日,),),"")&IFERROR(INDEX($H:$H,MATCH($M16,夏季休暇,),),"")&IFERROR(INDEX($K:$K,MATCH($M16,年末年始,),),"")} | P16: =IF(COUNTBLANK(N16:O16)=0,CHAR(10),"") | Q16: =O16&P16&N16 | R16: =IF(OR(TEXT(M16,"aaa")="土",TEXT(M16,"aaa")="日",O16<>""),1,0) -> 0
D17: 43591 | E17: 振替休日 | G17: 47343 | H17: 夏季休暇 | J17: 46385 | K17: 年末年始 | M17: =IF('定義（記入例用）'!M16+1>'休日取得計画表・休日取得実績表（記入例）'!$I$5,"",'定義（記入例用）'!M16+1) -> 45804 | N17: {=IFERROR(INDEX($B:$B,MATCH($M17,$A:$A,),),"")} | O17: {=IFERROR(INDEX($E:$E,MATCH($M17,祝日,),),"")&IFERROR(INDEX($H:$H,MATCH($M17,夏季休暇,),),"")&IFERROR(INDEX($K:$K,MATCH($M17,年末年始,),),"")} | P17: =IF(COUNTBLANK(N17:O17)=0,CHAR(10),"") | Q17: =O17&P17&N17 | R17: =IF(OR(TEXT(M17,"aaa")="土",TEXT(M17,"aaa")="日",O17<>""),1,0) -> 0
D18: 43661 | E18: 海の日 | G18: 47344 | H18: 夏季休暇 | J18: 46386 | K18: 年末年始 | M18: =IF('定義（記入例用）'!M17+1>'休日取得計画表・休日取得実績表（記入例）'!$I$5,"",'定義（記入例用）'!M17+1) -> 45805 | N18: {=IFERROR(INDEX($B:$B,MATCH($M18,$A:$A,),),"")} | O18: {=IFERROR(INDEX($E:$E,MATCH($M18,祝日,),),"")&IFERROR(INDEX($H:$H,MATCH($M18,夏季休暇,),),"")&IFERROR(INDEX($K:$K,MATCH($M18,年末年始,),),"")} | P18: =IF(COUNTBLANK(N18:O18)=0,CHAR(10),"") | Q18: =O18&P18&N18 | R18: =IF(OR(TEXT(M18,"aaa")="土",TEXT(M18,"aaa")="日",O18<>""),1,0) -> 0
D19: 43688 | E19: 山の日 | G19: 47345 | H19: 夏季休暇 | J19: 46387 | K19: 年末年始 | M19: =IF('定義（記入例用）'!M18+1>'休日取得計画表・休日取得実績表（記入例）'!$I$5,"",'定義（記入例用）'!M18+1) -> 45806 | N19: {=IFERROR(INDEX($B:$B,MATCH($M19,$A:$A,),),"")} | O19: {=IFERROR(INDEX($E:$E,MATCH($M19,祝日,),),"")&IFERROR(INDEX($H:$H,MATCH($M19,夏季休暇,),),"")&IFERROR(INDEX($K:$K,MATCH($M19,年末年始,),),"")} | P19: =IF(COUNTBLANK(N19:O19)=0,CHAR(10),"") | Q19: =O19&P19&N19 | R19: =IF(OR(TEXT(M19,"aaa")="土",TEXT(M19,"aaa")="日",O19<>""),1,0) -> 0
D20: 43689 | E20: 振替休日 | G20: 47707 | H20: 夏季休暇 | J20: 祝日のため除去 | K20: 年末年始 | M20: =IF('定義（記入例用）'!M19+1>'休日取得計画表・休日取得実績表（記入例）'!$I$5,"",'定義（記入例用）'!M19+1) -> 45807 | N20: {=IFERROR(INDEX($B:$B,MATCH($M20,$A:$A,),),"")} | O20: {=IFERROR(INDEX($E:$E,MATCH($M20,祝日,),),"")&IFERROR(INDEX($H:$H,MATCH($M20,夏季休暇,),),"")&IFERROR(INDEX($K:$K,MATCH($M20,年末年始,),),"")} | P20: =IF(COUNTBLANK(N20:O20)=0,CHAR(10),"") | Q20: =O20&P20&N20 | R20: =IF(OR(TEXT(M20,"aaa")="土",TEXT(M20,"aaa")="日",O20<>""),1,0) -> 0
D21: 43724 | E21: 敬老の日 | G21: 47708 | H21: 夏季休暇 | J21: 46389 | K21: 年末年始 | M21: =IF('定義（記入例用）'!M20+1>'休日取得計画表・休日取得実績表（記入例）'!$I$5,"",'定義（記入例用）'!M20+1) -> 45808 | N21: {=IFERROR(INDEX($B:$B,MATCH($M21,$A:$A,),),"")} | O21: {=IFERROR(INDEX($E:$E,MATCH($M21,祝日,),),"")&IFERROR(INDEX($H:$H,MATCH($M21,夏季休暇,),),"")&IFERROR(INDEX($K:$K,MATCH($M21,年末年始,),),"")} | P21: =IF(COUNTBLANK(N21:O21)=0,CHAR(10),"") | Q21: =O21&P21&N21 | R21: =IF(OR(TEXT(M21,"aaa")="土",TEXT(M21,"aaa")="日",O21<>""),1,0) -> 1
D22: 43731 | E22: 秋分の日 | G22: 47709 | H22: 夏季休暇 | J22: 46390 | K22: 年末年始 | M22: =IF('定義（記入例用）'!M21+1>'休日取得計画表・休日取得実績表（記入例）'!$I$5,"",'定義（記入例用）'!M21+1) -> 45809 | N22: {=IFERROR(INDEX($B:$B,MATCH($M22,$A:$A,),),"")} | O22: {=IFERROR(INDEX($E:$E,MATCH($M22,祝日,),),"")&IFERROR(INDEX($H:$H,MATCH($M22,夏季休暇,),),"")&IFERROR(INDEX($K:$K,MATCH($M22,年末年始,),),"")} | P22: =IF(COUNTBLANK(N22:O22)=0,CHAR(10),"") | Q22: =O22&P22&N22 | R22: =IF(OR(TEXT(M22,"aaa")="土",TEXT(M22,"aaa")="日",O22<>""),1,0) -> 1
D23: 43752 | E23: 体育の日 | J23: 46750 | K23: 年末年始 | M23: =IF('定義（記入例用）'!M22+1>'休日取得計画表・休日取得実績表（記入例）'!$I$5,"",'定義（記入例用）'!M22+1) -> 45810 | N23: {=IFERROR(INDEX($B:$B,MATCH($M23,$A:$A,),),"")} -> 現場着手 | O23: {=IFERROR(INDEX($E:$E,MATCH($M23,祝日,),),"")&IFERROR(INDEX($H:$H,MATCH($M23,夏季休暇,),),"")&IFERROR(INDEX($K:$K,MATCH($M23,年末年始,),),"")} | P23: =IF(COUNTBLANK(N23:O23)=0,CHAR(10),"") | Q23: =O23&P23&N23 -> 現場着手 | R23: =IF(OR(TEXT(M23,"aaa")="土",TEXT(M23,"aaa")="日",O23<>""),1,0) -> 0
D24: 43760 | E24: 即位礼正殿の儀 | J24: 46751 | K24: 年末年始 | M24: =IF('定義（記入例用）'!M23+1>'休日取得計画表・休日取得実績表（記入例）'!$I$5,"",'定義（記入例用）'!M23+1) -> 45811 | N24: {=IFERROR(INDEX($B:$B,MATCH($M24,$A:$A,),),"")} | O24: {=IFERROR(INDEX($E:$E,MATCH($M24,祝日,),),"")&IFERROR(INDEX($H:$H,MATCH($M24,夏季休暇,),),"")&IFERROR(INDEX($K:$K,MATCH($M24,年末年始,),),"")} | P24: =IF(COUNTBLANK(N24:O24)=0,CHAR(10),"") | Q24: =O24&P24&N24 | R24: =IF(OR(TEXT(M24,"aaa")="土",TEXT(M24,"aaa")="日",O24<>""),1,0) -> 0
D25: 43772 | E25: 文化の日 | J25: 46752 | K25: 年末年始 | M25: =IF('定義（記入例用）'!M24+1>'休日取得計画表・休日取得実績表（記入例）'!$I$5,"",'定義（記入例用）'!M24+1) -> 45812 | N25: {=IFERROR(INDEX($B:$B,MATCH($M25,$A:$A,),),"")} | O25: {=IFERROR(INDEX($E:$E,MATCH($M25,祝日,),),"")&IFERROR(INDEX($H:$H,MATCH($M25,夏季休暇,),),"")&IFERROR(INDEX($K:$K,MATCH($M25,年末年始,),),"")} | P25: =IF(COUNTBLANK(N25:O25)=0,CHAR(10),"") | Q25: =O25&P25&N25 | R25: =IF(OR(TEXT(M25,"aaa")="土",TEXT(M25,"aaa")="日",O25<>""),1,0) -> 0
D26: 43773 | E26: 振替休日 | J26: 祝日のため除去 | K26: 年末年始 | M26: =IF('定義（記入例用）'!M25+1>'休日取得計画表・休日取得実績表（記入例）'!$I$5,"",'定義（記入例用）'!M25+1) -> 45813 | N26: {=IFERROR(INDEX($B:$B,MATCH($M26,$A:$A,),),"")} | O26: {=IFERROR(INDEX($E:$E,MATCH($M26,祝日,),),"")&IFERROR(INDEX($H:$H,MATCH($M26,夏季休暇,),),"")&IFERROR(INDEX($K:$K,MATCH($M26,年末年始,),),"")} | P26: =IF(COUNTBLANK(N26:O26)=0,CHAR(10),"") | Q26: =O26&P26&N26 | R26: =IF(OR(TEXT(M26,"aaa")="土",TEXT(M26,"aaa")="日",O26<>""),1,0) -> 0
D27: 43792 | E27: 勤労感謝の日 | J27: 46754 | K27: 年末年始 | M27: =IF('定義（記入例用）'!M26+1>'休日取得計画表・休日取得実績表（記入例）'!$I$5,"",'定義（記入例用）'!M26+1) -> 45814 | N27: {=IFERROR(INDEX($B:$B,MATCH($M27,$A:$A,),),"")} | O27: {=IFERROR(INDEX($E:$E,MATCH($M27,祝日,),),"")&IFERROR(INDEX($H:$H,MATCH($M27,夏季休暇,),),"")&IFERROR(INDEX($K:$K,MATCH($M27,年末年始,),),"")} | P27: =IF(COUNTBLANK(N27:O27)=0,CHAR(10),"") | Q27: =O27&P27&N27 | R27: =IF(OR(TEXT(M27,"aaa")="土",TEXT(M27,"aaa")="日",O27<>""),1,0) -> 0
J28: 46755 | K28: 年末年始 | M28: =IF('定義（記入例用）'!M27+1>'休日取得計画表・休日取得実績表（記入例）'!$I$5,"",'定義（記入例用）'!M27+1) -> 45815 | N28: {=IFERROR(INDEX($B:$B,MATCH($M28,$A:$A,),),"")} | O28: {=IFERROR(INDEX($E:$E,MATCH($M28,祝日,),),"")&IFERROR(INDEX($H:$H,MATCH($M28,夏季休暇,),),"")&IFERROR(INDEX($K:$K,MATCH($M28,年末年始,),),"")} | P28: =IF(COUNTBLANK(N28:O28)=0,CHAR(10),"") | Q28: =O28&P28&N28 | R28: =IF(OR(TEXT(M28,"aaa")="土",TEXT(M28,"aaa")="日",O28<>""),1,0) -> 1
D29: 43831 | E29: 元日 | J29: 47116 | K29: 年末年始 | M29: =IF('定義（記入例用）'!M28+1>'休日取得計画表・休日取得実績表（記入例）'!$I$5,"",'定義（記入例用）'!M28+1) -> 45816 | N29: {=IFERROR(INDEX($B:$B,MATCH($M29,$A:$A,),),"")} | O29: {=IFERROR(INDEX($E:$E,MATCH($M29,祝日,),),"")&IFERROR(INDEX($H:$H,MATCH($M29,夏季休暇,),),"")&IFERROR(INDEX($K:$K,MATCH($M29,年末年始,),),"")} | P29: =IF(COUNTBLANK(N29:O29)=0,CHAR(10),"") | Q29: =O29&P29&N29 | R29: =IF(OR(TEXT(M29,"aaa")="土",TEXT(M29,"aaa")="日",O29<>""),1,0) -> 1
D30: 43843 | E30: 成人の日 | J30: 47117 | K30: 年末年始 | M30: =IF('定義（記入例用）'!M29+1>'休日取得計画表・休日取得実績表（記入例）'!$I$5,"",'定義（記入例用）'!M29+1) -> 45817 | N30: {=IFERROR(INDEX($B:$B,MATCH($M30,$A:$A,),),"")} | O30: {=IFERROR(INDEX($E:$E,MATCH($M30,祝日,),),"")&IFERROR(INDEX($H:$H,MATCH($M30,夏季休暇,),),"")&IFERROR(INDEX($K:$K,MATCH($M30,年末年始,),),"")} | P30: =IF(COUNTBLANK(N30:O30)=0,CHAR(10),"") | Q30: =O30&P30&N30 | R30: =IF(OR(TEXT(M30,"aaa")="土",TEXT(M30,"aaa")="日",O30<>""),1,0) -> 0
D31: 43872 | E31: 建国記念の日 | J31: 47118 | K31: 年末年始 | M31: =IF('定義（記入例用）'!M30+1>'休日取得計画表・休日取得実績表（記入例）'!$I$5,"",'定義（記入例用）'!M30+1) -> 45818 | N31: {=IFERROR(INDEX($B:$B,MATCH($M31,$A:$A,),),"")} | O31: {=IFERROR(INDEX($E:$E,MATCH($M31,祝日,),),"")&IFERROR(INDEX($H:$H,MATCH($M31,夏季休暇,),),"")&IFERROR(INDEX($K:$K,MATCH($M31,年末年始,),),"")} | P31: =IF(COUNTBLANK(N31:O31)=0,CHAR(10),"") | Q31: =O31&P31&N31 | R31: =IF(OR(TEXT(M31,"aaa")="土",TEXT(M31,"aaa")="日",O31<>""),1,0) -> 0
D32: 43884 | E32: 天皇誕生日 | J32: 祝日のため除去 | K32: 年末年始 | M32: =IF('定義（記入例用）'!M31+1>'休日取得計画表・休日取得実績表（記入例）'!$I$5,"",'定義（記入例用）'!M31+1) -> 45819 | N32: {=IFERROR(INDEX($B:$B,MATCH($M32,$A:$A,),),"")} | O32: {=IFERROR(INDEX($E:$E,MATCH($M32,祝日,),),"")&IFERROR(INDEX($H:$H,MATCH($M32,夏季休暇,),),"")&IFERROR(INDEX($K:$K,MATCH($M32,年末年始,),),"")} | P32: =IF(COUNTBLANK(N32:O32)=0,CHAR(10),"") | Q32: =O32&P32&N32 | R32: =IF(OR(TEXT(M32,"aaa")="土",TEXT(M32,"aaa")="日",O32<>""),1,0) -> 0
D33: 43885 | E33: 振替休日 | J33: 47120 | K33: 年末年始 | M33: =IF('定義（記入例用）'!M32+1>'休日取得計画表・休日取得実績表（記入例）'!$I$5,"",'定義（記入例用）'!M32+1) -> 45820 | N33: {=IFERROR(INDEX($B:$B,MATCH($M33,$A:$A,),),"")} | O33: {=IFERROR(INDEX($E:$E,MATCH($M33,祝日,),),"")&IFERROR(INDEX($H:$H,MATCH($M33,夏季休暇,),),"")&IFERROR(INDEX($K:$K,MATCH($M33,年末年始,),),"")} | P33: =IF(COUNTBLANK(N33:O33)=0,CHAR(10),"") | Q33: =O33&P33&N33 | R33: =IF(OR(TEXT(M33,"aaa")="土",TEXT(M33,"aaa")="日",O33<>""),1,0) -> 0
D34: 43910 | E34: 春分の日 | J34: 47121 | K34: 年末年始 | M34: =IF('定義（記入例用）'!M33+1>'休日取得計画表・休日取得実績表（記入例）'!$I$5,"",'定義（記入例用）'!M33+1) -> 45821 | N34: {=IFERROR(INDEX($B:$B,MATCH($M34,$A:$A,),),"")} | O34: {=IFERROR(INDEX($E:$E,MATCH($M34,祝日,),),"")&IFERROR(INDEX($H:$H,MATCH($M34,夏季休暇,),),"")&IFERROR(INDEX($K:$K,MATCH($M34,年末年始,),),"")} | P34: =IF(COUNTBLANK(N34:O34)=0,CHAR(10),"") | Q34: =O34&P34&N34 | R34: =IF(OR(TEXT(M34,"aaa")="土",TEXT(M34,"aaa")="日",O34<>""),1,0) -> 0
D35: 43950 | E35: 昭和の日 | J35: 47481 | K35: 年末年始 | M35: =IF('定義（記入例用）'!M34+1>'休日取得計画表・休日取得実績表（記入例）'!$I$5,"",'定義（記入例用）'!M34+1) -> 45822 | N35: {=IFERROR(INDEX($B:$B,MATCH($M35,$A:$A,),),"")} | O35: {=IFERROR(INDEX($E:$E,MATCH($M35,祝日,),),"")&IFERROR(INDEX($H:$H,MATCH($M35,夏季休暇,),),"")&IFERROR(INDEX($K:$K,MATCH($M35,年末年始,),),"")} | P35: =IF(COUNTBLANK(N35:O35)=0,CHAR(10),"") | Q35: =O35&P35&N35 | R35: =IF(OR(TEXT(M35,"aaa")="土",TEXT(M35,"aaa")="日",O35<>""),1,0) -> 1
D36: 43954 | E36: 憲法記念日 | J36: 47482 | K36: 年末年始 | M36: =IF('定義（記入例用）'!M35+1>'休日取得計画表・休日取得実績表（記入例）'!$I$5,"",'定義（記入例用）'!M35+1) -> 45823 | N36: {=IFERROR(INDEX($B:$B,MATCH($M36,$A:$A,),),"")} | O36: {=IFERROR(INDEX($E:$E,MATCH($M36,祝日,),),"")&IFERROR(INDEX($H:$H,MATCH($M36,夏季休暇,),),"")&IFERROR(INDEX($K:$K,MATCH($M36,年末年始,),),"")} | P36: =IF(COUNTBLANK(N36:O36)=0,CHAR(10),"") | Q36: =O36&P36&N36 | R36: =IF(OR(TEXT(M36,"aaa")="土",TEXT(M36,"aaa")="日",O36<>""),1,0) -> 1
D37: 43955 | E37: みどりの日 | J37: 47483 | K37: 年末年始 | M37: =IF('定義（記入例用）'!M36+1>'休日取得計画表・休日取得実績表（記入例）'!$I$5,"",'定義（記入例用）'!M36+1) -> 45824 | N37: {=IFERROR(INDEX($B:$B,MATCH($M37,$A:$A,),),"")} | O37: {=IFERROR(INDEX($E:$E,MATCH($M37,祝日,),),"")&IFERROR(INDEX($H:$H,MATCH($M37,夏季休暇,),),"")&IFERROR(INDEX($K:$K,MATCH($M37,年末年始,),),"")} | P37: =IF(COUNTBLANK(N37:O37)=0,CHAR(10),"") | Q37: =O37&P37&N37 | R37: =IF(OR(TEXT(M37,"aaa")="土",TEXT(M37,"aaa")="日",O37<>""),1,0) -> 0
D38: 43956 | E38: こどもの日 | J38: 祝日のため除去 | K38: 年末年始 | M38: =IF('定義（記入例用）'!M37+1>'休日取得計画表・休日取得実績表（記入例）'!$I$5,"",'定義（記入例用）'!M37+1) -> 45825 | N38: {=IFERROR(INDEX($B:$B,MATCH($M38,$A:$A,),),"")} | O38: {=IFERROR(INDEX($E:$E,MATCH($M38,祝日,),),"")&IFERROR(INDEX($H:$H,MATCH($M38,夏季休暇,),),"")&IFERROR(INDEX($K:$K,MATCH($M38,年末年始,),),"")} | P38: =IF(COUNTBLANK(N38:O38)=0,CHAR(10),"") | Q38: =O38&P38&N38 | R38: =IF(OR(TEXT(M38,"aaa")="土",TEXT(M38,"aaa")="日",O38<>""),1,0) -> 0
D39: 43957 | E39: 振替休日 | J39: 47485 | K39: 年末年始 | M39: =IF('定義（記入例用）'!M38+1>'休日取得計画表・休日取得実績表（記入例）'!$I$5,"",'定義（記入例用）'!M38+1) -> 45826 | N39: {=IFERROR(INDEX($B:$B,MATCH($M39,$A:$A,),),"")} | O39: {=IFERROR(INDEX($E:$E,MATCH($M39,祝日,),),"")&IFERROR(INDEX($H:$H,MATCH($M39,夏季休暇,),),"")&IFERROR(INDEX($K:$K,MATCH($M39,年末年始,),),"")} | P39: =IF(COUNTBLANK(N39:O39)=0,CHAR(10),"") | Q39: =O39&P39&N39 | R39: =IF(OR(TEXT(M39,"aaa")="土",TEXT(M39,"aaa")="日",O39<>""),1,0) -> 0
D40: 44035 | E40: 海の日 | J40: 47486 | K40: 年末年始 | M40: =IF('定義（記入例用）'!M39+1>'休日取得計画表・休日取得実績表（記入例）'!$I$5,"",'定義（記入例用）'!M39+1) -> 45827 | N40: {=IFERROR(INDEX($B:$B,MATCH($M40,$A:$A,),),"")} | O40: {=IFERROR(INDEX($E:$E,MATCH($M40,祝日,),),"")&IFERROR(INDEX($H:$H,MATCH($M40,夏季休暇,),),"")&IFERROR(INDEX($K:$K,MATCH($M40,年末年始,),),"")} | P40: =IF(COUNTBLANK(N40:O40)=0,CHAR(10),"") | Q40: =O40&P40&N40 | R40: =IF(OR(TEXT(M40,"aaa")="土",TEXT(M40,"aaa")="日",O40<>""),1,0) -> 0
D41: 44036 | E41: スポーツの日 | J41: 47846 | K41: 年末年始 | M41: =IF('定義（記入例用）'!M40+1>'休日取得計画表・休日取得実績表（記入例）'!$I$5,"",'定義（記入例用）'!M40+1) -> 45828 | N41: {=IFERROR(INDEX($B:$B,MATCH($M41,$A:$A,),),"")} | O41: {=IFERROR(INDEX($E:$E,MATCH($M41,祝日,),),"")&IFERROR(INDEX($H:$H,MATCH($M41,夏季休暇,),),"")&IFERROR(INDEX($K:$K,MATCH($M41,年末年始,),),"")} | P41: =IF(COUNTBLANK(N41:O41)=0,CHAR(10),"") | Q41: =O41&P41&N41 | R41: =IF(OR(TEXT(M41,"aaa")="土",TEXT(M41,"aaa")="日",O41<>""),1,0) -> 0
D42: 44053 | E42: 山の日 | J42: 47847 | K42: 年末年始 | M42: =IF('定義（記入例用）'!M41+1>'休日取得計画表・休日取得実績表（記入例）'!$I$5,"",'定義（記入例用）'!M41+1) -> 45829 | N42: {=IFERROR(INDEX($B:$B,MATCH($M42,$A:$A,),),"")} | O42: {=IFERROR(INDEX($E:$E,MATCH($M42,祝日,),),"")&IFERROR(INDEX($H:$H,MATCH($M42,夏季休暇,),),"")&IFERROR(INDEX($K:$K,MATCH($M42,年末年始,),),"")} | P42: =IF(COUNTBLANK(N42:O42)=0,CHAR(10),"") | Q42: =O42&P42&N42 | R42: =IF(OR(TEXT(M42,"aaa")="土",TEXT(M42,"aaa")="日",O42<>""),1,0) -> 1
D43: 44095 | E43: 敬老の日 | J43: 47848 | K43: 年末年始 | M43: =IF('定義（記入例用）'!M42+1>'休日取得計画表・休日取得実績表（記入例）'!$I$5,"",'定義（記入例用）'!M42+1) -> 45830 | N43: {=IFERROR(INDEX($B:$B,MATCH($M43,$A:$A,),),"")} | O43: {=IFERROR(INDEX($E:$E,MATCH($M43,祝日,),),"")&IFERROR(INDEX($H:$H,MATCH($M43,夏季休暇,),),"")&IFERROR(INDEX($K:$K,MATCH($M43,年末年始,),),"")} | P43: =IF(COUNTBLANK(N43:O43)=0,CHAR(10),"") | Q43: =O43&P43&N43 | R43: =IF(OR(TEXT(M43,"aaa")="土",TEXT(M43,"aaa")="日",O43<>""),1,0) -> 1
D44: 44096 | E44: 秋分の日 | M44: =IF('定義（記入例用）'!M43+1>'休日取得計画表・休日取得実績表（記入例）'!$I$5,"",'定義（記入例用）'!M43+1) -> 45831 | N44: {=IFERROR(INDEX($B:$B,MATCH($M44,$A:$A,),),"")} | O44: {=IFERROR(INDEX($E:$E,MATCH($M44,祝日,),),"")&IFERROR(INDEX($H:$H,MATCH($M44,夏季休暇,),),"")&IFERROR(INDEX($K:$K,MATCH($M44,年末年始,),),"")} | P44: =IF(COUNTBLANK(N44:O44)=0,CHAR(10),"") | Q44: =O44&P44&N44 | R44: =IF(OR(TEXT(M44,"aaa")="土",TEXT(M44,"aaa")="日",O44<>""),1,0) -> 0
D45: 44138 | E45: 文化の日 | M45: =IF('定義（記入例用）'!M44+1>'休日取得計画表・休日取得実績表（記入例）'!$I$5,"",'定義（記入例用）'!M44+1) -> 45832 | N45: {=IFERROR(INDEX($B:$B,MATCH($M45,$A:$A,),),"")} | O45: {=IFERROR(INDEX($E:$E,MATCH($M45,祝日,),),"")&IFERROR(INDEX($H:$H,MATCH($M45,夏季休暇,),),"")&IFERROR(INDEX($K:$K,MATCH($M45,年末年始,),),"")} | P45: =IF(COUNTBLANK(N45:O45)=0,CHAR(10),"") | Q45: =O45&P45&N45 | R45: =IF(OR(TEXT(M45,"aaa")="土",TEXT(M45,"aaa")="日",O45<>""),1,0) -> 0
D46: 44158 | E46: 勤労感謝の日 | M46: =IF('定義（記入例用）'!M45+1>'休日取得計画表・休日取得実績表（記入例）'!$I$5,"",'定義（記入例用）'!M45+1) -> 45833 | N46: {=IFERROR(INDEX($B:$B,MATCH($M46,$A:$A,),),"")} | O46: {=IFERROR(INDEX($E:$E,MATCH($M46,祝日,),),"")&IFERROR(INDEX($H:$H,MATCH($M46,夏季休暇,),),"")&IFERROR(INDEX($K:$K,MATCH($M46,年末年始,),),"")} | P46: =IF(COUNTBLANK(N46:O46)=0,CHAR(10),"") | Q46: =O46&P46&N46 | R46: =IF(OR(TEXT(M46,"aaa")="土",TEXT(M46,"aaa")="日",O46<>""),1,0) -> 0
M47: =IF('定義（記入例用）'!M46+1>'休日取得計画表・休日取得実績表（記入例）'!$I$5,"",'定義（記入例用）'!M46+1) -> 45834 | N47: {=IFERROR(INDEX($B:$B,MATCH($M47,$A:$A,),),"")} | O47: {=IFERROR(INDEX($E:$E,MATCH($M47,祝日,),),"")&IFERROR(INDEX($H:$H,MATCH($M47,夏季休暇,),),"")&IFERROR(INDEX($K:$K,MATCH($M47,年末年始,),),"")} | P47: =IF(COUNTBLANK(N47:O47)=0,CHAR(10),"") | Q47: =O47&P47&N47 | R47: =IF(OR(TEXT(M47,"aaa")="土",TEXT(M47,"aaa")="日",O47<>""),1,0) -> 0
D48: 44197 | E48: 元日 | M48: =IF('定義（記入例用）'!M47+1>'休日取得計画表・休日取得実績表（記入例）'!$I$5,"",'定義（記入例用）'!M47+1) -> 45835 | N48: {=IFERROR(INDEX($B:$B,MATCH($M48,$A:$A,),),"")} | O48: {=IFERROR(INDEX($E:$E,MATCH($M48,祝日,),),"")&IFERROR(INDEX($H:$H,MATCH($M48,夏季休暇,),),"")&IFERROR(INDEX($K:$K,MATCH($M48,年末年始,),),"")} | P48: =IF(COUNTBLANK(N48:O48)=0,CHAR(10),"") | Q48: =O48&P48&N48 | R48: =IF(OR(TEXT(M48,"aaa")="土",TEXT(M48,"aaa")="日",O48<>""),1,0) -> 0
D49: 44207 | E49: 成人の日 | M49: =IF('定義（記入例用）'!M48+1>'休日取得計画表・休日取得実績表（記入例）'!$I$5,"",'定義（記入例用）'!M48+1) -> 45836 | N49: {=IFERROR(INDEX($B:$B,MATCH($M49,$A:$A,),),"")} | O49: {=IFERROR(INDEX($E:$E,MATCH($M49,祝日,),),"")&IFERROR(INDEX($H:$H,MATCH($M49,夏季休暇,),),"")&IFERROR(INDEX($K:$K,MATCH($M49,年末年始,),),"")} | P49: =IF(COUNTBLANK(N49:O49)=0,CHAR(10),"") | Q49: =O49&P49&N49 | R49: =IF(OR(TEXT(M49,"aaa")="土",TEXT(M49,"aaa")="日",O49<>""),1,0) -> 1
D50: 44238 | E50: 建国記念の日 | M50: =IF('定義（記入例用）'!M49+1>'休日取得計画表・休日取得実績表（記入例）'!$I$5,"",'定義（記入例用）'!M49+1) -> 45837 | N50: {=IFERROR(INDEX($B:$B,MATCH($M50,$A:$A,),),"")} | O50: {=IFERROR(INDEX($E:$E,MATCH($M50,祝日,),),"")&IFERROR(INDEX($H:$H,MATCH($M50,夏季休暇,),),"")&IFERROR(INDEX($K:$K,MATCH($M50,年末年始,),),"")} | P50: =IF(COUNTBLANK(N50:O50)=0,CHAR(10),"") | Q50: =O50&P50&N50 | R50: =IF(OR(TEXT(M50,"aaa")="土",TEXT(M50,"aaa")="日",O50<>""),1,0) -> 1
D51: 44250 | E51: 天皇誕生日 | M51: =IF('定義（記入例用）'!M50+1>'休日取得計画表・休日取得実績表（記入例）'!$I$5,"",'定義（記入例用）'!M50+1) -> 45838 | N51: {=IFERROR(INDEX($B:$B,MATCH($M51,$A:$A,),),"")} | O51: {=IFERROR(INDEX($E:$E,MATCH($M51,祝日,),),"")&IFERROR(INDEX($H:$H,MATCH($M51,夏季休暇,),),"")&IFERROR(INDEX($K:$K,MATCH($M51,年末年始,),),"")} | P51: =IF(COUNTBLANK(N51:O51)=0,CHAR(10),"") | Q51: =O51&P51&N51 | R51: =IF(OR(TEXT(M51,"aaa")="土",TEXT(M51,"aaa")="日",O51<>""),1,0) -> 0
D52: 44275 | E52: 春分の日 | M52: =IF('定義（記入例用）'!M51+1>'休日取得計画表・休日取得実績表（記入例）'!$I$5,"",'定義（記入例用）'!M51+1) -> 45839 | N52: {=IFERROR(INDEX($B:$B,MATCH($M52,$A:$A,),),"")} | O52: {=IFERROR(INDEX($E:$E,MATCH($M52,祝日,),),"")&IFERROR(INDEX($H:$H,MATCH($M52,夏季休暇,),),"")&IFERROR(INDEX($K:$K,MATCH($M52,年末年始,),),"")} | P52: =IF(COUNTBLANK(N52:O52)=0,CHAR(10),"") | Q52: =O52&P52&N52 | R52: =IF(OR(TEXT(M52,"aaa")="土",TEXT(M52,"aaa")="日",O52<>""),1,0) -> 0
D53: 44315 | E53: 昭和の日 | M53: =IF('定義（記入例用）'!M52+1>'休日取得計画表・休日取得実績表（記入例）'!$I$5,"",'定義（記入例用）'!M52+1) -> 45840 | N53: {=IFERROR(INDEX($B:$B,MATCH($M53,$A:$A,),),"")} | O53: {=IFERROR(INDEX($E:$E,MATCH($M53,祝日,),),"")&IFERROR(INDEX($H:$H,MATCH($M53,夏季休暇,),),"")&IFERROR(INDEX($K:$K,MATCH($M53,年末年始,),),"")} | P53: =IF(COUNTBLANK(N53:O53)=0,CHAR(10),"") | Q53: =O53&P53&N53 | R53: =IF(OR(TEXT(M53,"aaa")="土",TEXT(M53,"aaa")="日",O53<>""),1,0) -> 0
D54: 44319 | E54: 憲法記念日 | M54: =IF('定義（記入例用）'!M53+1>'休日取得計画表・休日取得実績表（記入例）'!$I$5,"",'定義（記入例用）'!M53+1) -> 45841 | N54: {=IFERROR(INDEX($B:$B,MATCH($M54,$A:$A,),),"")} | O54: {=IFERROR(INDEX($E:$E,MATCH($M54,祝日,),),"")&IFERROR(INDEX($H:$H,MATCH($M54,夏季休暇,),),"")&IFERROR(INDEX($K:$K,MATCH($M54,年末年始,),),"")} | P54: =IF(COUNTBLANK(N54:O54)=0,CHAR(10),"") | Q54: =O54&P54&N54 | R54: =IF(OR(TEXT(M54,"aaa")="土",TEXT(M54,"aaa")="日",O54<>""),1,0) -> 0
D55: 44320 | E55: みどりの日 | M55: =IF('定義（記入例用）'!M54+1>'休日取得計画表・休日取得実績表（記入例）'!$I$5,"",'定義（記入例用）'!M54+1) -> 45842 | N55: {=IFERROR(INDEX($B:$B,MATCH($M55,$A:$A,),),"")} | O55: {=IFERROR(INDEX($E:$E,MATCH($M55,祝日,),),"")&IFERROR(INDEX($H:$H,MATCH($M55,夏季休暇,),),"")&IFERROR(INDEX($K:$K,MATCH($M55,年末年始,),),"")} | P55: =IF(COUNTBLANK(N55:O55)=0,CHAR(10),"") | Q55: =O55&P55&N55 | R55: =IF(OR(TEXT(M55,"aaa")="土",TEXT(M55,"aaa")="日",O55<>""),1,0) -> 0
D56: 44321 | E56: こどもの日 | M56: =IF('定義（記入例用）'!M55+1>'休日取得計画表・休日取得実績表（記入例）'!$I$5,"",'定義（記入例用）'!M55+1) -> 45843 | N56: {=IFERROR(INDEX($B:$B,MATCH($M56,$A:$A,),),"")} | O56: {=IFERROR(INDEX($E:$E,MATCH($M56,祝日,),),"")&IFERROR(INDEX($H:$H,MATCH($M56,夏季休暇,),),"")&IFERROR(INDEX($K:$K,MATCH($M56,年末年始,),),"")} | P56: =IF(COUNTBLANK(N56:O56)=0,CHAR(10),"") | Q56: =O56&P56&N56 | R56: =IF(OR(TEXT(M56,"aaa")="土",TEXT(M56,"aaa")="日",O56<>""),1,0) -> 1
D57: 44396 | E57: 海の日 | M57: =IF('定義（記入例用）'!M56+1>'休日取得計画表・休日取得実績表（記入例）'!$I$5,"",'定義（記入例用）'!M56+1) -> 45844 | N57: {=IFERROR(INDEX($B:$B,MATCH($M57,$A:$A,),),"")} | O57: {=IFERROR(INDEX($E:$E,MATCH($M57,祝日,),),"")&IFERROR(INDEX($H:$H,MATCH($M57,夏季休暇,),),"")&IFERROR(INDEX($K:$K,MATCH($M57,年末年始,),),"")} | P57: =IF(COUNTBLANK(N57:O57)=0,CHAR(10),"") | Q57: =O57&P57&N57 | R57: =IF(OR(TEXT(M57,"aaa")="土",TEXT(M57,"aaa")="日",O57<>""),1,0) -> 1
D58: 44419 | E58: 山の日 | M58: =IF('定義（記入例用）'!M57+1>'休日取得計画表・休日取得実績表（記入例）'!$I$5,"",'定義（記入例用）'!M57+1) -> 45845 | N58: {=IFERROR(INDEX($B:$B,MATCH($M58,$A:$A,),),"")} | O58: {=IFERROR(INDEX($E:$E,MATCH($M58,祝日,),),"")&IFERROR(INDEX($H:$H,MATCH($M58,夏季休暇,),),"")&IFERROR(INDEX($K:$K,MATCH($M58,年末年始,),),"")} | P58: =IF(COUNTBLANK(N58:O58)=0,CHAR(10),"") | Q58: =O58&P58&N58 | R58: =IF(OR(TEXT(M58,"aaa")="土",TEXT(M58,"aaa")="日",O58<>""),1,0) -> 0
D59: 44459 | E59: 敬老の日 | M59: =IF('定義（記入例用）'!M58+1>'休日取得計画表・休日取得実績表（記入例）'!$I$5,"",'定義（記入例用）'!M58+1) -> 45846 | N59: {=IFERROR(INDEX($B:$B,MATCH($M59,$A:$A,),),"")} | O59: {=IFERROR(INDEX($E:$E,MATCH($M59,祝日,),),"")&IFERROR(INDEX($H:$H,MATCH($M59,夏季休暇,),),"")&IFERROR(INDEX($K:$K,MATCH($M59,年末年始,),),"")} | P59: =IF(COUNTBLANK(N59:O59)=0,CHAR(10),"") | Q59: =O59&P59&N59 | R59: =IF(OR(TEXT(M59,"aaa")="土",TEXT(M59,"aaa")="日",O59<>""),1,0) -> 0
... D63: 44523 | E63: 勤労感謝の日 | M63: =IF('定義（記入例用）'!M62+1>'休日取得計画表・休日取得実績表（記入例）'!$I$5,"",'定義（記入例用）'!M62+1) -> 45850 | N63: {=IFERROR(INDEX($B:$B,MATCH($M63,$A:$A,),),"")} | O63: {=IFERROR(INDEX($E:$E,MATCH($M63,祝日,),),"")&IFERROR(INDEX($H:$H,MATCH($M63,夏季休暇,),),"")&IFERROR(INDEX($K:$K,MATCH($M63,年末年始,),),"")} | P63: =IF(COUNTBLANK(N63:O63)=0,CHAR(10),"") | Q63: =O63&P63&N63 | R63: =IF(OR(TEXT(M63,"aaa")="土",TEXT(M63,"aaa")="日",O63<>""),1,0) -> 1
M64: =IF('定義（記入例用）'!M63+1>'休日取得計画表・休日取得実績表（記入例）'!$I$5,"",'定義（記入例用）'!M63+1) -> 45851 | N64: {=IFERROR(INDEX($B:$B,MATCH($M64,$A:$A,),),"")} | O64: {=IFERROR(INDEX($E:$E,MATCH($M64,祝日,),),"")&IFERROR(INDEX($H:$H,MATCH($M64,夏季休暇,),),"")&IFERROR(INDEX($K:$K,MATCH($M64,年末年始,),),"")} | P64: =IF(COUNTBLANK(N64:O64)=0,CHAR(10),"") | Q64: =O64&P64&N64 | R64: =IF(OR(TEXT(M64,"aaa")="土",TEXT(M64,"aaa")="日",O64<>""),1,0) -> 1
D65: 44562 | E65: 元日 | M65: =IF('定義（記入例用）'!M64+1>'休日取得計画表・休日取得実績表（記入例）'!$I$5,"",'定義（記入例用）'!M64+1) -> 45852 | N65: {=IFERROR(INDEX($B:$B,MATCH($M65,$A:$A,),),"")} | O65: {=IFERROR(INDEX($E:$E,MATCH($M65,祝日,),),"")&IFERROR(INDEX($H:$H,MATCH($M65,夏季休暇,),),"")&IFERROR(INDEX($K:$K,MATCH($M65,年末年始,),),"")} | P65: =IF(COUNTBLANK(N65:O65)=0,CHAR(10),"") | Q65: =O65&P65&N65 | R65: =IF(OR(TEXT(M65,"aaa")="土",TEXT(M65,"aaa")="日",O65<>""),1,0) -> 0
D66: 44571 | E66: 成人の日 | M66: =IF('定義（記入例用）'!M65+1>'休日取得計画表・休日取得実績表（記入例）'!$I$5,"",'定義（記入例用）'!M65+1) -> 45853 | N66: {=IFERROR(INDEX($B:$B,MATCH($M66,$A:$A,),),"")} | O66: {=IFERROR(INDEX($E:$E,MATCH($M66,祝日,),),"")&IFERROR(INDEX($H:$H,MATCH($M66,夏季休暇,),),"")&IFERROR(INDEX($K:$K,MATCH($M66,年末年始,),),"")} | P66: =IF(COUNTBLANK(N66:O66)=0,CHAR(10),"") | Q66: =O66&P66&N66 | R66: =IF(OR(TEXT(M66,"aaa")="土",TEXT(M66,"aaa")="日",O66<>""),1,0) -> 0
D67: 44603 | E67: 建国記念の日 | M67: =IF('定義（記入例用）'!M66+1>'休日取得計画表・休日取得実績表（記入例）'!$I$5,"",'定義（記入例用）'!M66+1) -> 45854 | N67: {=IFERROR(INDEX($B:$B,MATCH($M67,$A:$A,),),"")} | O67: {=IFERROR(INDEX($E:$E,MATCH($M67,祝日,),),"")&IFERROR(INDEX($H:$H,MATCH($M67,夏季休暇,),),"")&IFERROR(INDEX($K:$K,MATCH($M67,年末年始,),),"")} | P67: =IF(COUNTBLANK(N67:O67)=0,CHAR(10),"") | Q67: =O67&P67&N67 | R67: =IF(OR(TEXT(M67,"aaa")="土",TEXT(M67,"aaa")="日",O67<>""),1,0) -> 0
D68: 44615 | E68: 天皇誕生日 | M68: =IF('定義（記入例用）'!M67+1>'休日取得計画表・休日取得実績表（記入例）'!$I$5,"",'定義（記入例用）'!M67+1) -> 45855 | N68: {=IFERROR(INDEX($B:$B,MATCH($M68,$A:$A,),),"")} | O68: {=IFERROR(INDEX($E:$E,MATCH($M68,祝日,),),"")&IFERROR(INDEX($H:$H,MATCH($M68,夏季休暇,),),"")&IFERROR(INDEX($K:$K,MATCH($M68,年末年始,),),"")} | P68: =IF(COUNTBLANK(N68:O68)=0,CHAR(10),"") | Q68: =O68&P68&N68 | R68: =IF(OR(TEXT(M68,"aaa")="土",TEXT(M68,"aaa")="日",O68<>""),1,0) -> 0
D69: 44641 | E69: 春分の日 | M69: =IF('定義（記入例用）'!M68+1>'休日取得計画表・休日取得実績表（記入例）'!$I$5,"",'定義（記入例用）'!M68+1) -> 45856 | N69: {=IFERROR(INDEX($B:$B,MATCH($M69,$A:$A,),),"")} | O69: {=IFERROR(INDEX($E:$E,MATCH($M69,祝日,),),"")&IFERROR(INDEX($H:$H,MATCH($M69,夏季休暇,),),"")&IFERROR(INDEX($K:$K,MATCH($M69,年末年始,),),"")} | P69: =IF(COUNTBLANK(N69:O69)=0,CHAR(10),"") | Q69: =O69&P69&N69 | R69: =IF(OR(TEXT(M69,"aaa")="土",TEXT(M69,"aaa")="日",O69<>""),1,0) -> 0
D70: 44680 | E70: 昭和の日 | M70: =IF('定義（記入例用）'!M69+1>'休日取得計画表・休日取得実績表（記入例）'!$I$5,"",'定義（記入例用）'!M69+1) -> 45857 | N70: {=IFERROR(INDEX($B:$B,MATCH($M70,$A:$A,),),"")} | O70: {=IFERROR(INDEX($E:$E,MATCH($M70,祝日,),),"")&IFERROR(INDEX($H:$H,MATCH($M70,夏季休暇,),),"")&IFERROR(INDEX($K:$K,MATCH($M70,年末年始,),),"")} | P70: =IF(COUNTBLANK(N70:O70)=0,CHAR(10),"") | Q70: =O70&P70&N70 | R70: =IF(OR(TEXT(M70,"aaa")="土",TEXT(M70,"aaa")="日",O70<>""),1,0) -> 1
D71: 44684 | E71: 憲法記念日 | M71: =IF('定義（記入例用）'!M70+1>'休日取得計画表・休日取得実績表（記入例）'!$I$5,"",'定義（記入例用）'!M70+1) -> 45858 | N71: {=IFERROR(INDEX($B:$B,MATCH($M71,$A:$A,),),"")} | O71: {=IFERROR(INDEX($E:$E,MATCH($M71,祝日,),),"")&IFERROR(INDEX($H:$H,MATCH($M71,夏季休暇,),),"")&IFERROR(INDEX($K:$K,MATCH($M71,年末年始,),),"")} | P71: =IF(COUNTBLANK(N71:O71)=0,CHAR(10),"") | Q71: =O71&P71&N71 | R71: =IF(OR(TEXT(M71,"aaa")="土",TEXT(M71,"aaa")="日",O71<>""),1,0) -> 1
D72: 44685 | E72: みどりの日 | M72: =IF('定義（記入例用）'!M71+1>'休日取得計画表・休日取得実績表（記入例）'!$I$5,"",'定義（記入例用）'!M71+1) -> 45859 | N72: {=IFERROR(INDEX($B:$B,MATCH($M72,$A:$A,),),"")} | O72: {=IFERROR(INDEX($E:$E,MATCH($M72,祝日,),),"")&IFERROR(INDEX($H:$H,MATCH($M72,夏季休暇,),),"")&IFERROR(INDEX($K:$K,MATCH($M72,年末年始,),),"")} -> 海の日 | P72: =IF(COUNTBLANK(N72:O72)=0,CHAR(10),"") | Q72: =O72&P72&N72 -> 海の日 | R72: =IF(OR(TEXT(M72,"aaa")="土",TEXT(M72,"aaa")="日",O72<>""),1,0) -> 1
D73: 44686 | E73: こどもの日 | M73: =IF('定義（記入例用）'!M72+1>'休日取得計画表・休日取得実績表（記入例）'!$I$5,"",'定義（記入例用）'!M72+1) -> 45860 | N73: {=IFERROR(INDEX($B:$B,MATCH($M73,$A:$A,),),"")} | O73: {=IFERROR(INDEX($E:$E,MATCH($M73,祝日,),),"")&IFERROR(INDEX($H:$H,MATCH($M73,夏季休暇,),),"")&IFERROR(INDEX($K:$K,MATCH($M73,年末年始,),),"")} | P73: =IF(COUNTBLANK(N73:O73)=0,CHAR(10),"") | Q73: =O73&P73&N73 | R73: =IF(OR(TEXT(M73,"aaa")="土",TEXT(M73,"aaa")="日",O73<>""),1,0) -> 0
D74: 44760 | E74: 海の日 | M74: =IF('定義（記入例用）'!M73+1>'休日取得計画表・休日取得実績表（記入例）'!$I$5,"",'定義（記入例用）'!M73+1) -> 45861 | N74: {=IFERROR(INDEX($B:$B,MATCH($M74,$A:$A,),),"")} | O74: {=IFERROR(INDEX($E:$E,MATCH($M74,祝日,),),"")&IFERROR(INDEX($H:$H,MATCH($M74,夏季休暇,),),"")&IFERROR(INDEX($K:$K,MATCH($M74,年末年始,),),"")} | P74: =IF(COUNTBLANK(N74:O74)=0,CHAR(10),"") | Q74: =O74&P74&N74 | R74: =IF(OR(TEXT(M74,"aaa")="土",TEXT(M74,"aaa")="日",O74<>""),1,0) -> 0
D75: 44784 | E75: 山の日 | M75: =IF('定義（記入例用）'!M74+1>'休日取得計画表・休日取得実績表（記入例）'!$I$5,"",'定義（記入例用）'!M74+1) -> 45862 | N75: {=IFERROR(INDEX($B:$B,MATCH($M75,$A:$A,),),"")} | O75: {=IFERROR(INDEX($E:$E,MATCH($M75,祝日,),),"")&IFERROR(INDEX($H:$H,MATCH($M75,夏季休暇,),),"")&IFERROR(INDEX($K:$K,MATCH($M75,年末年始,),),"")} | P75: =IF(COUNTBLANK(N75:O75)=0,CHAR(10),"") | Q75: =O75&P75&N75 | R75: =IF(OR(TEXT(M75,"aaa")="土",TEXT(M75,"aaa")="日",O75<>""),1,0) -> 0
D76: 44823 | E76: 敬老の日 | M76: =IF('定義（記入例用）'!M75+1>'休日取得計画表・休日取得実績表（記入例）'!$I$5,"",'定義（記入例用）'!M75+1) -> 45863 | N76: {=IFERROR(INDEX($B:$B,MATCH($M76,$A:$A,),),"")} | O76: {=IFERROR(INDEX($E:$E,MATCH($M76,祝日,),),"")&IFERROR(INDEX($H:$H,MATCH($M76,夏季休暇,),),"")&IFERROR(INDEX($K:$K,MATCH($M76,年末年始,),),"")} | P76: =IF(COUNTBLANK(N76:O76)=0,CHAR(10),"") | Q76: =O76&P76&N76 | R76: =IF(OR(TEXT(M76,"aaa")="土",TEXT(M76,"aaa")="日",O76<>""),1,0) -> 0
... D80: 44888 | E80: 勤労感謝の日 | M80: =IF('定義（記入例用）'!M79+1>'休日取得計画表・休日取得実績表（記入例）'!$I$5,"",'定義（記入例用）'!M79+1) -> 45867 | N80: {=IFERROR(INDEX($B:$B,MATCH($M80,$A:$A,),),"")} | O80: {=IFERROR(INDEX($E:$E,MATCH($M80,祝日,),),"")&IFERROR(INDEX($H:$H,MATCH($M80,夏季休暇,),),"")&IFERROR(INDEX($K:$K,MATCH($M80,年末年始,),),"")} | P80: =IF(COUNTBLANK(N80:O80)=0,CHAR(10),"") | Q80: =O80&P80&N80 | R80: =IF(OR(TEXT(M80,"aaa")="土",TEXT(M80,"aaa")="日",O80<>""),1,0) -> 0
M81: =IF('定義（記入例用）'!M80+1>'休日取得計画表・休日取得実績表（記入例）'!$I$5,"",'定義（記入例用）'!M80+1) -> 45868 | N81: {=IFERROR(INDEX($B:$B,MATCH($M81,$A:$A,),),"")} | O81: {=IFERROR(INDEX($E:$E,MATCH($M81,祝日,),),"")&IFERROR(INDEX($H:$H,MATCH($M81,夏季休暇,),),"")&IFERROR(INDEX($K:$K,MATCH($M81,年末年始,),),"")} | P81: =IF(COUNTBLANK(N81:O81)=0,CHAR(10),"") | Q81: =O81&P81&N81 | R81: =IF(OR(TEXT(M81,"aaa")="土",TEXT(M81,"aaa")="日",O81<>""),1,0) -> 0
D82: 44927 | E82: 元日 | M82: =IF('定義（記入例用）'!M81+1>'休日取得計画表・休日取得実績表（記入例）'!$I$5,"",'定義（記入例用）'!M81+1) -> 45869 | N82: {=IFERROR(INDEX($B:$B,MATCH($M82,$A:$A,),),"")} | O82: {=IFERROR(INDEX($E:$E,MATCH($M82,祝日,),),"")&IFERROR(INDEX($H:$H,MATCH($M82,夏季休暇,),),"")&IFERROR(INDEX($K:$K,MATCH($M82,年末年始,),),"")} | P82: =IF(COUNTBLANK(N82:O82)=0,CHAR(10),"") | Q82: =O82&P82&N82 | R82: =IF(OR(TEXT(M82,"aaa")="土",TEXT(M82,"aaa")="日",O82<>""),1,0) -> 0
D83: 44928 | E83: 振替休日 | M83: =IF('定義（記入例用）'!M82+1>'休日取得計画表・休日取得実績表（記入例）'!$I$5,"",'定義（記入例用）'!M82+1) -> 45870 | N83: {=IFERROR(INDEX($B:$B,MATCH($M83,$A:$A,),),"")} | O83: {=IFERROR(INDEX($E:$E,MATCH($M83,祝日,),),"")&IFERROR(INDEX($H:$H,MATCH($M83,夏季休暇,),),"")&IFERROR(INDEX($K:$K,MATCH($M83,年末年始,),),"")} | P83: =IF(COUNTBLANK(N83:O83)=0,CHAR(10),"") | Q83: =O83&P83&N83 | R83: =IF(OR(TEXT(M83,"aaa")="土",TEXT(M83,"aaa")="日",O83<>""),1,0) -> 0
D84: 44935 | E84: 成人の日 | M84: =IF('定義（記入例用）'!M83+1>'休日取得計画表・休日取得実績表（記入例）'!$I$5,"",'定義（記入例用）'!M83+1) -> 45871 | N84: {=IFERROR(INDEX($B:$B,MATCH($M84,$A:$A,),),"")} | O84: {=IFERROR(INDEX($E:$E,MATCH($M84,祝日,),),"")&IFERROR(INDEX($H:$H,MATCH($M84,夏季休暇,),),"")&IFERROR(INDEX($K:$K,MATCH($M84,年末年始,),),"")} | P84: =IF(COUNTBLANK(N84:O84)=0,CHAR(10),"") | Q84: =O84&P84&N84 | R84: =IF(OR(TEXT(M84,"aaa")="土",TEXT(M84,"aaa")="日",O84<>""),1,0) -> 1
D85: 44968 | E85: 建国記念の日 | M85: =IF('定義（記入例用）'!M84+1>'休日取得計画表・休日取得実績表（記入例）'!$I$5,"",'定義（記入例用）'!M84+1) -> 45872 | N85: {=IFERROR(INDEX($B:$B,MATCH($M85,$A:$A,),),"")} | O85: {=IFERROR(INDEX($E:$E,MATCH($M85,祝日,),),"")&IFERROR(INDEX($H:$H,MATCH($M85,夏季休暇,),),"")&IFERROR(INDEX($K:$K,MATCH($M85,年末年始,),),"")} | P85: =IF(COUNTBLANK(N85:O85)=0,CHAR(10),"") | Q85: =O85&P85&N85 | R85: =IF(OR(TEXT(M85,"aaa")="土",TEXT(M85,"aaa")="日",O85<>""),1,0) -> 1
D86: 44980 | E86: 天皇誕生日 | M86: =IF('定義（記入例用）'!M85+1>'休日取得計画表・休日取得実績表（記入例）'!$I$5,"",'定義（記入例用）'!M85+1) -> 45873 | N86: {=IFERROR(INDEX($B:$B,MATCH($M86,$A:$A,),),"")} | O86: {=IFERROR(INDEX($E:$E,MATCH($M86,祝日,),),"")&IFERROR(INDEX($H:$H,MATCH($M86,夏季休暇,),),"")&IFERROR(INDEX($K:$K,MATCH($M86,年末年始,),),"")} | P86: =IF(COUNTBLANK(N86:O86)=0,CHAR(10),"") | Q86: =O86&P86&N86 | R86: =IF(OR(TEXT(M86,"aaa")="土",TEXT(M86,"aaa")="日",O86<>""),1,0) -> 0
D87: 45006 | E87: 春分の日 | M87: =IF('定義（記入例用）'!M86+1>'休日取得計画表・休日取得実績表（記入例）'!$I$5,"",'定義（記入例用）'!M86+1) -> 45874 | N87: {=IFERROR(INDEX($B:$B,MATCH($M87,$A:$A,),),"")} | O87: {=IFERROR(INDEX($E:$E,MATCH($M87,祝日,),),"")&IFERROR(INDEX($H:$H,MATCH($M87,夏季休暇,),),"")&IFERROR(INDEX($K:$K,MATCH($M87,年末年始,),),"")} | P87: =IF(COUNTBLANK(N87:O87)=0,CHAR(10),"") | Q87: =O87&P87&N87 | R87: =IF(OR(TEXT(M87,"aaa")="土",TEXT(M87,"aaa")="日",O87<>""),1,0) -> 0
D88: 45045 | E88: 昭和の日 | M88: =IF('定義（記入例用）'!M87+1>'休日取得計画表・休日取得実績表（記入例）'!$I$5,"",'定義（記入例用）'!M87+1) -> 45875 | N88: {=IFERROR(INDEX($B:$B,MATCH($M88,$A:$A,),),"")} | O88: {=IFERROR(INDEX($E:$E,MATCH($M88,祝日,),),"")&IFERROR(INDEX($H:$H,MATCH($M88,夏季休暇,),),"")&IFERROR(INDEX($K:$K,MATCH($M88,年末年始,),),"")} | P88: =IF(COUNTBLANK(N88:O88)=0,CHAR(10),"") | Q88: =O88&P88&N88 | R88: =IF(OR(TEXT(M88,"aaa")="土",TEXT(M88,"aaa")="日",O88<>""),1,0) -> 0
D89: 45049 | E89: 憲法記念日 | M89: =IF('定義（記入例用）'!M88+1>'休日取得計画表・休日取得実績表（記入例）'!$I$5,"",'定義（記入例用）'!M88+1) -> 45876 | N89: {=IFERROR(INDEX($B:$B,MATCH($M89,$A:$A,),),"")} | O89: {=IFERROR(INDEX($E:$E,MATCH($M89,祝日,),),"")&IFERROR(INDEX($H:$H,MATCH($M89,夏季休暇,),),"")&IFERROR(INDEX($K:$K,MATCH($M89,年末年始,),),"")} | P89: =IF(COUNTBLANK(N89:O89)=0,CHAR(10),"") | Q89: =O89&P89&N89 | R89: =IF(OR(TEXT(M89,"aaa")="土",TEXT(M89,"aaa")="日",O89<>""),1,0) -> 0
D90: 45050 | E90: みどりの日 | M90: =IF('定義（記入例用）'!M89+1>'休日取得計画表・休日取得実績表（記入例）'!$I$5,"",'定義（記入例用）'!M89+1) -> 45877 | N90: {=IFERROR(INDEX($B:$B,MATCH($M90,$A:$A,),),"")} | O90: {=IFERROR(INDEX($E:$E,MATCH($M90,祝日,),),"")&IFERROR(INDEX($H:$H,MATCH($M90,夏季休暇,),),"")&IFERROR(INDEX($K:$K,MATCH($M90,年末年始,),),"")} | P90: =IF(COUNTBLANK(N90:O90)=0,CHAR(10),"") | Q90: =O90&P90&N90 | R90: =IF(OR(TEXT(M90,"aaa")="土",TEXT(M90,"aaa")="日",O90<>""),1,0) -> 0
D91: 45051 | E91: こどもの日 | M91: =IF('定義（記入例用）'!M90+1>'休日取得計画表・休日取得実績表（記入例）'!$I$5,"",'定義（記入例用）'!M90+1) -> 45878 | N91: {=IFERROR(INDEX($B:$B,MATCH($M91,$A:$A,),),"")} | O91: {=IFERROR(INDEX($E:$E,MATCH($M91,祝日,),),"")&IFERROR(INDEX($H:$H,MATCH($M91,夏季休暇,),),"")&IFERROR(INDEX($K:$K,MATCH($M91,年末年始,),),"")} | P91: =IF(COUNTBLANK(N91:O91)=0,CHAR(10),"") | Q91: =O91&P91&N91 | R91: =IF(OR(TEXT(M91,"aaa")="土",TEXT(M91,"aaa")="日",O91<>""),1,0) -> 1
D92: 45124 | E92: 海の日 | M92: =IF('定義（記入例用）'!M91+1>'休日取得計画表・休日取得実績表（記入例）'!$I$5,"",'定義（記入例用）'!M91+1) -> 45879 | N92: {=IFERROR(INDEX($B:$B,MATCH($M92,$A:$A,),),"")} | O92: {=IFERROR(INDEX($E:$E,MATCH($M92,祝日,),),"")&IFERROR(INDEX($H:$H,MATCH($M92,夏季休暇,),),"")&IFERROR(INDEX($K:$K,MATCH($M92,年末年始,),),"")} | P92: =IF(COUNTBLANK(N92:O92)=0,CHAR(10),"") | Q92: =O92&P92&N92 | R92: =IF(OR(TEXT(M92,"aaa")="土",TEXT(M92,"aaa")="日",O92<>""),1,0) -> 1
D93: 45149 | E93: 山の日 | M93: =IF('定義（記入例用）'!M92+1>'休日取得計画表・休日取得実績表（記入例）'!$I$5,"",'定義（記入例用）'!M92+1) -> 45880 | N93: {=IFERROR(INDEX($B:$B,MATCH($M93,$A:$A,),),"")} | O93: {=IFERROR(INDEX($E:$E,MATCH($M93,祝日,),),"")&IFERROR(INDEX($H:$H,MATCH($M93,夏季休暇,),),"")&IFERROR(INDEX($K:$K,MATCH($M93,年末年始,),),"")} -> 山の日 | P93: =IF(COUNTBLANK(N93:O93)=0,CHAR(10),"") | Q93: =O93&P93&N93 -> 山の日 | R93: =IF(OR(TEXT(M93,"aaa")="土",TEXT(M93,"aaa")="日",O93<>""),1,0) -> 1
... D98: 45253 | E98: 勤労感謝の日 | M98: =IF('定義（記入例用）'!M97+1>'休日取得計画表・休日取得実績表（記入例）'!$I$5,"",'定義（記入例用）'!M97+1) -> 45885 | N98: {=IFERROR(INDEX($B:$B,MATCH($M98,$A:$A,),),"")} | O98: {=IFERROR(INDEX($E:$E,MATCH($M98,祝日,),),"")&IFERROR(INDEX($H:$H,MATCH($M98,夏季休暇,),),"")&IFERROR(INDEX($K:$K,MATCH($M98,年末年始,),),"")} | P98: =IF(COUNTBLANK(N98:O98)=0,CHAR(10),"") | Q98: =O98&P98&N98 | R98: =IF(OR(TEXT(M98,"aaa")="土",TEXT(M98,"aaa")="日",O98<>""),1,0) -> 1
M99: =IF('定義（記入例用）'!M98+1>'休日取得計画表・休日取得実績表（記入例）'!$I$5,"",'定義（記入例用）'!M98+1) -> 45886 | N99: {=IFERROR(INDEX($B:$B,MATCH($M99,$A:$A,),),"")} | O99: {=IFERROR(INDEX($E:$E,MATCH($M99,祝日,),),"")&IFERROR(INDEX($H:$H,MATCH($M99,夏季休暇,),),"")&IFERROR(INDEX($K:$K,MATCH($M99,年末年始,),),"")} | P99: =IF(COUNTBLANK(N99:O99)=0,CHAR(10),"") | Q99: =O99&P99&N99 | R99: =IF(OR(TEXT(M99,"aaa")="土",TEXT(M99,"aaa")="日",O99<>""),1,0) -> 1
D100: 45292 | E100: 元日 | M100: =IF('定義（記入例用）'!M99+1>'休日取得計画表・休日取得実績表（記入例）'!$I$5,"",'定義（記入例用）'!M99+1) -> 45887 | N100: {=IFERROR(INDEX($B:$B,MATCH($M100,$A:$A,),),"")} | O100: {=IFERROR(INDEX($E:$E,MATCH($M100,祝日,),),"")&IFERROR(INDEX($H:$H,MATCH($M100,夏季休暇,),),"")&IFERROR(INDEX($K:$K,MATCH($M100,年末年始,),),"")} | P100: =IF(COUNTBLANK(N100:O100)=0,CHAR(10),"") | Q100: =O100&P100&N100 | R100: =IF(OR(TEXT(M100,"aaa")="土",TEXT(M100,"aaa")="日",O100<>""),1,0) -> 0
D101: 45299 | E101: 成人の日 | M101: =IF('定義（記入例用）'!M100+1>'休日取得計画表・休日取得実績表（記入例）'!$I$5,"",'定義（記入例用）'!M100+1) -> 45888 | N101: {=IFERROR(INDEX($B:$B,MATCH($M101,$A:$A,),),"")} | O101: {=IFERROR(INDEX($E:$E,MATCH($M101,祝日,),),"")&IFERROR(INDEX($H:$H,MATCH($M101,夏季休暇,),),"")&IFERROR(INDEX($K:$K,MATCH($M101,年末年始,),),"")} | P101: =IF(COUNTBLANK(N101:O101)=0,CHAR(10),"") | Q101: =O101&P101&N101 | R101: =IF(OR(TEXT(M101,"aaa")="土",TEXT(M101,"aaa")="日",O101<>""),1,0) -> 0
D102: 45333 | E102: 建国記念の日 | M102: =IF('定義（記入例用）'!M101+1>'休日取得計画表・休日取得実績表（記入例）'!$I$5,"",'定義（記入例用）'!M101+1) -> 45889 | N102: {=IFERROR(INDEX($B:$B,MATCH($M102,$A:$A,),),"")} | O102: {=IFERROR(INDEX($E:$E,MATCH($M102,祝日,),),"")&IFERROR(INDEX($H:$H,MATCH($M102,夏季休暇,),),"")&IFERROR(INDEX($K:$K,MATCH($M102,年末年始,),),"")} | P102: =IF(COUNTBLANK(N102:O102)=0,CHAR(10),"") | Q102: =O102&P102&N102 | R102: =IF(OR(TEXT(M102,"aaa")="土",TEXT(M102,"aaa")="日",O102<>""),1,0) -> 0
D103: 45334 | E103: 振替休日 | M103: =IF('定義（記入例用）'!M102+1>'休日取得計画表・休日取得実績表（記入例）'!$I$5,"",'定義（記入例用）'!M102+1) -> 45890 | N103: {=IFERROR(INDEX($B:$B,MATCH($M103,$A:$A,),),"")} | O103: {=IFERROR(INDEX($E:$E,MATCH($M103,祝日,),),"")&IFERROR(INDEX($H:$H,MATCH($M103,夏季休暇,),),"")&IFERROR(INDEX($K:$K,MATCH($M103,年末年始,),),"")} | P103: =IF(COUNTBLANK(N103:O103)=0,CHAR(10),"") | Q103: =O103&P103&N103 | R103: =IF(OR(TEXT(M103,"aaa")="土",TEXT(M103,"aaa")="日",O103<>""),1,0) -> 0
D104: 45345 | E104: 天皇誕生日 | M104: =IF('定義（記入例用）'!M103+1>'休日取得計画表・休日取得実績表（記入例）'!$I$5,"",'定義（記入例用）'!M103+1) -> 45891 | N104: {=IFERROR(INDEX($B:$B,MATCH($M104,$A:$A,),),"")} | O104: {=IFERROR(INDEX($E:$E,MATCH($M104,祝日,),),"")&IFERROR(INDEX($H:$H,MATCH($M104,夏季休暇,),),"")&IFERROR(INDEX($K:$K,MATCH($M104,年末年始,),),"")} | P104: =IF(COUNTBLANK(N104:O104)=0,CHAR(10),"") | Q104: =O104&P104&N104 | R104: =IF(OR(TEXT(M104,"aaa")="土",TEXT(M104,"aaa")="日",O104<>""),1,0) -> 0
D105: 45371 | E105: 春分の日 | M105: =IF('定義（記入例用）'!M104+1>'休日取得計画表・休日取得実績表（記入例）'!$I$5,"",'定義（記入例用）'!M104+1) -> 45892 | N105: {=IFERROR(INDEX($B:$B,MATCH($M105,$A:$A,),),"")} | O105: {=IFERROR(INDEX($E:$E,MATCH($M105,祝日,),),"")&IFERROR(INDEX($H:$H,MATCH($M105,夏季休暇,),),"")&IFERROR(INDEX($K:$K,MATCH($M105,年末年始,),),"")} | P105: =IF(COUNTBLANK(N105:O105)=0,CHAR(10),"") | Q105: =O105&P105&N105 | R105: =IF(OR(TEXT(M105,"aaa")="土",TEXT(M105,"aaa")="日",O105<>""),1,0) -> 1
D106: 45411 | E106: 昭和の日 | M106: =IF('定義（記入例用）'!M105+1>'休日取得計画表・休日取得実績表（記入例）'!$I$5,"",'定義（記入例用）'!M105+1) -> 45893 | N106: {=IFERROR(INDEX($B:$B,MATCH($M106,$A:$A,),),"")} | O106: {=IFERROR(INDEX($E:$E,MATCH($M106,祝日,),),"")&IFERROR(INDEX($H:$H,MATCH($M106,夏季休暇,),),"")&IFERROR(INDEX($K:$K,MATCH($M106,年末年始,),),"")} | P106: =IF(COUNTBLANK(N106:O106)=0,CHAR(10),"") | Q106: =O106&P106&N106 | R106: =IF(OR(TEXT(M106,"aaa")="土",TEXT(M106,"aaa")="日",O106<>""),1,0) -> 1
D107: 45415 | E107: 憲法記念日 | M107: =IF('定義（記入例用）'!M106+1>'休日取得計画表・休日取得実績表（記入例）'!$I$5,"",'定義（記入例用）'!M106+1) -> 45894 | N107: {=IFERROR(INDEX($B:$B,MATCH($M107,$A:$A,),),"")} | O107: {=IFERROR(INDEX($E:$E,MATCH($M107,祝日,),),"")&IFERROR(INDEX($H:$H,MATCH($M107,夏季休暇,),),"")&IFERROR(INDEX($K:$K,MATCH($M107,年末年始,),),"")} | P107: =IF(COUNTBLANK(N107:O107)=0,CHAR(10),"") | Q107: =O107&P107&N107 | R107: =IF(OR(TEXT(M107,"aaa")="土",TEXT(M107,"aaa")="日",O107<>""),1,0) -> 0
D108: 45416 | E108: みどりの日 | M108: =IF('定義（記入例用）'!M107+1>'休日取得計画表・休日取得実績表（記入例）'!$I$5,"",'定義（記入例用）'!M107+1) -> 45895 | N108: {=IFERROR(INDEX($B:$B,MATCH($M108,$A:$A,),),"")} | O108: {=IFERROR(INDEX($E:$E,MATCH($M108,祝日,),),"")&IFERROR(INDEX($H:$H,MATCH($M108,夏季休暇,),),"")&IFERROR(INDEX($K:$K,MATCH($M108,年末年始,),),"")} | P108: =IF(COUNTBLANK(N108:O108)=0,CHAR(10),"") | Q108: =O108&P108&N108 | R108: =IF(OR(TEXT(M108,"aaa")="土",TEXT(M108,"aaa")="日",O108<>""),1,0) -> 0
D109: 45417 | E109: こどもの日 | M109: =IF('定義（記入例用）'!M108+1>'休日取得計画表・休日取得実績表（記入例）'!$I$5,"",'定義（記入例用）'!M108+1) -> 45896 | N109: {=IFERROR(INDEX($B:$B,MATCH($M109,$A:$A,),),"")} | O109: {=IFERROR(INDEX($E:$E,MATCH($M109,祝日,),),"")&IFERROR(INDEX($H:$H,MATCH($M109,夏季休暇,),),"")&IFERROR(INDEX($K:$K,MATCH($M109,年末年始,),),"")} | P109: =IF(COUNTBLANK(N109:O109)=0,CHAR(10),"") | Q109: =O109&P109&N109 | R109: =IF(OR(TEXT(M109,"aaa")="土",TEXT(M109,"aaa")="日",O109<>""),1,0) -> 0
D110: 45418 | E110: 振替休日 | M110: =IF('定義（記入例用）'!M109+1>'休日取得計画表・休日取得実績表（記入例）'!$I$5,"",'定義（記入例用）'!M109+1) -> 45897 | N110: {=IFERROR(INDEX($B:$B,MATCH($M110,$A:$A,),),"")} | O110: {=IFERROR(INDEX($E:$E,MATCH($M110,祝日,),),"")&IFERROR(INDEX($H:$H,MATCH($M110,夏季休暇,),),"")&IFERROR(INDEX($K:$K,MATCH($M110,年末年始,),),"")} | P110: =IF(COUNTBLANK(N110:O110)=0,CHAR(10),"") | Q110: =O110&P110&N110 | R110: =IF(OR(TEXT(M110,"aaa")="土",TEXT(M110,"aaa")="日",O110<>""),1,0) -> 0
...

Sheet 休日取得計画表・休日取得実績表（記入例）
B1: 休日等取得計画・休日等取得実績表 | AI1: （様式３）
AE2: 計画休日数 | AH2: =SUM(AK:AK) -> 87 | AJ2: =IF(AH2<SUM(AM:AM),"計画休日数が足りていません。","")
B3: 週休2日の種類 | F3: 発注者指定型 | AE3: 実績休日数 | AH3: =SUM(AO:AO) -> 90
B4: 工事名 | D4: ○○工事 | AE4: 必要現場閉所日数 | AH4: =SUM(AQ:AQ) -> 87
B5: 期間 | D5: 45789 | H5: ～ | I5: 46100 | N5: 着手日 | O5: 45810 | T5: 完成通知書提出日 | AC5: 判定結果（実績）： | AF5: =IF(AH2=0,"",IF(AH3>=AH2,"週休２日達成","不達成")) -> 週休２日達成
I6: =IF(D5>I5,"▲確認：工期末が工期始まりより早いです。","") | T6: （工期内に完成の場合入力）
B7: 月 | C7: =DATE(YEAR(D5),MONTH(D5),1) -> 45778 | AH7: 月計 | AI7: 累計 | AK7: 計画時点 | AO7: 実績
B8: 日 | C8: =+C7 -> 45778 | D8: =IFERROR(IF(MONTH(C8+1)=MONTH($C7),C8+1,""),"") -> 45779 | E8: =IFERROR(IF(MONTH(D8+1)=MONTH($C7),D8+1,""),"") -> 45780 | F8: =IFERROR(IF(MONTH(E8+1)=MONTH($C7),E8+1,""),"") -> 45781 | G8: =IFERROR(IF(MONTH(F8+1)=MONTH($C7),F8+1,""),"") -> 45782 | H8: =IFERROR(IF(MONTH(G8+1)=MONTH($C7),G8+1,""),"") -> 45783 | I8: =IFERROR(IF(MONTH(H8+1)=MONTH($C7),H8+1,""),"") -> 45784 | J8: =IFERROR(IF(MONTH(I8+1)=MONTH($C7),I8+1,""),"") -> 45785 | K8: =IFERROR(IF(MONTH(J8+1)=MONTH($C7),J8+1,""),"") -> 45786 | ... AG8: =IFERROR(IF(MONTH(AF8+1)=MONTH($C7),AF8+1,""),"") -> 45808 | AK8: 計画休日数（月計） | AL8: 計画休日数（累計） | AM8: 必要現場閉所日（月計） | AN8: 必要現場閉所日（累計） | AO8: 実績休日数（月計） | AP8: 実績休日数（累計） | AQ8: 必要現場閉所日（月計） | AR8: 必要現場閉所日（累計）
B9: 曜日 | C9: =IF(C8="","",IF(COUNTIF(祝日,C8)>0,"祝",IF(COUNTIF(夏季休暇,C8)+COUNTIF(年末年始,C8)>0,"休",TEXT(C8,"aaa")))) -> 木 | D9: =IF(D8="","",IF(COUNTIF(祝日,D8)>0,"祝",IF(COUNTIF(夏季休暇,D8)+COUNTIF(年末年始,D8)>0,"休",TEXT(D8,"aaa")))) -> 金 | E9: =IF(E8="","",IF(COUNTIF(祝日,E8)>0,"祝",IF(COUNTIF(夏季休暇,E8)+COUNTIF(年末年始,E8)>0,"休",TEXT(E8,"aaa")))) -> 祝 | F9: =IF(F8="","",IF(COUNTIF(祝日,F8)>0,"祝",IF(COUNTIF(夏季休暇,F8)+COUNTIF(年末年始,F8)>0,"休",TEXT(F8,"aaa")))) -> 祝 | G9: =IF(G8="","",IF(COUNTIF(祝日,G8)>0,"祝",IF(COUNTIF(夏季休暇,G8)+COUNTIF(年末年始,G8)>0,"休",TEXT(G8,"aaa")))) -> 祝 | H9: =IF(H8="","",IF(COUNTIF(祝日,H8)>0,"祝",IF(COUNTIF(夏季休暇,H8)+COUNTIF(年末年始,H8)>0,"休",TEXT(H8,"aaa")))) -> 祝 | I9: =IF(I8="","",IF(COUNTIF(祝日,I8)>0,"祝",IF(COUNTIF(夏季休暇,I8)+COUNTIF(年末年始,I8)>0,"休",TEXT(I8,"aaa")))) -> 水 | J9: =IF(J8="","",IF(COUNTIF(祝日,J8)>0,"祝",IF(COUNTIF(夏季休暇,J8)+COUNTIF(年末年始,J8)>0,"休",TEXT(J8,"aaa")))) -> 木 | ... AG9: =IF(AG8="","",IF(COUNTIF(祝日,AG8)>0,"祝",IF(COUNTIF(夏季休暇,AG8)+COUNTIF(年末年始,AG8)>0,"休",TEXT(AG8,"aaa")))) -> 土 | AH9: ○計 | AI9: ○計
B10: 計画用 | C10: {=IF(OR(C8<$O$5,MIN($I$5,$W$5)-20<C8,C13="―"),"✕",INDEX('定義（記入例用）'!$R:$R,MATCH('休日取得計画表・休日取得実績表（記入例）'!C8,'定義（記入例用）'!$M:$M,),))} -> ✕ | D10: {=IF(OR(D8<$O$5,MIN($I$5,$W$5)-20<D8,D13="―"),"✕",INDEX('定義（記入例用）'!$R:$R,MATCH('休日取得計画表・休日取得実績表（記入例）'!D8,'定義（記入例用）'!$M:$M,),))} -> ✕ | E10: {=IF(OR(E8<$O$5,MIN($I$5,$W$5)-20<E8,E13="―"),"✕",INDEX('定義（記入例用）'!$R:$R,MATCH('休日取得計画表・休日取得実績表（記入例）'!E8,'定義（記入例用）'!$M:$M,),))} -> ✕ | F10: {=IF(OR(F8<$O$5,MIN($I$5,$W$5)-20<F8,F13="―"),"✕",INDEX('定義（記入例用）'!$R:$R,MATCH('休日取得計画表・休日取得実績表（記入例）'!F8,'定義（記入例用）'!$M:$M,),))} -> ✕ | G10: {=IF(OR(G8<$O$5,MIN($I$5,$W$5)-20<G8,G13="―"),"✕",INDEX('定義（記入例用）'!$R:$R,MATCH('休日取得計画表・休日取得実績表（記入例）'!G8,'定義（記入例用）'!$M:$M,),))} -> ✕ | H10: {=IF(OR(H8<$O$5,MIN($I$5,$W$5)-20<H8,H13="―"),"✕",INDEX('定義（記入例用）'!$R:$R,MATCH('休日取得計画表・休日取得実績表（記入例）'!H8,'定義（記入例用）'!$M:$M,),))} -> ✕ | I10: {=IF(OR(I8<$O$5,MIN($I$5,$W$5)-20<I8,I13="―"),"✕",INDEX('定義（記入例用）'!$R:$R,MATCH('休日取得計画表・休日取得実績表（記入例）'!I8,'定義（記入例用）'!$M:$M,),))} -> ✕ | J10: {=IF(OR(J8<$O$5,MIN($I$5,$W$5)-20<J8,J13="―"),"✕",INDEX('定義（記入例用）'!$R:$R,MATCH('休日取得計画表・休日取得実績表（記入例）'!J8,'定義（記入例用）'!$M:$M,),))} -> ✕ | ... AG10: {=IF(OR(AG8<$O$5,MIN($I$5,$W$5)-20<AG8,AG13="―"),"✕",INDEX('定義（記入例用）'!$R:$R,MATCH('休日取得計画表・休日取得実績表（記入例）'!AG8,'定義（記入例用）'!$M:$M,),))} -> ✕
B11: 実績用 | C11: {=IF(OR(C8<$O$5,MIN($I$5,$W$5)-20<C8,C14="―"),"✕",INDEX('定義（記入例用）'!$R:$R,MATCH('休日取得計画表・休日取得実績表（記入例）'!C8,'定義（記入例用）'!$M:$M,),))} -> ✕ | D11: {=IF(OR(D8<$O$5,MIN($I$5,$W$5)-20<D8,D14="―"),"✕",INDEX('定義（記入例用）'!$R:$R,MATCH('休日取得計画表・休日取得実績表（記入例）'!D8,'定義（記入例用）'!$M:$M,),))} -> ✕ | E11: {=IF(OR(E8<$O$5,MIN($I$5,$W$5)-20<E8,E14="―"),"✕",INDEX('定義（記入例用）'!$R:$R,MATCH('休日取得計画表・休日取得実績表（記入例）'!E8,'定義（記入例用）'!$M:$M,),))} -> ✕ | F11: {=IF(OR(F8<$O$5,MIN($I$5,$W$5)-20<F8,F14="―"),"✕",INDEX('定義（記入例用）'!$R:$R,MATCH('休日取得計画表・休日取得実績表（記入例）'!F8,'定義（記入例用）'!$M:$M,),))} -> ✕ | G11: {=IF(OR(G8<$O$5,MIN($I$5,$W$5)-20<G8,G14="―"),"✕",INDEX('定義（記入例用）'!$R:$R,MATCH('休日取得計画表・休日取得実績表（記入例）'!G8,'定義（記入例用）'!$M:$M,),))} -> ✕ | H11: {=IF(OR(H8<$O$5,MIN($I$5,$W$5)-20<H8,H14="―"),"✕",INDEX('定義（記入例用）'!$R:$R,MATCH('休日取得計画表・休日取得実績表（記入例）'!H8,'定義（記入例用）'!$M:$M,),))} -> ✕ | I11: {=IF(OR(I8<$O$5,MIN($I$5,$W$5)-20<I8,I14="―"),"✕",INDEX('定義（記入例用）'!$R:$R,MATCH('休日取得計画表・休日取得実績表（記入例）'!I8,'定義（記入例用）'!$M:$M,),))} -> ✕ | J11: {=IF(OR(J8<$O$5,MIN($I$5,$W$5)-20<J8,J14="―"),"✕",INDEX('定義（記入例用）'!$R:$R,MATCH('休日取得計画表・休日取得実績表（記入例）'!J8,'定義（記入例用）'!$M:$M,),))} -> ✕ | ... AG11: {=IF(OR(AG8<$O$5,MIN($I$5,$W$5)-20<AG8,AG14="―"),"✕",INDEX('定義（記入例用）'!$R:$R,MATCH('休日取得計画表・休日取得実績表（記入例）'!AG8,'定義（記入例用）'!$M:$M,),))} -> ✕
B12: 行事 | C12: {=IFERROR(INDEX('定義（記入例用）'!$Q:$Q,MATCH('休日取得計画表・休日取得実績表（記入例）'!C8,'定義（記入例用）'!$M:$M,),),"")} | D12: {=IFERROR(INDEX('定義（記入例用）'!$Q:$Q,MATCH('休日取得計画表・休日取得実績表（記入例）'!D8,'定義（記入例用）'!$M:$M,),),"")} | E12: {=IFERROR(INDEX('定義（記入例用）'!$Q:$Q,MATCH('休日取得計画表・休日取得実績表（記入例）'!E8,'定義（記入例用）'!$M:$M,),),"")} | F12: {=IFERROR(INDEX('定義（記入例用）'!$Q:$Q,MATCH('休日取得計画表・休日取得実績表（記入例）'!F8,'定義（記入例用）'!$M:$M,),),"")} | G12: {=IFERROR(INDEX('定義（記入例用）'!$Q:$Q,MATCH('休日取得計画表・休日取得実績表（記入例）'!G8,'定義（記入例用）'!$M:$M,),),"")} | H12: {=IFERROR(INDEX('定義（記入例用）'!$Q:$Q,MATCH('休日取得計画表・休日取得実績表（記入例）'!H8,'定義（記入例用）'!$M:$M,),),"")} | I12: {=IFERROR(INDEX('定義（記入例用）'!$Q:$Q,MATCH('休日取得計画表・休日取得実績表（記入例）'!I8,'定義（記入例用）'!$M:$M,),),"")} | J12: {=IFERROR(INDEX('定義（記入例用）'!$Q:$Q,MATCH('休日取得計画表・休日取得実績表（記入例）'!J8,'定義（記入例用）'!$M:$M,),),"")} | ... AG12: {=IFERROR(INDEX('定義（記入例用）'!$Q:$Q,MATCH('休日取得計画表・休日取得実績表（記入例）'!AG8,'定義（記入例用）'!$M:$M,),),"")}
B13: =IF($F$3="受注者希望型","－","休日 計画") -> 休日 計画 | AH13: =AK13 -> 0 | AI13: =AL13 -> 0 | AK13: =COUNTIFS(C13:AG13,"○",C10:AG10,"<>✕") -> 0 | AL13: =SUM(AK$7:AK14) -> 0 | AM13: =SUM(C10:AG10) -> 0 | AN13: =SUM(AM$7:AM14) -> 0 | AO13: =COUNTIFS(C14:AG14,"○",C11:AG11,"<>✕") -> 0 | AP13: =SUM(AO$7:AO14) -> 0 | AQ13: =SUM(C11:AG11) -> 0 | AR13: =SUM(AQ$7:AQ14) -> 0
B14: 休日 実績 | AH14: =AO13 -> 0 | AI14: =AP13 -> 0
B16: 月 | C16: =DATE(YEAR($C$7),MONTH($C$7)+COUNTIF($B$7:B16,"月")-1,1) -> 45809 | AH16: 月計 | AI16: 累計 | AK16: 計画時点 | AO16: 実績
B17: 日 | C17: =+C16 -> 45809 | D17: =IFERROR(IF(MONTH(C17+1)=MONTH($C16),C17+1,""),"") -> 45810 | E17: =IFERROR(IF(MONTH(D17+1)=MONTH($C16),D17+1,""),"") -> 45811 | F17: =IFERROR(IF(MONTH(E17+1)=MONTH($C16),E17+1,""),"") -> 45812 | G17: =IFERROR(IF(MONTH(F17+1)=MONTH($C16),F17+1,""),"") -> 45813 | H17: =IFERROR(IF(MONTH(G17+1)=MONTH($C16),G17+1,""),"") -> 45814 | I17: =IFERROR(IF(MONTH(H17+1)=MONTH($C16),H17+1,""),"") -> 45815 | J17: =IFERROR(IF(MONTH(I17+1)=MONTH($C16),I17+1,""),"") -> 45816 | K17: =IFERROR(IF(MONTH(J17+1)=MONTH($C16),J17+1,""),"") -> 45817 | ... AG17: =IFERROR(IF(MONTH(AF17+1)=MONTH($C16),AF17+1,""),"") | AK17: 計画休日数（月計） | AL17: 計画休日数（累計） | AM17: 必要現場閉所日（月計） | AN17: 必要現場閉所日（累計） | AO17: 実績休日数（月計） | AP17: 実績休日数（累計） | AQ17: 必要現場閉所日（月計） | AR17: 必要現場閉所日（累計）
B18: 曜日 | C18: =IF(C17="","",IF(COUNTIF(祝日,C17)>0,"祝",IF(COUNTIF(夏季休暇,C17)+COUNTIF(年末年始,C17)>0,"休",TEXT(C17,"aaa")))) -> 日 | D18: =IF(D17="","",IF(COUNTIF(祝日,D17)>0,"祝",IF(COUNTIF(夏季休暇,D17)+COUNTIF(年末年始,D17)>0,"休",TEXT(D17,"aaa")))) -> 月 | E18: =IF(E17="","",IF(COUNTIF(祝日,E17)>0,"祝",IF(COUNTIF(夏季休暇,E17)+COUNTIF(年末年始,E17)>0,"休",TEXT(E17,"aaa")))) -> 火 | F18: =IF(F17="","",IF(COUNTIF(祝日,F17)>0,"祝",IF(COUNTIF(夏季休暇,F17)+COUNTIF(年末年始,F17)>0,"休",TEXT(F17,"aaa")))) -> 水 | G18: =IF(G17="","",IF(COUNTIF(祝日,G17)>0,"祝",IF(COUNTIF(夏季休暇,G17)+COUNTIF(年末年始,G17)>0,"休",TEXT(G17,"aaa")))) -> 木 | H18: =IF(H17="","",IF(COUNTIF(祝日,H17)>0,"祝",IF(COUNTIF(夏季休暇,H17)+COUNTIF(年末年始,H17)>0,"休",TEXT(H17,"aaa")))) -> 金 | I18: =IF(I17="","",IF(COUNTIF(祝日,I17)>0,"祝",IF(COUNTIF(夏季休暇,I17)+COUNTIF(年末年始,I17)>0,"休",TEXT(I17,"aaa")))) -> 土 | J18: =IF(J17="","",IF(COUNTIF(祝日,J17)>0,"祝",IF(COUNTIF(夏季休暇,J17)+COUNTIF(年末年始,J17)>0,"休",TEXT(J17,"aaa")))) -> 日 | ... AG18: =IF(AG17="","",IF(COUNTIF(祝日,AG17)>0,"祝",IF(COUNTIF(夏季休暇,AG17)+COUNTIF(年末年始,AG17)>0,"休",TEXT(AG17,"aaa")))) | AH18: ○計 | AI18: ○計
B19: 対象期間 | C19: {=IF(OR(C17<$O$5,MIN($I$5,$W$5)-20<C17,C22="―"),"✕",INDEX('定義（記入例用）'!$R:$R,MATCH('休日取得計画表・休日取得実績表（記入例）'!C17,'定義（記入例用）'!$M:$M,),))} -> ✕ | D19: {=IF(OR(D17<$O$5,MIN($I$5,$W$5)-20<D17,D22="―"),"✕",INDEX('定義（記入例用）'!$R:$R,MATCH('休日取得計画表・休日取得実績表（記入例）'!D17,'定義（記入例用）'!$M:$M,),))} -> 0 | E19: {=IF(OR(E17<$O$5,MIN($I$5,$W$5)-20<E17,E22="―"),"✕",INDEX('定義（記入例用）'!$R:$R,MATCH('休日取得計画表・休日取得実績表（記入例）'!E17,'定義（記入例用）'!$M:$M,),))} -> 0 | F19: {=IF(OR(F17<$O$5,MIN($I$5,$W$5)-20<F17,F22="―"),"✕",INDEX('定義（記入例用）'!$R:$R,MATCH('休日取得計画表・休日取得実績表（記入例）'!F17,'定義（記入例用）'!$M:$M,),))} -> 0 | G19: {=IF(OR(G17<$O$5,MIN($I$5,$W$5)-20<G17,G22="―"),"✕",INDEX('定義（記入例用）'!$R:$R,MATCH('休日取得計画表・休日取得実績表（記入例）'!G17,'定義（記入例用）'!$M:$M,),))} -> 0 | H19: {=IF(OR(H17<$O$5,MIN($I$5,$W$5)-20<H17,H22="―"),"✕",INDEX('定義（記入例用）'!$R:$R,MATCH('休日取得計画表・休日取得実績表（記入例）'!H17,'定義（記入例用）'!$M:$M,),))} -> 0 | I19: {=IF(OR(I17<$O$5,MIN($I$5,$W$5)-20<I17,I22="―"),"✕",INDEX('定義（記入例用）'!$R:$R,MATCH('休日取得計画表・休日取得実績表（記入例）'!I17,'定義（記入例用）'!$M:$M,),))} -> 1 | J19: {=IF(OR(J17<$O$5,MIN($I$5,$W$5)-20<J17,J22="―"),"✕",INDEX('定義（記入例用）'!$R:$R,MATCH('休日取得計画表・休日取得実績表（記入例）'!J17,'定義（記入例用）'!$M:$M,),))} -> 1 | ... AG19: {=IF(OR(AG17<$O$5,MIN($I$5,$W$5)-20<AG17,AG22="―"),"✕",INDEX('定義（記入例用）'!$R:$R,MATCH('休日取得計画表・休日取得実績表（記入例）'!AG17,'定義（記入例用）'!$M:$M,),))} -> ✕
B20: 対象期間 | C20: {=IF(OR(C17<$O$5,MIN($I$5,$W$5)-20<C17,C23="―"),"✕",INDEX('定義（記入例用）'!$R:$R,MATCH('休日取得計画表・休日取得実績表（記入例）'!C17,'定義（記入例用）'!$M:$M,),))} -> ✕ | D20: {=IF(OR(D17<$O$5,MIN($I$5,$W$5)-20<D17,D23="―"),"✕",INDEX('定義（記入例用）'!$R:$R,MATCH('休日取得計画表・休日取得実績表（記入例）'!D17,'定義（記入例用）'!$M:$M,),))} -> 0 | E20: {=IF(OR(E17<$O$5,MIN($I$5,$W$5)-20<E17,E23="―"),"✕",INDEX('定義（記入例用）'!$R:$R,MATCH('休日取得計画表・休日取得実績表（記入例）'!E17,'定義（記入例用）'!$M:$M,),))} -> 0 | F20: {=IF(OR(F17<$O$5,MIN($I$5,$W$5)-20<F17,F23="―"),"✕",INDEX('定義（記入例用）'!$R:$R,MATCH('休日取得計画表・休日取得実績表（記入例）'!F17,'定義（記入例用）'!$M:$M,),))} -> 0 | G20: {=IF(OR(G17<$O$5,MIN($I$5,$W$5)-20<G17,G23="―"),"✕",INDEX('定義（記入例用）'!$R:$R,MATCH('休日取得計画表・休日取得実績表（記入例）'!G17,'定義（記入例用）'!$M:$M,),))} -> 0 | H20: {=IF(OR(H17<$O$5,MIN($I$5,$W$5)-20<H17,H23="―"),"✕",INDEX('定義（記入例用）'!$R:$R,MATCH('休日取得計画表・休日取得実績表（記入例）'!H17,'定義（記入例用）'!$M:$M,),))} -> 0 | I20: {=IF(OR(I17<$O$5,MIN($I$5,$W$5)-20<I17,I23="―"),"✕",INDEX('定義（記入例用）'!$R:$R,MATCH('休日取得計画表・休日取得実績表（記入例）'!I17,'定義（記入例用）'!$M:$M,),))} -> 1 | J20: {=IF(OR(J17<$O$5,MIN($I$5,$W$5)-20<J17,J23="―"),"✕",INDEX('定義（記入例用）'!$R:$R,MATCH('休日取得計画表・休日取得実績表（記入例）'!J17,'定義（記入例用）'!$M:$M,),))} -> 1 | ... AG20: {=IF(OR(AG17<$O$5,MIN($I$5,$W$5)-20<AG17,AG23="―"),"✕",INDEX('定義（記入例用）'!$R:$R,MATCH('休日取得計画表・休日取得実績表（記入例）'!AG17,'定義（記入例用）'!$M:$M,),))} -> ✕
B21: 行事 | C21: {=IFERROR(INDEX('定義（記入例用）'!$Q:$Q,MATCH('休日取得計画表・休日取得実績表（記入例）'!C17,'定義（記入例用）'!$M:$M,),),"")} | D21: {=IFERROR(INDEX('定義（記入例用）'!$Q:$Q,MATCH('休日取得計画表・休日取得実績表（記入例）'!D17,'定義（記入例用）'!$M:$M,),),"")} -> 現場着手 | E21: {=IFERROR(INDEX('定義（記入例用）'!$Q:$Q,MATCH('休日取得計画表・休日取得実績表（記入例）'!E17,'定義（記入例用）'!$M:$M,),),"")} | F21: {=IFERROR(INDEX('定義（記入例用）'!$Q:$Q,MATCH('休日取得計画表・休日取得実績表（記入例）'!F17,'定義（記入例用）'!$M:$M,),),"")} | G21: {=IFERROR(INDEX('定義（記入例用）'!$Q:$Q,MATCH('休日取得計画表・休日取得実績表（記入例）'!G17,'定義（記入例用）'!$M:$M,),),"")} | H21: {=IFERROR(INDEX('定義（記入例用）'!$Q:$Q,MATCH('休日取得計画表・休日取得実績表（記入例）'!H17,'定義（記入例用）'!$M:$M,),),"")} | I21: {=IFERROR(INDEX('定義（記入例用）'!$Q:$Q,MATCH('休日取得計画表・休日取得実績表（記入例）'!I17,'定義（記入例用）'!$M:$M,),),"")} | J21: {=IFERROR(INDEX('定義（記入例用）'!$Q:$Q,MATCH('休日取得計画表・休日取得実績表（記入例）'!J17,'定義（記入例用）'!$M:$M,),),"")} | ... AG21: {=IFERROR(INDEX('定義（記入例用）'!$Q:$Q,MATCH('休日取得計画表・休日取得実績表（記入例）'!AG17,'定義（記入例用）'!$M:$M,),),"")}
B22: =IF($F$3="受注者希望型","－","休日 計画") -> 休日 計画 | I22: ○ | J22: ○ | P22: ○ | Q22: ○ | W22: ○ | X22: ○ | AD22: ○ | AE22: ○ | AH22: =AK22 -> 8 | AI22: =AL22 -> 8 | AK22: =COUNTIFS(C22:AG22,"○",C19:AG19,"<>✕") -> 8 | AL22: =SUM(AK$7:AK23) -> 8 | AM22: =SUM(C19:AG19) -> 8 | AN22: =SUM(AM$7:AM23) -> 8 | AO22: =COUNTIFS(C23:AG23,"○",C20:AG20,"<>✕") -> 8 | AP22: =SUM(AO$7:AO23) -> 8 | AQ22: =SUM(C20:AG20) -> 8 | AR22: =SUM(AQ$7:AQ23) -> 8
B23: 休日 実績 | I23: ○ | J23: ○ | P23: ○ | Q23: ○ | W23: ○ | X23: ○ | AD23: ○ | AE23: ○ | AH23: =AO22 -> 8 | AI23: =AP22 -> 8
B25: 月 | C25: =DATE(YEAR($C$7),MONTH($C$7)+COUNTIF($B$7:B25,"月")-1,1) -> 45839 | AH25: 月計 | AI25: 累計 | AK25: 計画時点 | AO25: 実績
B26: 日 | C26: =+C25 -> 45839 | D26: =IFERROR(IF(MONTH(C26+1)=MONTH($C25),C26+1,""),"") -> 45840 | E26: =IFERROR(IF(MONTH(D26+1)=MONTH($C25),D26+1,""),"") -> 45841 | F26: =IFERROR(IF(MONTH(E26+1)=MONTH($C25),E26+1,""),"") -> 45842 | G26: =IFERROR(IF(MONTH(F26+1)=MONTH($C25),F26+1,""),"") -> 45843 | H26: =IFERROR(IF(MONTH(G26+1)=MONTH($C25),G26+1,""),"") -> 45844 | I26: =IFERROR(IF(MONTH(H26+1)=MONTH($C25),H26+1,""),"") -> 45845 | J26: =IFERROR(IF(MONTH(I26+1)=MONTH($C25),I26+1,""),"") -> 45846 | K26: =IFERROR(IF(MONTH(J26+1)=MONTH($C25),J26+1,""),"") -> 45847 | ... AG26: =IFERROR(IF(MONTH(AF26+1)=MONTH($C25),AF26+1,""),"") -> 45869 | AK26: 計画休日数（月計） | AL26: 計画休日数（累計） | AM26: 必要現場閉所日（月計） | AN26: 必要現場閉所日（累計） | AO26: 実績休日数（月計） | AP26: 実績休日数（累計） | AQ26: 必要現場閉所日（月計） | AR26: 必要現場閉所日（累計）
B27: 曜日 | C27: =IF(C26="","",IF(COUNTIF(祝日,C26)>0,"祝",IF(COUNTIF(夏季休暇,C26)+COUNTIF(年末年始,C26)>0,"休",TEXT(C26,"aaa")))) -> 火 | D27: =IF(D26="","",IF(COUNTIF(祝日,D26)>0,"祝",IF(COUNTIF(夏季休暇,D26)+COUNTIF(年末年始,D26)>0,"休",TEXT(D26,"aaa")))) -> 水 | E27: =IF(E26="","",IF(COUNTIF(祝日,E26)>0,"祝",IF(COUNTIF(夏季休暇,E26)+COUNTIF(年末年始,E26)>0,"休",TEXT(E26,"aaa")))) -> 木 | F27: =IF(F26="","",IF(COUNTIF(祝日,F26)>0,"祝",IF(COUNTIF(夏季休暇,F26)+COUNTIF(年末年始,F26)>0,"休",TEXT(F26,"aaa")))) -> 金 | G27: =IF(G26="","",IF(COUNTIF(祝日,G26)>0,"祝",IF(COUNTIF(夏季休暇,G26)+COUNTIF(年末年始,G26)>0,"休",TEXT(G26,"aaa")))) -> 土 | H27: =IF(H26="","",IF(COUNTIF(祝日,H26)>0,"祝",IF(COUNTIF(夏季休暇,H26)+COUNTIF(年末年始,H26)>0,"休",TEXT(H26,"aaa")))) -> 日 | I27: =IF(I26="","",IF(COUNTIF(祝日,I26)>0,"祝",IF(COUNTIF(夏季休暇,I26)+COUNTIF(年末年始,I26)>0,"休",TEXT(I26,"aaa")))) -> 月 | J27: =IF(J26="","",IF(COUNTIF(祝日,J26)>0,"祝",IF(COUNTIF(夏季休暇,J26)+COUNTIF(年末年始,J26)>0,"休",TEXT(J26,"aaa")))) -> 火 | ... AG27: =IF(AG26="","",IF(COUNTIF(祝日,AG26)>0,"祝",IF(COUNTIF(夏季休暇,AG26)+COUNTIF(年末年始,AG26)>0,"休",TEXT(AG26,"aaa")))) -> 木 | AH27: ○計 | AI27: ○計
B28: 対象期間 | C28: {=IF(OR(C26<$O$5,MIN($I$5,$W$5)-20<C26,C31="―"),"✕",INDEX('定義（記入例用）'!$R:$R,MATCH('休日取得計画表・休日取得実績表（記入例）'!C26,'定義（記入例用）'!$M:$M,),))} -> 0 | D28: {=IF(OR(D26<$O$5,MIN($I$5,$W$5)-20<D26,D31="―"),"✕",INDEX('定義（記入例用）'!$R:$R,MATCH('休日取得計画表・休日取得実績表（記入例）'!D26,'定義（記入例用）'!$M:$M,),))} -> 0 | E28: {=IF(OR(E26<$O$5,MIN($I$5,$W$5)-20<E26,E31="―"),"✕",INDEX('定義（記入例用）'!$R:$R,MATCH('休日取得計画表・休日取得実績表（記入例）'!E26,'定義（記入例用）'!$M:$M,),))} -> 0 | F28: {=IF(OR(F26<$O$5,MIN($I$5,$W$5)-20<F26,F31="―"),"✕",INDEX('定義（記入例用）'!$R:$R,MATCH('休日取得計画表・休日取得実績表（記入例）'!F26,'定義（記入例用）'!$M:$M,),))} -> 0 | G28: {=IF(OR(G26<$O$5,MIN($I$5,$W$5)-20<G26,G31="―"),"✕",INDEX('定義（記入例用）'!$R:$R,MATCH('休日取得計画表・休日取得実績表（記入例）'!G26,'定義（記入例用）'!$M:$M,),))} -> 1 | H28: {=IF(OR(H26<$O$5,MIN($I$5,$W$5)-20<H26,H31="―"),"✕",INDEX('定義（記入例用）'!$R:$R,MATCH('休日取得計画表・休日取得実績表（記入例）'!H26,'定義（記入例用）'!$M:$M,),))} -> 1 | I28: {=IF(OR(I26<$O$5,MIN($I$5,$W$5)-20<I26,I31="―"),"✕",INDEX('定義（記入例用）'!$R:$R,MATCH('休日取得計画表・休日取得実績表（記入例）'!I26,'定義（記入例用）'!$M:$M,),))} -> ✕ | J28: {=IF(OR(J26<$O$5,MIN($I$5,$W$5)-20<J26,J31="―"),"✕",INDEX('定義（記入例用）'!$R:$R,MATCH('休日取得計画表・休日取得実績表（記入例）'!J26,'定義（記入例用）'!$M:$M,),))} -> ✕ | ... AG28: {=IF(OR(AG26<$O$5,MIN($I$5,$W$5)-20<AG26,AG31="―"),"✕",INDEX('定義（記入例用）'!$R:$R,MATCH('休日取得計画表・休日取得実績表（記入例）'!AG26,'定義（記入例用）'!$M:$M,),))} -> 0
B29: 対象期間 | C29: {=IF(OR(C26<$O$5,MIN($I$5,$W$5)-20<C26,C32="―"),"✕",INDEX('定義（記入例用）'!$R:$R,MATCH('休日取得計画表・休日取得実績表（記入例）'!C26,'定義（記入例用）'!$M:$M,),))} -> 0 | D29: {=IF(OR(D26<$O$5,MIN($I$5,$W$5)-20<D26,D32="―"),"✕",INDEX('定義（記入例用）'!$R:$R,MATCH('休日取得計画表・休日取得実績表（記入例）'!D26,'定義（記入例用）'!$M:$M,),))} -> 0 | E29: {=IF(OR(E26<$O$5,MIN($I$5,$W$5)-20<E26,E32="―"),"✕",INDEX('定義（記入例用）'!$R:$R,MATCH('休日取得計画表・休日取得実績表（記入例）'!E26,'定義（記入例用）'!$M:$M,),))} -> 0 | F29: {=IF(OR(F26<$O$5,MIN($I$5,$W$5)-20<F26,F32="―"),"✕",INDEX('定義（記入例用）'!$R:$R,MATCH('休日取得計画表・休日取得実績表（記入例）'!F26,'定義（記入例用）'!$M:$M,),))} -> ✕ | G29: {=IF(OR(G26<$O$5,MIN($I$5,$W$5)-20<G26,G32="―"),"✕",INDEX('定義（記入例用）'!$R:$R,MATCH('休日取得計画表・休日取得実績表（記入例）'!G26,'定義（記入例用）'!$M:$M,),))} -> ✕ | H29: {=IF(OR(H26<$O$5,MIN($I$5,$W$5)-20<H26,H32="―"),"✕",INDEX('定義（記入例用）'!$R:$R,MATCH('休日取得計画表・休日取得実績表（記入例）'!H26,'定義（記入例用）'!$M:$M,),))} -> ✕ | I29: {=IF(OR(I26<$O$5,MIN($I$5,$W$5)-20<I26,I32="―"),"✕",INDEX('定義（記入例用）'!$R:$R,MATCH('休日取得計画表・休日取得実績表（記入例）'!I26,'定義（記入例用）'!$M:$M,),))} -> ✕ | J29: {=IF(OR(J26<$O$5,MIN($I$5,$W$5)-20<J26,J32="―"),"✕",INDEX('定義（記入例用）'!$R:$R,MATCH('休日取得計画表・休日取得実績表（記入例）'!J26,'定義（記入例用）'!$M:$M,),))} -> ✕ | ... AG29: {=IF(OR(AG26<$O$5,MIN($I$5,$W$5)-20<AG26,AG32="―"),"✕",INDEX('定義（記入例用）'!$R:$R,MATCH('休日取得計画表・休日取得実績表（記入例）'!AG26,'定義（記入例用）'!$M:$M,),))} -> 0
B30: 行事 | C30: {=IFERROR(INDEX('定義（記入例用）'!$Q:$Q,MATCH('休日取得計画表・休日取得実績表（記入例）'!C26,'定義（記入例用）'!$M:$M,),),"")} | D30: {=IFERROR(INDEX('定義（記入例用）'!$Q:$Q,MATCH('休日取得計画表・休日取得実績表（記入例）'!D26,'定義（記入例用）'!$M:$M,),),"")} | E30: {=IFERROR(INDEX('定義（記入例用）'!$Q:$Q,MATCH('休日取得計画表・休日取得実績表（記入例）'!E26,'定義（記入例用）'!$M:$M,),),"")} | F30: {=IFERROR(INDEX('定義（記入例用）'!$Q:$Q,MATCH('休日取得計画表・休日取得実績表（記入例）'!F26,'定義（記入例用）'!$M:$M,),),"")} | G30: {=IFERROR(INDEX('定義（記入例用）'!$Q:$Q,MATCH('休日取得計画表・休日取得実績表（記入例）'!G26,'定義（記入例用）'!$M:$M,),),"")} | H30: {=IFERROR(INDEX('定義（記入例用）'!$Q:$Q,MATCH('休日取得計画表・休日取得実績表（記入例）'!H26,'定義（記入例用）'!$M:$M,),),"")} | I30: {=IFERROR(INDEX('定義（記入例用）'!$Q:$Q,MATCH('休日取得計画表・休日取得実績表（記入例）'!I26,'定義（記入例用）'!$M:$M,),),"")} | J30: {=IFERROR(INDEX('定義（記入例用）'!$Q:$Q,MATCH('休日取得計画表・休日取得実績表（記入例）'!J26,'定義（記入例用）'!$M:$M,),),"")} | ... AG30: {=IFERROR(INDEX('定義（記入例用）'!$Q:$Q,MATCH('休日取得計画表・休日取得実績表（記入例）'!AG26,'定義（記入例用）'!$M:$M,),),"")}
B31: =IF($F$3="受注者希望型","－","休日 計画") -> 休日 計画 | G31: ○ | H31: ○ | I31: ― | J31: ― | K31: ― | L31: ― | M31: ― | N31: ― | O31: ― | P31: ― | Q31: ― | R31: ― | S31: ― | T31: ― | U31: ― | V31: ― | W31: ― | X31: ― | Y31: ― | Z31: ― | AA31: ― | AB31: ― | AC31: ― | AH31: =AK31 -> 2 | AI31: =AL31 -> 10 | AK31: =COUNTIFS(C31:AG31,"○",C28:AG28,"<>✕") -> 2 | AL31: =SUM(AK$7:AK32) -> 10 | AM31: =SUM(C28:AG28) -> 2 | AN31: =SUM(AM$7:AM32) -> 10 | AO31: =COUNTIFS(C32:AG32,"○",C29:AG29,"<>✕") -> 2 | AP31: =SUM(AO$7:AO32) -> 10 | AQ31: =SUM(C29:AG29) -> 2 | AR31: =SUM(AQ$7:AQ32) -> 10
B32: 休日 実績 | F32: ― | G32: ― | H32: ― | I32: ― | J32: ― | K32: ― | L32: ― | M32: ― | N32: ― | O32: ― | P32: ― | Q32: ― | R32: ― | S32: ― | T32: ― | U32: ― | V32: ― | W32: ― | AB32: ○ | AC32: ○ | AH32: =AO31 -> 2 | AI32: =AP31 -> 10
B34: 月 | C34: =DATE(YEAR($C$7),MONTH($C$7)+COUNTIF($B$7:B34,"月")-1,1) -> 45870 | AH34: 月計 | AI34: 累計 | AK34: 計画時点 | AO34: 実績
B35: 日 | C35: =+C34 -> 45870 | D35: =IFERROR(IF(MONTH(C35+1)=MONTH($C34),C35+1,""),"") -> 45871 | E35: =IFERROR(IF(MONTH(D35+1)=MONTH($C34),D35+1,""),"") -> 45872 | F35: =IFERROR(IF(MONTH(E35+1)=MONTH($C34),E35+1,""),"") -> 45873 | G35: =IFERROR(IF(MONTH(F35+1)=MONTH($C34),F35+1,""),"") -> 45874 | H35: =IFERROR(IF(MONTH(G35+1)=MONTH($C34),G35+1,""),"") -> 45875 | I35: =IFERROR(IF(MONTH(H35+1)=MONTH($C34),H35+1,""),"") -> 45876 | J35: =IFERROR(IF(MONTH(I35+1)=MONTH($C34),I35+1,""),"") -> 45877 | K35: =IFERROR(IF(MONTH(J35+1)=MONTH($C34),J35+1,""),"") -> 45878 | ... AG35: =IFERROR(IF(MONTH(AF35+1)=MONTH($C34),AF35+1,""),"") -> 45900 | AK35: 計画休日数（月計） | AL35: 計画休日数（累計） | AM35: 必要現場閉所日（月計） | AN35: 必要現場閉所日（累計） | AO35: 実績休日数（月計） | AP35: 実績休日数（累計） | AQ35: 必要現場閉所日（月計） | AR35: 必要現場閉所日（累計）
B36: 曜日 | C36: =IF(C35="","",IF(COUNTIF(祝日,C35)>0,"祝",IF(COUNTIF(夏季休暇,C35)+COUNTIF(年末年始,C35)>0,"休",TEXT(C35,"aaa")))) -> 金 | D36: =IF(D35="","",IF(COUNTIF(祝日,D35)>0,"祝",IF(COUNTIF(夏季休暇,D35)+COUNTIF(年末年始,D35)>0,"休",TEXT(D35,"aaa")))) -> 土 | E36: =IF(E35="","",IF(COUNTIF(祝日,E35)>0,"祝",IF(COUNTIF(夏季休暇,E35)+COUNTIF(年末年始,E35)>0,"休",TEXT(E35,"aaa")))) -> 日 | F36: =IF(F35="","",IF(COUNTIF(祝日,F35)>0,"祝",IF(COUNTIF(夏季休暇,F35)+COUNTIF(年末年始,F35)>0,"休",TEXT(F35,"aaa")))) -> 月 | G36: =IF(G35="","",IF(COUNTIF(祝日,G35)>0,"祝",IF(COUNTIF(夏季休暇,G35)+COUNTIF(年末年始,G35)>0,"休",TEXT(G35,"aaa")))) -> 火 | H36: =IF(H35="","",IF(COUNTIF(祝日,H35)>0,"祝",IF(COUNTIF(夏季休暇,H35)+COUNTIF(年末年始,H35)>0,"休",TEXT(H35,"aaa")))) -> 水 | I36: =IF(I35="","",IF(COUNTIF(祝日,I35)>0,"祝",IF(COUNTIF(夏季休暇,I35)+COUNTIF(年末年始,I35)>0,"休",TEXT(I35,"aaa")))) -> 木 | J36: =IF(J35="","",IF(COUNTIF(祝日,J35)>0,"祝",IF(COUNTIF(夏季休暇,J35)+COUNTIF(年末年始,J35)>0,"休",TEXT(J35,"aaa")))) -> 金 | ... AG36: =IF(AG35="","",IF(COUNTIF(祝日,AG35)>0,"祝",IF(COUNTIF(夏季休暇,AG35)+COUNTIF(年末年始,AG35)>0,"休",TEXT(AG35,"aaa")))) -> 日 | AH36: ○計 | AI36: ○計
B37: 対象期間 | C37: {=IF(OR(C35<$O$5,MIN($I$5,$W$5)-20<C35,C40="―"),"✕",INDEX('定義（記入例用）'!$R:$R,MATCH('休日取得計画表・休日取得実績表（記入例）'!C35,'定義（記入例用）'!$M:$M,),))} -> 0 | D37: {=IF(OR(D35<$O$5,MIN($I$5,$W$5)-20<D35,D40="―"),"✕",INDEX('定義（記入例用）'!$R:$R,MATCH('休日取得計画表・休日取得実績表（記入例）'!D35,'定義（記入例用）'!$M:$M,),))} -> 1 | E37: {=IF(OR(E35<$O$5,MIN($I$5,$W$5)-20<E35,E40="―"),"✕",INDEX('定義（記入例用）'!$R:$R,MATCH('休日取得計画表・休日取得実績表（記入例）'!E35,'定義（記入例用）'!$M:$M,),))} -> 1 | F37: {=IF(OR(F35<$O$5,MIN($I$5,$W$5)-20<F35,F40="―"),"✕",INDEX('定義（記入例用）'!$R:$R,MATCH('休日取得計画表・休日取得実績表（記入例）'!F35,'定義（記入例用）'!$M:$M,),))} -> 0 | G37: {=IF(OR(G35<$O$5,MIN($I$5,$W$5)-20<G35,G40="―"),"✕",INDEX('定義（記入例用）'!$R:$R,MATCH('休日取得計画表・休日取得実績表（記入例）'!G35,'定義（記入例用）'!$M:$M,),))} -> 0 | H37: {=IF(OR(H35<$O$5,MIN($I$5,$W$5)-20<H35,H40="―"),"✕",INDEX('定義（記入例用）'!$R:$R,MATCH('休日取得計画表・休日取得実績表（記入例）'!H35,'定義（記入例用）'!$M:$M,),))} -> 0 | I37: {=IF(OR(I35<$O$5,MIN($I$5,$W$5)-20<I35,I40="―"),"✕",INDEX('定義（記入例用）'!$R:$R,MATCH('休日取得計画表・休日取得実績表（記入例）'!I35,'定義（記入例用）'!$M:$M,),))} -> 0 | J37: {=IF(OR(J35<$O$5,MIN($I$5,$W$5)-20<J35,J40="―"),"✕",INDEX('定義（記入例用）'!$R:$R,MATCH('休日取得計画表・休日取得実績表（記入例）'!J35,'定義（記入例用）'!$M:$M,),))} -> 0 | ... AG37: {=IF(OR(AG35<$O$5,MIN($I$5,$W$5)-20<AG35,AG40="―"),"✕",INDEX('定義（記入例用）'!$R:$R,MATCH('休日取得計画表・休日取得実績表（記入例）'!AG35,'定義（記入例用）'!$M:$M,),))} -> 1
B38: 対象期間 | C38: {=IF(OR(C35<$O$5,MIN($I$5,$W$5)-20<C35,C41="―"),"✕",INDEX('定義（記入例用）'!$R:$R,MATCH('休日取得計画表・休日取得実績表（記入例）'!C35,'定義（記入例用）'!$M:$M,),))} -> 0 | D38: {=IF(OR(D35<$O$5,MIN($I$5,$W$5)-20<D35,D41="―"),"✕",INDEX('定義（記入例用）'!$R:$R,MATCH('休日取得計画表・休日取得実績表（記入例）'!D35,'定義（記入例用）'!$M:$M,),))} -> 1 | E38: {=IF(OR(E35<$O$5,MIN($I$5,$W$5)-20<E35,E41="―"),"✕",INDEX('定義（記入例用）'!$R:$R,MATCH('休日取得計画表・休日取得実績表（記入例）'!E35,'定義（記入例用）'!$M:$M,),))} -> 1 | F38: {=IF(OR(F35<$O$5,MIN($I$5,$W$5)-20<F35,F41="―"),"✕",INDEX('定義（記入例用）'!$R:$R,MATCH('休日取得計画表・休日取得実績表（記入例）'!F35,'定義（記入例用）'!$M:$M,),))} -> 0 | G38: {=IF(OR(G35<$O$5,MIN($I$5,$W$5)-20<G35,G41="―"),"✕",INDEX('定義（記入例用）'!$R:$R,MATCH('休日取得計画表・休日取得実績表（記入例）'!G35,'定義（記入例用）'!$M:$M,),))} -> 0 | H38: {=IF(OR(H35<$O$5,MIN($I$5,$W$5)-20<H35,H41="―"),"✕",INDEX('定義（記入例用）'!$R:$R,MATCH('休日取得計画表・休日取得実績表（記入例）'!H35,'定義（記入例用）'!$M:$M,),))} -> 0 | I38: {=IF(OR(I35<$O$5,MIN($I$5,$W$5)-20<I35,I41="―"),"✕",INDEX('定義（記入例用）'!$R:$R,MATCH('休日取得計画表・休日取得実績表（記入例）'!I35,'定義（記入例用）'!$M:$M,),))} -> 0 | J38: {=IF(OR(J35<$O$5,MIN($I$5,$W$5)-20<J35,J41="―"),"✕",INDEX('定義（記入例用）'!$R:$R,MATCH('休日取得計画表・休日取得実績表（記入例）'!J35,'定義（記入例用）'!$M:$M,),))} -> 0 | ... AG38: {=IF(OR(AG35<$O$5,MIN($I$5,$W$5)-20<AG35,AG41="―"),"✕",INDEX('定義（記入例用）'!$R:$R,MATCH('休日取得計画表・休日取得実績表（記入例）'!AG35,'定義（記入例用）'!$M:$M,),))} -> 1
B39: 行事 | C39: {=IFERROR(INDEX('定義（記入例用）'!$Q:$Q,MATCH('休日取得計画表・休日取得実績表（記入例）'!C35,'定義（記入例用）'!$M:$M,),),"")} | D39: {=IFERROR(INDEX('定義（記入例用）'!$Q:$Q,MATCH('休日取得計画表・休日取得実績表（記入例）'!D35,'定義（記入例用）'!$M:$M,),),"")} | E39: {=IFERROR(INDEX('定義（記入例用）'!$Q:$Q,MATCH('休日取得計画表・休日取得実績表（記入例）'!E35,'定義（記入例用）'!$M:$M,),),"")} | F39: {=IFERROR(INDEX('定義（記入例用）'!$Q:$Q,MATCH('休日取得計画表・休日取得実績表（記入例）'!F35,'定義（記入例用）'!$M:$M,),),"")} | G39: {=IFERROR(INDEX('定義（記入例用）'!$Q:$Q,MATCH('休日取得計画表・休日取得実績表（記入例）'!G35,'定義（記入例用）'!$M:$M,),),"")} | H39: {=IFERROR(INDEX('定義（記入例用）'!$Q:$Q,MATCH('休日取得計画表・休日取得実績表（記入例）'!H35,'定義（記入例用）'!$M:$M,),),"")} | I39: {=IFERROR(INDEX('定義（記入例用）'!$Q:$Q,MATCH('休日取得計画表・休日取得実績表（記入例）'!I35,'定義（記入例用）'!$M:$M,),),"")} | J39: {=IFERROR(INDEX('定義（記入例用）'!$Q:$Q,MATCH('休日取得計画表・休日取得実績表（記入例）'!J35,'定義（記入例用）'!$M:$M,),),"")} | ... AG39: {=IFERROR(INDEX('定義（記入例用）'!$Q:$Q,MATCH('休日取得計画表・休日取得実績表（記入例）'!AG35,'定義（記入例用）'!$M:$M,),),"")}
B40: =IF($F$3="受注者希望型","－","休日 計画") -> 休日 計画 | D40: ○ | E40: ○ | K40: ○ | L40: ○ | M40: ○ | N40: ○ | O40: ○ | P40: ○ | R40: ○ | S40: ○ | Y40: ○ | Z40: ○ | AF40: ○ | AG40: ○ | AH40: =AK40 -> 14 | AI40: =AL40 -> 24 | AK40: =COUNTIFS(C40:AG40,"○",C37:AG37,"<>✕") -> 14 | AL40: =SUM(AK$7:AK41) -> 24 | AM40: =SUM(C37:AG37) -> 14 | AN40: =SUM(AM$7:AM41) -> 24 | AO40: =COUNTIFS(C41:AG41,"○",C38:AG38,"<>✕") -> 13 | AP40: =SUM(AO$7:AO41) -> 23 | AQ40: =SUM(C38:AG38) -> 14 | AR40: =SUM(AQ$7:AQ41) -> 24
B41: 休日 実績 | D41: ○ | E41: ○ | K41: ○ | L41: ○ | M41: ○ | R41: ○ | S41: ○ | T41: ○ | U41: ○ | Y41: ○ | Z41: ○ | AF41: ○ | AG41: ○ | AH41: =AO40 -> 13 | AI41: =AP40 -> 23
B43: 月 | C43: =DATE(YEAR($C$7),MONTH($C$7)+COUNTIF($B$7:B43,"月")-1,1) -> 45901 | AH43: 月計 | AI43: 累計 | AK43: 計画時点 | AO43: 実績
B44: 日 | C44: =+C43 -> 45901 | D44: =IFERROR(IF(MONTH(C44+1)=MONTH($C43),C44+1,""),"") -> 45902 | E44: =IFERROR(IF(MONTH(D44+1)=MONTH($C43),D44+1,""),"") -> 45903 | F44: =IFERROR(IF(MONTH(E44+1)=MONTH($C43),E44+1,""),"") -> 45904 | G44: =IFERROR(IF(MONTH(F44+1)=MONTH($C43),F44+1,""),"") -> 45905 | H44: =IFERROR(IF(MONTH(G44+1)=MONTH($C43),G44+1,""),"") -> 45906 | I44: =IFERROR(IF(MONTH(H44+1)=MONTH($C43),H44+1,""),"") -> 45907 | J44: =IFERROR(IF(MONTH(I44+1)=MONTH($C43),I44+1,""),"") -> 45908 | K44: =IFERROR(IF(MONTH(J44+1)=MONTH($C43),J44+1,""),"") -> 45909 | ... AG44: =IFERROR(IF(MONTH(AF44+1)=MONTH($C43),AF44+1,""),"") | AK44: 計画休日数（月計） | AL44: 計画休日数（累計） | AM44: 必要現場閉所日（月計） | AN44: 必要現場閉所日（累計） | AO44: 実績休日数（月計） | AP44: 実績休日数（累計） | AQ44: 必要現場閉所日（月計） | AR44: 必要現場閉所日（累計）
B45: 曜日 | C45: =IF(C44="","",IF(COUNTIF(祝日,C44)>0,"祝",IF(COUNTIF(夏季休暇,C44)+COUNTIF(年末年始,C44)>0,"休",TEXT(C44,"aaa")))) -> 月 | D45: =IF(D44="","",IF(COUNTIF(祝日,D44)>0,"祝",IF(COUNTIF(夏季休暇,D44)+COUNTIF(年末年始,D44)>0,"休",TEXT(D44,"aaa")))) -> 火 | E45: =IF(E44="","",IF(COUNTIF(祝日,E44)>0,"祝",IF(COUNTIF(夏季休暇,E44)+COUNTIF(年末年始,E44)>0,"休",TEXT(E44,"aaa")))) -> 水 | F45: =IF(F44="","",IF(COUNTIF(祝日,F44)>0,"祝",IF(COUNTIF(夏季休暇,F44)+COUNTIF(年末年始,F44)>0,"休",TEXT(F44,"aaa")))) -> 木 | G45: =IF(G44="","",IF(COUNTIF(祝日,G44)>0,"祝",IF(COUNTIF(夏季休暇,G44)+COUNTIF(年末年始,G44)>0,"休",TEXT(G44,"aaa")))) -> 金 | H45: =IF(H44="","",IF(COUNTIF(祝日,H44)>0,"祝",IF(COUNTIF(夏季休暇,H44)+COUNTIF(年末年始,H44)>0,"休",TEXT(H44,"aaa")))) -> 土 | I45: =IF(I44="","",IF(COUNTIF(祝日,I44)>0,"祝",IF(COUNTIF(夏季休暇,I44)+COUNTIF(年末年始,I44)>0,"休",TEXT(I44,"aaa")))) -> 日 | J45: =IF(J44="","",IF(COUNTIF(祝日,J44)>0,"祝",IF(COUNTIF(夏季休暇,J44)+COUNTIF(年末年始,J44)>0,"休",TEXT(J44,"aaa")))) -> 月 | ... AG45: =IF(AG44="","",IF(COUNTIF(祝日,AG44)>0,"祝",IF(COUNTIF(夏季休暇,AG44)+COUNTIF(年末年始,AG44)>0,"休",TEXT(AG44,"aaa")))) | AH45: ○計 | AI45: ○計
B46: 対象期間 | C46: {=IF(OR(C44<$O$5,MIN($I$5,$W$5)-20<C44,C49="―"),"✕",INDEX('定義（記入例用）'!$R:$R,MATCH('休日取得計画表・休日取得実績表（記入例）'!C44,'定義（記入例用）'!$M:$M,),))} -> 0 | D46: {=IF(OR(D44<$O$5,MIN($I$5,$W$5)-20<D44,D49="―"),"✕",INDEX('定義（記入例用）'!$R:$R,MATCH('休日取得計画表・休日取得実績表（記入例）'!D44,'定義（記入例用）'!$M:$M,),))} -> 0 | E46: {=IF(OR(E44<$O$5,MIN($I$5,$W$5)-20<E44,E49="―"),"✕",INDEX('定義（記入例用）'!$R:$R,MATCH('休日取得計画表・休日取得実績表（記入例）'!E44,'定義（記入例用）'!$M:$M,),))} -> 0 | F46: {=IF(OR(F44<$O$5,MIN($I$5,$W$5)-20<F44,F49="―"),"✕",INDEX('定義（記入例用）'!$R:$R,MATCH('休日取得計画表・休日取得実績表（記入例）'!F44,'定義（記入例用）'!$M:$M,),))} -> 0 | G46: {=IF(OR(G44<$O$5,MIN($I$5,$W$5)-20<G44,G49="―"),"✕",INDEX('定義（記入例用）'!$R:$R,MATCH('休日取得計画表・休日取得実績表（記入例）'!G44,'定義（記入例用）'!$M:$M,),))} -> 0 | H46: {=IF(OR(H44<$O$5,MIN($I$5,$W$5)-20<H44,H49="―"),"✕",INDEX('定義（記入例用）'!$R:$R,MATCH('休日取得計画表・休日取得実績表（記入例）'!H44,'定義（記入例用）'!$M:$M,),))} -> 1 | I46: {=IF(OR(I44<$O$5,MIN($I$5,$W$5)-20<I44,I49="―"),"✕",INDEX('定義（記入例用）'!$R:$R,MATCH('休日取得計画表・休日取得実績表（記入例）'!I44,'定義（記入例用）'!$M:$M,),))} -> 1 | J46: {=IF(OR(J44<$O$5,MIN($I$5,$W$5)-20<J44,J49="―"),"✕",INDEX('定義（記入例用）'!$R:$R,MATCH('休日取得計画表・休日取得実績表（記入例）'!J44,'定義（記入例用）'!$M:$M,),))} -> 0 | ... AG46: {=IF(OR(AG44<$O$5,MIN($I$5,$W$5)-20<AG44,AG49="―"),"✕",INDEX('定義（記入例用）'!$R:$R,MATCH('休日取得計画表・休日取得実績表（記入例）'!AG44,'定義（記入例用）'!$M:$M,),))} -> ✕
B47: 対象期間 | C47: {=IF(OR(C44<$O$5,MIN($I$5,$W$5)-20<C44,C50="―"),"✕",INDEX('定義（記入例用）'!$R:$R,MATCH('休日取得計画表・休日取得実績表（記入例）'!C44,'定義（記入例用）'!$M:$M,),))} -> 0 | D47: {=IF(OR(D44<$O$5,MIN($I$5,$W$5)-20<D44,D50="―"),"✕",INDEX('定義（記入例用）'!$R:$R,MATCH('休日取得計画表・休日取得実績表（記入例）'!D44,'定義（記入例用）'!$M:$M,),))} -> 0 | E47: {=IF(OR(E44<$O$5,MIN($I$5,$W$5)-20<E44,E50="―"),"✕",INDEX('定義（記入例用）'!$R:$R,MATCH('休日取得計画表・休日取得実績表（記入例）'!E44,'定義（記入例用）'!$M:$M,),))} -> 0 | F47: {=IF(OR(F44<$O$5,MIN($I$5,$W$5)-20<F44,F50="―"),"✕",INDEX('定義（記入例用）'!$R:$R,MATCH('休日取得計画表・休日取得実績表（記入例）'!F44,'定義（記入例用）'!$M:$M,),))} -> 0 | G47: {=IF(OR(G44<$O$5,MIN($I$5,$W$5)-20<G44,G50="―"),"✕",INDEX('定義（記入例用）'!$R:$R,MATCH('休日取得計画表・休日取得実績表（記入例）'!G44,'定義（記入例用）'!$M:$M,),))} -> 0 | H47: {=IF(OR(H44<$O$5,MIN($I$5,$W$5)-20<H44,H50="―"),"✕",INDEX('定義（記入例用）'!$R:$R,MATCH('休日取得計画表・休日取得実績表（記入例）'!H44,'定義（記入例用）'!$M:$M,),))} -> 1 | I47: {=IF(OR(I44<$O$5,MIN($I$5,$W$5)-20<I44,I50="―"),"✕",INDEX('定義（記入例用）'!$R:$R,MATCH('休日取得計画表・休日取得実績表（記入例）'!I44,'定義（記入例用）'!$M:$M,),))} -> 1 | J47: {=IF(OR(J44<$O$5,MIN($I$5,$W$5)-20<J44,J50="―"),"✕",INDEX('定義（記入例用）'!$R:$R,MATCH('休日取得計画表・休日取得実績表（記入例）'!J44,'定義（記入例用）'!$M:$M,),))} -> 0 | ... AG47: {=IF(OR(AG44<$O$5,MIN($I$5,$W$5)-20<AG44,AG50="―"),"✕",INDEX('定義（記入例用）'!$R:$R,MATCH('休日取得計画表・休日取得実績表（記入例）'!AG44,'定義（記入例用）'!$M:$M,),))} -> ✕
B48: 行事 | C48: {=IFERROR(INDEX('定義（記入例用）'!$Q:$Q,MATCH('休日取得計画表・休日取得実績表（記入例）'!C44,'定義（記入例用）'!$M:$M,),),"")} | D48: {=IFERROR(INDEX('定義（記入例用）'!$Q:$Q,MATCH('休日取得計画表・休日取得実績表（記入例）'!D44,'定義（記入例用）'!$M:$M,),),"")} | E48: {=IFERROR(INDEX('定義（記入例用）'!$Q:$Q,MATCH('休日取得計画表・休日取得実績表（記入例）'!E44,'定義（記入例用）'!$M:$M,),),"")} | F48: {=IFERROR(INDEX('定義（記入例用）'!$Q:$Q,MATCH('休日取得計画表・休日取得実績表（記入例）'!F44,'定義（記入例用）'!$M:$M,),),"")} | G48: {=IFERROR(INDEX('定義（記入例用）'!$Q:$Q,MATCH('休日取得計画表・休日取得実績表（記入例）'!G44,'定義（記入例用）'!$M:$M,),),"")} | H48: {=IFERROR(INDEX('定義（記入例用）'!$Q:$Q,MATCH('休日取得計画表・休日取得実績表（記入例）'!H44,'定義（記入例用）'!$M:$M,),),"")} | I48: {=IFERROR(INDEX('定義（記入例用）'!$Q:$Q,MATCH('休日取得計画表・休日取得実績表（記入例）'!I44,'定義（記入例用）'!$M:$M,),),"")} | J48: {=IFERROR(INDEX('定義（記入例用）'!$Q:$Q,MATCH('休日取得計画表・休日取得実績表（記入例）'!J44,'定義（記入例用）'!$M:$M,),),"")} | ... AG48: {=IFERROR(INDEX('定義（記入例用）'!$Q:$Q,MATCH('休日取得計画表・休日取得実績表（記入例）'!AG44,'定義（記入例用）'!$M:$M,),),"")}
B49: =IF($F$3="受注者希望型","－","休日 計画") -> 休日 計画 | H49: ○ | I49: ○ | O49: ○ | P49: ○ | V49: ○ | W49: ○ | X49: ○ | Y49: ○ | AC49: ○ | AD49: ○ | AH49: =AK49 -> 10 | AI49: =AL49 -> 34 | AK49: =COUNTIFS(C49:AG49,"○",C46:AG46,"<>✕") -> 10 | AL49: =SUM(AK$7:AK50) -> 34 | AM49: =SUM(C46:AG46) -> 10 | AN49: =SUM(AM$7:AM50) -> 34 | AO49: =COUNTIFS(C50:AG50,"○",C47:AG47,"<>✕") -> 11 | AP49: =SUM(AO$7:AO50) -> 34 | AQ49: =SUM(C47:AG47) -> 10 | AR49: =SUM(AQ$7:AQ50) -> 34
B50: 休日 実績 | H50: ○ | I50: ○ | O50: ○ | P50: ○ | Q50: ○ | T50: ○ | U50: ○ | V50: ○ | W50: ○ | AC50: ○ | AD50: ○ | AH50: =AO49 -> 11 | AI50: =AP49 -> 34
B52: 月 | C52: =DATE(YEAR($C$7),MONTH($C$7)+COUNTIF($B$7:B52,"月")-1,1) -> 45931 | AH52: 月計 | AI52: 累計 | AK52: 計画時点 | AO52: 実績
B53: 日 | C53: =+C52 -> 45931 | D53: =IFERROR(IF(MONTH(C53+1)=MONTH($C52),C53+1,""),"") -> 45932 | E53: =IFERROR(IF(MONTH(D53+1)=MONTH($C52),D53+1,""),"") -> 45933 | F53: =IFERROR(IF(MONTH(E53+1)=MONTH($C52),E53+1,""),"") -> 45934 | G53: =IFERROR(IF(MONTH(F53+1)=MONTH($C52),F53+1,""),"") -> 45935 | H53: =IFERROR(IF(MONTH(G53+1)=MONTH($C52),G53+1,""),"") -> 45936 | I53: =IFERROR(IF(MONTH(H53+1)=MONTH($C52),H53+1,""),"") -> 45937 | J53: =IFERROR(IF(MONTH(I53+1)=MONTH($C52),I53+1,""),"") -> 45938 | K53: =IFERROR(IF(MONTH(J53+1)=MONTH($C52),J53+1,""),"") -> 45939 | ... AG53: =IFERROR(IF(MONTH(AF53+1)=MONTH($C52),AF53+1,""),"") -> 45961 | AK53: 計画休日数（月計） | AL53: 計画休日数（累計） | AM53: 必要現場閉所日（月計） | AN53: 必要現場閉所日（累計） | AO53: 実績休日数（月計） | AP53: 実績休日数（累計） | AQ53: 必要現場閉所日（月計） | AR53: 必要現場閉所日（累計）
B54: 曜日 | C54: =IF(C53="","",IF(COUNTIF(祝日,C53)>0,"祝",IF(COUNTIF(夏季休暇,C53)+COUNTIF(年末年始,C53)>0,"休",TEXT(C53,"aaa")))) -> 水 | D54: =IF(D53="","",IF(COUNTIF(祝日,D53)>0,"祝",IF(COUNTIF(夏季休暇,D53)+COUNTIF(年末年始,D53)>0,"休",TEXT(D53,"aaa")))) -> 木 | E54: =IF(E53="","",IF(COUNTIF(祝日,E53)>0,"祝",IF(COUNTIF(夏季休暇,E53)+COUNTIF(年末年始,E53)>0,"休",TEXT(E53,"aaa")))) -> 金 | F54: =IF(F53="","",IF(COUNTIF(祝日,F53)>0,"祝",IF(COUNTIF(夏季休暇,F53)+COUNTIF(年末年始,F53)>0,"休",TEXT(F53,"aaa")))) -> 土 | G54: =IF(G53="","",IF(COUNTIF(祝日,G53)>0,"祝",IF(COUNTIF(夏季休暇,G53)+COUNTIF(年末年始,G53)>0,"休",TEXT(G53,"aaa")))) -> 日 | H54: =IF(H53="","",IF(COUNTIF(祝日,H53)>0,"祝",IF(COUNTIF(夏季休暇,H53)+COUNTIF(年末年始,H53)>0,"休",TEXT(H53,"aaa")))) -> 月 | I54: =IF(I53="","",IF(COUNTIF(祝日,I53)>0,"祝",IF(COUNTIF(夏季休暇,I53)+COUNTIF(年末年始,I53)>0,"休",TEXT(I53,"aaa")))) -> 火 | J54: =IF(J53="","",IF(COUNTIF(祝日,J53)>0,"祝",IF(COUNTIF(夏季休暇,J53)+COUNTIF(年末年始,J53)>0,"休",TEXT(J53,"aaa")))) -> 水 | ... AG54: =IF(AG53="","",IF(COUNTIF(祝日,AG53)>0,"祝",IF(COUNTIF(夏季休暇,AG53)+COUNTIF(年末年始,AG53)>0,"休",TEXT(AG53,"aaa")))) -> 金 | AH54: ○計 | AI54: ○計
B55: 対象期間 | C55: {=IF(OR(C53<$O$5,MIN($I$5,$W$5)-20<C53,C58="―"),"✕",INDEX('定義（記入例用）'!$R:$R,MATCH('休日取得計画表・休日取得実績表（記入例）'!C53,'定義（記入例用）'!$M:$M,),))} -> 0 | D55: {=IF(OR(D53<$O$5,MIN($I$5,$W$5)-20<D53,D58="―"),"✕",INDEX('定義（記入例用）'!$R:$R,MATCH('休日取得計画表・休日取得実績表（記入例）'!D53,'定義（記入例用）'!$M:$M,),))} -> 0 | E55: {=IF(OR(E53<$O$5,MIN($I$5,$W$5)-20<E53,E58="―"),"✕",INDEX('定義（記入例用）'!$R:$R,MATCH('休日取得計画表・休日取得実績表（記入例）'!E53,'定義（記入例用）'!$M:$M,),))} -> 0 | F55: {=IF(OR(F53<$O$5,MIN($I$5,$W$5)-20<F53,F58="―"),"✕",INDEX('定義（記入例用）'!$R:$R,MATCH('休日取得計画表・休日取得実績表（記入例）'!F53,'定義（記入例用）'!$M:$M,),))} -> 1 | G55: {=IF(OR(G53<$O$5,MIN($I$5,$W$5)-20<G53,G58="―"),"✕",INDEX('定義（記入例用）'!$R:$R,MATCH('休日取得計画表・休日取得実績表（記入例）'!G53,'定義（記入例用）'!$M:$M,),))} -> 1 | H55: {=IF(OR(H53<$O$5,MIN($I$5,$W$5)-20<H53,H58="―"),"✕",INDEX('定義（記入例用）'!$R:$R,MATCH('休日取得計画表・休日取得実績表（記入例）'!H53,'定義（記入例用）'!$M:$M,),))} -> 0 | I55: {=IF(OR(I53<$O$5,MIN($I$5,$W$5)-20<I53,I58="―"),"✕",INDEX('定義（記入例用）'!$R:$R,MATCH('休日取得計画表・休日取得実績表（記入例）'!I53,'定義（記入例用）'!$M:$M,),))} -> 0 | J55: {=IF(OR(J53<$O$5,MIN($I$5,$W$5)-20<J53,J58="―"),"✕",INDEX('定義（記入例用）'!$R:$R,MATCH('休日取得計画表・休日取得実績表（記入例）'!J53,'定義（記入例用）'!$M:$M,),))} -> 0 | ... AG55: {=IF(OR(AG53<$O$5,MIN($I$5,$W$5)-20<AG53,AG58="―"),"✕",INDEX('定義（記入例用）'!$R:$R,MATCH('休日取得計画表・休日取得実績表（記入例）'!AG53,'定義（記入例用）'!$M:$M,),))} -> 0
B56: 対象期間 | C56: {=IF(OR(C53<$O$5,MIN($I$5,$W$5)-20<C53,C59="―"),"✕",INDEX('定義（記入例用）'!$R:$R,MATCH('休日取得計画表・休日取得実績表（記入例）'!C53,'定義（記入例用）'!$M:$M,),))} -> 0 | D56: {=IF(OR(D53<$O$5,MIN($I$5,$W$5)-20<D53,D59="―"),"✕",INDEX('定義（記入例用）'!$R:$R,MATCH('休日取得計画表・休日取得実績表（記入例）'!D53,'定義（記入例用）'!$M:$M,),))} -> 0 | E56: {=IF(OR(E53<$O$5,MIN($I$5,$W$5)-20<E53,E59="―"),"✕",INDEX('定義（記入例用）'!$R:$R,MATCH('休日取得計画表・休日取得実績表（記入例）'!E53,'定義（記入例用）'!$M:$M,),))} -> 0 | F56: {=IF(OR(F53<$O$5,MIN($I$5,$W$5)-20<F53,F59="―"),"✕",INDEX('定義（記入例用）'!$R:$R,MATCH('休日取得計画表・休日取得実績表（記入例）'!F53,'定義（記入例用）'!$M:$M,),))} -> 1 | G56: {=IF(OR(G53<$O$5,MIN($I$5,$W$5)-20<G53,G59="―"),"✕",INDEX('定義（記入例用）'!$R:$R,MATCH('休日取得計画表・休日取得実績表（記入例）'!G53,'定義（記入例用）'!$M:$M,),))} -> 1 | H56: {=IF(OR(H53<$O$5,MIN($I$5,$W$5)-20<H53,H59="―"),"✕",INDEX('定義（記入例用）'!$R:$R,MATCH('休日取得計画表・休日取得実績表（記入例）'!H53,'定義（記入例用）'!$M:$M,),))} -> 0 | I56: {=IF(OR(I53<$O$5,MIN($I$5,$W$5)-20<I53,I59="―"),"✕",INDEX('定義（記入例用）'!$R:$R,MATCH('休日取得計画表・休日取得実績表（記入例）'!I53,'定義（記入例用）'!$M:$M,),))} -> 0 | J56: {=IF(OR(J53<$O$5,MIN($I$5,$W$5)-20<J53,J59="―"),"✕",INDEX('定義（記入例用）'!$R:$R,MATCH('休日取得計画表・休日取得実績表（記入例）'!J53,'定義（記入例用）'!$M:$M,),))} -> 0 | ... AG56: {=IF(OR(AG53<$O$5,MIN($I$5,$W$5)-20<AG53,AG59="―"),"✕",INDEX('定義（記入例用）'!$R:$R,MATCH('休日取得計画表・休日取得実績表（記入例）'!AG53,'定義（記入例用）'!$M:$M,),))} -> 0
B57: 行事 | C57: {=IFERROR(INDEX('定義（記入例用）'!$Q:$Q,MATCH('休日取得計画表・休日取得実績表（記入例）'!C53,'定義（記入例用）'!$M:$M,),),"")} | D57: {=IFERROR(INDEX('定義（記入例用）'!$Q:$Q,MATCH('休日取得計画表・休日取得実績表（記入例）'!D53,'定義（記入例用）'!$M:$M,),),"")} | E57: {=IFERROR(INDEX('定義（記入例用）'!$Q:$Q,MATCH('休日取得計画表・休日取得実績表（記入例）'!E53,'定義（記入例用）'!$M:$M,),),"")} | F57: {=IFERROR(INDEX('定義（記入例用）'!$Q:$Q,MATCH('休日取得計画表・休日取得実績表（記入例）'!F53,'定義（記入例用）'!$M:$M,),),"")} | G57: {=IFERROR(INDEX('定義（記入例用）'!$Q:$Q,MATCH('休日取得計画表・休日取得実績表（記入例）'!G53,'定義（記入例用）'!$M:$M,),),"")} | H57: {=IFERROR(INDEX('定義（記入例用）'!$Q:$Q,MATCH('休日取得計画表・休日取得実績表（記入例）'!H53,'定義（記入例用）'!$M:$M,),),"")} | I57: {=IFERROR(INDEX('定義（記入例用）'!$Q:$Q,MATCH('休日取得計画表・休日取得実績表（記入例）'!I53,'定義（記入例用）'!$M:$M,),),"")} | J57: {=IFERROR(INDEX('定義（記入例用）'!$Q:$Q,MATCH('休日取得計画表・休日取得実績表（記入例）'!J53,'定義（記入例用）'!$M:$M,),),"")} | ... AG57: {=IFERROR(INDEX('定義（記入例用）'!$Q:$Q,MATCH('休日取得計画表・休日取得実績表（記入例）'!AG53,'定義（記入例用）'!$M:$M,),),"")}
B58: =IF($F$3="受注者希望型","－","休日 計画") -> 休日 計画 | F58: ○ | G58: ○ | M58: ○ | N58: ○ | O58: ○ | T58: ○ | U58: ○ | AA58: ○ | AB58: ○ | AH58: =AK58 -> 9 | AI58: =AL58 -> 43 | AK58: =COUNTIFS(C58:AG58,"○",C55:AG55,"<>✕") -> 9 | AL58: =SUM(AK$7:AK59) -> 43 | AM58: =SUM(C55:AG55) -> 9 | AN58: =SUM(AM$7:AM59) -> 43 | AO58: =COUNTIFS(C59:AG59,"○",C56:AG56,"<>✕") -> 9 | AP58: =SUM(AO$7:AO59) -> 43 | AQ58: =SUM(C56:AG56) -> 9 | AR58: =SUM(AQ$7:AQ59) -> 43
B59: 休日 実績 | F59: ○ | G59: ○ | M59: ○ | N59: ○ | O59: ○ | T59: ○ | U59: ○ | AB59: ○ | AC59: ○ | AH59: =AO58 -> 9 | AI59: =AP58 -> 43
B61: 月 | C61: =DATE(YEAR($C$7),MONTH($C$7)+COUNTIF($B$7:B61,"月")-1,1) -> 45962 | AH61: 月計 | AI61: 累計 | AK61: 計画時点 | AO61: 実績
B62: 日 | C62: =+C61 -> 45962 | D62: =IFERROR(IF(MONTH(C62+1)=MONTH($C61),C62+1,""),"") -> 45963 | E62: =IFERROR(IF(MONTH(D62+1)=MONTH($C61),D62+1,""),"") -> 45964 | F62: =IFERROR(IF(MONTH(E62+1)=MONTH($C61),E62+1,""),"") -> 45965 | G62: =IFERROR(IF(MONTH(F62+1)=MONTH($C61),F62+1,""),"") -> 45966 | H62: =IFERROR(IF(MONTH(G62+1)=MONTH($C61),G62+1,""),"") -> 45967 | I62: =IFERROR(IF(MONTH(H62+1)=MONTH($C61),H62+1,""),"") -> 45968 | J62: =IFERROR(IF(MONTH(I62+1)=MONTH($C61),I62+1,""),"") -> 45969 | K62: =IFERROR(IF(MONTH(J62+1)=MONTH($C61),J62+1,""),"") -> 45970 | ... AG62: =IFERROR(IF(MONTH(AF62+1)=MONTH($C61),AF62+1,""),"") | AK62: 計画休日数（月計） | AL62: 計画休日数（累計） | AM62: 必要現場閉所日（月計） | AN62: 必要現場閉所日（累計） | AO62: 実績休日数（月計） | AP62: 実績休日数（累計） | AQ62: 必要現場閉所日（月計） | AR62: 必要現場閉所日（累計）
B63: 曜日 | C63: =IF(C62="","",IF(COUNTIF(祝日,C62)>0,"祝",IF(COUNTIF(夏季休暇,C62)+COUNTIF(年末年始,C62)>0,"休",TEXT(C62,"aaa")))) -> 土 | D63: =IF(D62="","",IF(COUNTIF(祝日,D62)>0,"祝",IF(COUNTIF(夏季休暇,D62)+COUNTIF(年末年始,D62)>0,"休",TEXT(D62,"aaa")))) -> 日 | E63: =IF(E62="","",IF(COUNTIF(祝日,E62)>0,"祝",IF(COUNTIF(夏季休暇,E62)+COUNTIF(年末年始,E62)>0,"休",TEXT(E62,"aaa")))) -> 祝 | F63: =IF(F62="","",IF(COUNTIF(祝日,F62)>0,"祝",IF(COUNTIF(夏季休暇,F62)+COUNTIF(年末年始,F62)>0,"休",TEXT(F62,"aaa")))) -> 火 | G63: =IF(G62="","",IF(COUNTIF(祝日,G62)>0,"祝",IF(COUNTIF(夏季休暇,G62)+COUNTIF(年末年始,G62)>0,"休",TEXT(G62,"aaa")))) -> 水 | H63: =IF(H62="","",IF(COUNTIF(祝日,H62)>0,"祝",IF(COUNTIF(夏季休暇,H62)+COUNTIF(年末年始,H62)>0,"休",TEXT(H62,"aaa")))) -> 木 | I63: =IF(I62="","",IF(COUNTIF(祝日,I62)>0,"祝",IF(COUNTIF(夏季休暇,I62)+COUNTIF(年末年始,I62)>0,"休",TEXT(I62,"aaa")))) -> 金 | J63: =IF(J62="","",IF(COUNTIF(祝日,J62)>0,"祝",IF(COUNTIF(夏季休暇,J62)+COUNTIF(年末年始,J62)>0,"休",TEXT(J62,"aaa")))) -> 土 | ... AG63: =IF(AG62="","",IF(COUNTIF(祝日,AG62)>0,"祝",IF(COUNTIF(夏季休暇,AG62)+COUNTIF(年末年始,AG62)>0,"休",TEXT(AG62,"aaa")))) | AH63: ○計 | AI63: ○計
B64: 対象期間 | C64: {=IF(OR(C62<$O$5,MIN($I$5,$W$5)-20<C62,C67="―"),"✕",INDEX('定義（記入例用）'!$R:$R,MATCH('休日取得計画表・休日取得実績表（記入例）'!C62,'定義（記入例用）'!$M:$M,),))} -> 1 | D64: {=IF(OR(D62<$O$5,MIN($I$5,$W$5)-20<D62,D67="―"),"✕",INDEX('定義（記入例用）'!$R:$R,MATCH('休日取得計画表・休日取得実績表（記入例）'!D62,'定義（記入例用）'!$M:$M,),))} -> 1 | E64: {=IF(OR(E62<$O$5,MIN($I$5,$W$5)-20<E62,E67="―"),"✕",INDEX('定義（記入例用）'!$R:$R,MATCH('休日取得計画表・休日取得実績表（記入例）'!E62,'定義（記入例用）'!$M:$M,),))} -> 1 | F64: {=IF(OR(F62<$O$5,MIN($I$5,$W$5)-20<F62,F67="―"),"✕",INDEX('定義（記入例用）'!$R:$R,MATCH('休日取得計画表・休日取得実績表（記入例）'!F62,'定義（記入例用）'!$M:$M,),))} -> 0 | G64: {=IF(OR(G62<$O$5,MIN($I$5,$W$5)-20<G62,G67="―"),"✕",INDEX('定義（記入例用）'!$R:$R,MATCH('休日取得計画表・休日取得実績表（記入例）'!G62,'定義（記入例用）'!$M:$M,),))} -> 0 | H64: {=IF(OR(H62<$O$5,MIN($I$5,$W$5)-20<H62,H67="―"),"✕",INDEX('定義（記入例用）'!$R:$R,MATCH('休日取得計画表・休日取得実績表（記入例）'!H62,'定義（記入例用）'!$M:$M,),))} -> 0 | I64: {=IF(OR(I62<$O$5,MIN($I$5,$W$5)-20<I62,I67="―"),"✕",INDEX('定義（記入例用）'!$R:$R,MATCH('休日取得計画表・休日取得実績表（記入例）'!I62,'定義（記入例用）'!$M:$M,),))} -> 0 | J64: {=IF(OR(J62<$O$5,MIN($I$5,$W$5)-20<J62,J67="―"),"✕",INDEX('定義（記入例用）'!$R:$R,MATCH('休日取得計画表・休日取得実績表（記入例）'!J62,'定義（記入例用）'!$M:$M,),))} -> 1 | ... AG64: {=IF(OR(AG62<$O$5,MIN($I$5,$W$5)-20<AG62,AG67="―"),"✕",INDEX('定義（記入例用）'!$R:$R,MATCH('休日取得計画表・休日取得実績表（記入例）'!AG62,'定義（記入例用）'!$M:$M,),))} -> ✕
B65: 対象期間 | C65: {=IF(OR(C62<$O$5,MIN($I$5,$W$5)-20<C62,C68="―"),"✕",INDEX('定義（記入例用）'!$R:$R,MATCH('休日取得計画表・休日取得実績表（記入例）'!C62,'定義（記入例用）'!$M:$M,),))} -> 1 | D65: {=IF(OR(D62<$O$5,MIN($I$5,$W$5)-20<D62,D68="―"),"✕",INDEX('定義（記入例用）'!$R:$R,MATCH('休日取得計画表・休日取得実績表（記入例）'!D62,'定義（記入例用）'!$M:$M,),))} -> 1 | E65: {=IF(OR(E62<$O$5,MIN($I$5,$W$5)-20<E62,E68="―"),"✕",INDEX('定義（記入例用）'!$R:$R,MATCH('休日取得計画表・休日取得実績表（記入例）'!E62,'定義（記入例用）'!$M:$M,),))} -> 1 | F65: {=IF(OR(F62<$O$5,MIN($I$5,$W$5)-20<F62,F68="―"),"✕",INDEX('定義（記入例用）'!$R:$R,MATCH('休日取得計画表・休日取得実績表（記入例）'!F62,'定義（記入例用）'!$M:$M,),))} -> 0 | G65: {=IF(OR(G62<$O$5,MIN($I$5,$W$5)-20<G62,G68="―"),"✕",INDEX('定義（記入例用）'!$R:$R,MATCH('休日取得計画表・休日取得実績表（記入例）'!G62,'定義（記入例用）'!$M:$M,),))} -> 0 | H65: {=IF(OR(H62<$O$5,MIN($I$5,$W$5)-20<H62,H68="―"),"✕",INDEX('定義（記入例用）'!$R:$R,MATCH('休日取得計画表・休日取得実績表（記入例）'!H62,'定義（記入例用）'!$M:$M,),))} -> 0 | I65: {=IF(OR(I62<$O$5,MIN($I$5,$W$5)-20<I62,I68="―"),"✕",INDEX('定義（記入例用）'!$R:$R,MATCH('休日取得計画表・休日取得実績表（記入例）'!I62,'定義（記入例用）'!$M:$M,),))} -> 0 | J65: {=IF(OR(J62<$O$5,MIN($I$5,$W$5)-20<J62,J68="―"),"✕",INDEX('定義（記入例用）'!$R:$R,MATCH('休日取得計画表・休日取得実績表（記入例）'!J62,'定義（記入例用）'!$M:$M,),))} -> 1 | ... AG65: {=IF(OR(AG62<$O$5,MIN($I$5,$W$5)-20<AG62,AG68="―"),"✕",INDEX('定義（記入例用）'!$R:$R,MATCH('休日取得計画表・休日取得実績表（記入例）'!AG62,'定義（記入例用）'!$M:$M,),))} -> ✕
B66: 行事 | C66: {=IFERROR(INDEX('定義（記入例用）'!$Q:$Q,MATCH('休日取得計画表・休日取得実績表（記入例）'!C62,'定義（記入例用）'!$M:$M,),),"")} | D66: {=IFERROR(INDEX('定義（記入例用）'!$Q:$Q,MATCH('休日取得計画表・休日取得実績表（記入例）'!D62,'定義（記入例用）'!$M:$M,),),"")} | E66: {=IFERROR(INDEX('定義（記入例用）'!$Q:$Q,MATCH('休日取得計画表・休日取得実績表（記入例）'!E62,'定義（記入例用）'!$M:$M,),),"")} -> 文化の日 | F66: {=IFERROR(INDEX('定義（記入例用）'!$Q:$Q,MATCH('休日取得計画表・休日取得実績表（記入例）'!F62,'定義（記入例用）'!$M:$M,),),"")} | G66: {=IFERROR(INDEX('定義（記入例用）'!$Q:$Q,MATCH('休日取得計画表・休日取得実績表（記入例）'!G62,'定義（記入例用）'!$M:$M,),),"")} | H66: {=IFERROR(INDEX('定義（記入例用）'!$Q:$Q,MATCH('休日取得計画表・休日取得実績表（記入例）'!H62,'定義（記入例用）'!$M:$M,),),"")} | I66: {=IFERROR(INDEX('定義（記入例用）'!$Q:$Q,MATCH('休日取得計画表・休日取得実績表（記入例）'!I62,'定義（記入例用）'!$M:$M,),),"")} | J66: {=IFERROR(INDEX('定義（記入例用）'!$Q:$Q,MATCH('休日取得計画表・休日取得実績表（記入例）'!J62,'定義（記入例用）'!$M:$M,),),"")} | ... AG66: {=IFERROR(INDEX('定義（記入例用）'!$Q:$Q,MATCH('休日取得計画表・休日取得実績表（記入例）'!AG62,'定義（記入例用）'!$M:$M,),),"")}
B67: =IF($F$3="受注者希望型","－","休日 計画") -> 休日 計画 | C67: ○ | D67: ○ | E67: ○ | J67: ○ | K67: ○ | Q67: ○ | R67: ○ | X67: ○ | Y67: ○ | AD67: ○ | AE67: ○ | AF67: ○ | AH67: =AK67 -> 12 | AI67: =AL67 -> 55 | AK67: =COUNTIFS(C67:AG67,"○",C64:AG64,"<>✕") -> 12 | AL67: =SUM(AK$7:AK68) -> 55 | AM67: =SUM(C64:AG64) -> 12 | AN67: =SUM(AM$7:AM68) -> 55 | AO67: =COUNTIFS(C68:AG68,"○",C65:AG65,"<>✕") -> 12 | AP67: =SUM(AO$7:AO68) -> 55 | AQ67: =SUM(C65:AG65) -> 12 | AR67: =SUM(AQ$7:AQ68) -> 55
B68: 休日 実績 | C68: ○ | D68: ○ | E68: ○ | J68: ○ | K68: ○ | Q68: ○ | R68: ○ | Y68: ○ | Z68: ○ | AD68: ○ | AE68: ○ | AF68: ○ | AH68: =AO67 -> 12 | AI68: =AP67 -> 55
B70: 月 | C70: =DATE(YEAR($C$7),MONTH($C$7)+COUNTIF($B$7:B70,"月")-1,1) -> 45992 | AH70: 月計 | AI70: 累計 | AK70: 計画時点 | AO70: 実績
B71: 日 | C71: =+C70 -> 45992 | D71: =IFERROR(IF(MONTH(C71+1)=MONTH($C70),C71+1,""),"") -> 45993 | E71: =IFERROR(IF(MONTH(D71+1)=MONTH($C70),D71+1,""),"") -> 45994 | F71: =IFERROR(IF(MONTH(E71+1)=MONTH($C70),E71+1,""),"") -> 45995 | G71: =IFERROR(IF(MONTH(F71+1)=MONTH($C70),F71+1,""),"") -> 45996 | H71: =IFERROR(IF(MONTH(G71+1)=MONTH($C70),G71+1,""),"") -> 45997 | I71: =IFERROR(IF(MONTH(H71+1)=MONTH($C70),H71+1,""),"") -> 45998 | J71: =IFERROR(IF(MONTH(I71+1)=MONTH($C70),I71+1,""),"") -> 45999 | K71: =IFERROR(IF(MONTH(J71+1)=MONTH($C70),J71+1,""),"") -> 46000 | ... AG71: =IFERROR(IF(MONTH(AF71+1)=MONTH($C70),AF71+1,""),"") -> 46022 | AK71: 計画休日数（月計） | AL71: 計画休日数（累計） | AM71: 必要現場閉所日（月計） | AN71: 必要現場閉所日（累計） | AO71: 実績休日数（月計） | AP71: 実績休日数（累計） | AQ71: 必要現場閉所日（月計） | AR71: 必要現場閉所日（累計）
B72: 曜日 | C72: =IF(C71="","",IF(COUNTIF(祝日,C71)>0,"祝",IF(COUNTIF(夏季休暇,C71)+COUNTIF(年末年始,C71)>0,"休",TEXT(C71,"aaa")))) -> 月 | D72: =IF(D71="","",IF(COUNTIF(祝日,D71)>0,"祝",IF(COUNTIF(夏季休暇,D71)+COUNTIF(年末年始,D71)>0,"休",TEXT(D71,"aaa")))) -> 火 | E72: =IF(E71="","",IF(COUNTIF(祝日,E71)>0,"祝",IF(COUNTIF(夏季休暇,E71)+COUNTIF(年末年始,E71)>0,"休",TEXT(E71,"aaa")))) -> 水 | F72: =IF(F71="","",IF(COUNTIF(祝日,F71)>0,"祝",IF(COUNTIF(夏季休暇,F71)+COUNTIF(年末年始,F71)>0,"休",TEXT(F71,"aaa")))) -> 木 | G72: =IF(G71="","",IF(COUNTIF(祝日,G71)>0,"祝",IF(COUNTIF(夏季休暇,G71)+COUNTIF(年末年始,G71)>0,"休",TEXT(G71,"aaa")))) -> 金 | H72: =IF(H71="","",IF(COUNTIF(祝日,H71)>0,"祝",IF(COUNTIF(夏季休暇,H71)+COUNTIF(年末年始,H71)>0,"休",TEXT(H71,"aaa")))) -> 土 | I72: =IF(I71="","",IF(COUNTIF(祝日,I71)>0,"祝",IF(COUNTIF(夏季休暇,I71)+COUNTIF(年末年始,I71)>0,"休",TEXT(I71,"aaa")))) -> 日 | J72: =IF(J71="","",IF(COUNTIF(祝日,J71)>0,"祝",IF(COUNTIF(夏季休暇,J71)+COUNTIF(年末年始,J71)>0,"休",TEXT(J71,"aaa")))) -> 月 | ... AG72: =IF(AG71="","",IF(COUNTIF(祝日,AG71)>0,"祝",IF(COUNTIF(夏季休暇,AG71)+COUNTIF(年末年始,AG71)>0,"休",TEXT(AG71,"aaa")))) -> 休 | AH72: ○計 | AI72: ○計
B73: 対象期間 | C73: {=IF(OR(C71<$O$5,MIN($I$5,$W$5)-20<C71,C76="―"),"✕",INDEX('定義（記入例用）'!$R:$R,MATCH('休日取得計画表・休日取得実績表（記入例）'!C71,'定義（記入例用）'!$M:$M,),))} -> 0 | D73: {=IF(OR(D71<$O$5,MIN($I$5,$W$5)-20<D71,D76="―"),"✕",INDEX('定義（記入例用）'!$R:$R,MATCH('休日取得計画表・休日取得実績表（記入例）'!D71,'定義（記入例用）'!$M:$M,),))} -> 0 | E73: {=IF(OR(E71<$O$5,MIN($I$5,$W$5)-20<E71,E76="―"),"✕",INDEX('定義（記入例用）'!$R:$R,MATCH('休日取得計画表・休日取得実績表（記入例）'!E71,'定義（記入例用）'!$M:$M,),))} -> 0 | F73: {=IF(OR(F71<$O$5,MIN($I$5,$W$5)-20<F71,F76="―"),"✕",INDEX('定義（記入例用）'!$R:$R,MATCH('休日取得計画表・休日取得実績表（記入例）'!F71,'定義（記入例用）'!$M:$M,),))} -> 0 | G73: {=IF(OR(G71<$O$5,MIN($I$5,$W$5)-20<G71,G76="―"),"✕",INDEX('定義（記入例用）'!$R:$R,MATCH('休日取得計画表・休日取得実績表（記入例）'!G71,'定義（記入例用）'!$M:$M,),))} -> 0 | H73: {=IF(OR(H71<$O$5,MIN($I$5,$W$5)-20<H71,H76="―"),"✕",INDEX('定義（記入例用）'!$R:$R,MATCH('休日取得計画表・休日取得実績表（記入例）'!H71,'定義（記入例用）'!$M:$M,),))} -> 1 | I73: {=IF(OR(I71<$O$5,MIN($I$5,$W$5)-20<I71,I76="―"),"✕",INDEX('定義（記入例用）'!$R:$R,MATCH('休日取得計画表・休日取得実績表（記入例）'!I71,'定義（記入例用）'!$M:$M,),))} -> 1 | J73: {=IF(OR(J71<$O$5,MIN($I$5,$W$5)-20<J71,J76="―"),"✕",INDEX('定義（記入例用）'!$R:$R,MATCH('休日取得計画表・休日取得実績表（記入例）'!J71,'定義（記入例用）'!$M:$M,),))} -> 0 | ... AG73: {=IF(OR(AG71<$O$5,MIN($I$5,$W$5)-20<AG71,AG76="―"),"✕",INDEX('定義（記入例用）'!$R:$R,MATCH('休日取得計画表・休日取得実績表（記入例）'!AG71,'定義（記入例用）'!$M:$M,),))} -> 1
B74: 対象期間 | C74: {=IF(OR(C71<$O$5,MIN($I$5,$W$5)-20<C71,C77="―"),"✕",INDEX('定義（記入例用）'!$R:$R,MATCH('休日取得計画表・休日取得実績表（記入例）'!C71,'定義（記入例用）'!$M:$M,),))} -> 0 | D74: {=IF(OR(D71<$O$5,MIN($I$5,$W$5)-20<D71,D77="―"),"✕",INDEX('定義（記入例用）'!$R:$R,MATCH('休日取得計画表・休日取得実績表（記入例）'!D71,'定義（記入例用）'!$M:$M,),))} -> 0 | E74: {=IF(OR(E71<$O$5,MIN($I$5,$W$5)-20<E71,E77="―"),"✕",INDEX('定義（記入例用）'!$R:$R,MATCH('休日取得計画表・休日取得実績表（記入例）'!E71,'定義（記入例用）'!$M:$M,),))} -> 0 | F74: {=IF(OR(F71<$O$5,MIN($I$5,$W$5)-20<F71,F77="―"),"✕",INDEX('定義（記入例用）'!$R:$R,MATCH('休日取得計画表・休日取得実績表（記入例）'!F71,'定義（記入例用）'!$M:$M,),))} -> 0 | G74: {=IF(OR(G71<$O$5,MIN($I$5,$W$5)-20<G71,G77="―"),"✕",INDEX('定義（記入例用）'!$R:$R,MATCH('休日取得計画表・休日取得実績表（記入例）'!G71,'定義（記入例用）'!$M:$M,),))} -> 0 | H74: {=IF(OR(H71<$O$5,MIN($I$5,$W$5)-20<H71,H77="―"),"✕",INDEX('定義（記入例用）'!$R:$R,MATCH('休日取得計画表・休日取得実績表（記入例）'!H71,'定義（記入例用）'!$M:$M,),))} -> 1 | I74: {=IF(OR(I71<$O$5,MIN($I$5,$W$5)-20<I71,I77="―"),"✕",INDEX('定義（記入例用）'!$R:$R,MATCH('休日取得計画表・休日取得実績表（記入例）'!I71,'定義（記入例用）'!$M:$M,),))} -> 1 | J74: {=IF(OR(J71<$O$5,MIN($I$5,$W$5)-20<J71,J77="―"),"✕",INDEX('定義（記入例用）'!$R:$R,MATCH('休日取得計画表・休日取得実績表（記入例）'!J71,'定義（記入例用）'!$M:$M,),))} -> 0 | ... AG74: {=IF(OR(AG71<$O$5,MIN($I$5,$W$5)-20<AG71,AG77="―"),"✕",INDEX('定義（記入例用）'!$R:$R,MATCH('休日取得計画表・休日取得実績表（記入例）'!AG71,'定義（記入例用）'!$M:$M,),))} -> 1
B75: 行事 | C75: {=IFERROR(INDEX('定義（記入例用）'!$Q:$Q,MATCH('休日取得計画表・休日取得実績表（記入例）'!C71,'定義（記入例用）'!$M:$M,),),"")} | D75: {=IFERROR(INDEX('定義（記入例用）'!$Q:$Q,MATCH('休日取得計画表・休日取得実績表（記入例）'!D71,'定義（記入例用）'!$M:$M,),),"")} | E75: {=IFERROR(INDEX('定義（記入例用）'!$Q:$Q,MATCH('休日取得計画表・休日取得実績表（記入例）'!E71,'定義（記入例用）'!$M:$M,),),"")} | F75: {=IFERROR(INDEX('定義（記入例用）'!$Q:$Q,MATCH('休日取得計画表・休日取得実績表（記入例）'!F71,'定義（記入例用）'!$M:$M,),),"")} | G75: {=IFERROR(INDEX('定義（記入例用）'!$Q:$Q,MATCH('休日取得計画表・休日取得実績表（記入例）'!G71,'定義（記入例用）'!$M:$M,),),"")} | H75: {=IFERROR(INDEX('定義（記入例用）'!$Q:$Q,MATCH('休日取得計画表・休日取得実績表（記入例）'!H71,'定義（記入例用）'!$M:$M,),),"")} | I75: {=IFERROR(INDEX('定義（記入例用）'!$Q:$Q,MATCH('休日取得計画表・休日取得実績表（記入例）'!I71,'定義（記入例用）'!$M:$M,),),"")} | J75: {=IFERROR(INDEX('定義（記入例用）'!$Q:$Q,MATCH('休日取得計画表・休日取得実績表（記入例）'!J71,'定義（記入例用）'!$M:$M,),),"")} | ... AG75: {=IFERROR(INDEX('定義（記入例用）'!$Q:$Q,MATCH('休日取得計画表・休日取得実績表（記入例）'!AG71,'定義（記入例用）'!$M:$M,),),"")} -> 年末年始
B76: =IF($F$3="受注者希望型","－","休日 計画") -> 休日 計画 | H76: ○ | I76: ○ | O76: ○ | P76: ○ | V76: ○ | W76: ○ | AC76: ○ | AD76: ○ | AE76: ○ | AF76: ○ | AG76: ○ | AH76: =AK76 -> 11 | AI76: =AL76 -> 66 | AK76: =COUNTIFS(C76:AG76,"○",C73:AG73,"<>✕") -> 11 | AL76: =SUM(AK$7:AK77) -> 66 | AM76: =SUM(C73:AG73) -> 11 | AN76: =SUM(AM$7:AM77) -> 66 | AO76: =COUNTIFS(C77:AG77,"○",C74:AG74,"<>✕") -> 11 | AP76: =SUM(AO$7:AO77) -> 66 | AQ76: =SUM(C74:AG74) -> 11 | AR76: =SUM(AQ$7:AQ77) -> 66
B77: 休日 実績 | H77: ○ | I77: ○ | O77: ○ | P77: ○ | V77: ○ | W77: ○ | AC77: ○ | AD77: ○ | AE77: ○ | AF77: ○ | AG77: ○ | AH77: =AO76 -> 11 | AI77: =AP76 -> 66
B79: 月 | C79: =DATE(YEAR($C$7),MONTH($C$7)+COUNTIF($B$7:B79,"月")-1,1) -> 46023 | AH79: 月計 | AI79: 累計 | AK79: 計画時点 | AO79: 実績
B80: 日 | C80: =+C79 -> 46023 | D80: =IFERROR(IF(MONTH(C80+1)=MONTH($C79),C80+1,""),"") -> 46024 | E80: =IFERROR(IF(MONTH(D80+1)=MONTH($C79),D80+1,""),"") -> 46025 | F80: =IFERROR(IF(MONTH(E80+1)=MONTH($C79),E80+1,""),"") -> 46026 | G80: =IFERROR(IF(MONTH(F80+1)=MONTH($C79),F80+1,""),"") -> 46027 | H80: =IFERROR(IF(MONTH(G80+1)=MONTH($C79),G80+1,""),"") -> 46028 | I80: =IFERROR(IF(MONTH(H80+1)=MONTH($C79),H80+1,""),"") -> 46029 | J80: =IFERROR(IF(MONTH(I80+1)=MONTH($C79),I80+1,""),"") -> 46030 | K80: =IFERROR(IF(MONTH(J80+1)=MONTH($C79),J80+1,""),"") -> 46031 | ... AG80: =IFERROR(IF(MONTH(AF80+1)=MONTH($C79),AF80+1,""),"") -> 46053 | AK80: 計画休日数（月計） | AL80: 計画休日数（累計） | AM80: 必要現場閉所日（月計） | AN80: 必要現場閉所日（累計） | AO80: 実績休日数（月計） | AP80: 実績休日数（累計） | AQ80: 必要現場閉所日（月計） | AR80: 必要現場閉所日（累計）
B81: 曜日 | C81: =IF(C80="","",IF(COUNTIF(祝日,C80)>0,"祝",IF(COUNTIF(夏季休暇,C80)+COUNTIF(年末年始,C80)>0,"休",TEXT(C80,"aaa")))) -> 祝 | D81: =IF(D80="","",IF(COUNTIF(祝日,D80)>0,"祝",IF(COUNTIF(夏季休暇,D80)+COUNTIF(年末年始,D80)>0,"休",TEXT(D80,"aaa")))) -> 休 | E81: =IF(E80="","",IF(COUNTIF(祝日,E80)>0,"祝",IF(COUNTIF(夏季休暇,E80)+COUNTIF(年末年始,E80)>0,"休",TEXT(E80,"aaa")))) -> 休 | F81: =IF(F80="","",IF(COUNTIF(祝日,F80)>0,"祝",IF(COUNTIF(夏季休暇,F80)+COUNTIF(年末年始,F80)>0,"休",TEXT(F80,"aaa")))) -> 日 | G81: =IF(G80="","",IF(COUNTIF(祝日,G80)>0,"祝",IF(COUNTIF(夏季休暇,G80)+COUNTIF(年末年始,G80)>0,"休",TEXT(G80,"aaa")))) -> 月 | H81: =IF(H80="","",IF(COUNTIF(祝日,H80)>0,"祝",IF(COUNTIF(夏季休暇,H80)+COUNTIF(年末年始,H80)>0,"休",TEXT(H80,"aaa")))) -> 火 | I81: =IF(I80="","",IF(COUNTIF(祝日,I80)>0,"祝",IF(COUNTIF(夏季休暇,I80)+COUNTIF(年末年始,I80)>0,"休",TEXT(I80,"aaa")))) -> 水 | J81: =IF(J80="","",IF(COUNTIF(祝日,J80)>0,"祝",IF(COUNTIF(夏季休暇,J80)+COUNTIF(年末年始,J80)>0,"休",TEXT(J80,"aaa")))) -> 木 | ... AG81: =IF(AG80="","",IF(COUNTIF(祝日,AG80)>0,"祝",IF(COUNTIF(夏季休暇,AG80)+COUNTIF(年末年始,AG80)>0,"休",TEXT(AG80,"aaa")))) -> 土 | AH81: ○計 | AI81: ○計
B82: 対象期間 | C82: {=IF(OR(C80<$O$5,MIN($I$5,$W$5)-20<C80,C85="―"),"✕",INDEX('定義（記入例用）'!$R:$R,MATCH('休日取得計画表・休日取得実績表（記入例）'!C80,'定義（記入例用）'!$M:$M,),))} -> 1 | D82: {=IF(OR(D80<$O$5,MIN($I$5,$W$5)-20<D80,D85="―"),"✕",INDEX('定義（記入例用）'!$R:$R,MATCH('休日取得計画表・休日取得実績表（記入例）'!D80,'定義（記入例用）'!$M:$M,),))} -> 1 | E82: {=IF(OR(E80<$O$5,MIN($I$5,$W$5)-20<E80,E85="―"),"✕",INDEX('定義（記入例用）'!$R:$R,MATCH('休日取得計画表・休日取得実績表（記入例）'!E80,'定義（記入例用）'!$M:$M,),))} -> 1 | F82: {=IF(OR(F80<$O$5,MIN($I$5,$W$5)-20<F80,F85="―"),"✕",INDEX('定義（記入例用）'!$R:$R,MATCH('休日取得計画表・休日取得実績表（記入例）'!F80,'定義（記入例用）'!$M:$M,),))} -> 1 | G82: {=IF(OR(G80<$O$5,MIN($I$5,$W$5)-20<G80,G85="―"),"✕",INDEX('定義（記入例用）'!$R:$R,MATCH('休日取得計画表・休日取得実績表（記入例）'!G80,'定義（記入例用）'!$M:$M,),))} -> 0 | H82: {=IF(OR(H80<$O$5,MIN($I$5,$W$5)-20<H80,H85="―"),"✕",INDEX('定義（記入例用）'!$R:$R,MATCH('休日取得計画表・休日取得実績表（記入例）'!H80,'定義（記入例用）'!$M:$M,),))} -> 0 | I82: {=IF(OR(I80<$O$5,MIN($I$5,$W$5)-20<I80,I85="―"),"✕",INDEX('定義（記入例用）'!$R:$R,MATCH('休日取得計画表・休日取得実績表（記入例）'!I80,'定義（記入例用）'!$M:$M,),))} -> 0 | J82: {=IF(OR(J80<$O$5,MIN($I$5,$W$5)-20<J80,J85="―"),"✕",INDEX('定義（記入例用）'!$R:$R,MATCH('休日取得計画表・休日取得実績表（記入例）'!J80,'定義（記入例用）'!$M:$M,),))} -> 0 | ... AG82: {=IF(OR(AG80<$O$5,MIN($I$5,$W$5)-20<AG80,AG85="―"),"✕",INDEX('定義（記入例用）'!$R:$R,MATCH('休日取得計画表・休日取得実績表（記入例）'!AG80,'定義（記入例用）'!$M:$M,),))} -> 1
B83: 対象期間 | C83: {=IF(OR(C80<$O$5,MIN($I$5,$W$5)-20<C80,C86="―"),"✕",INDEX('定義（記入例用）'!$R:$R,MATCH('休日取得計画表・休日取得実績表（記入例）'!C80,'定義（記入例用）'!$M:$M,),))} -> 1 | D83: {=IF(OR(D80<$O$5,MIN($I$5,$W$5)-20<D80,D86="―"),"✕",INDEX('定義（記入例用）'!$R:$R,MATCH('休日取得計画表・休日取得実績表（記入例）'!D80,'定義（記入例用）'!$M:$M,),))} -> 1 | E83: {=IF(OR(E80<$O$5,MIN($I$5,$W$5)-20<E80,E86="―"),"✕",INDEX('定義（記入例用）'!$R:$R,MATCH('休日取得計画表・休日取得実績表（記入例）'!E80,'定義（記入例用）'!$M:$M,),))} -> 1 | F83: {=IF(OR(F80<$O$5,MIN($I$5,$W$5)-20<F80,F86="―"),"✕",INDEX('定義（記入例用）'!$R:$R,MATCH('休日取得計画表・休日取得実績表（記入例）'!F80,'定義（記入例用）'!$M:$M,),))} -> 1 | G83: {=IF(OR(G80<$O$5,MIN($I$5,$W$5)-20<G80,G86="―"),"✕",INDEX('定義（記入例用）'!$R:$R,MATCH('休日取得計画表・休日取得実績表（記入例）'!G80,'定義（記入例用）'!$M:$M,),))} -> 0 | H83: {=IF(OR(H80<$O$5,MIN($I$5,$W$5)-20<H80,H86="―"),"✕",INDEX('定義（記入例用）'!$R:$R,MATCH('休日取得計画表・休日取得実績表（記入例）'!H80,'定義（記入例用）'!$M:$M,),))} -> 0 | I83: {=IF(OR(I80<$O$5,MIN($I$5,$W$5)-20<I80,I86="―"),"✕",INDEX('定義（記入例用）'!$R:$R,MATCH('休日取得計画表・休日取得実績表（記入例）'!I80,'定義（記入例用）'!$M:$M,),))} -> 0 | J83: {=IF(OR(J80<$O$5,MIN($I$5,$W$5)-20<J80,J86="―"),"✕",INDEX('定義（記入例用）'!$R:$R,MATCH('休日取得計画表・休日取得実績表（記入例）'!J80,'定義（記入例用）'!$M:$M,),))} -> 0 | ... AG83: {=IF(OR(AG80<$O$5,MIN($I$5,$W$5)-20<AG80,AG86="―"),"✕",INDEX('定義（記入例用）'!$R:$R,MATCH('休日取得計画表・休日取得実績表（記入例）'!AG80,'定義（記入例用）'!$M:$M,),))} -> 1
B84: 行事 | C84: {=IFERROR(INDEX('定義（記入例用）'!$Q:$Q,MATCH('休日取得計画表・休日取得実績表（記入例）'!C80,'定義（記入例用）'!$M:$M,),),"")} -> 元日 | D84: {=IFERROR(INDEX('定義（記入例用）'!$Q:$Q,MATCH('休日取得計画表・休日取得実績表（記入例）'!D80,'定義（記入例用）'!$M:$M,),),"")} -> 年末年始 | E84: {=IFERROR(INDEX('定義（記入例用）'!$Q:$Q,MATCH('休日取得計画表・休日取得実績表（記入例）'!E80,'定義（記入例用）'!$M:$M,),),"")} -> 年末年始 | F84: {=IFERROR(INDEX('定義（記入例用）'!$Q:$Q,MATCH('休日取得計画表・休日取得実績表（記入例）'!F80,'定義（記入例用）'!$M:$M,),),"")} | G84: {=IFERROR(INDEX('定義（記入例用）'!$Q:$Q,MATCH('休日取得計画表・休日取得実績表（記入例）'!G80,'定義（記入例用）'!$M:$M,),),"")} | H84: {=IFERROR(INDEX('定義（記入例用）'!$Q:$Q,MATCH('休日取得計画表・休日取得実績表（記入例）'!H80,'定義（記入例用）'!$M:$M,),),"")} | I84: {=IFERROR(INDEX('定義（記入例用）'!$Q:$Q,MATCH('休日取得計画表・休日取得実績表（記入例）'!I80,'定義（記入例用）'!$M:$M,),),"")} | J84: {=IFERROR(INDEX('定義（記入例用）'!$Q:$Q,MATCH('休日取得計画表・休日取得実績表（記入例）'!J80,'定義（記入例用）'!$M:$M,),),"")} | ... AG84: {=IFERROR(INDEX('定義（記入例用）'!$Q:$Q,MATCH('休日取得計画表・休日取得実績表（記入例）'!AG80,'定義（記入例用）'!$M:$M,),),"")}
B85: =IF($F$3="受注者希望型","－","休日 計画") -> 休日 計画 | C85: ○ | D85: ○ | E85: ○ | F85: ○ | L85: ○ | M85: ○ | N85: ○ | S85: ○ | T85: ○ | Z85: ○ | AA85: ○ | AG85: ○ | AH85: =AK85 -> 12 | AI85: =AL85 -> 78 | AK85: =COUNTIFS(C85:AG85,"○",C82:AG82,"<>✕") -> 12 | AL85: =SUM(AK$7:AK86) -> 78 | AM85: =SUM(C82:AG82) -> 12 | AN85: =SUM(AM$7:AM86) -> 78 | AO85: =COUNTIFS(C86:AG86,"○",C83:AG83,"<>✕") -> 12 | AP85: =SUM(AO$7:AO86) -> 78 | AQ85: =SUM(C83:AG83) -> 12 | AR85: =SUM(AQ$7:AQ86) -> 78
B86: 休日 実績 | C86: ○ | D86: ○ | E86: ○ | F86: ○ | K86: ○ | L86: ○ | M86: ○ | S86: ○ | T86: ○ | Z86: ○ | AA86: ○ | AG86: ○ | AH86: =AO85 -> 12 | AI86: =AP85 -> 78
B88: 月 | C88: =DATE(YEAR($C$7),MONTH($C$7)+COUNTIF($B$7:B88,"月")-1,1) -> 46054 | AH88: 月計 | AI88: 累計 | AK88: 計画時点 | AO88: 実績
B89: 日 | C89: =+C88 -> 46054 | D89: =IFERROR(IF(MONTH(C89+1)=MONTH($C88),C89+1,""),"") -> 46055 | E89: =IFERROR(IF(MONTH(D89+1)=MONTH($C88),D89+1,""),"") -> 46056 | F89: =IFERROR(IF(MONTH(E89+1)=MONTH($C88),E89+1,""),"") -> 46057 | G89: =IFERROR(IF(MONTH(F89+1)=MONTH($C88),F89+1,""),"") -> 46058 | H89: =IFERROR(IF(MONTH(G89+1)=MONTH($C88),G89+1,""),"") -> 46059 | I89: =IFERROR(IF(MONTH(H89+1)=MONTH($C88),H89+1,""),"") -> 46060 | J89: =IFERROR(IF(MONTH(I89+1)=MONTH($C88),I89+1,""),"") -> 46061 | K89: =IFERROR(IF(MONTH(J89+1)=MONTH($C88),J89+1,""),"") -> 46062 | ... AG89: =IFERROR(IF(MONTH(AF89+1)=MONTH($C88),AF89+1,""),"") | AK89: 計画休日数（月計） | AL89: 計画休日数（累計） | AM89: 必要現場閉所日（月計） | AN89: 必要現場閉所日（累計） | AO89: 実績休日数（月計） | AP89: 実績休日数（累計） | AQ89: 必要現場閉所日（月計） | AR89: 必要現場閉所日（累計）
B90: 曜日 | C90: =IF(C89="","",IF(COUNTIF(祝日,C89)>0,"祝",IF(COUNTIF(夏季休暇,C89)+COUNTIF(年末年始,C89)>0,"休",TEXT(C89,"aaa")))) -> 日 | D90: =IF(D89="","",IF(COUNTIF(祝日,D89)>0,"祝",IF(COUNTIF(夏季休暇,D89)+COUNTIF(年末年始,D89)>0,"休",TEXT(D89,"aaa")))) -> 月 | E90: =IF(E89="","",IF(COUNTIF(祝日,E89)>0,"祝",IF(COUNTIF(夏季休暇,E89)+COUNTIF(年末年始,E89)>0,"休",TEXT(E89,"aaa")))) -> 火 | F90: =IF(F89="","",IF(COUNTIF(祝日,F89)>0,"祝",IF(COUNTIF(夏季休暇,F89)+COUNTIF(年末年始,F89)>0,"休",TEXT(F89,"aaa")))) -> 水 | G90: =IF(G89="","",IF(COUNTIF(祝日,G89)>0,"祝",IF(COUNTIF(夏季休暇,G89)+COUNTIF(年末年始,G89)>0,"休",TEXT(G89,"aaa")))) -> 木 | H90: =IF(H89="","",IF(COUNTIF(祝日,H89)>0,"祝",IF(COUNTIF(夏季休暇,H89)+COUNTIF(年末年始,H89)>0,"休",TEXT(H89,"aaa")))) -> 金 | I90: =IF(I89="","",IF(COUNTIF(祝日,I89)>0,"祝",IF(COUNTIF(夏季休暇,I89)+COUNTIF(年末年始,I89)>0,"休",TEXT(I89,"aaa")))) -> 土 | J90: =IF(J89="","",IF(COUNTIF(祝日,J89)>0,"祝",IF(COUNTIF(夏季休暇,J89)+COUNTIF(年末年始,J89)>0,"休",TEXT(J89,"aaa")))) -> 日 | ... AG90: =IF(AG89="","",IF(COUNTIF(祝日,AG89)>0,"祝",IF(COUNTIF(夏季休暇,AG89)+COUNTIF(年末年始,AG89)>0,"休",TEXT(AG89,"aaa")))) | AH90: ○計 | AI90: ○計
B91: 対象期間 | C91: {=IF(OR(C89<$O$5,MIN($I$5,$W$5)-20<C89,C94="―"),"✕",INDEX('定義（記入例用）'!$R:$R,MATCH('休日取得計画表・休日取得実績表（記入例）'!C89,'定義（記入例用）'!$M:$M,),))} -> 1 | D91: {=IF(OR(D89<$O$5,MIN($I$5,$W$5)-20<D89,D94="―"),"✕",INDEX('定義（記入例用）'!$R:$R,MATCH('休日取得計画表・休日取得実績表（記入例）'!D89,'定義（記入例用）'!$M:$M,),))} -> 0 | E91: {=IF(OR(E89<$O$5,MIN($I$5,$W$5)-20<E89,E94="―"),"✕",INDEX('定義（記入例用）'!$R:$R,MATCH('休日取得計画表・休日取得実績表（記入例）'!E89,'定義（記入例用）'!$M:$M,),))} -> 0 | F91: {=IF(OR(F89<$O$5,MIN($I$5,$W$5)-20<F89,F94="―"),"✕",INDEX('定義（記入例用）'!$R:$R,MATCH('休日取得計画表・休日取得実績表（記入例）'!F89,'定義（記入例用）'!$M:$M,),))} -> 0 | G91: {=IF(OR(G89<$O$5,MIN($I$5,$W$5)-20<G89,G94="―"),"✕",INDEX('定義（記入例用）'!$R:$R,MATCH('休日取得計画表・休日取得実績表（記入例）'!G89,'定義（記入例用）'!$M:$M,),))} -> 0 | H91: {=IF(OR(H89<$O$5,MIN($I$5,$W$5)-20<H89,H94="―"),"✕",INDEX('定義（記入例用）'!$R:$R,MATCH('休日取得計画表・休日取得実績表（記入例）'!H89,'定義（記入例用）'!$M:$M,),))} -> 0 | I91: {=IF(OR(I89<$O$5,MIN($I$5,$W$5)-20<I89,I94="―"),"✕",INDEX('定義（記入例用）'!$R:$R,MATCH('休日取得計画表・休日取得実績表（記入例）'!I89,'定義（記入例用）'!$M:$M,),))} -> 1 | J91: {=IF(OR(J89<$O$5,MIN($I$5,$W$5)-20<J89,J94="―"),"✕",INDEX('定義（記入例用）'!$R:$R,MATCH('休日取得計画表・休日取得実績表（記入例）'!J89,'定義（記入例用）'!$M:$M,),))} -> 1 | ... AG91: {=IF(OR(AG89<$O$5,MIN($I$5,$W$5)-20<AG89,AG94="―"),"✕",INDEX('定義（記入例用）'!$R:$R,MATCH('休日取得計画表・休日取得実績表（記入例）'!AG89,'定義（記入例用）'!$M:$M,),))} -> ✕
B92: 対象期間 | C92: {=IF(OR(C89<$O$5,MIN($I$5,$W$5)-20<C89,C95="―"),"✕",INDEX('定義（記入例用）'!$R:$R,MATCH('休日取得計画表・休日取得実績表（記入例）'!C89,'定義（記入例用）'!$M:$M,),))} -> 1 | D92: {=IF(OR(D89<$O$5,MIN($I$5,$W$5)-20<D89,D95="―"),"✕",INDEX('定義（記入例用）'!$R:$R,MATCH('休日取得計画表・休日取得実績表（記入例）'!D89,'定義（記入例用）'!$M:$M,),))} -> 0 | E92: {=IF(OR(E89<$O$5,MIN($I$5,$W$5)-20<E89,E95="―"),"✕",INDEX('定義（記入例用）'!$R:$R,MATCH('休日取得計画表・休日取得実績表（記入例）'!E89,'定義（記入例用）'!$M:$M,),))} -> 0 | F92: {=IF(OR(F89<$O$5,MIN($I$5,$W$5)-20<F89,F95="―"),"✕",INDEX('定義（記入例用）'!$R:$R,MATCH('休日取得計画表・休日取得実績表（記入例）'!F89,'定義（記入例用）'!$M:$M,),))} -> 0 | G92: {=IF(OR(G89<$O$5,MIN($I$5,$W$5)-20<G89,G95="―"),"✕",INDEX('定義（記入例用）'!$R:$R,MATCH('休日取得計画表・休日取得実績表（記入例）'!G89,'定義（記入例用）'!$M:$M,),))} -> 0 | H92: {=IF(OR(H89<$O$5,MIN($I$5,$W$5)-20<H89,H95="―"),"✕",INDEX('定義（記入例用）'!$R:$R,MATCH('休日取得計画表・休日取得実績表（記入例）'!H89,'定義（記入例用）'!$M:$M,),))} -> 0 | I92: {=IF(OR(I89<$O$5,MIN($I$5,$W$5)-20<I89,I95="―"),"✕",INDEX('定義（記入例用）'!$R:$R,MATCH('休日取得計画表・休日取得実績表（記入例）'!I89,'定義（記入例用）'!$M:$M,),))} -> 1 | J92: {=IF(OR(J89<$O$5,MIN($I$5,$W$5)-20<J89,J95="―"),"✕",INDEX('定義（記入例用）'!$R:$R,MATCH('休日取得計画表・休日取得実績表（記入例）'!J89,'定義（記入例用）'!$M:$M,),))} -> 1 | ... AG92: {=IF(OR(AG89<$O$5,MIN($I$5,$W$5)-20<AG89,AG95="―"),"✕",INDEX('定義（記入例用）'!$R:$R,MATCH('休日取得計画表・休日取得実績表（記入例）'!AG89,'定義（記入例用）'!$M:$M,),))} -> ✕
B93: 行事 | C93: {=IFERROR(INDEX('定義（記入例用）'!$Q:$Q,MATCH('休日取得計画表・休日取得実績表（記入例）'!C89,'定義（記入例用）'!$M:$M,),),"")} | D93: {=IFERROR(INDEX('定義（記入例用）'!$Q:$Q,MATCH('休日取得計画表・休日取得実績表（記入例）'!D89,'定義（記入例用）'!$M:$M,),),"")} | E93: {=IFERROR(INDEX('定義（記入例用）'!$Q:$Q,MATCH('休日取得計画表・休日取得実績表（記入例）'!E89,'定義（記入例用）'!$M:$M,),),"")} | F93: {=IFERROR(INDEX('定義（記入例用）'!$Q:$Q,MATCH('休日取得計画表・休日取得実績表（記入例）'!F89,'定義（記入例用）'!$M:$M,),),"")} | G93: {=IFERROR(INDEX('定義（記入例用）'!$Q:$Q,MATCH('休日取得計画表・休日取得実績表（記入例）'!G89,'定義（記入例用）'!$M:$M,),),"")} | H93: {=IFERROR(INDEX('定義（記入例用）'!$Q:$Q,MATCH('休日取得計画表・休日取得実績表（記入例）'!H89,'定義（記入例用）'!$M:$M,),),"")} | I93: {=IFERROR(INDEX('定義（記入例用）'!$Q:$Q,MATCH('休日取得計画表・休日取得実績表（記入例）'!I89,'定義（記入例用）'!$M:$M,),),"")} | J93: {=IFERROR(INDEX('定義（記入例用）'!$Q:$Q,MATCH('休日取得計画表・休日取得実績表（記入例）'!J89,'定義（記入例用）'!$M:$M,),),"")} | ... AG93: {=IFERROR(INDEX('定義（記入例用）'!$Q:$Q,MATCH('休日取得計画表・休日取得実績表（記入例）'!AG89,'定義（記入例用）'!$M:$M,),),"")}
B94: =IF($F$3="受注者希望型","－","休日 計画") -> 休日 計画 | C94: ○ | I94: ○ | J94: ○ | P94: ○ | Q94: ○ | R94: ○ | W94: ○ | X94: ○ | Y94: ○ | AH94: =AK94 -> 9 | AI94: =AL94 -> 87 | AK94: =COUNTIFS(C94:AG94,"○",C91:AG91,"<>✕") -> 9 | AL94: =SUM(AK$7:AK95) -> 87 | AM94: =SUM(C91:AG91) -> 9 | AN94: =SUM(AM$7:AM95) -> 87 | AO94: =COUNTIFS(C95:AG95,"○",C92:AG92,"<>✕") -> 12 | AP94: =SUM(AO$7:AO95) -> 90 | AQ94: =SUM(C92:AG92) -> 9 | AR94: =SUM(AQ$7:AQ95) -> 87
B95: 休日 実績 | C95: ○ | I95: ○ | J95: ○ | K95: ○ | L95: ○ | Q95: ○ | R95: ○ | W95: ○ | X95: ○ | Y95: ○ | AB95: ○ | AC95: ○ | AH95: =AO94 -> 12 | AI95: =AP94 -> 90
B97: 月 | C97: =DATE(YEAR($C$7),MONTH($C$7)+COUNTIF($B$7:B97,"月")-1,1) -> 46082 | AH97: 月計 | AI97: 累計 | AK97: 計画時点 | AO97: 実績
B98: 日 | C98: =+C97 -> 46082 | D98: =IFERROR(IF(MONTH(C98+1)=MONTH($C97),C98+1,""),"") -> 46083 | E98: =IFERROR(IF(MONTH(D98+1)=MONTH($C97),D98+1,""),"") -> 46084 | F98: =IFERROR(IF(MONTH(E98+1)=MONTH($C97),E98+1,""),"") -> 46085 | G98: =IFERROR(IF(MONTH(F98+1)=MONTH($C97),F98+1,""),"") -> 46086 | H98: =IFERROR(IF(MONTH(G98+1)=MONTH($C97),G98+1,""),"") -> 46087 | I98: =IFERROR(IF(MONTH(H98+1)=MONTH($C97),H98+1,""),"") -> 46088 | J98: =IFERROR(IF(MONTH(I98+1)=MONTH($C97),I98+1,""),"") -> 46089 | K98: =IFERROR(IF(MONTH(J98+1)=MONTH($C97),J98+1,""),"") -> 46090 | ... AG98: =IFERROR(IF(MONTH(AF98+1)=MONTH($C97),AF98+1,""),"") -> 46112 | AK98: 計画休日数（月計） | AL98: 計画休日数（累計） | AM98: 必要現場閉所日（月計） | AN98: 必要現場閉所日（累計） | AO98: 実績休日数（月計） | AP98: 実績休日数（累計） | AQ98: 必要現場閉所日（月計） | AR98: 必要現場閉所日（累計）
B99: 曜日 | C99: =IF(C98="","",IF(COUNTIF(祝日,C98)>0,"祝",IF(COUNTIF(夏季休暇,C98)+COUNTIF(年末年始,C98)>0,"休",TEXT(C98,"aaa")))) -> 日 | D99: =IF(D98="","",IF(COUNTIF(祝日,D98)>0,"祝",IF(COUNTIF(夏季休暇,D98)+COUNTIF(年末年始,D98)>0,"休",TEXT(D98,"aaa")))) -> 月 | E99: =IF(E98="","",IF(COUNTIF(祝日,E98)>0,"祝",IF(COUNTIF(夏季休暇,E98)+COUNTIF(年末年始,E98)>0,"休",TEXT(E98,"aaa")))) -> 火 | F99: =IF(F98="","",IF(COUNTIF(祝日,F98)>0,"祝",IF(COUNTIF(夏季休暇,F98)+COUNTIF(年末年始,F98)>0,"休",TEXT(F98,"aaa")))) -> 水 | G99: =IF(G98="","",IF(COUNTIF(祝日,G98)>0,"祝",IF(COUNTIF(夏季休暇,G98)+COUNTIF(年末年始,G98)>0,"休",TEXT(G98,"aaa")))) -> 木 | H99: =IF(H98="","",IF(COUNTIF(祝日,H98)>0,"祝",IF(COUNTIF(夏季休暇,H98)+COUNTIF(年末年始,H98)>0,"休",TEXT(H98,"aaa")))) -> 金 | I99: =IF(I98="","",IF(COUNTIF(祝日,I98)>0,"祝",IF(COUNTIF(夏季休暇,I98)+COUNTIF(年末年始,I98)>0,"休",TEXT(I98,"aaa")))) -> 土 | J99: =IF(J98="","",IF(COUNTIF(祝日,J98)>0,"祝",IF(COUNTIF(夏季休暇,J98)+COUNTIF(年末年始,J98)>0,"休",TEXT(J98,"aaa")))) -> 日 | ... AG99: =IF(AG98="","",IF(COUNTIF(祝日,AG98)>0,"祝",IF(COUNTIF(夏季休暇,AG98)+COUNTIF(年末年始,AG98)>0,"休",TEXT(AG98,"aaa")))) -> 火 | AH99: ○計 | AI99: ○計
B100: 対象期間 | C100: {=IF(OR(C98<$O$5,MIN($I$5,$W$5)-20<C98,C103="―"),"✕",INDEX('定義（記入例用）'!$R:$R,MATCH('休日取得計画表・休日取得実績表（記入例）'!C98,'定義（記入例用）'!$M:$M,),))} -> ✕ | D100: {=IF(OR(D98<$O$5,MIN($I$5,$W$5)-20<D98,D103="―"),"✕",INDEX('定義（記入例用）'!$R:$R,MATCH('休日取得計画表・休日取得実績表（記入例）'!D98,'定義（記入例用）'!$M:$M,),))} -> ✕ | E100: {=IF(OR(E98<$O$5,MIN($I$5,$W$5)-20<E98,E103="―"),"✕",INDEX('定義（記入例用）'!$R:$R,MATCH('休日取得計画表・休日取得実績表（記入例）'!E98,'定義（記入例用）'!$M:$M,),))} -> ✕ | F100: {=IF(OR(F98<$O$5,MIN($I$5,$W$5)-20<F98,F103="―"),"✕",INDEX('定義（記入例用）'!$R:$R,MATCH('休日取得計画表・休日取得実績表（記入例）'!F98,'定義（記入例用）'!$M:$M,),))} -> ✕ | G100: {=IF(OR(G98<$O$5,MIN($I$5,$W$5)-20<G98,G103="―"),"✕",INDEX('定義（記入例用）'!$R:$R,MATCH('休日取得計画表・休日取得実績表（記入例）'!G98,'定義（記入例用）'!$M:$M,),))} -> ✕ | H100: {=IF(OR(H98<$O$5,MIN($I$5,$W$5)-20<H98,H103="―"),"✕",INDEX('定義（記入例用）'!$R:$R,MATCH('休日取得計画表・休日取得実績表（記入例）'!H98,'定義（記入例用）'!$M:$M,),))} -> ✕ | I100: {=IF(OR(I98<$O$5,MIN($I$5,$W$5)-20<I98,I103="―"),"✕",INDEX('定義（記入例用）'!$R:$R,MATCH('休日取得計画表・休日取得実績表（記入例）'!I98,'定義（記入例用）'!$M:$M,),))} -> ✕ | J100: {=IF(OR(J98<$O$5,MIN($I$5,$W$5)-20<J98,J103="―"),"✕",INDEX('定義（記入例用）'!$R:$R,MATCH('休日取得計画表・休日取得実績表（記入例）'!J98,'定義（記入例用）'!$M:$M,),))} -> ✕ | ... AG100: {=IF(OR(AG98<$O$5,MIN($I$5,$W$5)-20<AG98,AG103="―"),"✕",INDEX('定義（記入例用）'!$R:$R,MATCH('休日取得計画表・休日取得実績表（記入例）'!AG98,'定義（記入例用）'!$M:$M,),))} -> ✕
B101: 対象期間 | C101: {=IF(OR(C98<$O$5,MIN($I$5,$W$5)-20<C98,C104="―"),"✕",INDEX('定義（記入例用）'!$R:$R,MATCH('休日取得計画表・休日取得実績表（記入例）'!C98,'定義（記入例用）'!$M:$M,),))} -> ✕ | D101: {=IF(OR(D98<$O$5,MIN($I$5,$W$5)-20<D98,D104="―"),"✕",INDEX('定義（記入例用）'!$R:$R,MATCH('休日取得計画表・休日取得実績表（記入例）'!D98,'定義（記入例用）'!$M:$M,),))} -> ✕ | E101: {=IF(OR(E98<$O$5,MIN($I$5,$W$5)-20<E98,E104="―"),"✕",INDEX('定義（記入例用）'!$R:$R,MATCH('休日取得計画表・休日取得実績表（記入例）'!E98,'定義（記入例用）'!$M:$M,),))} -> ✕ | F101: {=IF(OR(F98<$O$5,MIN($I$5,$W$5)-20<F98,F104="―"),"✕",INDEX('定義（記入例用）'!$R:$R,MATCH('休日取得計画表・休日取得実績表（記入例）'!F98,'定義（記入例用）'!$M:$M,),))} -> ✕ | G101: {=IF(OR(G98<$O$5,MIN($I$5,$W$5)-20<G98,G104="―"),"✕",INDEX('定義（記入例用）'!$R:$R,MATCH('休日取得計画表・休日取得実績表（記入例）'!G98,'定義（記入例用）'!$M:$M,),))} -> ✕ | H101: {=IF(OR(H98<$O$5,MIN($I$5,$W$5)-20<H98,H104="―"),"✕",INDEX('定義（記入例用）'!$R:$R,MATCH('休日取得計画表・休日取得実績表（記入例）'!H98,'定義（記入例用）'!$M:$M,),))} -> ✕ | I101: {=IF(OR(I98<$O$5,MIN($I$5,$W$5)-20<I98,I104="―"),"✕",INDEX('定義（記入例用）'!$R:$R,MATCH('休日取得計画表・休日取得実績表（記入例）'!I98,'定義（記入例用）'!$M:$M,),))} -> ✕ | J101: {=IF(OR(J98<$O$5,MIN($I$5,$W$5)-20<J98,J104="―"),"✕",INDEX('定義（記入例用）'!$R:$R,MATCH('休日取得計画表・休日取得実績表（記入例）'!J98,'定義（記入例用）'!$M:$M,),))} -> ✕ | ... AG101: {=IF(OR(AG98<$O$5,MIN($I$5,$W$5)-20<AG98,AG104="―"),"✕",INDEX('定義（記入例用）'!$R:$R,MATCH('休日取得計画表・休日取得実績表（記入例）'!AG98,'定義（記入例用）'!$M:$M,),))} -> ✕
B102: 行事 | C102: {=IFERROR(INDEX('定義（記入例用）'!$Q:$Q,MATCH('休日取得計画表・休日取得実績表（記入例）'!C98,'定義（記入例用）'!$M:$M,),),"")} | D102: {=IFERROR(INDEX('定義（記入例用）'!$Q:$Q,MATCH('休日取得計画表・休日取得実績表（記入例）'!D98,'定義（記入例用）'!$M:$M,),),"")} | E102: {=IFERROR(INDEX('定義（記入例用）'!$Q:$Q,MATCH('休日取得計画表・休日取得実績表（記入例）'!E98,'定義（記入例用）'!$M:$M,),),"")} | F102: {=IFERROR(INDEX('定義（記入例用）'!$Q:$Q,MATCH('休日取得計画表・休日取得実績表（記入例）'!F98,'定義（記入例用）'!$M:$M,),),"")} | G102: {=IFERROR(INDEX('定義（記入例用）'!$Q:$Q,MATCH('休日取得計画表・休日取得実績表（記入例）'!G98,'定義（記入例用）'!$M:$M,),),"")} | H102: {=IFERROR(INDEX('定義（記入例用）'!$Q:$Q,MATCH('休日取得計画表・休日取得実績表（記入例）'!H98,'定義（記入例用）'!$M:$M,),),"")} | I102: {=IFERROR(INDEX('定義（記入例用）'!$Q:$Q,MATCH('休日取得計画表・休日取得実績表（記入例）'!I98,'定義（記入例用）'!$M:$M,),),"")} | J102: {=IFERROR(INDEX('定義（記入例用）'!$Q:$Q,MATCH('休日取得計画表・休日取得実績表（記入例）'!J98,'定義（記入例用）'!$M:$M,),),"")} | ... AG102: {=IFERROR(INDEX('定義（記入例用）'!$Q:$Q,MATCH('休日取得計画表・休日取得実績表（記入例）'!AG98,'定義（記入例用）'!$M:$M,),),"")}
B103: =IF($F$3="受注者希望型","－","休日 計画") -> 休日 計画 | AH103: =AK103 -> 0 | AI103: =AL103 -> 87 | AK103: =COUNTIFS(C103:AG103,"○",C100:AG100,"<>✕") -> 0 | AL103: =SUM(AK$7:AK104) -> 87 | AM103: =SUM(C100:AG100) -> 0 | AN103: =SUM(AM$7:AM104) -> 87 | AO103: =COUNTIFS(C104:AG104,"○",C101:AG101,"<>✕") -> 0 | AP103: =SUM(AO$7:AO104) -> 90 | AQ103: =SUM(C101:AG101) -> 0 | AR103: =SUM(AQ$7:AQ104) -> 87
B104: 休日 実績 | AH104: =AO103 -> 0 | AI104: =AP103 -> 90
B106: 月 | C106: =DATE(YEAR($C$7),MONTH($C$7)+COUNTIF($B$7:B106,"月")-1,1) -> 46113 | AH106: 月計 | AI106: 累計 | AK106: 計画時点 | AO106: 実績
