Workbook
Name 夏季休暇: '定義（記入例用）'!$G:$G
Name 祝日: '定義（記入例用）'!$D:$D
Name 年末年始: '定義（記入例用）'!$J:$J

Sheet 定義
A1: 工期 | D1: 祝日 | G1: 夏季休暇 | J1: 年末年始 | N1: 工期 | O1: 休日名 | P1: 改行 | Q1: 表示用 | R1: 必要現場閉所カウント
A2: =休日取得計画表・休日取得実績表!D5 -> 0 | B2: 工期始め | D2: 43407 | E2: 文化の日 | G2: 45516 | H2: 夏季休暇 | J2: 祝日のため除去 | K2: 年末年始 | M2: =休日取得計画表・休日取得実績表!D5 -> 0 | N2: {=IFERROR(INDEX($B:$B,MATCH($M2,$A:$A,),),"")} -> 工期始め | O2: {=IFERROR(INDEX($E:$E,MATCH($M2,祝日,),),"")&IFERROR(INDEX($H:$H,MATCH($M2,夏季休暇,),),"")&IFERROR(INDEX($K:$K,MATCH($M2,年末年始,),),"")} | P2: =IF(COUNTBLANK(N2:O2)=0,CHAR(10),"") | Q2: =O2&P2&N2 -> 工期始め | R2: =IF(OR(TEXT(M2,"aaa")="土",TEXT(M2,"aaa")="日",O2<>""),1,0) -> 1
A3: =休日取得計画表・休日取得実績表!O5 -> 0 | B3: 現場着手 | D3: 43427 | E3: 勤労感謝の日 | G3: 45517 | H3: 夏季休暇 | J3: 45293 | K3: 年末年始 | M3: =IF(定義!M2+1>休日取得計画表・休日取得実績表!$I$5,"",定義!M2+1) | N3: {=IFERROR(INDEX($B:$B,MATCH($M3,$A:$A,),),"")} | O3: {=IFERROR(INDEX($E:$E,MATCH($M3,祝日,),),"")&IFERROR(INDEX($H:$H,MATCH($M3,夏季休暇,),),"")&IFERROR(INDEX($K:$K,MATCH($M3,年末年始,),),"")} | P3: =IF(COUNTBLANK(N3:O3)=0,CHAR(10),"") | Q3: =O3&P3&N3 | R3: =IF(OR(TEXT(M3,"aaa")="土",TEXT(M3,"aaa")="日",O3<>""),1,0) -> 0
A4: =A5-20 -> -20 | B4: 対象期間最終日 | D4: 43457 | E4: 天皇誕生日 | G4: 45518 | H4: 夏季休暇 | J4: 45294 | K4: 年末年始 | M4: =IF(定義!M3+1>休日取得計画表・休日取得実績表!$I$5,"",定義!M3+1) -> #VALUE! | O4: {=IFERROR(INDEX($E:$E,MATCH($M4,祝日,),),"")&IFERROR(INDEX($H:$H,MATCH($M4,夏季休暇,),),"")&IFERROR(INDEX($K:$K,MATCH($M4,年末年始,),),"")} | P4: =IF(COUNTBLANK(N4:O4)=0,CHAR(10),"") | Q4: =O4&P4&N4 | R4: =IF(OR(TEXT(M4,"aaa")="土",TEXT(M4,"aaa")="日",O4<>""),1,0) -> #VALUE!
A5: =MIN(休日取得計画表・休日取得実績表!I5,休日取得計画表・休日取得実績表!W5) -> 0 | B5: 工期の末日 | D5: 43458 | E5: 振替休日 | G5: 45881 | H5: 夏季休暇 | J5: 45655 | K5: 年末年始 | M5: =IF(定義!M4+1>休日取得計画表・休日取得実績表!$I$5,"",定義!M4+1) -> #VALUE! | N5: {=IFERROR(INDEX($B:$B,MATCH($M5,$A:$A,),),"")} | O5: {=IFERROR(INDEX($E:$E,MATCH($M5,祝日,),),"")&IFERROR(INDEX($H:$H,MATCH($M5,夏季休暇,),),"")&IFERROR(INDEX($K:$K,MATCH($M5,年末年始,),),"")} | P5: =IF(COUNTBLANK(N5:O5)=0,CHAR(10),"") | Q5: =O5&P5&N5 | R5: =IF(OR(TEXT(M5,"aaa")="土",TEXT(M5,"aaa")="日",O5<>""),1,0) -> #VALUE!
D6: 43466 | E6: 元日 | G6: 45882 | H6: 夏季休暇 | J6: 45656 | K6: 年末年始 | M6: =IF(定義!M5+1>休日取得計画表・休日取得実績表!$I$5,"",定義!M5+1) -> #VALUE! | N6: {=IFERROR(INDEX($B:$B,MATCH($M6,$A:$A,),),"")} | O6: {=IFERROR(INDEX($E:$E,MATCH($M6,祝日,),),"")&IFERROR(INDEX($H:$H,MATCH($M6,夏季休暇,),),"")&IFERROR(INDEX($K:$K,MATCH($M6,年末年始,),),"")} | P6: =IF(COUNTBLANK(N6:O6)=0,CHAR(10),"") | Q6: =O6&P6&N6 | R6: =IF(OR(TEXT(M6,"aaa")="土",TEXT(M6,"aaa")="日",O6<>""),1,0) -> #VALUE!
D7: 43479 | E7: 成人の日 | G7: 45883 | H7: 夏季休暇 | J7: 45657 | K7: 年末年始 | M7: =IF(定義!M6+1>休日取得計画表・休日取得実績表!$I$5,"",定義!M6+1) -> #VALUE! | N7: {=IFERROR(INDEX($B:$B,MATCH($M7,$A:$A,),),"")} | O7: {=IFERROR(INDEX($E:$E,MATCH($M7,祝日,),),"")&IFERROR(INDEX($H:$H,MATCH($M7,夏季休暇,),),"")&IFERROR(INDEX($K:$K,MATCH($M7,年末年始,),),"")} | P7: =IF(COUNTBLANK(N7:O7)=0,CHAR(10),"") | Q7: =O7&P7&N7 | R7: =IF(OR(TEXT(M7,"aaa")="土",TEXT(M7,"aaa")="日",O7<>""),1,0) -> #VALUE!
D8: 43507 | E8: 建国記念の日 | G8: 46246 | H8: 夏季休暇 | J8: 祝日のため除去 | K8: 年末年始 | M8: =IF(定義!M7+1>休日取得計画表・休日取得実績表!$I$5,"",定義!M7+1) -> #VALUE! | N8: {=IFERROR(INDEX($B:$B,MATCH($M8,$A:$A,),),"")} | O8: {=IFERROR(INDEX($E:$E,MATCH($M8,祝日,),),"")&IFERROR(INDEX($H:$H,MATCH($M8,夏季休暇,),),"")&IFERROR(INDEX($K:$K,MATCH($M8,年末年始,),),"")} | P8: =IF(COUNTBLANK(N8:O8)=0,CHAR(10),"") | Q8: =O8&P8&N8 | R8: =IF(OR(TEXT(M8,"aaa")="土",TEXT(M8,"aaa")="日",O8<>""),1,0) -> #VALUE!
D9: 43545 | E9: 春分の日 | G9: 46247 | H9: 夏季休暇 | J9: 45659 | K9: 年末年始 | M9: =IF(定義!M8+1>休日取得計画表・休日取得実績表!$I$5,"",定義!M8+1) -> #VALUE! | N9: {=IFERROR(INDEX($B:$B,MATCH($M9,$A:$A,),),"")} | O9: {=IFERROR(INDEX($E:$E,MATCH($M9,祝日,),),"")&IFERROR(INDEX($H:$H,MATCH($M9,夏季休暇,),),"")&IFERROR(INDEX($K:$K,MATCH($M9,年末年始,),),"")} | P9: =IF(COUNTBLANK(N9:O9)=0,CHAR(10),"") | Q9: =O9&P9&N9 | R9: =IF(OR(TEXT(M9,"aaa")="土",TEXT(M9,"aaa")="日",O9<>""),1,0) -> #VALUE!
D10: 43584 | E10: 昭和の日 | G10: 46248 | H10: 夏季休暇 | J10: 45660 | K10: 年末年始 | M10: =IF(定義!M9+1>休日取得計画表・休日取得実績表!$I$5,"",定義!M9+1) -> #VALUE! | N10: {=IFERROR(INDEX($B:$B,MATCH($M10,$A:$A,),),"")} | O10: {=IFERROR(INDEX($E:$E,MATCH($M10,祝日,),),"")&IFERROR(INDEX($H:$H,MATCH($M10,夏季休暇,),),"")&IFERROR(INDEX($K:$K,MATCH($M10,年末年始,),),"")} | P10: =IF(COUNTBLANK(N10:O10)=0,CHAR(10),"") | Q10: =O10&P10&N10 | R10: =IF(OR(TEXT(M10,"aaa")="土",TEXT(M10,"aaa")="日",O10<>""),1,0) -> #VALUE!
D11: 43585 | E11: 国民の休日 | G11: 46611 | H11: 夏季休暇 | J11: 46020 | K11: 年末年始 | M11: =IF(定義!M10+1>休日取得計画表・休日取得実績表!$I$5,"",定義!M10+1) -> #VALUE! | N11: {=IFERROR(INDEX($B:$B,MATCH($M11,$A:$A,),),"")} | O11: {=IFERROR(INDEX($E:$E,MATCH($M11,祝日,),),"")&IFERROR(INDEX($H:$H,MATCH($M11,夏季休暇,),),"")&IFERROR(INDEX($K:$K,MATCH($M11,年末年始,),),"")} | P11: =IF(COUNTBLANK(N11:O11)=0,CHAR(10),"") | Q11: =O11&P11&N11 | R11: =IF(OR(TEXT(M11,"aaa")="土",TEXT(M11,"aaa")="日",O11<>""),1,0) -> #VALUE!
D12: 43586 | E12: 天皇の即位の日 | G12: 46612 | H12: 夏季休暇 | J12: 46021 | K12: 年末年始 | M12: =IF(定義!M11+1>休日取得計画表・休日取得実績表!$I$5,"",定義!M11+1) -> #VALUE! | N12: {=IFERROR(INDEX($B:$B,MATCH($M12,$A:$A,),),"")} | O12: {=IFERROR(INDEX($E:$E,MATCH($M12,祝日,),),"")&IFERROR(INDEX($H:$H,MATCH($M12,夏季休暇,),),"")&IFERROR(INDEX($K:$K,MATCH($M12,年末年始,),),"")} | P12: =IF(COUNTBLANK(N12:O12)=0,CHAR(10),"") | Q12: =O12&P12&N12 | R12: =IF(OR(TEXT(M12,"aaa")="土",TEXT(M12,"aaa")="日",O12<>""),1,0) -> #VALUE!
D13: 43587 | E13: 国民の休日 | G13: 46615 | H13: 夏季休暇 | J13: 46022 | K13: 年末年始 | M13: =IF(定義!M12+1>休日取得計画表・休日取得実績表!$I$5,"",定義!M12+1) -> #VALUE! | N13: {=IFERROR(INDEX($B:$B,MATCH($M13,$A:$A,),),"")} | O13: {=IFERROR(INDEX($E:$E,MATCH($M13,祝日,),),"")&IFERROR(INDEX($H:$H,MATCH($M13,夏季休暇,),),"")&IFERROR(INDEX($K:$K,MATCH($M13,年末年始,),),"")} | P13: =IF(COUNTBLANK(N13:O13)=0,CHAR(10),"") | Q13: =O13&P13&N13 | R13: =IF(OR(TEXT(M13,"aaa")="土",TEXT(M13,"aaa")="日",O13<>""),1,0) -> #VALUE!
D14: 43588 | E14: 憲法記念日 | G14: 46979 | H14: 夏季休暇 | J14: 祝日のため除去 | K14: 年末年始 | M14: =IF(定義!M13+1>休日取得計画表・休日取得実績表!$I$5,"",定義!M13+1) -> #VALUE! | N14: {=IFERROR(INDEX($B:$B,MATCH($M14,$A:$A,),),"")} | O14: {=IFERROR(INDEX($E:$E,MATCH($M14,祝日,),),"")&IFERROR(INDEX($H:$H,MATCH($M14,夏季休暇,),),"")&IFERROR(INDEX($K:$K,MATCH($M14,年末年始,),),"")} | P14: =IF(COUNTBLANK(N14:O14)=0,CHAR(10),"") | Q14: =O14&P14&N14 | R14: =IF(OR(TEXT(M14,"aaa")="土",TEXT(M14,"aaa")="日",O14<>""),1,0) -> #VALUE!
D15: 43589 | E15: みどりの日 | G15: 46980 | H15: 夏季休暇 | J15: 46024 | K15: 年末年始 | M15: =IF(定義!M14+1>休日取得計画表・休日取得実績表!$I$5,"",定義!M14+1) -> #VALUE! | N15: {=IFERROR(INDEX($B:$B,MATCH($M15,$A:$A,),),"")} | O15: {=IFERROR(INDEX($E:$E,MATCH($M15,祝日,),),"")&IFERROR(INDEX($H:$H,MATCH($M15,夏季休暇,),),"")&IFERROR(INDEX($K:$K,MATCH($M15,年末年始,),),"")} | P15: =IF(COUNTBLANK(N15:O15)=0,CHAR(10),"") | Q15: =O15&P15&N15 | R15: =IF(OR(TEXT(M15,"aaa")="土",TEXT(M15,"aaa")="日",O15<>""),1,0) -> #VALUE!
D16: 43590 | E16: こどもの日 | G16: 46981 | H16: 夏季休暇 | J16: 46025 | K16: 年末年始 | M16: =IF(定義!M15+1>休日取得計画表・休日取得実績表!$I$5,"",定義!M15+1) -> #VALUE! | N16: {=IFERROR(INDEX($B:$B,MATCH($M16,$A:$A,),),"")} | O16: {=IFERROR(INDEX($E:$E,MATCH($M16,祝日,),),"")&IFERROR(INDEX($H:$H,MATCH($M16,夏季休暇,),),"")&IFERROR(INDEX($K:$K,MATCH($M16,年末年始,),),"")} | P16: =IF(COUNTBLANK(N16:O16)=0,CHAR(10),"") | Q16: =O16&P16&N16 | R16: =IF(OR(TEXT(M16,"aaa")="土",TEXT(M16,"aaa")="日",O16<>""),1,0) -> #VALUE!
D17: 43591 | E17: 振替休日 | G17: 47343 | H17: 夏季休暇 | J17: 46385 | K17: 年末年始 | M17: =IF(定義!M16+1>休日取得計画表・休日取得実績表!$I$5,"",定義!M16+1) -> #VALUE! | N17: {=IFERROR(INDEX($B:$B,MATCH($M17,$A:$A,),),"")} | O17: {=IFERROR(INDEX($E:$E,MATCH($M17,祝日,),),"")&IFERROR(INDEX($H:$H,MATCH($M17,夏季休暇,),),"")&IFERROR(INDEX($K:$K,MATCH($M17,年末年始,),),"")} | P17: =IF(COUNTBLANK(N17:O17)=0,CHAR(10),"") | Q17: =O17&P17&N17 | R17: =IF(OR(TEXT(M17,"aaa")="土",TEXT(M17,"aaa")="日",O17<>""),1,0) -> #VALUE!
D18: 43661 | E18: 海の日 | G18: 47344 | H18: 夏季休暇 | J18: 46386 | K18: 年末年始 | M18: =IF(定義!M17+1>休日取得計画表・休日取得実績表!$I$5,"",定義!M17+1) -> #VALUE! | N18: {=IFERROR(INDEX($B:$B,MATCH($M18,$A:$A,),),"")} | O18: {=IFERROR(INDEX($E:$E,MATCH($M18,祝日,),),"")&IFERROR(INDEX($H:$H,MATCH($M18,夏季休暇,),),"")&IFERROR(INDEX($K:$K,MATCH($M18,年末年始,),),"")} | P18: =IF(COUNTBLANK(N18:O18)=0,CHAR(10),"") | Q18: =O18&P18&N18 | R18: =IF(OR(TEXT(M18,"aaa")="土",TEXT(M18,"aaa")="日",O18<>""),1,0) -> #VALUE!
D19: 43688 | E19: 山の日 | G19: 47345 | H19: 夏季休暇 | J19: 46387 | K19: 年末年始 | M19: =IF(定義!M18+1>休日取得計画表・休日取得実績表!$I$5,"",定義!M18+1) -> #VALUE! | N19: {=IFERROR(INDEX($B:$B,MATCH($M19,$A:$A,),),"")} | O19: {=IFERROR(INDEX($E:$E,MATCH($M19,祝日,),),"")&IFERROR(INDEX($H:$H,MATCH($M19,夏季休暇,),),"")&IFERROR(INDEX($K:$K,MATCH($M19,年末年始,),),"")} | P19: =IF(COUNTBLANK(N19:O19)=0,CHAR(10),"") | Q19: =O19&P19&N19 | R19: =IF(OR(TEXT(M19,"aaa")="土",TEXT(M19,"aaa")="日",O19<>""),1,0) -> #VALUE!
D20: 43689 | E20: 振替休日 | G20: 47707 | H20: 夏季休暇 | J20: 祝日のため除去 | K20: 年末年始 | M20: =IF(定義!M19+1>休日取得計画表・休日取得実績表!$I$5,"",定義!M19+1) -> #VALUE! | N20: {=IFERROR(INDEX($B:$B,MATCH($M20,$A:$A,),),"")} | O20: {=IFERROR(INDEX($E:$E,MATCH($M20,祝日,),),"")&IFERROR(INDEX($H:$H,MATCH($M20,夏季休暇,),),"")&IFERROR(INDEX($K:$K,MATCH($M20,年末年始,),),"")} | P20: =IF(COUNTBLANK(N20:O20)=0,CHAR(10),"") | Q20: =O20&P20&N20 | R20: =IF(OR(TEXT(M20,"aaa")="土",TEXT(M20,"aaa")="日",O20<>""),1,0) -> #VALUE!
D21: 43724 | E21: 敬老の日 | G21: 47708 | H21: 夏季休暇 | J21: 46389 | K21: 年末年始 | M21: =IF(定義!M20+1>休日取得計画表・休日取得実績表!$I$5,"",定義!M20+1) -> #VALUE! | N21: {=IFERROR(INDEX($B:$B,MATCH($M21,$A:$A,),),"")} | O21: {=IFERROR(INDEX($E:$E,MATCH($M21,祝日,),),"")&IFERROR(INDEX($H:$H,MATCH($M21,夏季休暇,),),"")&IFERROR(INDEX($K:$K,MATCH($M21,年末年始,),),"")} | P21: =IF(COUNTBLANK(N21:O21)=0,CHAR(10),"") | Q21: =O21&P21&N21 | R21: =IF(OR(TEXT(M21,"aaa")="土",TEXT(M21,"aaa")="日",O21<>""),1,0) -> #VALUE!
D22: 43731 | E22: 秋分の日 | G22: 47709 | H22: 夏季休暇 | J22: 46390 | K22: 年末年始 | M22: =IF(定義!M21+1>休日取得計画表・休日取得実績表!$I$5,"",定義!M21+1) -> #VALUE! | N22: {=IFERROR(INDEX($B:$B,MATCH($M22,$A:$A,),),"")} | O22: {=IFERROR(INDEX($E:$E,MATCH($M22,祝日,),),"")&IFERROR(INDEX($H:$H,MATCH($M22,夏季休暇,),),"")&IFERROR(INDEX($K:$K,MATCH($M22,年末年始,),),"")} | P22: =IF(COUNTBLANK(N22:O22)=0,CHAR(10),"") | Q22: =O22&P22&N22 | R22: =IF(OR(TEXT(M22,"aaa")="土",TEXT(M22,"aaa")="日",O22<>""),1,0) -> #VALUE!
D23: 43752 | E23: 体育の日 | J23: 46750 | K23: 年末年始 | M23: =IF(定義!M22+1>休日取得計画表・休日取得実績表!$I$5,"",定義!M22+1) -> #VALUE! | N23: {=IFERROR(INDEX($B:$B,MATCH($M23,$A:$A,),),"")} | O23: {=IFERROR(INDEX($E:$E,MATCH($M23,祝日,),),"")&IFERROR(INDEX($H:$H,MATCH($M23,夏季休暇,),),"")&IFERROR(INDEX($K:$K,MATCH($M23,年末年始,),),"")} | P23: =IF(COUNTBLANK(N23:O23)=0,CHAR(10),"") | Q23: =O23&P23&N23 | R23: =IF(OR(TEXT(M23,"aaa")="土",TEXT(M23,"aaa")="日",O23<>""),1,0) -> #VALUE!
D24: 43760 | E24: 即位礼正殿の儀 | J24: 46751 | K24: 年末年始 | M24: =IF(定義!M23+1>休日取得計画表・休日取得実績表!$I$5,"",定義!M23+1) -> #VALUE! | N24: {=IFERROR(INDEX($B:$B,MATCH($M24,$A:$A,),),"")} | O24: {=IFERROR(INDEX($E:$E,MATCH($M24,祝日,),),"")&IFERROR(INDEX($H:$H,MATCH($M24,夏季休暇,),),"")&IFERROR(INDEX($K:$K,MATCH($M24,年末年始,),),"")} | P24: =IF(COUNTBLANK(N24:O24)=0,CHAR(10),"") | Q24: =O24&P24&N24 | R24: =IF(OR(TEXT(M24,"aaa")="土",TEXT(M24,"aaa")="日",O24<>""),1,0) -> #VALUE!
D25: 43772 | E25: 文化の日 | J25: 46752 | K25: 年末年始 | M25: =IF(定義!M24+1>休日取得計画表・休日取得実績表!$I$5,"",定義!M24+1) -> #VALUE! | N25: {=IFERROR(INDEX($B:$B,MATCH($M25,$A:$A,),),"")} | O25: {=IFERROR(INDEX($E:$E,MATCH($M25,祝日,),),"")&IFERROR(INDEX($H:$H,MATCH($M25,夏季休暇,),),"")&IFERROR(INDEX($K:$K,MATCH($M25,年末年始,),),"")} | P25: =IF(COUNTBLANK(N25:O25)=0,CHAR(10),"") | Q25: =O25&P25&N25 | R25: =IF(OR(TEXT(M25,"aaa")="土",TEXT(M25,"aaa")="日",O25<>""),1,0) -> #VALUE!
D26: 43773 | E26: 振替休日 | J26: 祝日のため除去 | K26: 年末年始 | M26: =IF(定義!M25+1>休日取得計画表・休日取得実績表!$I$5,"",定義!M25+1) -> #VALUE! | N26: {=IFERROR(INDEX($B:$B,MATCH($M26,$A:$A,),),"")} | O26: {=IFERROR(INDEX($E:$E,MATCH($M26,祝日,),),"")&IFERROR(INDEX($H:$H,MATCH($M26,夏季休暇,),),"")&IFERROR(INDEX($K:$K,MATCH($M26,年末年始,),),"")} | P26: =IF(COUNTBLANK(N26:O26)=0,CHAR(10),"") | Q26: =O26&P26&N26 | R26: =IF(OR(TEXT(M26,"aaa")="土",TEXT(M26,"aaa")="日",O26<>""),1,0) -> #VALUE!
D27: 43792 | E27: 勤労感謝の日 | J27: 46754 | K27: 年末年始 | M27: =IF(定義!M26+1>休日取得計画表・休日取得実績表!$I$5,"",定義!M26+1) -> #VALUE! | N27: {=IFERROR(INDEX($B:$B,MATCH($M27,$A:$A,),),"")} | O27: {=IFERROR(INDEX($E:$E,MATCH($M27,祝日,),),"")&IFERROR(INDEX($H:$H,MATCH($M27,夏季休暇,),),"")&IFERROR(INDEX($K:$K,MATCH($M27,年末年始,),),"")} | P27: =IF(COUNTBLANK(N27:O27)=0,CHAR(10),"") | Q27: =O27&P27&N27 | R27: =IF(OR(TEXT(M27,"aaa")="土",TEXT(M27,"aaa")="日",O27<>""),1,0) -> #VALUE!
J28: 46755 | K28: 年末年始 | M28: =IF(定義!M27+1>休日取得計画表・休日取得実績表!$I$5,"",定義!M27+1) -> #VALUE! | N28: {=IFERROR(INDEX($B:$B,MATCH($M28,$A:$A,),),"")} | O28: {=IFERROR(INDEX($E:$E,MATCH($M28,祝日,),),"")&IFERROR(INDEX($H:$H,MATCH($M28,夏季休暇,),),"")&IFERROR(INDEX($K:$K,MATCH($M28,年末年始,),),"")} | P28: =IF(COUNTBLANK(N28:O28)=0,CHAR(10),"") | Q28: =O28&P28&N28 | R28: =IF(OR(TEXT(M28,"aaa")="土",TEXT(M28,"aaa")="日",O28<>""),1,0) -> #VALUE!
D29: 43831 | E29: 元日 | J29: 47116 | K29: 年末年始 | M29: =IF(定義!M28+1>休日取得計画表・休日取得実績表!$I$5,"",定義!M28+1) -> #VALUE! | N29: {=IFERROR(INDEX($B:$B,MATCH($M29,$A:$A,),),"")} | O29: {=IFERROR(INDEX($E:$E,MATCH($M29,祝日,),),"")&IFERROR(INDEX($H:$H,MATCH($M29,夏季休暇,),),"")&IFERROR(INDEX($K:$K,MATCH($M29,年末年始,),),"")} | P29: =IF(COUNTBLANK(N29:O29)=0,CHAR(10),"") | Q29: =O29&P29&N29 | R29: =IF(OR(TEXT(M29,"aaa")="土",TEXT(M29,"aaa")="日",O29<>""),1,0) -> #VALUE!
D30: 43843 | E30: 成人の日 | J30: 47117 | K30: 年末年始 | M30: =IF(定義!M29+1>休日取得計画表・休日取得実績表!$I$5,"",定義!M29+1) -> #VALUE! | N30: {=IFERROR(INDEX($B:$B,MATCH($M30,$A:$A,),),"")} | O30: {=IFERROR(INDEX($E:$E,MATCH($M30,祝日,),),"")&IFERROR(INDEX($H:$H,MATCH($M30,夏季休暇,),),"")&IFERROR(INDEX($K:$K,MATCH($M30,年末年始,),),"")} | P30: =IF(COUNTBLANK(N30:O30)=0,CHAR(10),"") | Q30: =O30&P30&N30 | R30: =IF(OR(TEXT(M30,"aaa")="土",TEXT(M30,"aaa")="日",O30<>""),1,0) -> #VALUE!
D31: 43872 | E31: 建国記念の日 | J31: 47118 | K31: 年末年始 | M31: =IF(定義!M30+1>休日取得計画表・休日取得実績表!$I$5,"",定義!M30+1) -> #VALUE! | N31: {=IFERROR(INDEX($B:$B,MATCH($M31,$A:$A,),),"")} | O31: {=IFERROR(INDEX($E:$E,MATCH($M31,祝日,),),"")&IFERROR(INDEX($H:$H,MATCH($M31,夏季休暇,),),"")&IFERROR(INDEX($K:$K,MATCH($M31,年末年始,),),"")} | P31: =IF(COUNTBLANK(N31:O31)=0,CHAR(10),"") | Q31: =O31&P31&N31 | R31: =IF(OR(TEXT(M31,"aaa")="土",TEXT(M31,"aaa")="日",O31<>""),1,0) -> #VALUE!
D32: 43884 | E32: 天皇誕生日 | J32: 祝日のため除去 | K32: 年末年始 | M32: =IF(定義!M31+1>休日取得計画表・休日取得実績表!$I$5,"",定義!M31+1) -> #VALUE! | N32: {=IFERROR(INDEX($B:$B,MATCH($M32,$A:$A,),),"")} | O32: {=IFERROR(INDEX($E:$E,MATCH($M32,祝日,),),"")&IFERROR(INDEX($H:$H,MATCH($M32,夏季休暇,),),"")&IFERROR(INDEX($K:$K,MATCH($M32,年末年始,),),"")} | P32: =IF(COUNTBLANK(N32:O32)=0,CHAR(10),"") | Q32: =O32&P32&N32 | R32: =IF(OR(TEXT(M32,"aaa")="土",TEXT(M32,"aaa")="日",O32<>""),1,0) -> #VALUE!
D33: 43885 | E33: 振替休日 | J33: 47120 | K33: 年末年始 | M33: =IF(定義!M32+1>休日取得計画表・休日取得実績表!$I$5,"",定義!M32+1) -> #VALUE! | N33: {=IFERROR(INDEX($B:$B,MATCH($M33,$A:$A,),),"")} | O33: {=IFERROR(INDEX($E:$E,MATCH($M33,祝日,),),"")&IFERROR(INDEX($H:$H,MATCH($M33,夏季休暇,),),"")&IFERROR(INDEX($K:$K,MATCH($M33,年末年始,),),"")} | P33: =IF(COUNTBLANK(N33:O33)=0,CHAR(10),"") | Q33: =O33&P33&N33 | R33: =IF(OR(TEXT(M33,"aaa")="土",TEXT(M33,"aaa")="日",O33<>""),1,0) -> #VALUE!
D34: 43910 | E34: 春分の日 | J34: 47121 | K34: 年末年始 | M34: =IF(定義!M33+1>休日取得計画表・休日取得実績表!$I$5,"",定義!M33+1) -> #VALUE! | N34: {=IFERROR(INDEX($B:$B,MATCH($M34,$A:$A,),),"")} | O34: {=IFERROR(INDEX($E:$E,MATCH($M34,祝日,),),"")&IFERROR(INDEX($H:$H,MATCH($M34,夏季休暇,),),"")&IFERROR(INDEX($K:$K,MATCH($M34,年末年始,),),"")} | P34: =IF(COUNTBLANK(N34:O34)=0,CHAR(10),"") | Q34: =O34&P34&N34 | R34: =IF(OR(TEXT(M34,"aaa")="土",TEXT(M34,"aaa")="日",O34<>""),1,0) -> #VALUE!
D35: 43950 | E35: 昭和の日 | J35: 47481 | K35: 年末年始 | M35: =IF(定義!M34+1>休日取得計画表・休日取得実績表!$I$5,"",定義!M34+1) -> #VALUE! | N35: {=IFERROR(INDEX($B:$B,MATCH($M35,$A:$A,),),"")} | O35: {=IFERROR(INDEX($E:$E,MATCH($M35,祝日,),),"")&IFERROR(INDEX($H:$H,MATCH($M35,夏季休暇,),),"")&IFERROR(INDEX($K:$K,MATCH($M35,年末年始,),),"")} | P35: =IF(COUNTBLANK(N35:O35)=0,CHAR(10),"") | Q35: =O35&P35&N35 | R35: =IF(OR(TEXT(M35,"aaa")="土",TEXT(M35,"aaa")="日",O35<>""),1,0) -> #VALUE!
D36: 43954 | E36: 憲法記念日 | J36: 47482 | K36: 年末年始 | M36: =IF(定義!M35+1>休日取得計画表・休日取得実績表!$I$5,"",定義!M35+1) -> #VALUE! | N36: {=IFERROR(INDEX($B:$B,MATCH($M36,$A:$A,),),"")} | O36: {=IFERROR(INDEX($E:$E,MATCH($M36,祝日,),),"")&IFERROR(INDEX($H:$H,MATCH($M36,夏季休暇,),),"")&IFERROR(INDEX($K:$K,MATCH($M36,年末年始,),),"")} | P36: =IF(COUNTBLANK(N36:O36)=0,CHAR(10),"") | Q36: =O36&P36&N36 | R36: =IF(OR(TEXT(M36,"aaa")="土",TEXT(M36,"aaa")="日",O36<>""),1,0) -> #VALUE!
D37: 43955 | E37: みどりの日 | J37: 47483 | K37: 年末年始 | M37: =IF(定義!M36+1>休日取得計画表・休日取得実績表!$I$5,"",定義!M36+1) -> #VALUE! | N37: {=IFERROR(INDEX($B:$B,MATCH($M37,$A:$A,),),"")} | O37: {=IFERROR(INDEX($E:$E,MATCH($M37,祝日,),),"")&IFERROR(INDEX($H:$H,MATCH($M37,夏季休暇,),),"")&IFERROR(INDEX($K:$K,MATCH($M37,年末年始,),),"")} | P37: =IF(COUNTBLANK(N37:O37)=0,CHAR(10),"") | Q37: =O37&P37&N37 | R37: =IF(OR(TEXT(M37,"aaa")="土",TEXT(M37,"aaa")="日",O37<>""),1,0) -> #VALUE!
D38: 43956 | E38: こどもの日 | J38: 祝日のため除去 | K38: 年末年始 | M38: =IF(定義!M37+1>休日取得計画表・休日取得実績表!$I$5,"",定義!M37+1) -> #VALUE! | N38: {=IFERROR(INDEX($B:$B,MATCH($M38,$A:$A,),),"")} | O38: {=IFERROR(INDEX($E:$E,MATCH($M38,祝日,),),"")&IFERROR(INDEX($H:$H,MATCH($M38,夏季休暇,),),"")&IFERROR(INDEX($K:$K,MATCH($M38,年末年始,),),"")} | P38: =IF(COUNTBLANK(N38:O38)=0,CHAR(10),"") | Q38: =O38&P38&N38 | R38: =IF(OR(TEXT(M38,"aaa")="土",TEXT(M38,"aaa")="日",O38<>""),1,0) -> #VALUE!
D39: 43957 | E39: 振替休日 | J39: 47485 | K39: 年末年始 | M39: =IF(定義!M38+1>休日取得計画表・休日取得実績表!$I$5,"",定義!M38+1) -> #VALUE! | N39: {=IFERROR(INDEX($B:$B,MATCH($M39,$A:$A,),),"")} | O39: {=IFERROR(INDEX($E:$E,MATCH($M39,祝日,),),"")&IFERROR(INDEX($H:$H,MATCH($M39,夏季休暇,),),"")&IFERROR(INDEX($K:$K,MATCH($M39,年末年始,),),"")} | P39: =IF(COUNTBLANK(N39:O39)=0,CHAR(10),"") | Q39: =O39&P39&N39 | R39: =IF(OR(TEXT(M39,"aaa")="土",TEXT(M39,"aaa")="日",O39<>""),1,0) -> #VALUE!
D40: 44035 | E40: 海の日 | J40: 47486 | K40: 年末年始 | M40: =IF(定義!M39+1>休日取得計画表・休日取得実績表!$I$5,"",定義!M39+1) -> #VALUE! | N40: {=IFERROR(INDEX($B:$B,MATCH($M40,$A:$A,),),"")} | O40: {=IFERROR(INDEX($E:$E,MATCH($M40,祝日,),),"")&IFERROR(INDEX($H:$H,MATCH($M40,夏季休暇,),),"")&IFERROR(INDEX($K:$K,MATCH($M40,年末年始,),),"")} | P40: =IF(COUNTBLANK(N40:O40)=0,CHAR(10),"") | Q40: =O40&P40&N40 | R40: =IF(OR(TEXT(M40,"aaa")="土",TEXT(M40,"aaa")="日",O40<>""),1,0) -> #VALUE!
...

Sheet 休日取得計画表・休日取得実績表
B1: 休日等取得計画・休日等取得実績表 | AI1: （様式３）
AE2: 計画休日数 | AH2: =SUM(AK:AK) -> 0 | AJ2: =IF(AH2<SUM(AM:AM),"計画休日数が足りていません。","")
B3: 週休2日の種類 | AE3: 実績休日数 | AH3: =SUM(AO:AO) -> 0
B4: 工事名 | AE4: 必要現場閉所日数 | AH4: =SUM(AQ:AQ) -> 0
B5: 期間 | H5: ～ | N5: 着手日 | T5: 完成通知書提出日 | AC5: 判定結果（実績）： | AF5: =IF(AH2=0,"",IF(AH3>=AH2,"週休２日達成","不達成"))
I6: =IF(D5>I5,"▲確認：工期末が工期始まりより早いです。","") | T6: （工期内に完成の場合入力）
B7: 月 | C7: =DATE(YEAR(D5),MONTH(D5),1) -> 1 | AH7: 月計 | AI7: 累計 | AK7: 計画時点 | AO7: 実績
B8: 日 | C8: =+C7 -> 1 | D8: =IFERROR(IF(MONTH(C8+1)=MONTH($C7),C8+1,""),"") -> 2 | E8: =IFERROR(IF(MONTH(D8+1)=MONTH($C7),D8+1,""),"") -> 3 | F8: =IFERROR(IF(MONTH(E8+1)=MONTH($C7),E8+1,""),"") -> 4 | G8: =IFERROR(IF(MONTH(F8+1)=MONTH($C7),F8+1,""),"") -> 5 | H8: =IFERROR(IF(MONTH(G8+1)=MONTH($C7),G8+1,""),"") -> 6 | I8: =IFERROR(IF(MONTH(H8+1)=MONTH($C7),H8+1,""),"") -> 7 | J8: =IFERROR(IF(MONTH(I8+1)=MONTH($C7),I8+1,""),"") -> 8 | K8: =IFERROR(IF(MONTH(J8+1)=MONTH($C7),J8+1,""),"") -> 9 | ... AG8: =IFERROR(IF(MONTH(AF8+1)=MONTH($C7),AF8+1,""),"") -> 31 | AK8: 計画休日数（月計） | AL8: 計画休日数（累計） | AM8: 必要現場閉所日（月計） | AN8: 必要現場閉所日（累計） | AO8: 実績休日数（月計） | AP8: 実績休日数（累計） | AQ8: 必要現場閉所日（月計） | AR8: 必要現場閉所日（累計）
B9: 曜日 | C9: =IF(C8="","",IF(COUNTIF(祝日,C8)>0,"祝",IF(COUNTIF(夏季休暇,C8)+COUNTIF(年末年始,C8)>0,"休",TEXT(C8,"aaa")))) -> 日 | D9: =IF(D8="","",IF(COUNTIF(祝日,D8)>0,"祝",IF(COUNTIF(夏季休暇,D8)+COUNTIF(年末年始,D8)>0,"休",TEXT(D8,"aaa")))) -> 月 | E9: =IF(E8="","",IF(COUNTIF(祝日,E8)>0,"祝",IF(COUNTIF(夏季休暇,E8)+COUNTIF(年末年始,E8)>0,"休",TEXT(E8,"aaa")))) -> 火 | F9: =IF(F8="","",IF(COUNTIF(祝日,F8)>0,"祝",IF(COUNTIF(夏季休暇,F8)+COUNTIF(年末年始,F8)>0,"休",TEXT(F8,"aaa")))) -> 水 | G9: =IF(G8="","",IF(COUNTIF(祝日,G8)>0,"祝",IF(COUNTIF(夏季休暇,G8)+COUNTIF(年末年始,G8)>0,"休",TEXT(G8,"aaa")))) -> 木 | H9: =IF(H8="","",IF(COUNTIF(祝日,H8)>0,"祝",IF(COUNTIF(夏季休暇,H8)+COUNTIF(年末年始,H8)>0,"休",TEXT(H8,"aaa")))) -> 金 | I9: =IF(I8="","",IF(COUNTIF(祝日,I8)>0,"祝",IF(COUNTIF(夏季休暇,I8)+COUNTIF(年末年始,I8)>0,"休",TEXT(I8,"aaa")))) -> 土 | J9: =IF(J8="","",IF(COUNTIF(祝日,J8)>0,"祝",IF(COUNTIF(夏季休暇,J8)+COUNTIF(年末年始,J8)>0,"休",TEXT(J8,"aaa")))) -> 日 | ... AG9: =IF(AG8="","",IF(COUNTIF(祝日,AG8)>0,"祝",IF(COUNTIF(夏季休暇,AG8)+COUNTIF(年末年始,AG8)>0,"休",TEXT(AG8,"aaa")))) -> 火 | AH9: ○計 | AI9: ○計
B10: 計画用 | C10: {=IF(OR(C8<$O$5,MIN($I$5,$W$5)-20<C8,C13="―"),"✕",INDEX(定義!$R:$R,MATCH(休日取得計画表・休日取得実績表!C8,定義!$M:$M,),))} -> ✕ | D10: {=IF(OR(D8<$O$5,MIN($I$5,$W$5)-20<D8,D13="―"),"✕",INDEX(定義!$R:$R,MATCH(休日取得計画表・休日取得実績表!D8,定義!$M:$M,),))} -> ✕ | E10: {=IF(OR(E8<$O$5,MIN($I$5,$W$5)-20<E8,E13="―"),"✕",INDEX(定義!$R:$R,MATCH(休日取得計画表・休日取得実績表!E8,定義!$M:$M,),))} -> ✕ | F10: {=IF(OR(F8<$O$5,MIN($I$5,$W$5)-20<F8,F13="―"),"✕",INDEX(定義!$R:$R,MATCH(休日取得計画表・休日取得実績表!F8,定義!$M:$M,),))} -> ✕ | G10: {=IF(OR(G8<$O$5,MIN($I$5,$W$5)-20<G8,G13="―"),"✕",INDEX(定義!$R:$R,MATCH(休日取得計画表・休日取得実績表!G8,定義!$M:$M,),))} -> ✕ | H10: {=IF(OR(H8<$O$5,MIN($I$5,$W$5)-20<H8,H13="―"),"✕",INDEX(定義!$R:$R,MATCH(休日取得計画表・休日取得実績表!H8,定義!$M:$M,),))} -> ✕ | I10: {=IF(OR(I8<$O$5,MIN($I$5,$W$5)-20<I8,I13="―"),"✕",INDEX(定義!$R:$R,MATCH(休日取得計画表・休日取得実績表!I8,定義!$M:$M,),))} -> ✕ | J10: {=IF(OR(J8<$O$5,MIN($I$5,$W$5)-20<J8,J13="―"),"✕",INDEX(定義!$R:$R,MATCH(休日取得計画表・休日取得実績表!J8,定義!$M:$M,),))} -> ✕ | ... AG10: {=IF(OR(AG8<$O$5,MIN($I$5,$W$5)-20<AG8,AG13="―"),"✕",INDEX(定義!$R:$R,MATCH(休日取得計画表・休日取得実績表!AG8,定義!$M:$M,),))} -> ✕
B11: 実績用 | C11: {=IF(OR(C8<$O$5,MIN($I$5,$W$5)-20<C8,C14="―"),"✕",INDEX(定義!$R:$R,MATCH(休日取得計画表・休日取得実績表!C8,定義!$M:$M,),))} -> ✕ | D11: {=IF(OR(D8<$O$5,MIN($I$5,$W$5)-20<D8,D14="―"),"✕",INDEX(定義!$R:$R,MATCH(休日取得計画表・休日取得実績表!D8,定義!$M:$M,),))} -> ✕ | E11: {=IF(OR(E8<$O$5,MIN($I$5,$W$5)-20<E8,E14="―"),"✕",INDEX(定義!$R:$R,MATCH(休日取得計画表・休日取得実績表!E8,定義!$M:$M,),))} -> ✕ | F11: {=IF(OR(F8<$O$5,MIN($I$5,$W$5)-20<F8,F14="―"),"✕",INDEX(定義!$R:$R,MATCH(休日取得計画表・休日取得実績表!F8,定義!$M:$M,),))} -> ✕ | G11: {=IF(OR(G8<$O$5,MIN($I$5,$W$5)-20<G8,G14="―"),"✕",INDEX(定義!$R:$R,MATCH(休日取得計画表・休日取得実績表!G8,定義!$M:$M,),))} -> ✕ | H11: {=IF(OR(H8<$O$5,MIN($I$5,$W$5)-20<H8,H14="―"),"✕",INDEX(定義!$R:$R,MATCH(休日取得計画表・休日取得実績表!H8,定義!$M:$M,),))} -> ✕ | I11: {=IF(OR(I8<$O$5,MIN($I$5,$W$5)-20<I8,I14="―"),"✕",INDEX(定義!$R:$R,MATCH(休日取得計画表・休日取得実績表!I8,定義!$M:$M,),))} -> ✕ | J11: {=IF(OR(J8<$O$5,MIN($I$5,$W$5)-20<J8,J14="―"),"✕",INDEX(定義!$R:$R,MATCH(休日取得計画表・休日取得実績表!J8,定義!$M:$M,),))} -> ✕ | ... AG11: {=IF(OR(AG8<$O$5,MIN($I$5,$W$5)-20<AG8,AG14="―"),"✕",INDEX(定義!$R:$R,MATCH(休日取得計画表・休日取得実績表!AG8,定義!$M:$M,),))} -> ✕
B12: 行事 | C12: {=IFERROR(INDEX(定義!$Q:$Q,MATCH(休日取得計画表・休日取得実績表!C8,定義!$M:$M,),),"")} | D12: {=IFERROR(INDEX(定義!$Q:$Q,MATCH(休日取得計画表・休日取得実績表!D8,定義!$M:$M,),),"")} | E12: {=IFERROR(INDEX(定義!$Q:$Q,MATCH(休日取得計画表・休日取得実績表!E8,定義!$M:$M,),),"")} | F12: {=IFERROR(INDEX(定義!$Q:$Q,MATCH(休日取得計画表・休日取得実績表!F8,定義!$M:$M,),),"")} | G12: {=IFERROR(INDEX(定義!$Q:$Q,MATCH(休日取得計画表・休日取得実績表!G8,定義!$M:$M,),),"")} | H12: {=IFERROR(INDEX(定義!$Q:$Q,MATCH(休日取得計画表・休日取得実績表!H8,定義!$M:$M,),),"")} | I12: {=IFERROR(INDEX(定義!$Q:$Q,MATCH(休日取得計画表・休日取得実績表!I8,定義!$M:$M,),),"")} | J12: {=IFERROR(INDEX(定義!$Q:$Q,MATCH(休日取得計画表・休日取得実績表!J8,定義!$M:$M,),),"")} | ... AG12: {=IFERROR(INDEX(定義!$Q:$Q,MATCH(休日取得計画表・休日取得実績表!AG8,定義!$M:$M,),),"")}
B13: =IF($F$3="受注者希望型","－","休日 計画") -> 休日 計画 | AH13: =AK13 -> 0 | AI13: =AL13 -> 0 | AK13: =COUNTIFS(C13:AG13,"○",C10:AG10,"<>✕") -> 0 | AL13: =SUM(AK$7:AK14) -> 0 | AM13: =SUM(C10:AG10) -> 0 | AN13: =SUM(AM$7:AM14) -> 0 | AO13: =COUNTIFS(C14:AG14,"○",C11:AG11,"<>✕") -> 0 | AP13: =SUM(AO$7:AO14) -> 0 | AQ13: =SUM(C11:AG11) -> 0 | AR13: =SUM(AQ$7:AQ14) -> 0
B14: 休日 実績 | AH14: =AO13 -> 0 | AI14: =AP13 -> 0
B16: 月 | C16: =DATE(YEAR($C$7),MONTH($C$7)+COUNTIF($B$7:B16,"月")-1,1) -> 32 | AH16: 月計 | AI16: 累計 | AK16: 計画時点 | AO16: 実績
B17: 日 | C17: =+C16 -> 32 | D17: =IFERROR(IF(MONTH(C17+1)=MONTH($C16),C17+1,""),"") -> 33 | E17: =IFERROR(IF(MONTH(D17+1)=MONTH($C16),D17+1,""),"") -> 34 | F17: =IFERROR(IF(MONTH(E17+1)=MONTH($C16),E17+1,""),"") -> 35 | G17: =IFERROR(IF(MONTH(F17+1)=MONTH($C16),F17+1,""),"") -> 36 | H17: =IFERROR(IF(MONTH(G17+1)=MONTH($C16),G17+1,""),"") -> 37 | I17: =IFERROR(IF(MONTH(H17+1)=MONTH($C16),H17+1,""),"") -> 38 | J17: =IFERROR(IF(MONTH(I17+1)=MONTH($C16),I17+1,""),"") -> 39 | K17: =IFERROR(IF(MONTH(J17+1)=MONTH($C16),J17+1,""),"") -> 40 | ... AG17: =IFERROR(IF(MONTH(AF17+1)=MONTH($C16),AF17+1,""),"") | AK17: 計画休日数（月計） | AL17: 計画休日数（累計） | AM17: 必要現場閉所日（月計） | AN17: 必要現場閉所日（累計） | AO17: 実績休日数（月計） | AP17: 実績休日数（累計） | AQ17: 必要現場閉所日（月計） | AR17: 必要現場閉所日（累計）
B18: 曜日 | C18: =IF(C17="","",IF(COUNTIF(祝日,C17)>0,"祝",IF(COUNTIF(夏季休暇,C17)+COUNTIF(年末年始,C17)>0,"休",TEXT(C17,"aaa")))) -> 水 | D18: =IF(D17="","",IF(COUNTIF(祝日,D17)>0,"祝",IF(COUNTIF(夏季休暇,D17)+COUNTIF(年末年始,D17)>0,"休",TEXT(D17,"aaa")))) -> 木 | E18: =IF(E17="","",IF(COUNTIF(祝日,E17)>0,"祝",IF(COUNTIF(夏季休暇,E17)+COUNTIF(年末年始,E17)>0,"休",TEXT(E17,"aaa")))) -> 金 | F18: =IF(F17="","",IF(COUNTIF(祝日,F17)>0,"祝",IF(COUNTIF(夏季休暇,F17)+COUNTIF(年末年始,F17)>0,"休",TEXT(F17,"aaa")))) -> 土 | G18: =IF(G17="","",IF(COUNTIF(祝日,G17)>0,"祝",IF(COUNTIF(夏季休暇,G17)+COUNTIF(年末年始,G17)>0,"休",TEXT(G17,"aaa")))) -> 日 | H18: =IF(H17="","",IF(COUNTIF(祝日,H17)>0,"祝",IF(COUNTIF(夏季休暇,H17)+COUNTIF(年末年始,H17)>0,"休",TEXT(H17,"aaa")))) -> 月 | I18: =IF(I17="","",IF(COUNTIF(祝日,I17)>0,"祝",IF(COUNTIF(夏季休暇,I17)+COUNTIF(年末年始,I17)>0,"休",TEXT(I17,"aaa")))) -> 火 | J18: =IF(J17="","",IF(COUNTIF(祝日,J17)>0,"祝",IF(COUNTIF(夏季休暇,J17)+COUNTIF(年末年始,J17)>0,"休",TEXT(J17,"aaa")))) -> 水 | ... AG18: =IF(AG17="","",IF(COUNTIF(祝日,AG17)>0,"祝",IF(COUNTIF(夏季休暇,AG17)+COUNTIF(年末年始,AG17)>0,"休",TEXT(AG17,"aaa")))) | AH18: ○計 | AI18: ○計
B19: 対象期間 | C19: {=IF(OR(C17<$O$5,MIN($I$5,$W$5)-20<C17,C22="―"),"✕",INDEX(定義!$R:$R,MATCH(休日取得計画表・休日取得実績表!C17,定義!$M:$M,),))} -> ✕ | D19: {=IF(OR(D17<$O$5,MIN($I$5,$W$5)-20<D17,D22="―"),"✕",INDEX(定義!$R:$R,MATCH(休日取得計画表・休日取得実績表!D17,定義!$M:$M,),))} -> ✕ | E19: {=IF(OR(E17<$O$5,MIN($I$5,$W$5)-20<E17,E22="―"),"✕",INDEX(定義!$R:$R,MATCH(休日取得計画表・休日取得実績表!E17,定義!$M:$M,),))} -> ✕ | F19: {=IF(OR(F17<$O$5,MIN($I$5,$W$5)-20<F17,F22="―"),"✕",INDEX(定義!$R:$R,MATCH(休日取得計画表・休日取得実績表!F17,定義!$M:$M,),))} -> ✕ | G19: {=IF(OR(G17<$O$5,MIN($I$5,$W$5)-20<G17,G22="―"),"✕",INDEX(定義!$R:$R,MATCH(休日取得計画表・休日取得実績表!G17,定義!$M:$M,),))} -> ✕ | H19: {=IF(OR(H17<$O$5,MIN($I$5,$W$5)-20<H17,H22="―"),"✕",INDEX(定義!$R:$R,MATCH(休日取得計画表・休日取得実績表!H17,定義!$M:$M,),))} -> ✕ | I19: {=IF(OR(I17<$O$5,MIN($I$5,$W$5)-20<I17,I22="―"),"✕",INDEX(定義!$R:$R,MATCH(休日取得計画表・休日取得実績表!I17,定義!$M:$M,),))} -> ✕ | J19: {=IF(OR(J17<$O$5,MIN($I$5,$W$5)-20<J17,J22="―"),"✕",INDEX(定義!$R:$R,MATCH(休日取得計画表・休日取得実績表!J17,定義!$M:$M,),))} -> ✕ | ... AG19: {=IF(OR(AG17<$O$5,MIN($I$5,$W$5)-20<AG17,AG22="―"),"✕",INDEX(定義!$R:$R,MATCH(休日取得計画表・休日取得実績表!AG17,定義!$M:$M,),))} -> ✕
B20: 対象期間 | C20: {=IF(OR(C17<$O$5,MIN($I$5,$W$5)-20<C17,C23="―"),"✕",INDEX(定義!$R:$R,MATCH(休日取得計画表・休日取得実績表!C17,定義!$M:$M,),))} -> ✕ | D20: {=IF(OR(D17<$O$5,MIN($I$5,$W$5)-20<D17,D23="―"),"✕",INDEX(定義!$R:$R,MATCH(休日取得計画表・休日取得実績表!D17,定義!$M:$M,),))} -> ✕ | E20: {=IF(OR(E17<$O$5,MIN($I$5,$W$5)-20<E17,E23="―"),"✕",INDEX(定義!$R:$R,MATCH(休日取得計画表・休日取得実績表!E17,定義!$M:$M,),))} -> ✕ | F20: {=IF(OR(F17<$O$5,MIN($I$5,$W$5)-20<F17,F23="―"),"✕",INDEX(定義!$R:$R,MATCH(休日取得計画表・休日取得実績表!F17,定義!$M:$M,),))} -> ✕ | G20: {=IF(OR(G17<$O$5,MIN($I$5,$W$5)-20<G17,G23="―"),"✕",INDEX(定義!$R:$R,MATCH(休日取得計画表・休日取得実績表!G17,定義!$M:$M,),))} -> ✕ | H20: {=IF(OR(H17<$O$5,MIN($I$5,$W$5)-20<H17,H23="―"),"✕",INDEX(定義!$R:$R,MATCH(休日取得計画表・休日取得実績表!H17,定義!$M:$M,),))} -> ✕ | I20: {=IF(OR(I17<$O$5,MIN($I$5,$W$5)-20<I17,I23="―"),"✕",INDEX(定義!$R:$R,MATCH(休日取得計画表・休日取得実績表!I17,定義!$M:$M,),))} -> ✕ | J20: {=IF(OR(J17<$O$5,MIN($I$5,$W$5)-20<J17,J23="―"),"✕",INDEX(定義!$R:$R,MATCH(休日取得計画表・休日取得実績表!J17,定義!$M:$M,),))} -> ✕ | ... AG20: {=IF(OR(AG17<$O$5,MIN($I$5,$W$5)-20<AG17,AG23="―"),"✕",INDEX(定義!$R:$R,MATCH(休日取得計画表・休日取得実績表!AG17,定義!$M:$M,),))} -> ✕
B21: 行事 | C21: {=IFERROR(INDEX(定義!$Q:$Q,MATCH(休日取得計画表・休日取得実績表!C17,定義!$M:$M,),),"")} | D21: {=IFERROR(INDEX(定義!$Q:$Q,MATCH(休日取得計画表・休日取得実績表!D17,定義!$M:$M,),),"")} | E21: {=IFERROR(INDEX(定義!$Q:$Q,MATCH(休日取得計画表・休日取得実績表!E17,定義!$M:$M,),),"")} | F21: {=IFERROR(INDEX(定義!$Q:$Q,MATCH(休日取得計画表・休日取得実績表!F17,定義!$M:$M,),),"")} | G21: {=IFERROR(INDEX(定義!$Q:$Q,MATCH(休日取得計画表・休日取得実績表!G17,定義!$M:$M,),),"")} | H21: {=IFERROR(INDEX(定義!$Q:$Q,MATCH(休日取得計画表・休日取得実績表!H17,定義!$M:$M,),),"")} | I21: {=IFERROR(INDEX(定義!$Q:$Q,MATCH(休日取得計画表・休日取得実績表!I17,定義!$M:$M,),),"")} | J21: {=IFERROR(INDEX(定義!$Q:$Q,MATCH(休日取得計画表・休日取得実績表!J17,定義!$M:$M,),),"")} | ... AG21: {=IFERROR(INDEX(定義!$Q:$Q,MATCH(休日取得計画表・休日取得実績表!AG17,定義!$M:$M,),),"")}
B22: =IF($F$3="受注者希望型","－","休日 計画") -> 休日 計画 | AH22: =AK22 -> 0 | AI22: =AL22 -> 0 | AK22: =COUNTIFS(C22:AG22,"○",C19:AG19,"<>✕") -> 0 | AL22: =SUM(AK$7:AK23) -> 0 | AM22: =SUM(C19:AG19) -> 0 | AN22: =SUM(AM$7:AM23) -> 0 | AO22: =COUNTIFS(C23:AG23,"○",C20:AG20,"<>✕") -> 0 | AP22: =SUM(AO$7:AO23) -> 0 | AQ22: =SUM(C20:AG20) -> 0 | AR22: =SUM(AQ$7:AQ23) -> 0
B23: 休日 実績 | AH23: =AO22 -> 0 | AI23: =AP22 -> 0
B25: 月 | C25: =DATE(YEAR($C$7),MONTH($C$7)+COUNTIF($B$7:B25,"月")-1,1) -> 61 | AH25: 月計 | AI25: 累計 | AK25: 計画時点 | AO25: 実績
B26: 日 | C26: =+C25 -> 61 | D26: =IFERROR(IF(MONTH(C26+1)=MONTH($C25),C26+1,""),"") -> 62 | E26: =IFERROR(IF(MONTH(D26+1)=MONTH($C25),D26+1,""),"") -> 63 | F26: =IFERROR(IF(MONTH(E26+1)=MONTH($C25),E26+1,""),"") -> 64 | G26: =IFERROR(IF(MONTH(F26+1)=MONTH($C25),F26+1,""),"") -> 65 | H26: =IFERROR(IF(MONTH(G26+1)=MONTH($C25),G26+1,""),"") -> 66 | I26: =IFERROR(IF(MONTH(H26+1)=MONTH($C25),H26+1,""),"") -> 67 | J26: =IFERROR(IF(MONTH(I26+1)=MONTH($C25),I26+1,""),"") -> 68 | K26: =IFERROR(IF(MONTH(J26+1)=MONTH($C25),J26+1,""),"") -> 69 | ... AG26: =IFERROR(IF(MONTH(AF26+1)=MONTH($C25),AF26+1,""),"") -> 91 | AK26: 計画休日数（月計） | AL26: 計画休日数（累計） | AM26: 必要現場閉所日（月計） | AN26: 必要現場閉所日（累計） | AO26: 実績休日数（月計） | AP26: 実績休日数（累計） | AQ26: 必要現場閉所日（月計） | AR26: 必要現場閉所日（累計）
B27: 曜日 | C27: =IF(C26="","",IF(COUNTIF(祝日,C26)>0,"祝",IF(COUNTIF(夏季休暇,C26)+COUNTIF(年末年始,C26)>0,"休",TEXT(C26,"aaa")))) -> 木 | D27: =IF(D26="","",IF(COUNTIF(祝日,D26)>0,"祝",IF(COUNTIF(夏季休暇,D26)+COUNTIF(年末年始,D26)>0,"休",TEXT(D26,"aaa")))) -> 金 | E27: =IF(E26="","",IF(COUNTIF(祝日,E26)>0,"祝",IF(COUNTIF(夏季休暇,E26)+COUNTIF(年末年始,E26)>0,"休",TEXT(E26,"aaa")))) -> 土 | F27: =IF(F26="","",IF(COUNTIF(祝日,F26)>0,"祝",IF(COUNTIF(夏季休暇,F26)+COUNTIF(年末年始,F26)>0,"休",TEXT(F26,"aaa")))) -> 日 | G27: =IF(G26="","",IF(COUNTIF(祝日,G26)>0,"祝",IF(COUNTIF(夏季休暇,G26)+COUNTIF(年末年始,G26)>0,"休",TEXT(G26,"aaa")))) -> 月 | H27: =IF(H26="","",IF(COUNTIF(祝日,H26)>0,"祝",IF(COUNTIF(夏季休暇,H26)+COUNTIF(年末年始,H26)>0,"休",TEXT(H26,"aaa")))) -> 火 | I27: =IF(I26="","",IF(COUNTIF(祝日,I26)>0,"祝",IF(COUNTIF(夏季休暇,I26)+COUNTIF(年末年始,I26)>0,"休",TEXT(I26,"aaa")))) -> 水 | J27: =IF(J26="","",IF(COUNTIF(祝日,J26)>0,"祝",IF(COUNTIF(夏季休暇,J26)+COUNTIF(年末年始,J26)>0,"休",TEXT(J26,"aaa")))) -> 木 | ... AG27: =IF(AG26="","",IF(COUNTIF(祝日,AG26)>0,"祝",IF(COUNTIF(夏季休暇,AG26)+COUNTIF(年末年始,AG26)>0,"休",TEXT(AG26,"aaa")))) -> 土 | AH27: ○計 | AI27: ○計
B28: 対象期間 | C28: {=IF(OR(C26<$O$5,MIN($I$5,$W$5)-20<C26,C31="―"),"✕",INDEX(定義!$R:$R,MATCH(休日取得計画表・休日取得実績表!C26,定義!$M:$M,),))} -> ✕ | D28: {=IF(OR(D26<$O$5,MIN($I$5,$W$5)-20<D26,D31="―"),"✕",INDEX(定義!$R:$R,MATCH(休日取得計画表・休日取得実績表!D26,定義!$M:$M,),))} -> ✕ | E28: {=IF(OR(E26<$O$5,MIN($I$5,$W$5)-20<E26,E31="―"),"✕",INDEX(定義!$R:$R,MATCH(休日取得計画表・休日取得実績表!E26,定義!$M:$M,),))} -> ✕ | F28: {=IF(OR(F26<$O$5,MIN($I$5,$W$5)-20<F26,F31="―"),"✕",INDEX(定義!$R:$R,MATCH(休日取得計画表・休日取得実績表!F26,定義!$M:$M,),))} -> ✕ | G28: {=IF(OR(G26<$O$5,MIN($I$5,$W$5)-20<G26,G31="―"),"✕",INDEX(定義!$R:$R,MATCH(休日取得計画表・休日取得実績表!G26,定義!$M:$M,),))} -> ✕ | H28: {=IF(OR(H26<$O$5,MIN($I$5,$W$5)-20<H26,H31="―"),"✕",INDEX(定義!$R:$R,MATCH(休日取得計画表・休日取得実績表!H26,定義!$M:$M,),))} -> ✕ | I28: {=IF(OR(I26<$O$5,MIN($I$5,$W$5)-20<I26,I31="―"),"✕",INDEX(定義!$R:$R,MATCH(休日取得計画表・休日取得実績表!I26,定義!$M:$M,),))} -> ✕ | J28: {=IF(OR(J26<$O$5,MIN($I$5,$W$5)-20<J26,J31="―"),"✕",INDEX(定義!$R:$R,MATCH(休日取得計画表・休日取得実績表!J26,定義!$M:$M,),))} -> ✕ | ... AG28: {=IF(OR(AG26<$O$5,MIN($I$5,$W$5)-20<AG26,AG31="―"),"✕",INDEX(定義!$R:$R,MATCH(休日取得計画表・休日取得実績表!AG26,定義!$M:$M,),))} -> ✕
B29: 対象期間 | C29: {=IF(OR(C26<$O$5,MIN($I$5,$W$5)-20<C26,C32="―"),"✕",INDEX(定義!$R:$R,MATCH(休日取得計画表・休日取得実績表!C26,定義!$M:$M,),))} -> ✕ | D29: {=IF(OR(D26<$O$5,MIN($I$5,$W$5)-20<D26,D32="―"),"✕",INDEX(定義!$R:$R,MATCH(休日取得計画表・休日取得実績表!D26,定義!$M:$M,),))} -> ✕ | E29: {=IF(OR(E26<$O$5,MIN($I$5,$W$5)-20<E26,E32="―"),"✕",INDEX(定義!$R:$R,MATCH(休日取得計画表・休日取得実績表!E26,定義!$M:$M,),))} -> ✕ | F29: {=IF(OR(F26<$O$5,MIN($I$5,$W$5)-20<F26,F32="―"),"✕",INDEX(定義!$R:$R,MATCH(休日取得計画表・休日取得実績表!F26,定義!$M:$M,),))} -> ✕ | G29: {=IF(OR(G26<$O$5,MIN($I$5,$W$5)-20<G26,G32="―"),"✕",INDEX(定義!$R:$R,MATCH(休日取得計画表・休日取得実績表!G26,定義!$M:$M,),))} -> ✕ | H29: {=IF(OR(H26<$O$5,MIN($I$5,$W$5)-20<H26,H32="―"),"✕",INDEX(定義!$R:$R,MATCH(休日取得計画表・休日取得実績表!H26,定義!$M:$M,),))} -> ✕ | I29: {=IF(OR(I26<$O$5,MIN($I$5,$W$5)-20<I26,I32="―"),"✕",INDEX(定義!$R:$R,MATCH(休日取得計画表・休日取得実績表!I26,定義!$M:$M,),))} -> ✕ | J29: {=IF(OR(J26<$O$5,MIN($I$5,$W$5)-20<J26,J32="―"),"✕",INDEX(定義!$R:$R,MATCH(休日取得計画表・休日取得実績表!J26,定義!$M:$M,),))} -> ✕ | ... AG29: {=IF(OR(AG26<$O$5,MIN($I$5,$W$5)-20<AG26,AG32="―"),"✕",INDEX(定義!$R:$R,MATCH(休日取得計画表・休日取得実績表!AG26,定義!$M:$M,),))} -> ✕
B30: 行事 | C30: {=IFERROR(INDEX(定義!$Q:$Q,MATCH(休日取得計画表・休日取得実績表!C26,定義!$M:$M,),),"")} | D30: {=IFERROR(INDEX(定義!$Q:$Q,MATCH(休日取得計画表・休日取得実績表!D26,定義!$M:$M,),),"")} | E30: {=IFERROR(INDEX(定義!$Q:$Q,MATCH(休日取得計画表・休日取得実績表!E26,定義!$M:$M,),),"")} | F30: {=IFERROR(INDEX(定義!$Q:$Q,MATCH(休日取得計画表・休日取得実績表!F26,定義!$M:$M,),),"")} | G30: {=IFERROR(INDEX(定義!$Q:$Q,MATCH(休日取得計画表・休日取得実績表!G26,定義!$M:$M,),),"")} | H30: {=IFERROR(INDEX(定義!$Q:$Q,MATCH(休日取得計画表・休日取得実績表!H26,定義!$M:$M,),),"")} | I30: {=IFERROR(INDEX(定義!$Q:$Q,MATCH(休日取得計画表・休日取得実績表!I26,定義!$M:$M,),),"")} | J30: {=IFERROR(INDEX(定義!$Q:$Q,MATCH(休日取得計画表・休日取得実績表!J26,定義!$M:$M,),),"")} | ... AG30: {=IFERROR(INDEX(定義!$Q:$Q,MATCH(休日取得計画表・休日取得実績表!AG26,定義!$M:$M,),),"")}
B31: =IF($F$3="受注者希望型","－","休日 計画") -> 休日 計画 | AH31: =AK31 -> 0 | AI31: =AL31 -> 0 | AK31: =COUNTIFS(C31:AG31,"○",C28:AG28,"<>✕") -> 0 | AL31: =SUM(AK$7:AK32) -> 0 | AM31: =SUM(C28:AG28) -> 0 | AN31: =SUM(AM$7:AM32) -> 0 | AO31: =COUNTIFS(C32:AG32,"○",C29:AG29,"<>✕") -> 0 | AP31: =SUM(AO$7:AO32) -> 0 | AQ31: =SUM(C29:AG29) -> 0 | AR31: =SUM(AQ$7:AQ32) -> 0
B32: 休日 実績 | AH32: =AO31 -> 0 | AI32: =AP31 -> 0
B34: 月 | C34: =DATE(YEAR($C$7),MONTH($C$7)+COUNTIF($B$7:B34,"月")-1,1) -> 92 | AH34: 月計 | AI34: 累計 | AK34: 計画時点 | AO34: 実績
B35: 日 | C35: =+C34 -> 92 | D35: =IFERROR(IF(MONTH(C35+1)=MONTH($C34),C35+1,""),"") -> 93 | E35: =IFERROR(IF(MONTH(D35+1)=MONTH($C34),D35+1,""),"") -> 94 | F35: =IFERROR(IF(MONTH(E35+1)=MONTH($C34),E35+1,""),"") -> 95 | G35: =IFERROR(IF(MONTH(F35+1)=MONTH($C34),F35+1,""),"") -> 96 | H35: =IFERROR(IF(MONTH(G35+1)=MONTH($C34),G35+1,""),"") -> 97 | I35: =IFERROR(IF(MONTH(H35+1)=MONTH($C34),H35+1,""),"") -> 98 | J35: =IFERROR(IF(MONTH(I35+1)=MONTH($C34),I35+1,""),"") -> 99 | K35: =IFERROR(IF(MONTH(J35+1)=MONTH($C34),J35+1,""),"") -> 100 | ... AG35: =IFERROR(IF(MONTH(AF35+1)=MONTH($C34),AF35+1,""),"") | AK35: 計画休日数（月計） | AL35: 計画休日数（累計） | AM35: 必要現場閉所日（月計） | AN35: 必要現場閉所日（累計） | AO35: 実績休日数（月計） | AP35: 実績休日数（累計） | AQ35: 必要現場閉所日（月計） | AR35: 必要現場閉所日（累計）
B36: 曜日 | C36: =IF(C35="","",IF(COUNTIF(祝日,C35)>0,"祝",IF(COUNTIF(夏季休暇,C35)+COUNTIF(年末年始,C35)>0,"休",TEXT(C35,"aaa")))) -> 日 | D36: =IF(D35="","",IF(COUNTIF(祝日,D35)>0,"祝",IF(COUNTIF(夏季休暇,D35)+COUNTIF(年末年始,D35)>0,"休",TEXT(D35,"aaa")))) -> 月 | E36: =IF(E35="","",IF(COUNTIF(祝日,E35)>0,"祝",IF(COUNTIF(夏季休暇,E35)+COUNTIF(年末年始,E35)>0,"休",TEXT(E35,"aaa")))) -> 火 | F36: =IF(F35="","",IF(COUNTIF(祝日,F35)>0,"祝",IF(COUNTIF(夏季休暇,F35)+COUNTIF(年末年始,F35)>0,"休",TEXT(F35,"aaa")))) -> 水 | G36: =IF(G35="","",IF(COUNTIF(祝日,G35)>0,"祝",IF(COUNTIF(夏季休暇,G35)+COUNTIF(年末年始,G35)>0,"休",TEXT(G35,"aaa")))) -> 木 | H36: =IF(H35="","",IF(COUNTIF(祝日,H35)>0,"祝",IF(COUNTIF(夏季休暇,H35)+COUNTIF(年末年始,H35)>0,"休",TEXT(H35,"aaa")))) -> 金 | I36: =IF(I35="","",IF(COUNTIF(祝日,I35)>0,"祝",IF(COUNTIF(夏季休暇,I35)+COUNTIF(年末年始,I35)>0,"休",TEXT(I35,"aaa")))) -> 土 | J36: =IF(J35="","",IF(COUNTIF(祝日,J35)>0,"祝",IF(COUNTIF(夏季休暇,J35)+COUNTIF(年末年始,J35)>0,"休",TEXT(J35,"aaa")))) -> 日 | ... AG36: =IF(AG35="","",IF(COUNTIF(祝日,AG35)>0,"祝",IF(COUNTIF(夏季休暇,AG35)+COUNTIF(年末年始,AG35)>0,"休",TEXT(AG35,"aaa")))) | AH36: ○計 | AI36: ○計
B37: 対象期間 | C37: {=IF(OR(C35<$O$5,MIN($I$5,$W$5)-20<C35,C40="―"),"✕",INDEX(定義!$R:$R,MATCH(休日取得計画表・休日取得実績表!C35,定義!$M:$M,),))} -> ✕ | D37: {=IF(OR(D35<$O$5,MIN($I$5,$W$5)-20<D35,D40="―"),"✕",INDEX(定義!$R:$R,MATCH(休日取得計画表・休日取得実績表!D35,定義!$M:$M,),))} -> ✕ | E37: {=IF(OR(E35<$O$5,MIN($I$5,$W$5)-20<E35,E40="―"),"✕",INDEX(定義!$R:$R,MATCH(休日取得計画表・休日取得実績表!E35,定義!$M:$M,),))} -> ✕ | F37: {=IF(OR(F35<$O$5,MIN($I$5,$W$5)-20<F35,F40="―"),"✕",INDEX(定義!$R:$R,MATCH(休日取得計画表・休日取得実績表!F35,定義!$M:$M,),))} -> ✕ | G37: {=IF(OR(G35<$O$5,MIN($I$5,$W$5)-20<G35,G40="―"),"✕",INDEX(定義!$R:$R,MATCH(休日取得計画表・休日取得実績表!G35,定義!$M:$M,),))} -> ✕ | H37: {=IF(OR(H35<$O$5,MIN($I$5,$W$5)-20<H35,H40="―"),"✕",INDEX(定義!$R:$R,MATCH(休日取得計画表・休日取得実績表!H35,定義!$M:$M,),))} -> ✕ | I37: {=IF(OR(I35<$O$5,MIN($I$5,$W$5)-20<I35,I40="―"),"✕",INDEX(定義!$R:$R,MATCH(休日取得計画表・休日取得実績表!I35,定義!$M:$M,),))} -> ✕ | J37: {=IF(OR(J35<$O$5,MIN($I$5,$W$5)-20<J35,J40="―"),"✕",INDEX(定義!$R:$R,MATCH(休日取得計画表・休日取得実績表!J35,定義!$M:$M,),))} -> ✕ | ... AG37: {=IF(OR(AG35<$O$5,MIN($I$5,$W$5)-20<AG35,AG40="―"),"✕",INDEX(定義!$R:$R,MATCH(休日取得計画表・休日取得実績表!AG35,定義!$M:$M,),))} -> ✕
B38: 対象期間 | C38: {=IF(OR(C35<$O$5,MIN($I$5,$W$5)-20<C35,C41="―"),"✕",INDEX(定義!$R:$R,MATCH(休日取得計画表・休日取得実績表!C35,定義!$M:$M,),))} -> ✕ | D38: {=IF(OR(D35<$O$5,MIN($I$5,$W$5)-20<D35,D41="―"),"✕",INDEX(定義!$R:$R,MATCH(休日取得計画表・休日取得実績表!D35,定義!$M:$M,),))} -> ✕ | E38: {=IF(OR(E35<$O$5,MIN($I$5,$W$5)-20<E35,E41="―"),"✕",INDEX(定義!$R:$R,MATCH(休日取得計画表・休日取得実績表!E35,定義!$M:$M,),))} -> ✕ | F38: {=IF(OR(F35<$O$5,MIN($I$5,$W$5)-20<F35,F41="―"),"✕",INDEX(定義!$R:$R,MATCH(休日取得計画表・休日取得実績表!F35,定義!$M:$M,),))} -> ✕ | G38: {=IF(OR(G35<$O$5,MIN($I$5,$W$5)-20<G35,G41="―"),"✕",INDEX(定義!$R:$R,MATCH(休日取得計画表・休日取得実績表!G35,定義!$M:$M,),))} -> ✕ | H38: {=IF(OR(H35<$O$5,MIN($I$5,$W$5)-20<H35,H41="―"),"✕",INDEX(定義!$R:$R,MATCH(休日取得計画表・休日取得実績表!H35,定義!$M:$M,),))} -> ✕ | I38: {=IF(OR(I35<$O$5,MIN($I$5,$W$5)-20<I35,I41="―"),"✕",INDEX(定義!$R:$R,MATCH(休日取得計画表・休日取得実績表!I35,定義!$M:$M,),))} -> ✕ | J38: {=IF(OR(J35<$O$5,MIN($I$5,$W$5)-20<J35,J41="―"),"✕",INDEX(定義!$R:$R,MATCH(休日取得計画表・休日取得実績表!J35,定義!$M:$M,),))} -> ✕ | ... AG38: {=IF(OR(AG35<$O$5,MIN($I$5,$W$5)-20<AG35,AG41="―"),"✕",INDEX(定義!$R:$R,MATCH(休日取得計画表・休日取得実績表!AG35,定義!$M:$M,),))} -> ✕
B39: 行事 | C39: {=IFERROR(INDEX(定義!$Q:$Q,MATCH(休日取得計画表・休日取得実績表!C35,定義!$M:$M,),),"")} | D39: {=IFERROR(INDEX(定義!$Q:$Q,MATCH(休日取得計画表・休日取得実績表!D35,定義!$M:$M,),),"")} | E39: {=IFERROR(INDEX(定義!$Q:$Q,MATCH(休日取得計画表・休日取得実績表!E35,定義!$M:$M,),),"")} | F39: {=IFERROR(INDEX(定義!$Q:$Q,MATCH(休日取得計画表・休日取得実績表!F35,定義!$M:$M,),),"")} | G39: {=IFERROR(INDEX(定義!$Q:$Q,MATCH(休日取得計画表・休日取得実績表!G35,定義!$M:$M,),),"")} | H39: {=IFERROR(INDEX(定義!$Q:$Q,MATCH(休日取得計画表・休日取得実績表!H35,定義!$M:$M,),),"")} | I39: {=IFERROR(INDEX(定義!$Q:$Q,MATCH(休日取得計画表・休日取得実績表!I35,定義!$M:$M,),),"")} | J39: {=IFERROR(INDEX(定義!$Q:$Q,MATCH(休日取得計画表・休日取得実績表!J35,定義!$M:$M,),),"")} | ... AG39: {=IFERROR(INDEX(定義!$Q:$Q,MATCH(休日取得計画表・休日取得実績表!AG35,定義!$M:$M,),),"")}
B40: =IF($F$3="受注者希望型","－","休日 計画") -> 休日 計画 | AH40: =AK40 -> 0 | AI40: =AL40 -> 0 | AK40: =COUNTIFS(C40:AG40,"○",C37:AG37,"<>✕") -> 0 | AL40: =SUM(AK$7:AK41) -> 0 | AM40: =SUM(C37:AG37) -> 0 | AN40: =SUM(AM$7:AM41) -> 0 | AO40: =COUNTIFS(C41:AG41,"○",C38:AG38,"<>✕") -> 0 | AP40: =SUM(AO$7:AO41) -> 0 | AQ40: =SUM(C38:AG38) -> 0 | AR40: =SUM(AQ$7:AQ41) -> 0
B41: 休日 実績 | AH41: =AO40 -> 0 | AI41: =AP40 -> 0
B43: 月 | C43: =DATE(YEAR($C$7),MONTH($C$7)+COUNTIF($B$7:B43,"月")-1,1) -> 122 | AH43: 月計 | AI43: 累計 | AK43: 計画時点 | AO43: 実績
B44: 日 | C44: =+C43 -> 122 | D44: =IFERROR(IF(MONTH(C44+1)=MONTH($C43),C44+1,""),"") -> 123 | E44: =IFERROR(IF(MONTH(D44+1)=MONTH($C43),D44+1,""),"") -> 124 | F44: =IFERROR(IF(MONTH(E44+1)=MONTH($C43),E44+1,""),"") -> 125 | G44: =IFERROR(IF(MONTH(F44+1)=MONTH($C43),F44+1,""),"") -> 126 | H44: =IFERROR(IF(MONTH(G44+1)=MONTH($C43),G44+1,""),"") -> 127 | I44: =IFERROR(IF(MONTH(H44+1)=MONTH($C43),H44+1,""),"") -> 128 | J44: =IFERROR(IF(MONTH(I44+1)=MONTH($C43),I44+1,""),"") -> 129 | K44: =IFERROR(IF(MONTH(J44+1)=MONTH($C43),J44+1,""),"") -> 130 | ... AG44: =IFERROR(IF(MONTH(AF44+1)=MONTH($C43),AF44+1,""),"") -> 152 | AK44: 計画休日数（月計） | AL44: 計画休日数（累計） | AM44: 必要現場閉所日（月計） | AN44: 必要現場閉所日（累計） | AO44: 実績休日数（月計） | AP44: 実績休日数（累計） | AQ44: 必要現場閉所日（月計） | AR44: 必要現場閉所日（累計）
...

Sheet 定義（記入例用）
A1: 工期 | D1: 祝日 | G1: 夏季休暇 | J1: 年末年始 | N1: 工期 | O1: 休日名 | P1: 改行 | Q1: 表示用 | R1: 必要現場閉所カウント
A2: ='休日取得計画表・休日取得実績表（記入例）'!D5 -> 45789 | B2: 工期始め | D2: 43407 | E2: 文化の日 | G2: 45516 | H2: 夏季休暇 | J2: 祝日のため除去 | K2: 年末年始 | M2: ='休日取得計画表・休日取得実績表（記入例）'!D5 -> 45789 | N2: {=IFERROR(INDEX($B:$B,MATCH($M2,$A:$A,),),"")} -> 工期始め | O2: {=IFERROR(INDEX($E:$E,MATCH($M2,祝日,),),"")&IFERROR(INDEX($H:$H,MATCH($M2,夏季休暇,),),"")&IFERROR(INDEX($K:$K,MATCH($M2,年末年始,),),"")} | P2: =IF(COUNTBLANK(N2:O2)=0,CHAR(10),"") | Q2: =O2&P2&N2 -> 工期始め | R2: =IF(OR(TEXT(M2,"aaa")="土",TEXT(M2,"aaa")="日",O2<>""),1,0) -> 0
A3: ='休日取得計画表・休日取得実績表（記入例）'!O5 -> 45810 | B3: 現場着手 | D3: 43427 | E3: 勤労感謝の日 | G3: 45517 | H3: 夏季休暇 | J3: 45293 | K3: 年末年始 | M3: =IF('定義（記入例用）'!M2+1>'休日取得計画表・休日取得実績表（記入例）'!$I$5,"",'定義（記入例用）'!M2+1) -> 45790 | N3: {=IFERROR(INDEX($B:$B,MATCH($M3,$A:$A,),),"")} | O3: {=IFERROR(INDEX($E:$E,MATCH($M3,祝日,),),"")&IFERROR(INDEX($H:$H,MATCH($M3,夏季休暇,),),"")&IFERROR(INDEX($K:$K,MATCH($M3,年末年始,),),"")} | P3: =IF(COUNTBLANK(N3:O3)=0,CHAR(10),"") | Q3: =O3&P3&N3 | R3: =IF(OR(TEXT(M3,"aaa")="土",TEXT(M3,"aaa")="日",O3<>""),1,0) -> 0
A4: =A5-20 -> 46080 | B4: 対象期間最終日 | D4: 43457 | E4: 天皇誕生日 | G4: 45518 | H4: 夏季休暇 | J4: 45294 | K4: 年末年始 | M4: =IF('定義（記入例用）'!M3+1>'休日取得計画表・休日取得実績表（記入例）'!$I$5,"",'定義（記入例用）'!M3+1) -> 45791 | O4: {=IFERROR(INDEX($E:$E,MATCH($M4,祝日,),),"")&IFERROR(INDEX($H:$H,MATCH($M4,夏季休暇,),),"")&IFERROR(INDEX($K:$K,MATCH($M4,年末年始,),),"")} | P4: =IF(COUNTBLANK(N4:O4)=0,CHAR(10),"") | Q4: =O4&P4&N4 | R4: =IF(OR(TEXT(M4,"aaa")="土",TEXT(M4,"aaa")="日",O4<>""),1,0) -> 0
A5: =MIN('休日取得計画表・休日取得実績表（記入例）'!I5,'休日取得計画表・休日取得実績表（記入例）'!W5) -> 46100 | B5: 工期の末日 | D5: 43458 | E5: 振替休日 | G5: 45881 | H5: 夏季休暇 | J5: 45655 | K5: 年末年始 | M5: =IF('定義（記入例用）'!M4+1>'休日取得計画表・休日取得実績表（記入例）'!$I$5,"",'定義（記入例用）'!M4+1) -> 45792 | N5: {=IFERROR(INDEX($B:$B,MATCH($M5,$A:$A,),),"")} | O5: {=IFERROR(INDEX($E:$E,MATCH($M5,祝日,),),"")&IFERROR(INDEX($H:$H,MATCH($M5,夏季休暇,),),"")&IFERROR(INDEX($K:$K,MATCH($M5,年末年始,),),"")} | P5: =IF(COUNTBLANK(N5:O5)=0,CHAR(10),"") | Q5: =O5&P5&N5 | R5: =IF(OR(TEXT(M5,"aaa")="土",TEXT(M5,"aaa")="日",O5<>""),1,0) -> 0
D6: 43466 | E6: 元日 | G6: 45882 | H6: 夏季休暇 | J6: 45656 | K6: 年末年始 | M6: =IF('定義（記入例用）'!M5+1>'休日取得計画表・休日取得実績表（記入例）'!$I$5,"",'定義（記入例用）'!M5+1) -> 45793 | N6: {=IFERROR(INDEX($B:$B,MATCH($M6,$A:$A,),),"")} | O6: {=IFERROR(INDEX($E:$E,MATCH($M6,祝日,),),"")&IFERROR(INDEX($H:$H,MATCH($M6,夏季休暇,),),"")&IFERROR(INDEX($K:$K,MATCH($M6,年末年始,),),"")} | P6: =IF(COUNTBLANK(N6:O6)=0,CHAR(10),"") | Q6: =O6&P6&N6 | R6: =IF(OR(TEXT(M6,"aaa")="土",TEXT(M6,"aaa")="日",O6<>""),1,0) -> 0
D7: 43479 | E7: 成人の日 | G7: 45883 | H7: 夏季休暇 | J7: 45657 | K7: 年末年始 | M7: =IF('定義（記入例用）'!M6+1>'休日取得計画表・休日取得実績表（記入例）'!$I$5,"",'定義（記入例用）'!M6+1) -> 45794 | N7: {=IFERROR(INDEX($B:$B,MATCH($M7,$A:$A,),),"")} | O7: {=IFERROR(INDEX($E:$E,MATCH($M7,祝日,),),"")&IFERROR(INDEX($H:$H,MATCH($M7,夏季休暇,),),"")&IFERROR(INDEX($K:$K,MATCH($M7,年末年始,),),"")} | P7: =IF(COUNTBLANK(N7:O7)=0,CHAR(10),"") | Q7: =O7&P7&N7 | R7: =IF(OR(TEXT(M7,"aaa")="土",TEXT(M7,"aaa")="日",O7<>""),1,0) -> 1
D8: 43507 | E8: 建国記念の日 | G8: 46246 | H8: 夏季休暇 | J8: 祝日のため除去 | K8: 年末年始 | M8: =IF('定義（記入例用）'!M7+1>'休日取得計画表・休日取得実績表（記入例）'!$I$5,"",'定義（記入例用）'!M7+1) -> 45795 | N8: {=IFERROR(INDEX($B:$B,MATCH($M8,$A:$A,),),"")} | O8: {=IFERROR(INDEX($E:$E,MATCH($M8,祝日,),),"")&IFERROR(INDEX($H:$H,MATCH($M8,夏季休暇,),),"")&IFERROR(INDEX($K:$K,MATCH($M8,年末年始,),),"")} | P8: =IF(COUNTBLANK(N8:O8)=0,CHAR(10),"") | Q8: =O8&P8&N8 | R8: =IF(OR(TEXT(M8,"aaa")="土",TEXT(M8,"aaa")="日",O8<>""),1,0) -> 1
D9: 43545 | E9: 春分の日 | G9: 46247 | H9: 夏季休暇 | J9: 45659 | K9: 年末年始 | M9: =IF('定義（記入例用）'!M8+1>'休日取得計画表・休日取得実績表（記入例）'!$I$5,"",'定義（記入例用）'!M8+1) -> 45796 | N9: {=IFERROR(INDEX($B:$B,MATCH($M9,$A:$A,),),"")} | O9: {=IFERROR(INDEX($E:$E,MATCH($M9,祝日,),),"")&IFERROR(INDEX($H:$H,MATCH($M9,夏季休暇,),),"")&IFERROR(INDEX($K:$K,MATCH($M9,年末年始,),),"")} | P9: =IF(COUNTBLANK(N9:O9)=0,CHAR(10),"") | Q9: =O9&P9&N9 | R9: =IF(OR(TEXT(M9,"aaa")="土",TEXT(M9,"aaa")="日",O9<>""),1,0) -> 0
D10: 43584 | E10: 昭和の日 | G10: 46248 | H10: 夏季休暇 | J10: 45660 | K10: 年末年始 | M10: =IF('定義（記入例用）'!M9+1>'休日取得計画表・休日取得実績表（記入例）'!$I$5,"",'定義（記入例用）'!M9+1) -> 45797 | N10: {=IFERROR(INDEX($B:$B,MATCH($M10,$A:$A,),),"")} | O10: {=IFERROR(INDEX($E:$E,MATCH($M10,祝日,),),"")&IFERROR(INDEX($H:$H,MATCH($M10,夏季休暇,),),"")&IFERROR(INDEX($K:$K,MATCH($M10,年末年始,),),"")} | P10: =IF(COUNTBLANK(N10:O10)=0,CHAR(10),"") | Q10: =O10&P10&N10 | R10: =IF(OR(TEXT(M10,"aaa")="土",TEXT(M10,"aaa")="日",O10<>""),1,0) -> 0
D11: 43585 | E11: 国民の休日 | G11: 46611 | H11: 夏季休暇 | J11: 46020 | K11: 年末年始 | M11: =IF('定義（記入例用）'!M10+1>'休日取得計画表・休日取得実績表（記入例）'!$I$5,"",'定義（記入例用）'!M10+1) -> 45798 | N11: {=IFERROR(INDEX($B:$B,MATCH($M11,$A:$A,),),"")} | O11: {=IFERROR(INDEX($E:$E,MATCH($M11,祝日,),),"")&IFERROR(INDEX($H:$H,MATCH($M11,夏季休暇,),),"")&IFERROR(INDEX($K:$K,MATCH($M11,年末年始,),),"")} | P11: =IF(COUNTBLANK(N11:O11)=0,CHAR(10),"") | Q11: =O11&P11&N11 | R11: =IF(OR(TEXT(M11,"aaa")="土",TEXT(M11,"aaa")="日",O11<>""),1,0) -> 0
D12: 43586 | E12: 天皇の即位の日 | G12: 46612 | H12: 夏季休暇 | J12: 46021 | K12: 年末年始 | M12: =IF('定義（記入例用）'!M11+1>'休日取得計画表・休日取得実績表（記入例）'!$I$5,"",'定義（記入例用）'!M11+1) -> 45799 | N12: {=IFERROR(INDEX($B:$B,MATCH($M12,$A:$A,),),"")} | O12: {=IFERROR(INDEX($E:$E,MATCH($M12,祝日,),),"")&IFERROR(INDEX($H:$H,MATCH($M12,夏季休暇,),),"")&IFERROR(INDEX($K:$K,MATCH($M12,年末年始,),),"")} | P12: =IF(COUNTBLANK(N12:O12)=0,CHAR(10),"") | Q12: =O12&P12&N12 | R12: =IF(OR(TEXT(M12,"aaa")="土",TEXT(M12,"aaa")="日",O12<>""),1,0) -> 0
D13: 43587 | E13: 国民の休日 | G13: 46615 | H13: 夏季休暇 | J13: 46022 | K13: 年末年始 | M13: =IF('定義（記入例用）'!M12+1>'休日取得計画表・休日取得実績表（記入例）'!$I$5,"",'定義（記入例用）'!M12+1) -> 45800 | N13: {=IFERROR(INDEX($B:$B,MATCH($M13,$A:$A,),),"")} | O13: {=IFERROR(INDEX($E:$E,MATCH($M13,祝日,),),"")&IFERROR(INDEX($H:$H,MATCH($M13,夏季休暇,),),"")&IFERROR(INDEX($K:$K,MATCH($M13,年末年始,),),"")} | P13: =IF(COUNTBLANK(N13:O13)=0,CHAR(10),"") | Q13: =O13&P13&N13 | R13: =IF(OR(TEXT(M13,"aaa")="土",TEXT(M13,"aaa")="日",O13<>""),1,0) -> 0
D14: 43588 | E14: 憲法記念日 | G14: 46979 | H14: 夏季休暇 | J14: 祝日のため除去 | K14: 年末年始 | M14: =IF('定義（記入例用）'!M13+1>'休日取得計画表・休日取得実績表（記入例）'!$I$5,"",'定義（記入例用）'!M13+1) -> 45801 | N14: {=IFERROR(INDEX($B:$B,MATCH($M14,$A:$A,),),"")} | O14: {=IFERROR(INDEX($E:$E,MATCH($M14,祝日,),),"")&IFERROR(INDEX($H:$H,MATCH($M14,夏季休暇,),),"")&IFERROR(INDEX($K:$K,MATCH($M14,年末年始,),),"")} | P14: =IF(COUNTBLANK(N14:O14)=0,CHAR(10),"") | Q14: =O14&P14&N14 | R14: =IF(OR(TEXT(M14,"aaa")="土",TEXT(M14,"aaa")="日",O14<>""),1,0) -> 1
D15: 43589 | E15: みどりの日 | G15: 46980 | H15: 夏季休暇 | J15: 46024 | K15: 年末年始 | M15: =IF('定義（記入例用）'!M14+1>'休日取得計画表・休日取得実績表（記入例）'!$I$5,"",'定義（記入例用）'!M14+1) -> 45802 | N15: {=IFERROR(INDEX($B:$B,MATCH($M15,$A:$A,),),"")} | O15: {=IFERROR(INDEX($E:$E,MATCH($M15,祝日,),),"")&IFERROR(INDEX($H:$H,MATCH($M15,夏季休暇,),),"")&IFERROR(INDEX($K:$K,MATCH($M15,年末年始,),),"")} | P15: =IF(COUNTBLANK(N15:O15)=0,CHAR(10),"") | Q15: =O15&P15&N15 | R15: =IF(OR(TEXT(M15,"aaa")="土",TEXT(M15,"aaa")="日",O15<>""),1,0) -> 1
D16: 43590 | E16: こどもの日 | G16: 46981 | H16: 夏季休暇 | J16: 46025 | K16: 年末年始 | M16: =IF('定義（記入例用）'!M15+1>'休日取得計画表・休日取得実績表（記入例）'!$I$5,"",'定義（記入例用）'!M15+1) -> 45803 | N16: {=IFERROR(INDEX($B:$B,MATCH($M16,$A:$A,),),"")} | O16: {=IFERROR(INDEX($E:$E,MATCH($M16,祝日,),),"")&IFERROR(INDEX($H:$H,MATCH($M16,夏季休暇,),),"")&IFERROR(INDEX($K:$K,MATCH($M16,年末年始,),),"")} | P16: =IF(COUNTBLANK(N16:O16)=0,CHAR(10),"") | Q16: =O16&P16&N16 | R16: =IF(OR(TEXT(M16,"aaa")="土",TEXT(M16,"aaa")="日",O16<>""),1,0) -> 0
D17: 43591 | E17: 振替休日 | G17: 47343 | H17: 夏季休暇 | J17: 46385 | K17: 年末年始 | M17: =IF('定義（記入例用）'!M16+1>'休日取得計画表・休日取得実績表（記入例）'!$I$5,"",'定義（記入例用）'!M16+1) -> 45804 | N17: {=IFERROR(INDEX($B:$B,MATCH($M17,$A:$A,),),"")} | O17: {=IFERROR(INDEX($E:$E,MATCH($M17,祝日,),),"")&IFERROR(INDEX($H:$H,MATCH($M17,夏季休暇,),),"")&IFERROR(INDEX($K:$K,MATCH($M17,年末年始,),),"")} | P17: =IF(COUNTBLANK(N17:O17)=0,CHAR(10),"") | Q17: =O17&P17&N17 | R17: =IF(OR(TEXT(M17,"aaa")="土",TEXT(M17,"aaa")="日",O17<>""),1,0) -> 0
D18: 43661 | E18: 海の日 | G18: 47344 | H18: 夏季休暇 | J18: 46386 | K18: 年末年始 | M18: =IF('定義（記入例用）'!M17+1>'休日取得計画表・休日取得実績表（記入例）'!$I$5,"",'定義（記入例用）'!M17+1) -> 45805 | N18: {=IFERROR(INDEX($B:$B,MATCH($M18,$A:$A,),),"")} | O18: {=IFERROR(INDEX($E:$E,MATCH($M18,祝日,),),"")&IFERROR(INDEX($H:$H,MATCH($M18,夏季休暇,),),"")&IFERROR(INDEX($K:$K,MATCH($M18,年末年始,),),"")} | P18: =IF(COUNTBLANK(N18:O18)=0,CHAR(10),"") | Q18: =O18&P18&N18 | R18: =IF(OR(TEXT(M18,"aaa")="土",TEXT(M18,"aaa")="日",O18<>""),1,0) -> 0
D19: 43688 | E19: 山の日 | G19: 47345 | H19: 夏季休暇 | J19: 46387 | K19: 年末年始 | M19: =IF('定義（記入例用）'!M18+1>'休日取得計画表・休日取得実績表（記入例）'!$I$5,"",'定義（記入例用）'!M18+1) -> 45806 | N19: {=IFERROR(INDEX($B:$B,MATCH($M19,$A:$A,),),"")} | O19: {=IFERROR(INDEX($E:$E,MATCH($M19,祝日,),),"")&IFERROR(INDEX($H:$H,MATCH($M19,夏季休暇,),),"")&IFERROR(INDEX($K:$K,MATCH($M19,年末年始,),),"")} | P19: =IF(COUNTBLANK(N19:O19)=0,CHAR(10),"") | Q19: =O19&P19&N19 | R19: =IF(OR(TEXT(M19,"aaa")="土",TEXT(M19,"aaa")="日",O19<>""),1,0) -> 0
D20: 43689 | E20: 振替休日 | G20: 47707 | H20: 夏季休暇 | J20: 祝日のため除去 | K20: 年末年始 | M20: =IF('定義（記入例用）'!M19+1>'休日取得計画表・休日取得実績表（記入例）'!$I$5,"",'定義（記入例用）'!M19+1) -> 45807 | N20: {=IFERROR(INDEX($B:$B,MATCH($M20,$A:$A,),),"")} | O20: {=IFERROR(INDEX($E:$E,MATCH($M20,祝日,),),"")&IFERROR(INDEX($H:$H,MATCH($M20,夏季休暇,),),"")&IFERROR(INDEX($K:$K,MATCH($M20,年末年始,),),"")} | P20: =IF(COUNTBLANK(N20:O20)=0,CHAR(10),"") | Q20: =O20&P20&N20 | R20: =IF(OR(TEXT(M20,"aaa")="土",TEXT(M20,"aaa")="日",O20<>""),1,0) -> 0
D21: 43724 | E21: 敬老の日 | G21: 47708 | H21: 夏季休暇 | J21: 46389 | K21: 年末年始 | M21: =IF('定義（記入例用）'!M20+1>'休日取得計画表・休日取得実績表（記入例）'!$I$5,"",'定義（記入例用）'!M20+1) -> 45808 | N21: {=IFERROR(INDEX($B:$B,MATCH($M21,$A:$A,),),"")} | O21: {=IFERROR(INDEX($E:$E,MATCH($M21,祝日,),),"")&IFERROR(INDEX($H:$H,MATCH($M21,夏季休暇,),),"")&IFERROR(INDEX($K:$K,MATCH($M21,年末年始,),),"")} | P21: =IF(COUNTBLANK(N21:O21)=0,CHAR(10),"") | Q21: =O21&P21&N21 | R21: =IF(OR(TEXT(M21,"aaa")="土",TEXT(M21,"aaa")="日",O21<>""),1,0) -> 1
D22: 43731 | E22: 秋分の日 | G22: 47709 | H22: 夏季休暇 | J22: 46390 | K22: 年末年始 | M22: =IF('定義（記入例用）'!M21+1>'休日取得計画表・休日取得実績表（記入例）'!$I$5,"",'定義（記入例用）'!M21+1) -> 45809 | N22: {=IFERROR(INDEX($B:$B,MATCH($M22,$A:$A,),),"")} | O22: {=IFERROR(INDEX($E:$E,MATCH($M22,祝日,),),"")&IFERROR(INDEX($H:$H,MATCH($M22,夏季休暇,),),"")&IFERROR(INDEX($K:$K,MATCH($M22,年末年始,),),"")} | P22: =IF(COUNTBLANK(N22:O22)=0,CHAR(10),"") | Q22: =O22&P22&N22 | R22: =IF(OR(TEXT(M22,"aaa")="土",TEXT(M22,"aaa")="日",O22<>""),1,0) -> 1
D23: 43752 | E23: 体育の日 | J23: 46750 | K23: 年末年始 | M23: =IF('定義（記入例用）'!M22+1>'休日取得計画表・休日取得実績表（記入例）'!$I$5,"",'定義（記入例用）'!M22+1) -> 45810 | N23: {=IFERROR(INDEX($B:$B,MATCH($M23,$A:$A,),),"")} -> 現場着手 | O23: {=IFERROR(INDEX($E:$E,MATCH($M23,祝日,),),"")&IFERROR(INDEX($H:$H,MATCH($M23,夏季休暇,),),"")&IFERROR(INDEX($K:$K,MATCH($M23,年末年始,),),"")} | P23: =IF(COUNTBLANK(N23:O23)=0,CHAR(10),"") | Q23: =O23&P23&N23 -> 現場着手 | R23: =IF(OR(TEXT(M23,"aaa")="土",TEXT(M23,"aaa")="日",O23<>""),1,0) -> 0
D24: 43760 | E24: 即位礼正殿の儀 | J24: 46751 | K24: 年末年始 | M24: =IF('定義（記入例用）'!M23+1>'休日取得計画表・休日取得実績表（記入例）'!$I$5,"",'定義（記入例用）'!M23+1) -> 45811 | N24: {=IFERROR(INDEX($B:$B,MATCH($M24,$A:$A,),),"")} | O24: {=IFERROR(INDEX($E:$E,MATCH($M24,祝日,),),"")&IFERROR(INDEX($H:$H,MATCH($M24,夏季休暇,),),"")&IFERROR(INDEX($K:$K,MATCH($M24,年末年始,),),"")} | P24: =IF(COUNTBLANK(N24:O24)=0,CHAR(10),"") | Q24: =O24&P24&N24 | R24: =IF(OR(TEXT(M24,"aaa")="土",TEXT(M24,"aaa")="日",O24<>""),1,0) -> 0
D25: 43772 | E25: 文化の日 | J25: 46752 | K25: 年末年始 | M25: =IF('定義（記入例用）'!M24+1>'休日取得計画表・休日取得実績表（記入例）'!$I$5,"",'定義（記入例用）'!M24+1) -> 45812 | N25: {=IFERROR(INDEX($B:$B,MATCH($M25,$A:$A,),),"")} | O25: {=IFERROR(INDEX($E:$E,MATCH($M25,祝日,),),"")&IFERROR(INDEX($H:$H,MATCH($M25,夏季休暇,),),"")&IFERROR(INDEX($K:$K,MATCH($M25,年末年始,),),"")} | P25: =IF(COUNTBLANK(N25:O25)=0,CHAR(10),"") | Q25: =O25&P25&N25 | R25: =IF(OR(TEXT(M25,"aaa")="土",TEXT(M25,"aaa")="日",O25<>""),1,0) -> 0
D26: 43773 | E26: 振替休日 | J26: 祝日のため除去 | K26: 年末年始 | M26: =IF('定義（記入例用）'!M25+1>'休日取得計画表・休日取得実績表（記入例）'!$I$5,"",'定義（記入例用）'!M25+1) -> 45813 | N26: {=IFERROR(INDEX($B:$B,MATCH($M26,$A:$A,),),"")} | O26: {=IFERROR(INDEX($E:$E,MATCH($M26,祝日,),),"")&IFERROR(INDEX($H:$H,MATCH($M26,夏季休暇,),),"")&IFERROR(INDEX($K:$K,MATCH($M26,年末年始,),),"")} | P26: =IF(COUNTBLANK(N26:O26)=0,CHAR(10),"") | Q26: =O26&P26&N26 | R26: =IF(OR(TEXT(M26,"aaa")="土",TEXT(M26,"aaa")="日",O26<>""),1,0) -> 0
D27: 43792 | E27: 勤労感謝の日 | J27: 46754 | K27: 年末年始 | M27: =IF('定義（記入例用）'!M26+1>'休日取得計画表・休日取得実績表（記入例）'!$I$5,"",'定義（記入例用）'!M26+1) -> 45814 | N27: {=IFERROR(INDEX($B:$B,MATCH($M27,$A:$A,),),"")} | O27: {=IFERROR(INDEX($E:$E,MATCH($M27,祝日,),),"")&IFERROR(INDEX($H:$H,MATCH($M27,夏季休暇,),),"")&IFERROR(INDEX($K:$K,MATCH($M27,年末年始,),),"")} | P27: =IF(COUNTBLANK(N27:O27)=0,CHAR(10),"") | Q27: =O27&P27&N27 | R27: =IF(OR(TEXT(M27,"aaa")="土",TEXT(M27,"aaa")="日",O27<>""),1,0) -> 0
J28: 46755 | K28: 年末年始 | M28: =IF('定義（記入例用）'!M27+1>'休日取得計画表・休日取得実績表（記入例）'!$I$5,"",'定義（記入例用）'!M27+1) -> 45815 | N28: {=IFERROR(INDEX($B:$B,MATCH($M28,$A:$A,),),"")} | O28: {=IFERROR(INDEX($E:$E,MATCH($M28,祝日,),),"")&IFERROR(INDEX($H:$H,MATCH($M28,夏季休暇,),),"")&IFERROR(INDEX($K:$K,MATCH($M28,年末年始,),),"")} | P28: =IF(COUNTBLANK(N28:O28)=0,CHAR(10),"") | Q28: =O28&P28&N28 | R28: =IF(OR(TEXT(M28,"aaa")="土",TEXT(M28,"aaa")="日",O28<>""),1,0) -> 1
D29: 43831 | E29: 元日 | J29: 47116 | K29: 年末年始 | M29: =IF('定義（記入例用）'!M28+1>'休日取得計画表・休日取得実績表（記入例）'!$I$5,"",'定義（記入例用）'!M28+1) -> 45816 | N29: {=IFERROR(INDEX($B:$B,MATCH($M29,$A:$A,),),"")} | O29: {=IFERROR(INDEX($E:$E,MATCH($M29,祝日,),),"")&IFERROR(INDEX($H:$H,MATCH($M29,夏季休暇,),),"")&IFERROR(INDEX($K:$K,MATCH($M29,年末年始,),),"")} | P29: =IF(COUNTBLANK(N29:O29)=0,CHAR(10),"") | Q29: =O29&P29&N29 | R29: =IF(OR(TEXT(M29,"aaa")="土",TEXT(M29,"aaa")="日",O29<>""),1,0) -> 1
D30: 43843 | E30: 成人の日 | J30: 47117 | K30: 年末年始 | M30: =IF('定義（記入例用）'!M29+1>'休日取得計画表・休日取得実績表（記入例）'!$I$5,"",'定義（記入例用）'!M29+1) -> 45817 | N30: {=IFERROR(INDEX($B:$B,MATCH($M30,$A:$A,),),"")} | O30: {=IFERROR(INDEX($E:$E,MATCH($M30,祝日,),),"")&IFERROR(INDEX($H:$H,MATCH($M30,夏季休暇,),),"")&IFERROR(INDEX($K:$K,MATCH($M30,年末年始,),),"")} | P30: =IF(COUNTBLANK(N30:O30)=0,CHAR(10),"") | Q30: =O30&P30&N30 | R30: =IF(OR(TEXT(M30,"aaa")="土",TEXT(M30,"aaa")="日",O30<>""),1,0) -> 0
D31: 43872 | E31: 建国記念の日 | J31: 47118 | K31: 年末年始 | M31: =IF('定義（記入例用）'!M30+1>'休日取得計画表・休日取得実績表（記入例）'!$I$5,"",'定義（記入例用）'!M30+1) -> 45818 | N31: {=IFERROR(INDEX($B:$B,MATCH($M31,$A:$A,),),"")} | O31: {=IFERROR(INDEX($E:$E,MATCH($M31,祝日,),),"")&IFERROR(INDEX($H:$H,MATCH($M31,夏季休暇,),),"")&IFERROR(INDEX($K:$K,MATCH($M31,年末年始,),),"")} | P31: =IF(COUNTBLANK(N31:O31)=0,CHAR(10),"") | Q31: =O31&P31&N31 | R31: =IF(OR(TEXT(M31,"aaa")="土",TEXT(M31,"aaa")="日",O31<>""),1,0) -> 0
D32: 43884 | E32: 天皇誕生日 | J32: 祝日のため除去 | K32: 年末年始 | M32: =IF('定義（記入例用）'!M31+1>'休日取得計画表・休日取得実績表（記入例）'!$I$5,"",'定義（記入例用）'!M31+1) -> 45819 | N32: {=IFERROR(INDEX($B:$B,MATCH($M32,$A:$A,),),"")} | O32: {=IFERROR(INDEX($E:$E,MATCH($M32,祝日,),),"")&IFERROR(INDEX($H:$H,MATCH($M32,夏季休暇,),),"")&IFERROR(INDEX($K:$K,MATCH($M32,年末年始,),),"")} | P32: =IF(COUNTBLANK(N32:O32)=0,CHAR(10),"") | Q32: =O32&P32&N32 | R32: =IF(OR(TEXT(M32,"aaa")="土",TEXT(M32,"aaa")="日",O32<>""),1,0) -> 0
D33: 43885 | E33: 振替休日 | J33: 47120 | K33: 年末年始 | M33: =IF('定義（記入例用）'!M32+1>'休日取得計画表・休日取得実績表（記入例）'!$I$5,"",'定義（記入例用）'!M32+1) -> 45820 | N33: {=IFERROR(INDEX($B:$B,MATCH($M33,$A:$A,),),"")} | O33: {=IFERROR(INDEX($E:$E,MATCH($M33,祝日,),),"")&IFERROR(INDEX($H:$H,MATCH($M33,夏季休暇,),),"")&IFERROR(INDEX($K:$K,MATCH($M33,年末年始,),),"")} | P33: =IF(COUNTBLANK(N33:O33)=0,CHAR(10),"") | Q33: =O33&P33&N33 | R33: =IF(OR(TEXT(M33,"aaa")="土",TEXT(M33,"aaa")="日",O33<>""),1,0) -> 0
D34: 43910 | E34: 春分の日 | J34: 47121 | K34: 年末年始 | M34: =IF('定義（記入例用）'!M33+1>'休日取得計画表・休日取得実績表（記入例）'!$I$5,"",'定義（記入例用）'!M33+1) -> 45821 | N34: {=IFERROR(INDEX($B:$B,MATCH($M34,$A:$A,),),"")} | O34: {=IFERROR(INDEX($E:$E,MATCH($M34,祝日,),),"")&IFERROR(INDEX($H:$H,MATCH($M34,夏季休暇,),),"")&IFERROR(INDEX($K:$K,MATCH($M34,年末年始,),),"")} | P34: =IF(COUNTBLANK(N34:O34)=0,CHAR(10),"") | Q34: =O34&P34&N34 | R34: =IF(OR(TEXT(M34,"aaa")="土",TEXT(M34,"aaa")="日",O34<>""),1,0) -> 0
D35: 43950 | E35: 昭和の日 | J35: 47481 | K35: 年末年始 | M35: =IF('定義（記入例用）'!M34+1>'休日取得計画表・休日取得実績表（記入例）'!$I$5,"",'定義（記入例用）'!M34+1) -> 45822 | N35: {=IFERROR(INDEX($B:$B,MATCH($M35,$A:$A,),),"")} | O35: {=IFERROR(INDEX($E:$E,MATCH($M35,祝日,),),"")&IFERROR(INDEX($H:$H,MATCH($M35,夏季休暇,),),"")&IFERROR(INDEX($K:$K,MATCH($M35,年末年始,),),"")} | P35: =IF(COUNTBLANK(N35:O35)=0,CHAR(10),"") | Q35: =O35&P35&N35 | R35: =IF(OR(TEXT(M35,"aaa")="土",TEXT(M35,"aaa")="日",O35<>""),1,0) -> 1
D36: 43954 | E36: 憲法記念日 | J36: 47482 | K36: 年末年始 | M36: =IF('定義（記入例用）'!M35+1>'休日取得計画表・休日取得実績表（記入例）'!$I$5,"",'定義（記入例用）'!M35+1) -> 45823 | N36: {=IFERROR(INDEX($B:$B,MATCH($M36,$A:$A,),),"")} | O36: {=IFERROR(INDEX($E:$E,MATCH($M36,祝日,),),"")&IFERROR(INDEX($H:$H,MATCH($M36,夏季休暇,),),"")&IFERROR(INDEX($K:$K,MATCH($M36,年末年始,),),"")} | P36: =IF(COUNTBLANK(N36:O36)=0,CHAR(10),"") | Q36: =O36&P36&N36 | R36: =IF(OR(TEXT(M36,"aaa")="土",TEXT(M36,"aaa")="日",O36<>""),1,0) -> 1
D37: 43955 | E37: みどりの日 | J37: 47483 | K37: 年末年始 | M37: =IF('定義（記入例用）'!M36+1>'休日取得計画表・休日取得実績表（記入例）'!$I$5,"",'定義（記入例用）'!M36+1) -> 45824 | N37: {=IFERROR(INDEX($B:$B,MATCH($M37,$A:$A,),),"")} | O37: {=IFERROR(INDEX($E:$E,MATCH($M37,祝日,),),"")&IFERROR(INDEX($H:$H,MATCH($M37,夏季休暇,),),"")&IFERROR(INDEX($K:$K,MATCH($M37,年末年始,),),"")} | P37: =IF(COUNTBLANK(N37:O37)=0,CHAR(10),"") | Q37: =O37&P37&N37 | R37: =IF(OR(TEXT(M37,"aaa")="土",TEXT(M37,"aaa")="日",O37<>""),1,0) -> 0
D38: 43956 | E38: こどもの日 | J38: 祝日のため除去 | K38: 年末年始 | M38: =IF('定義（記入例用）'!M37+1>'休日取得計画表・休日取得実績表（記入例）'!$I$5,"",'定義（記入例用）'!M37+1) -> 45825 | N38: {=IFERROR(INDEX($B:$B,MATCH($M38,$A:$A,),),"")} | O38: {=IFERROR(INDEX($E:$E,MATCH($M38,祝日,),),"")&IFERROR(INDEX($H:$H,MATCH($M38,夏季休暇,),),"")&IFERROR(INDEX($K:$K,MATCH($M38,年末年始,),),"")} | P38: =IF(COUNTBLANK(N38:O38)=0,CHAR(10),"") | Q38: =O38&P38&N38 | R38: =IF(OR(TEXT(M38,"aaa")="土",TEXT(M38,"aaa")="日",O38<>""),1,0) -> 0
D39: 43957 | E39: 振替休日 | J39: 47485 | K39: 年末年始 | M39: =IF('定義（記入例用）'!M38+1>'休日取得計画表・休日取得実績表（記入例）'!$I$5,"",'定義（記入例用）'!M38+1) -> 45826 | N39: {=IFERROR(INDEX($B:$B,MATCH($M39,$A:$A,),),"")} | O39: {=IFERROR(INDEX($E:$E,MATCH($M39,祝日,),),"")&IFERROR(INDEX($H:$H,MATCH($M39,夏季休暇,),),"")&IFERROR(INDEX($K:$K,MATCH($M39,年末年始,),),"")} | P39: =IF(COUNTBLANK(N39:O39)=0,CHAR(10),"") | Q39: =O39&P39&N39 | R39: =IF(OR(TEXT(M39,"aaa")="土",TEXT(M39,"aaa")="日",O39<>""),1,0) -> 0
D40: 44035 | E40: 海の日 | J40: 47486 | K40: 年末年始 | M40: =IF('定義（記入例用）'!M39+1>'休日取得計画表・休日取得実績表（記入例）'!$I$5,"",'定義（記入例用）'!M39+1) -> 45827 | N40: {=IFERROR(INDEX($B:$B,MATCH($M40,$A:$A,),),"")} | O40: {=IFERROR(INDEX($E:$E,MATCH($M40,祝日,),),"")&IFERROR(INDEX($H:$H,MATCH($M40,夏季休暇,),),"")&IFERROR(INDEX($K:$K,MATCH($M40,年末年始,),),"")} | P40: =IF(COUNTBLANK(N40:O40)=0,CHAR(10),"") | Q40: =O40&P40&N40 | R40: =IF(OR(TEXT(M40,"aaa")="土",TEXT(M40,"aaa")="日",O40<>""),1,0) -> 0
...

Sheet 休日取得計画表・休日取得実績表（記入例）
B1: 休日等取得計画・休日等取得実績表 | AI1: （様式３）
AE2: 計画休日数 | AH2: =SUM(AK:AK) -> 87 | AJ2: =IF(AH2<SUM(AM:AM),"計画休日数が足りていません。","")
B3: 週休2日の種類 | F3: 発注者指定型 | AE3: 実績休日数 | AH3: =SUM(AO:AO) -> 90
B4: 工事名 | D4: ○○工事 | AE4: 必要現場閉所日数 | AH4: =SUM(AQ:AQ) -> 87
B5: 期間 | D5: 45789 | H5: ～ | I5: 46100 | N5: 着手日 | O5: 45810 | T5: 完成通知書提出日 | AC5: 判定結果（実績）： | AF5: =IF(AH2=0,"",IF(AH3>=AH2,"週休２日達成","不達成")) -> 週休２日達成
I6: =IF(D5>I5,"▲確認：工期末が工期始まりより早いです。","") | T6: （工期内に完成の場合入力）
B7: 月 | C7: =DATE(YEAR(D5),MONTH(D5),1) -> 45778 | AH7: 月計 | AI7: 累計 | AK7: 計画時点 | AO7: 実績
