Workbook

Sheet ◆生徒情報入力用シート
C3: 日付 | E3: 令和 | H3: 年 | J3: 月 | L3: 日
C5: ◆ 中学校等の情報 | X5: ◆ 志願者の情報
C6: 学校名 | M6: 高等学校 | X6: 志願者名
C8: 中学校等名・校長氏名 | X8: フリガナ
C9: ※入力例 ： 島根町立島根中学校 宍道 花子
C10: 記載者氏名 | X10: 生年月日 | AA10: 西暦 | AE10: 年 | AG10: 月 | AI10: 日生 | AO10: 〇
C12: 連絡先（電話番号） | X12: 志願者の在籍又は出身中学校等名
C14: ◆ 特別措置に係る内容
C15: 区分 | G15: 帰国・外国人生徒 | P15: 特別な配慮や支援を必要とする生徒
E16: ↑ 該当箇所に〇を記入してください。
C17: 医師の診断名等
C20: 中学校等における配慮及び支援状況 | O20: ※セル内に連続してご記入ください。
C23: 特色選抜 １校目 | AK23: 特色選抜 ２校目 | BS23: 特色選抜 ３校目 | DA23: 特色選抜 ４校目
C24: 志願先高等学校名 | P24: 高等学校 | Y24: 科 | AK24: 志願先高等学校名 | AX24: 高等学校 | BG24: 科 | BS24: 志願先高等学校名 | CF24: 高等学校 | CO24: 科 | DA24: 志願先高等学校名 | DN24: 高等学校 | DW24: 科
C25: 検査内容 | K25: 総合選抜 | S25: 中高一貫特別選抜 | AA25: スポーツ特別選抜 | AK25: 検査内容 | AS25: 総合選抜 | BA25: 中高一貫特別選抜 | BI25: スポーツ特別選抜 | BS25: 検査内容 | CA25: 総合選抜 | CI25: 中高一貫特別選抜 | CQ25: スポーツ特別選抜 | DA25: 検査内容 | DI25: 総合選抜 | DQ25: 中高一貫特別選抜 | DY25: スポーツ特別選抜
B26: ※該当する箇所のみ記入する。 | C26: 希望する配慮事項 | D26: 学力検査 | AG26: ※該当する箇所のみ記入する。 | AJ26: ※該当する箇所のみ記入する。 | AK26: 希望する配慮事項 | AL26: 学力検査 | BO26: ※該当する箇所のみ記入する。 | BR26: ※該当する箇所のみ記入する。 | BS26: 希望する配慮事項 | BT26: 学力検査 | CW26: ※該当する箇所のみ記入する。 | CZ26: ※該当する箇所のみ記入する。 | DA26: 希望する配慮事項 | DB26: 学力検査 | EE26: ※該当する箇所のみ記入する。
D27: 面接・口頭試問 | AL27: 面接・口頭試問 | BT27: 面接・口頭試問 | DB27: 面接・口頭試問
D28: 作文・小論文 | AL28: 作文・小論文 | BT28: 作文・小論文 | DB28: 作文・小論文
D29: ﾌﾟﾚｾﾞﾝﾃｰｼｮﾝ | AL29: ﾌﾟﾚｾﾞﾝﾃｰｼｮﾝ | BT29: ﾌﾟﾚｾﾞﾝﾃｰｼｮﾝ | DB29: ﾌﾟﾚｾﾞﾝﾃｰｼｮﾝ
D30: 実技 | AL30: 実技 | BT30: 実技 | DB30: 実技
D31: その他 | AL31: その他 | BT31: その他 | DB31: その他
C33: 一般選抜 １校目 | AK33: 一般選抜 ２校目 | BS33: 一般選抜 ３校目 | DA33: 一般選抜 ４校目
C34: 志願先高等学校名 | P34: 高等学校 | Y34: 科（部） | AK34: 志願先高等学校名 | AX34: 高等学校 | BG34: 科（部） | BS34: 志願先高等学校名 | CF34: 高等学校 | CO34: 科（部） | DA34: 志願先高等学校名 | DN34: 高等学校 | DW34: 科（部）
B35: 該当する箇所のみ記入 | C35: 希望する配慮事項 | D35: 学力検査 | AG35: 該当する箇所のみ記入 | AJ35: 該当する箇所のみ記入 | AK35: 希望する配慮事項 | AL35: 学力検査 | BO35: 該当する箇所のみ記入 | BR35: 該当する箇所のみ記入 | BS35: 希望する配慮事項 | BT35: 学力検査 | CW35: 該当する箇所のみ記入 | CZ35: 該当する箇所のみ記入 | DA35: 希望する配慮事項 | DB35: 学力検査 | EE35: 該当する箇所のみ記入
D36: 面接 | AL36: 面接 | BT36: 面接 | DB36: 面接
D37: 実技 | AL37: 実技 | BT37: 実技 | DB37: 実技
D38: その他 | AL38: その他 | BT38: その他 | DB38: その他

Sheet 様式第12号①
B1: (様式第12号)
U2: 令和 | W2: =◆生徒情報入力用シート!G3 -> 0 | Y2: 年 | AA2: =◆生徒情報入力用シート!I3 -> 0 | AC2: 月 | AD2: =◆生徒情報入力用シート!K3 -> 0 | AF2: 日
C3: 島根県教育委員会教育長 様
U5: 中学校等名・校長氏名 | W5: =◆生徒情報入力用シート!J8 -> 0
U6: 記載者氏名 | W6: =◆生徒情報入力用シート!G10 -> 0
U7: 連絡先 | W7: =◆生徒情報入力用シート!I12 -> 0
B9: 公立高等学校入学者選抜における特別措置に係る事前連絡書
B11: 志願者 | C11: フリガナ | D11: =◆生徒情報入力用シート!AA8 -> 0
C12: 氏 名 | D12: =◆生徒情報入力用シート!AA6 -> 0
C13: 生年月日 | H13: 西暦 | J13: =◆生徒情報入力用シート!AC10 -> 0 | M13: 年 | O13: =◆生徒情報入力用シート!AF10 -> 0 | Q13: 月 | S13: =◆生徒情報入力用シート!AH10 -> 0 | U13: 日生
C14: 在籍又は 出身中学校等名 | D14: =◆生徒情報入力用シート!X13 -> 0
B15: 特別措置の区分
E16: =◆生徒情報入力用シート!E15 -> 0 | F16: 帰国・外国人生徒等 | O16: =◆生徒情報入力用シート!N15 -> 0 | P16: 特別な配慮や支援を必要とする生徒
B18: 医師の診断名等 | D18: =◆生徒情報入力用シート!C18 -> 0
B19: 中学校等における配慮 及び支援状況 | D19: =◆生徒情報入力用シート!C21 -> 0
B21: 特色選抜 | C21: 志願先高等学校名 及び検査内容 | D21: =◆生徒情報入力用シート!I24 -> 0 | N21: 高等学校 | R21: =◆生徒情報入力用シート!S24 -> 0 | AC21: 科
E23: =◆生徒情報入力用シート!I25 -> 0 | F23: 総合選抜 | M23: =◆生徒情報入力用シート!Q25 -> 0 | N23: 中高一貫特別選抜 | W23: =◆生徒情報入力用シート!Y25 -> 0 | X23: スポーツ特別選抜
C25: 希望する配慮事項 | D25: 学力検査 | I25: =◆生徒情報入力用シート!I26 -> 0
D30: 面 接 口頭試問 | I30: =◆生徒情報入力用シート!I27 -> 0
D35: 作 文 小論文 | I35: =◆生徒情報入力用シート!I28 -> 0
D40: ﾌﾟﾚｾﾞﾝﾃｰｼｮﾝ | I40: =◆生徒情報入力用シート!I29 -> 0
C42: ※ 該当する箇所に 記載する。
D45: 実 技 | I45: =◆生徒情報入力用シート!I30 -> 0
D50: その他 | I50: =◆生徒情報入力用シート!I31 -> 0
B56: 一般選抜 | C56: 志願先高等学校名 及び検査内容 | D56: =◆生徒情報入力用シート!I34 -> 0 | N56: 高等学校 | R56: =◆生徒情報入力用シート!S34 -> 0 | AC56: 科（部）
C57: 希望する配慮事項 | D57: 学力検査 | I57: =◆生徒情報入力用シート!I35 -> 0
D62: 面 接 | I62: =◆生徒情報入力用シート!I36 -> 0
D67: 実 技 | I67: =◆生徒情報入力用シート!I37 -> 0
C69: ※ 該当する箇所に 記載する。
D72: その他 | I72: =◆生徒情報入力用シート!I38 -> 0
B77: （注）１ 各選抜において，出願を検討しているすべての学校について作成し，それぞれ提出すること。
B78: （注）２ 併記してある事項は，〇か✓を記入すること。
B79: （注）３ 医師の診断名等は，特別措置の区分が「特別な配慮や支援を必要とする生徒」の場合，記入すること。
B80: （注）４ 希望する配慮事項は、中学校等における配慮及び支援状況をふまえ、実施要綱に記載された例を参考に具体的に記入すること。
B81: （注）５ 個別の教育支援計画（写し）又は個別の指導計画（写し）を添付して提出すること。
B82: （注）６ 帰国・外国人生徒等の特別措置を希望する場合，海外在住状況説明書（様式第10号）を添付して提出すること。 （様式第10号を，すでに教育委員会に提出しているものは不要）

Sheet 第12号②
B1: (様式第12号)
U2: 令和 | W2: =◆生徒情報入力用シート!G3 -> 0 | Y2: 年 | AA2: =◆生徒情報入力用シート!I3 -> 0 | AC2: 月 | AD2: =◆生徒情報入力用シート!K3 -> 0 | AF2: 日
C3: 島根県教育委員会教育長 様
U5: 中学校等名・校長氏名 | W5: =◆生徒情報入力用シート!J8 -> 0
U6: 記載者氏名 | W6: =◆生徒情報入力用シート!G10 -> 0
U7: 連絡先 | W7: =◆生徒情報入力用シート!I12 -> 0
B9: 公立高等学校入学者選抜における特別措置に係る事前連絡書
B11: 志願者 | C11: フリガナ | D11: =◆生徒情報入力用シート!AA8 -> 0
C12: 氏 名 | D12: =◆生徒情報入力用シート!AA6 -> 0
C13: 生年月日 | H13: 西暦 | J13: =◆生徒情報入力用シート!AC10 -> 0 | M13: 年 | O13: =◆生徒情報入力用シート!AF10 -> 0 | Q13: 月 | S13: =◆生徒情報入力用シート!AH10 -> 0 | U13: 日生
C14: 在籍又は 出身中学校等名 | D14: =◆生徒情報入力用シート!X13 -> 0
B15: 特別措置の区分
E16: =◆生徒情報入力用シート!E15 -> 0 | F16: 帰国・外国人生徒等 | O16: =◆生徒情報入力用シート!N15 -> 0 | P16: 特別な配慮や支援を必要とする生徒
B18: 医師の診断名等 | D18: =◆生徒情報入力用シート!C18 -> 0
B19: 中学校等における配慮 及び支援状況 | D19: =◆生徒情報入力用シート!C21 -> 0
B21: 特色選抜 | C21: 志願先高等学校名 及び検査内容 | D21: =◆生徒情報入力用シート!AQ24 -> 0 | N21: 高等学校 | R21: =◆生徒情報入力用シート!BA24 -> 0 | AC21: 科
E23: =◆生徒情報入力用シート!AQ25 -> 0 | F23: 総合選抜 | M23: =◆生徒情報入力用シート!AY25 -> 0 | N23: 中高一貫特別選抜 | W23: =◆生徒情報入力用シート!BG25 -> 0 | X23: スポーツ特別選抜
C25: 希望する配慮事項 | D25: 学力検査 | I25: =◆生徒情報入力用シート!AQ26 -> 0
D30: 面 接 口頭試問 | I30: =◆生徒情報入力用シート!AQ27 -> 0
D35: 作 文 小論文 | I35: =◆生徒情報入力用シート!AQ28 -> 0
D40: ﾌﾟﾚｾﾞﾝﾃｰｼｮﾝ | I40: =◆生徒情報入力用シート!AQ29 -> 0
C42: ※ 該当する箇所に 記載する。
D45: 実 技 | I45: =◆生徒情報入力用シート!AQ30 -> 0
D50: その他 | I50: =◆生徒情報入力用シート!AQ31 -> 0
B56: 一般選抜 | C56: 志願先高等学校名 及び検査内容 | D56: =◆生徒情報入力用シート!AQ34 -> 0 | N56: 高等学校 | R56: =◆生徒情報入力用シート!BA34 -> 0 | AC56: 科（部）
C57: 希望する配慮事項 | D57: 学力検査 | I57: =◆生徒情報入力用シート!AQ35 -> 0
D62: 面 接 | I62: =◆生徒情報入力用シート!AQ36 -> 0
D67: 実 技 | I67: =◆生徒情報入力用シート!AQ37 -> 0
C69: ※ 該当する箇所に 記載する。
D72: その他 | I72: =◆生徒情報入力用シート!AQ38 -> 0
B77: （注）１ 各選抜において，出願を検討しているすべての学校について作成し，それぞれ提出すること。
B78: （注）２ 併記してある事項は，〇か✓を記入すること。
B79: （注）３ 医師の診断名等は，特別措置の区分が「特別な配慮や支援を必要とする生徒」の場合，記入すること。
B80: （注）４ 希望する配慮事項は、中学校等における配慮及び支援状況をふまえ、実施要綱に記載された例を参考に具体的に記入すること。
B81: （注）５ 個別の教育支援計画（写し）又は個別の指導計画（写し）を添付して提出すること。
B82: （注）６ 帰国・外国人生徒等の特別措置を希望する場合，海外在住状況説明書（様式第10号）を添付して提出すること。 （様式第10号を，すでに教育委員会に提出しているものは不要）

Sheet 第12号③
B1: (様式第12号)
U2: 令和 | W2: =◆生徒情報入力用シート!G3 -> 0 | Y2: 年 | AA2: =◆生徒情報入力用シート!I3 -> 0 | AC2: 月 | AD2: =◆生徒情報入力用シート!K3 -> 0 | AF2: 日
C3: 島根県教育委員会教育長 様
U5: 中学校等名・校長氏名 | W5: =◆生徒情報入力用シート!J8 -> 0
U6: 記載者氏名 | W6: =◆生徒情報入力用シート!G10 -> 0
U7: 連絡先 | W7: =◆生徒情報入力用シート!I12 -> 0
B9: 公立高等学校入学者選抜における特別措置に係る事前連絡書
B11: 志願者 | C11: フリガナ | D11: =◆生徒情報入力用シート!AA8 -> 0
C12: 氏 名 | D12: =◆生徒情報入力用シート!AA6 -> 0
C13: 生年月日 | H13: 西暦 | J13: =◆生徒情報入力用シート!AC10 -> 0 | M13: 年 | O13: =◆生徒情報入力用シート!AF10 -> 0 | Q13: 月 | S13: =◆生徒情報入力用シート!AH10 -> 0 | U13: 日生
C14: 在籍又は 出身中学校等名 | D14: =◆生徒情報入力用シート!X13 -> 0
B15: 特別措置の区分
E16: =◆生徒情報入力用シート!E15 -> 0 | F16: 帰国・外国人生徒等 | O16: =◆生徒情報入力用シート!N15 -> 0 | P16: 特別な配慮や支援を必要とする生徒
B18: 医師の診断名等 | D18: =◆生徒情報入力用シート!C18 -> 0
B19: 中学校等における配慮 及び支援状況 | D19: =◆生徒情報入力用シート!C21 -> 0
B21: 特色選抜 | C21: 志願先高等学校名 及び検査内容 | D21: =◆生徒情報入力用シート!BY24 -> 0 | N21: 高等学校 | R21: =◆生徒情報入力用シート!CI24 -> 0 | AC21: 科
E23: =◆生徒情報入力用シート!BY25 -> 0 | F23: 総合選抜 | M23: =◆生徒情報入力用シート!CG25 -> 0 | N23: 中高一貫特別選抜 | W23: =◆生徒情報入力用シート!CO25 -> 0 | X23: スポーツ特別選抜
C25: 希望する配慮事項 | D25: 学力検査 | I25: =◆生徒情報入力用シート!BY26 -> 0
D30: 面 接 口頭試問 | I30: =◆生徒情報入力用シート!BY27 -> 0
D35: 作 文 小論文 | I35: =◆生徒情報入力用シート!BY28 -> 0
D40: ﾌﾟﾚｾﾞﾝﾃｰｼｮﾝ | I40: =◆生徒情報入力用シート!BY29 -> 0
C42: ※ 該当する箇所に 記載する。
D45: 実 技 | I45: =◆生徒情報入力用シート!BY30 -> 0
D50: その他 | I50: =◆生徒情報入力用シート!BY31 -> 0
B56: 一般選抜 | C56: 志願先高等学校名 及び検査内容 | D56: =◆生徒情報入力用シート!BY34 -> 0 | N56: 高等学校 | R56: =◆生徒情報入力用シート!CI34 -> 0 | AC56: 科（部）
C57: 希望する配慮事項 | D57: 学力検査 | I57: =◆生徒情報入力用シート!BY35 -> 0
D62: 面 接 | I62: =◆生徒情報入力用シート!BY36 -> 0
D67: 実 技 | I67: =◆生徒情報入力用シート!BY37 -> 0
C69: ※ 該当する箇所に 記載する。
D72: その他 | I72: =◆生徒情報入力用シート!BY38 -> 0
B77: （注）１ 各選抜において，出願を検討しているすべての学校について作成し，それぞれ提出すること。
B78: （注）２ 併記してある事項は，〇か✓を記入すること。
B79: （注）３ 医師の診断名等は，特別措置の区分が「特別な配慮や支援を必要とする生徒」の場合，記入すること。
B80: （注）４ 希望する配慮事項は、中学校等における配慮及び支援状況をふまえ、実施要綱に記載された例を参考に具体的に記入すること。
B81: （注）５ 個別の教育支援計画（写し）又は個別の指導計画（写し）を添付して提出すること。
B82: （注）６ 帰国・外国人生徒等の特別措置を希望する場合，海外在住状況説明書（様式第10号）を添付して提出すること。 （様式第10号を，すでに教育委員会に提出しているものは不要）

Sheet 第12号④
B1: (様式第12号)
U2: 令和 | W2: =◆生徒情報入力用シート!G3 -> 0 | Y2: 年 | AA2: =◆生徒情報入力用シート!I3 -> 0 | AC2: 月 | AD2: =◆生徒情報入力用シート!K3 -> 0 | AF2: 日
C3: 島根県教育委員会教育長 様
U5: 中学校等名・校長氏名 | W5: =◆生徒情報入力用シート!J8 -> 0
U6: 記載者氏名 | W6: =◆生徒情報入力用シート!G10 -> 0
U7: 連絡先 | W7: =◆生徒情報入力用シート!I12 -> 0
B9: 公立高等学校入学者選抜における特別措置に係る事前連絡書
B11: 志願者 | C11: フリガナ | D11: =◆生徒情報入力用シート!AA8 -> 0
C12: 氏 名 | D12: =◆生徒情報入力用シート!AA6 -> 0
C13: 生年月日 | H13: 西暦 | J13: =◆生徒情報入力用シート!AC10 -> 0 | M13: 年 | O13: =◆生徒情報入力用シート!AF10 -> 0 | Q13: 月 | S13: =◆生徒情報入力用シート!AH10 -> 0 | U13: 日生
C14: 在籍又は 出身中学校等名 | D14: =◆生徒情報入力用シート!X13 -> 0
B15: 特別措置の区分
E16: =◆生徒情報入力用シート!E15 -> 0 | F16: 帰国・外国人生徒等 | O16: =◆生徒情報入力用シート!N15 -> 0 | P16: 特別な配慮や支援を必要とする生徒
B18: 医師の診断名等 | D18: =◆生徒情報入力用シート!C18 -> 0
B19: 中学校等における配慮 及び支援状況 | D19: =◆生徒情報入力用シート!C21 -> 0
B21: 特色選抜 | C21: 志願先高等学校名 及び検査内容 | D21: =◆生徒情報入力用シート!DG24 -> 0 | N21: 高等学校 | R21: =◆生徒情報入力用シート!DQ24 -> 0 | AC21: 科
E23: =◆生徒情報入力用シート!DG25 -> 0 | F23: 総合選抜 | M23: =◆生徒情報入力用シート!DO25 -> 0 | N23: 中高一貫特別選抜 | W23: =◆生徒情報入力用シート!DW25 -> 0 | X23: スポーツ特別選抜
C25: 希望する配慮事項 | D25: 学力検査 | I25: =◆生徒情報入力用シート!DG26 -> 0
D30: 面 接 口頭試問 | I30: =◆生徒情報入力用シート!DG27 -> 0
D35: 作 文 小論文 | I35: =◆生徒情報入力用シート!DG28 -> 0
D40: ﾌﾟﾚｾﾞﾝﾃｰｼｮﾝ | I40: =◆生徒情報入力用シート!DG29 -> 0
C42: ※ 該当する箇所に 記載する。
D45: 実 技 | I45: =◆生徒情報入力用シート!DG30 -> 0
D50: その他 | I50: =◆生徒情報入力用シート!DG31 -> 0
B56: 一般選抜 | C56: 志願先高等学校名 及び検査内容 | D56: =◆生徒情報入力用シート!DG34 -> 0 | N56: 高等学校 | R56: =◆生徒情報入力用シート!DQ34 -> 0 | AC56: 科（部）
C57: 希望する配慮事項 | D57: 学力検査 | I57: =◆生徒情報入力用シート!DG35 -> 0
D62: 面 接 | I62: =◆生徒情報入力用シート!DG36 -> 0
D67: 実 技 | I67: =◆生徒情報入力用シート!DG37 -> 0
C69: ※ 該当する箇所に 記載する。
D72: その他 | I72: =◆生徒情報入力用シート!DG38 -> 0
B77: （注）１ 各選抜において，出願を検討しているすべての学校について作成し，それぞれ提出すること。
B78: （注）２ 併記してある事項は，〇か✓を記入すること。
B79: （注）３ 医師の診断名等は，特別措置の区分が「特別な配慮や支援を必要とする生徒」の場合，記入すること。
B80: （注）４ 希望する配慮事項は、中学校等における配慮及び支援状況をふまえ、実施要綱に記載された例を参考に具体的に記入すること。
B81: （注）５ 個別の教育支援計画（写し）又は個別の指導計画（写し）を添付して提出すること。
B82: （注）６ 帰国・外国人生徒等の特別措置を希望する場合，海外在住状況説明書（様式第10号）を添付して提出すること。 （様式第10号を，すでに教育委員会に提出しているものは不要）

Sheet 第12号の2(特色①)
B1: (様式第12号の２（特色選抜用）)
U2: 令和 | W2: =◆生徒情報入力用シート!G3 -> 0 | Y2: 年 | AA2: =◆生徒情報入力用シート!I3 -> 0 | AC2: 月 | AD2: =◆生徒情報入力用シート!K3 -> 0 | AF2: 日
C3: =◆生徒情報入力用シート!I24 -> 0 | D3: 高等学校長 様
U5: 中学校等名・校長氏名 | W5: =◆生徒情報入力用シート!J8 -> 0
U6: 記載者氏名 | W6: =◆生徒情報入力用シート!G10 -> 0
U7: 連絡先 | W7: =◆生徒情報入力用シート!I12 -> 0
B9: 公立高等学校入学者選抜における特別措置に係る事前連絡書
B11: 志願者 | C11: フリガナ | D11: =◆生徒情報入力用シート!AA8 -> 0
C12: 氏 名 | D12: =◆生徒情報入力用シート!AA6 -> 0
C13: 生年月日 | I13: 西暦 | J13: =◆生徒情報入力用シート!AC10 -> 0 | M13: 年 | O13: =◆生徒情報入力用シート!AF10 -> 0 | Q13: 月 | S13: =◆生徒情報入力用シート!AH10 -> 0 | U13: 日生
C14: 在籍又は 出身中学校等名 | D14: =◆生徒情報入力用シート!X13 -> 0
B15: 特別措置の区分
E16: =◆生徒情報入力用シート!E15 -> 0 | F16: 帰国・外国人生徒等 | O16: =◆生徒情報入力用シート!N15 -> 0 | P16: 特別な配慮や支援を必要とする生徒
B18: 医師の診断名等 | D18: =◆生徒情報入力用シート!C18 -> 0
B19: 中学校等における配慮 及び支援状況 | D19: =◆生徒情報入力用シート!C21 -> 0
B21: 特色選抜 | C21: 志願先高等学校名 及び検査内容 | D21: =◆生徒情報入力用シート!I24 -> 0 | N21: 高等学校 | R21: =◆生徒情報入力用シート!S24 -> 0 | AC21: 科
E23: =◆生徒情報入力用シート!I25 -> 0 | F23: 総合選抜 | M23: =◆生徒情報入力用シート!Q25 -> 0 | N23: 中高一貫特別選抜 | W23: =◆生徒情報入力用シート!Y25 -> 0 | X23: スポーツ特別選抜
C25: 希望する配慮事項 | D25: 学力検査 | J25: =◆生徒情報入力用シート!I26 -> 0
D30: 面 接 口頭試問 | J30: =◆生徒情報入力用シート!I27 -> 0
D35: 作 文 小論文 | J35: =◆生徒情報入力用シート!I28 -> 0
D40: ﾌﾟﾚｾﾞﾝﾃｰｼｮﾝ | J40: =◆生徒情報入力用シート!I29 -> 0
C42: ※ 該当する箇所に 記載する。
D45: 実 技 | J45: =◆生徒情報入力用シート!I30 -> 0
D50: その他 | J50: =◆生徒情報入力用シート!I31 -> 0
B56: （注）１ 出願を検討している高等学校ごとに提出すること。
B57: （注）２ 併記してある事項は，〇か✓を記入すること。
B58: （注）３ 医師の診断名等は，特別措置の区分が「特別な配慮や支援を必要とする生徒」の場合，記入すること。
B59: （注）４ 希望する配慮事項は，中学校等における配慮及び支援状況をふまえ，実施要綱に記載された例を参考に具体的に 記入すること。

Sheet 第12号の2(特色②)
B1: (様式第12号の２（特色選抜用）)
U2: 令和 | W2: =◆生徒情報入力用シート!G3 -> 0 | Y2: 年 | AA2: =◆生徒情報入力用シート!I3 -> 0 | AC2: 月 | AD2: =◆生徒情報入力用シート!K3 -> 0 | AF2: 日
C3: =◆生徒情報入力用シート!AQ24 -> 0 | D3: 高等学校長 様
U5: 中学校等名・校長氏名 | W5: =◆生徒情報入力用シート!J8 -> 0
U6: 記載者氏名 | W6: =◆生徒情報入力用シート!G10 -> 0
U7: 連絡先 | W7: =◆生徒情報入力用シート!I12 -> 0
B9: 公立高等学校入学者選抜における特別措置に係る事前連絡書
B11: 志願者 | C11: フリガナ | D11: =◆生徒情報入力用シート!AA8 -> 0
C12: 氏 名 | D12: =◆生徒情報入力用シート!AA6 -> 0
C13: 生年月日 | I13: 西暦 | J13: =◆生徒情報入力用シート!AC10 -> 0 | M13: 年 | O13: =◆生徒情報入力用シート!AF10 -> 0 | Q13: 月 | S13: =◆生徒情報入力用シート!AH10 -> 0 | U13: 日生
C14: 在籍又は 出身中学校等名 | D14: =◆生徒情報入力用シート!X13 -> 0
B15: 特別措置の区分
E16: =◆生徒情報入力用シート!E15 -> 0 | F16: 帰国・外国人生徒等 | O16: =◆生徒情報入力用シート!N15 -> 0 | P16: 特別な配慮や支援を必要とする生徒
B18: 医師の診断名等 | D18: =◆生徒情報入力用シート!C18 -> 0
B19: 中学校等における配慮 及び支援状況 | D19: =◆生徒情報入力用シート!C21 -> 0
B21: 特色選抜 | C21: 志願先高等学校名 及び検査内容 | D21: =◆生徒情報入力用シート!AQ24 -> 0 | N21: 高等学校 | R21: =◆生徒情報入力用シート!BA24 -> 0 | AC21: 科
E23: =◆生徒情報入力用シート!AQ25 -> 0 | F23: 総合選抜 | M23: =◆生徒情報入力用シート!AY25 -> 0 | N23: 中高一貫特別選抜 | W23: =◆生徒情報入力用シート!BG25 -> 0 | X23: スポーツ特別選抜
C25: 希望する配慮事項 | D25: 学力検査 | J25: =◆生徒情報入力用シート!AQ26 -> 0
D30: 面 接 口頭試問 | J30: =◆生徒情報入力用シート!AQ27 -> 0
D35: 作 文 小論文 | J35: =◆生徒情報入力用シート!AQ28 -> 0
D40: ﾌﾟﾚｾﾞﾝﾃｰｼｮﾝ | J40: =◆生徒情報入力用シート!AQ29 -> 0
C42: ※ 該当する箇所に 記載する。
D45: 実 技 | J45: =◆生徒情報入力用シート!AQ30 -> 0
D50: その他 | J50: =◆生徒情報入力用シート!AQ31 -> 0
B56: （注）１ 出願を検討している高等学校ごとに提出すること。
B57: （注）２ 併記してある事項は，〇か✓を記入すること。
B58: （注）３ 医師の診断名等は，特別措置の区分が「特別な配慮や支援を必要とする生徒」の場合，記入すること。
B59: （注）４ 希望する配慮事項は，中学校等における配慮及び支援状況をふまえ，実施要綱に記載された例を参考に具体的に 記入すること。

Sheet 第12号の2(特色③)
B1: (様式第12号の２（特色選抜用）)
U2: 令和 | W2: =◆生徒情報入力用シート!G3 -> 0 | Y2: 年 | AA2: =◆生徒情報入力用シート!I3 -> 0 | AC2: 月 | AD2: =◆生徒情報入力用シート!K3 -> 0 | AF2: 日
C3: =◆生徒情報入力用シート!BY24 -> 0 | D3: 高等学校長 様
U5: 中学校等名・校長氏名 | W5: =◆生徒情報入力用シート!J8 -> 0
U6: 記載者氏名 | W6: =◆生徒情報入力用シート!G10 -> 0
U7: 連絡先 | W7: =◆生徒情報入力用シート!I12 -> 0
B9: 公立高等学校入学者選抜における特別措置に係る事前連絡書
B11: 志願者 | C11: フリガナ | D11: =◆生徒情報入力用シート!AA8 -> 0
C12: 氏 名 | D12: =◆生徒情報入力用シート!AA6 -> 0
C13: 生年月日 | I13: 西暦 | J13: =◆生徒情報入力用シート!AC10 -> 0 | M13: 年 | O13: =◆生徒情報入力用シート!AF10 -> 0 | Q13: 月 | S13: =◆生徒情報入力用シート!AH10 -> 0 | U13: 日生
C14: 在籍又は 出身中学校等名 | D14: =◆生徒情報入力用シート!X13 -> 0
B15: 特別措置の区分
E16: =◆生徒情報入力用シート!E15 -> 0 | F16: 帰国・外国人生徒等 | O16: =◆生徒情報入力用シート!N15 -> 0 | P16: 特別な配慮や支援を必要とする生徒
B18: 医師の診断名等 | D18: =◆生徒情報入力用シート!C18 -> 0
B19: 中学校等における配慮 及び支援状況 | D19: =◆生徒情報入力用シート!C21 -> 0
B21: 特色選抜 | C21: 志願先高等学校名 及び検査内容 | D21: =◆生徒情報入力用シート!BY24 -> 0 | N21: 高等学校 | R21: =◆生徒情報入力用シート!CI24 -> 0 | AC21: 科
E23: =◆生徒情報入力用シート!BY25 -> 0 | F23: 総合選抜 | M23: =◆生徒情報入力用シート!CG25 -> 0 | N23: 中高一貫特別選抜 | W23: =◆生徒情報入力用シート!CO25 -> 0 | X23: スポーツ特別選抜
C25: 希望する配慮事項 | D25: 学力検査 | J25: =◆生徒情報入力用シート!BY26 -> 0
D30: 面 接 口頭試問 | J30: =◆生徒情報入力用シート!BY27 -> 0
D35: 作 文 小論文 | J35: =◆生徒情報入力用シート!BY28 -> 0
D40: ﾌﾟﾚｾﾞﾝﾃｰｼｮﾝ | J40: =◆生徒情報入力用シート!BY29 -> 0
C42: ※ 該当する箇所に 記載する。
D45: 実 技 | J45: =◆生徒情報入力用シート!BY30 -> 0
D50: その他 | J50: =◆生徒情報入力用シート!BY31 -> 0
B56: （注）１ 出願を検討している高等学校ごとに提出すること。
B57: （注）２ 併記してある事項は，〇か✓を記入すること。
B58: （注）３ 医師の診断名等は，特別措置の区分が「特別な配慮や支援を必要とする生徒」の場合，記入すること。
B59: （注）４ 希望する配慮事項は，中学校等における配慮及び支援状況をふまえ，実施要綱に記載された例を参考に具体的に 記入すること。

Sheet 第12号の2(特色④)
B1: (様式第12号の２（特色選抜用）)
U2: 令和 | W2: =◆生徒情報入力用シート!G3 -> 0 | Y2: 年 | AA2: =◆生徒情報入力用シート!I3 -> 0 | AC2: 月 | AD2: =◆生徒情報入力用シート!K3 -> 0 | AF2: 日
C3: =◆生徒情報入力用シート!DG24 -> 0 | D3: 高等学校長 様
U5: 中学校等名・校長氏名 | W5: =◆生徒情報入力用シート!J8 -> 0
U6: 記載者氏名 | W6: =◆生徒情報入力用シート!G10 -> 0
U7: 連絡先 | W7: =◆生徒情報入力用シート!I12 -> 0
B9: 公立高等学校入学者選抜における特別措置に係る事前連絡書
B11: 志願者 | C11: フリガナ | D11: =◆生徒情報入力用シート!AA8 -> 0
C12: 氏 名 | D12: =◆生徒情報入力用シート!AA6 -> 0
C13: 生年月日 | I13: 西暦 | J13: =◆生徒情報入力用シート!AC10 -> 0 | M13: 年 | O13: =◆生徒情報入力用シート!AF10 -> 0 | Q13: 月 | S13: =◆生徒情報入力用シート!AH10 -> 0 | U13: 日生
C14: 在籍又は 出身中学校等名 | D14: =◆生徒情報入力用シート!X13 -> 0
B15: 特別措置の区分
E16: =◆生徒情報入力用シート!E15 -> 0 | F16: 帰国・外国人生徒等 | O16: =◆生徒情報入力用シート!N15 -> 0 | P16: 特別な配慮や支援を必要とする生徒
B18: 医師の診断名等 | D18: =◆生徒情報入力用シート!C18 -> 0
B19: 中学校等における配慮 及び支援状況 | D19: =◆生徒情報入力用シート!C21 -> 0
B21: 特色選抜 | C21: 志願先高等学校名 及び検査内容 | D21: =◆生徒情報入力用シート!DG24 -> 0 | N21: 高等学校 | R21: =◆生徒情報入力用シート!DQ24 -> 0 | AC21: 科
E23: =◆生徒情報入力用シート!DG25 -> 0 | F23: 総合選抜 | M23: =◆生徒情報入力用シート!DO25 -> 0 | N23: 中高一貫特別選抜 | W23: =◆生徒情報入力用シート!DW25 -> 0 | X23: スポーツ特別選抜
C25: 希望する配慮事項 | D25: 学力検査 | J25: =◆生徒情報入力用シート!DG26 -> 0
D30: 面 接 口頭試問 | J30: =◆生徒情報入力用シート!DG27 -> 0
D35: 作 文 小論文 | J35: =◆生徒情報入力用シート!DG28 -> 0
D40: ﾌﾟﾚｾﾞﾝﾃｰｼｮﾝ | J40: =◆生徒情報入力用シート!DG29 -> 0
C42: ※ 該当する箇所に 記載する。
D45: 実 技 | J45: =◆生徒情報入力用シート!DG30 -> 0
D50: その他 | J50: =◆生徒情報入力用シート!DG31 -> 0
B56: （注）１ 出願を検討している高等学校ごとに提出すること。
B57: （注）２ 併記してある事項は，〇か✓を記入すること。
B58: （注）３ 医師の診断名等は，特別措置の区分が「特別な配慮や支援を必要とする生徒」の場合，記入すること。
B59: （注）４ 希望する配慮事項は，中学校等における配慮及び支援状況をふまえ，実施要綱に記載された例を参考に具体的に 記入すること。

Sheet 第12号の3(一般①)
B1: (様式第12号の３（一般選抜用）)
U2: 令和 | W2: =◆生徒情報入力用シート!G3 -> 0 | Y2: 年 | AA2: =◆生徒情報入力用シート!I3 -> 0 | AC2: 月 | AD2: =◆生徒情報入力用シート!K3 -> 0 | AF2: 日
C3: =◆生徒情報入力用シート!I34 -> 0 | D3: 高等学校長 様
U5: 中学校等名・校長氏名 | W5: =◆生徒情報入力用シート!J8 -> 0
U6: 記載者氏名 | W6: =◆生徒情報入力用シート!G10 -> 0
U7: 連絡先 | W7: =◆生徒情報入力用シート!I12 -> 0
B9: 公立高等学校入学者選抜における特別措置に係る事前連絡書
B11: 志願者 | C11: フリガナ | D11: =◆生徒情報入力用シート!AA8 -> 0
C12: 氏 名 | D12: =◆生徒情報入力用シート!AA6 -> 0
C13: 生年月日 | I13: 西暦 | J13: =◆生徒情報入力用シート!AC10 -> 0 | M13: 年 | O13: =◆生徒情報入力用シート!AF10 -> 0 | Q13: 月 | S13: =◆生徒情報入力用シート!AH10 -> 0 | U13: 日生
C14: 在籍又は 出身中学校等名 | D14: =◆生徒情報入力用シート!X13 -> 0
B15: 特別措置の区分
E16: =◆生徒情報入力用シート!E15 -> 0 | F16: 帰国・外国人生徒等 | O16: =◆生徒情報入力用シート!N15 -> 0 | P16: 特別な配慮や支援を必要とする生徒
B18: 医師の診断名等 | D18: =◆生徒情報入力用シート!C18 -> 0
B19: 中学校等における配慮 及び支援状況 | D19: =◆生徒情報入力用シート!C21 -> 0
B21: 一般選抜 | C21: 志願先高等学校名 及び検査内容 | D21: =◆生徒情報入力用シート!I34 -> 0 | N21: 高等学校 | R21: =IF(様式第12号①!R56="","",様式第12号①!R56) -> 0 | AC21: 科（部）
C22: 希望する配慮事項 | D22: 学力検査 | J22: =◆生徒情報入力用シート!I35 -> 0
D27: 面 接 | J27: =◆生徒情報入力用シート!I36 -> 0
D32: 実 技 | J32: =◆生徒情報入力用シート!I37 -> 0
C34: ※ 該当する箇所に 記載する。
D37: その他 | J37: =◆生徒情報入力用シート!I38 -> 0
B43: （注）１ 出願を検討している高等学校ごとに提出すること。
B44: （注）２ 併記してある事項は，〇か✓を記入すること。
B45: （注）３ 医師の診断名等は，特別措置の区分が「特別な配慮や支援を必要とする生徒」の場合，記入すること。
B46: （注）４ 希望する配慮事項は，中学校等における配慮及び支援状況をふまえ，実施要綱に記載された例を参考に具体的に記入すること。

Sheet 第12号の3(一般②)
B1: (様式第12号の３（一般選抜用）)
U2: 令和 | W2: =◆生徒情報入力用シート!G3 -> 0 | Y2: 年 | AA2: =◆生徒情報入力用シート!I3 -> 0 | AC2: 月 | AD2: =◆生徒情報入力用シート!K3 -> 0 | AF2: 日
C3: =◆生徒情報入力用シート!AQ34 -> 0 | D3: 高等学校長 様
U5: 中学校等名・校長氏名 | W5: =◆生徒情報入力用シート!J8 -> 0
U6: 記載者氏名 | W6: =◆生徒情報入力用シート!G10 -> 0
U7: 連絡先 | W7: =◆生徒情報入力用シート!I12 -> 0
B9: 公立高等学校入学者選抜における特別措置に係る事前連絡書
B11: 志願者 | C11: フリガナ | D11: =◆生徒情報入力用シート!AA8 -> 0
C12: 氏 名 | D12: =◆生徒情報入力用シート!AA6 -> 0
C13: 生年月日 | I13: 西暦 | J13: =◆生徒情報入力用シート!AC10 -> 0 | M13: 年 | O13: =◆生徒情報入力用シート!AF10 -> 0 | Q13: 月 | S13: =◆生徒情報入力用シート!AH10 -> 0 | U13: 日生
C14: 在籍又は 出身中学校等名 | D14: =◆生徒情報入力用シート!X13 -> 0
B15: 特別措置の区分
E16: =◆生徒情報入力用シート!E15 -> 0 | F16: 帰国・外国人生徒等 | O16: =◆生徒情報入力用シート!N15 -> 0 | P16: 特別な配慮や支援を必要とする生徒
B18: 医師の診断名等 | D18: =◆生徒情報入力用シート!C18 -> 0
B19: 中学校等における配慮 及び支援状況 | D19: =◆生徒情報入力用シート!C21 -> 0
B21: 一般選抜 | C21: 志願先高等学校名 及び検査内容 | D21: =◆生徒情報入力用シート!AQ34 -> 0 | N21: 高等学校 | R21: =◆生徒情報入力用シート!BA34 -> 0 | AC21: 科（部）
C22: 希望する配慮事項 | D22: 学力検査 | J22: =◆生徒情報入力用シート!AQ35 -> 0
D27: 面 接 | J27: =◆生徒情報入力用シート!AQ36 -> 0
D32: 実 技 | J32: =◆生徒情報入力用シート!AQ37 -> 0
C34: ※ 該当する箇所に 記載する。
D37: その他 | J37: =◆生徒情報入力用シート!AQ38 -> 0
B43: （注）１ 出願を検討している高等学校ごとに提出すること。
B44: （注）２ 併記してある事項は，〇か✓を記入すること。
B45: （注）３ 医師の診断名等は，特別措置の区分が「特別な配慮や支援を必要とする生徒」の場合，記入すること。
B46: （注）４ 希望する配慮事項は，中学校等における配慮及び支援状況をふまえ，実施要綱に記載された例を参考に具体的に記入すること。

Sheet 第12号の3(一般③)
B1: (様式第12号の３（一般選抜用）)
U2: 令和 | W2: =◆生徒情報入力用シート!G3 -> 0 | Y2: 年 | AA2: =◆生徒情報入力用シート!I3 -> 0 | AC2: 月 | AD2: =◆生徒情報入力用シート!K3 -> 0 | AF2: 日
C3: =◆生徒情報入力用シート!BY34 -> 0 | D3: 高等学校長 様
U5: 中学校等名・校長氏名 | W5: =◆生徒情報入力用シート!J8 -> 0
U6: 記載者氏名 | W6: =◆生徒情報入力用シート!G10 -> 0
U7: 連絡先 | W7: =◆生徒情報入力用シート!I12 -> 0
B9: 公立高等学校入学者選抜における特別措置に係る事前連絡書
B11: 志願者 | C11: フリガナ | D11: =◆生徒情報入力用シート!AA8 -> 0
C12: 氏 名 | D12: =◆生徒情報入力用シート!AA6 -> 0
C13: 生年月日 | I13: 西暦 | J13: =◆生徒情報入力用シート!AC10 -> 0 | M13: 年 | O13: =◆生徒情報入力用シート!AF10 -> 0 | Q13: 月 | S13: =◆生徒情報入力用シート!AH10 -> 0 | U13: 日生
C14: 在籍又は 出身中学校等名 | D14: =◆生徒情報入力用シート!X13 -> 0
B15: 特別措置の区分
E16: =◆生徒情報入力用シート!E15 -> 0 | F16: 帰国・外国人生徒等 | O16: =◆生徒情報入力用シート!N15 -> 0 | P16: 特別な配慮や支援を必要とする生徒
B18: 医師の診断名等 | D18: =◆生徒情報入力用シート!C18 -> 0
B19: 中学校等における配慮 及び支援状況 | D19: =◆生徒情報入力用シート!C21 -> 0
B21: 一般選抜 | C21: 志願先高等学校名 及び検査内容 | D21: =◆生徒情報入力用シート!BY34 -> 0 | N21: 高等学校 | R21: =◆生徒情報入力用シート!CI34 -> 0 | AC21: 科（部）
C22: 希望する配慮事項 | D22: 学力検査 | J22: =◆生徒情報入力用シート!BY35 -> 0
D27: 面 接 | J27: =◆生徒情報入力用シート!BY36 -> 0
D32: 実 技 | J32: =◆生徒情報入力用シート!BY37 -> 0
C34: ※ 該当する箇所に 記載する。
D37: その他 | J37: =◆生徒情報入力用シート!BY38 -> 0
B43: （注）１ 出願を検討している高等学校ごとに提出すること。
B44: （注）２ 併記してある事項は，〇か✓を記入すること。
B45: （注）３ 医師の診断名等は，特別措置の区分が「特別な配慮や支援を必要とする生徒」の場合，記入すること。
B46: （注）４ 希望する配慮事項は，中学校等における配慮及び支援状況をふまえ，実施要綱に記載された例を参考に具体的に記入すること。

Sheet 第12号の3(一般④)
B1: (様式第12号の３（一般選抜用）)
U2: 令和 | W2: =◆生徒情報入力用シート!G3 -> 0 | Y2: 年 | AA2: =◆生徒情報入力用シート!I3 -> 0 | AC2: 月 | AD2: =◆生徒情報入力用シート!K3 -> 0 | AF2: 日
C3: =◆生徒情報入力用シート!DG34 -> 0 | D3: 高等学校長 様
U5: 中学校等名・校長氏名 | W5: =◆生徒情報入力用シート!J8 -> 0
U6: 記載者氏名 | W6: =◆生徒情報入力用シート!G10 -> 0
U7: 連絡先 | W7: =◆生徒情報入力用シート!I12 -> 0
B9: 公立高等学校入学者選抜における特別措置に係る事前連絡書
B11: 志願者 | C11: フリガナ | D11: =◆生徒情報入力用シート!AA8 -> 0
C12: 氏 名 | D12: =◆生徒情報入力用シート!AA6 -> 0
C13: 生年月日 | I13: 西暦 | J13: =◆生徒情報入力用シート!AC10 -> 0 | M13: 年 | O13: =◆生徒情報入力用シート!AF10 -> 0 | Q13: 月 | S13: =◆生徒情報入力用シート!AH10 -> 0 | U13: 日生
C14: 在籍又は 出身中学校等名 | D14: =◆生徒情報入力用シート!X13 -> 0
B15: 特別措置の区分
E16: =◆生徒情報入力用シート!E15 -> 0 | F16: 帰国・外国人生徒等 | O16: =◆生徒情報入力用シート!N15 -> 0 | P16: 特別な配慮や支援を必要とする生徒
B18: 医師の診断名等 | D18: =◆生徒情報入力用シート!C18 -> 0
B19: 中学校等における配慮 及び支援状況 | D19: =◆生徒情報入力用シート!C21 -> 0
B21: 一般選抜 | C21: 志願先高等学校名 及び検査内容 | D21: =◆生徒情報入力用シート!DG34 -> 0 | N21: 高等学校 | R21: =◆生徒情報入力用シート!DQ34 -> 0 | AC21: 科（部）
C22: 希望する配慮事項 | D22: 学力検査 | J22: =◆生徒情報入力用シート!DG35 -> 0
D27: 面 接 | J27: =◆生徒情報入力用シート!DG36 -> 0
D32: 実 技 | J32: =◆生徒情報入力用シート!DG37 -> 0
C34: ※ 該当する箇所に 記載する。
D37: その他 | J37: =◆生徒情報入力用シート!DG38 -> 0
B43: （注）１ 出願を検討している高等学校ごとに提出すること。
B44: （注）２ 併記してある事項は，〇か✓を記入すること。
B45: （注）３ 医師の診断名等は，特別措置の区分が「特別な配慮や支援を必要とする生徒」の場合，記入すること。
B46: （注）４ 希望する配慮事項は，中学校等における配慮及び支援状況をふまえ，実施要綱に記載された例を参考に具体的に記入すること。
